OpenTracing-Implementation-DataDog vv0.46.2 Perl 5 v5.18.4 x86_64-linux
- Status
- Pass
- From
- Slaven Rezić
- Dist
-
OpenTracing-Implementation-DataDog vv0.46.2
- Platform
- Perl 5 v5.18.4 x86_64-linux
- Date
- 2023-04-26 06:29:56
- ID
- c31d26f2-e3fb-11ed-a41c-59e26d8775ea
This distribution has been tested as part of the CPAN Testers
project, supporting the Perl programming language. See
http://wiki.cpantesters.org/ for more information or email
questions to cpan-testers-discuss@perl.org
--
Dear Theo van Hoesel,
This is a computer-generated report for OpenTracing-Implementation-DataDog-v0.46.2
on perl 5.18.4, created by CPAN-Reporter-1.2018.
Thank you for uploading your work to CPAN. Congratulations!
All tests were successful.
Sections of this report:
* Tester comments
* Program output
* Prerequisites
* Environment and other context
------------------------------
TESTER COMMENTS
------------------------------
Additional comments from tester:
none provided
------------------------------
PROGRAM OUTPUT
------------------------------
Output from '/usr/bin/make test':
PERL_DL_NONLAZY=1 "/opt/perl-5.18.4/bin/perl" "-MExtUtils::Command::MM" "-MTest::Harness" "-e" "undef *Test::Harness::Switches; test_harness(0, 'blib/lib', 'blib/arch')" t/OpenTracing/Implementation/DataDog/*.t t/OpenTracing/Implementation/DataDog/*/*.t
t/OpenTracing/Implementation/DataDog/00_use_ok.t ................................. ok
t/OpenTracing/Implementation/DataDog/10_component.t .............................. ok
t/OpenTracing/Implementation/DataDog/Client/00_use_ok.t .......................... ok
t/OpenTracing/Implementation/DataDog/Client/10_uri.t ............................. ok
t/OpenTracing/Implementation/DataDog/Client/11_to_struct.t ....................... ok
t/OpenTracing/Implementation/DataDog/Client/12_http_post_struct_as_json.t ........ ok
t/OpenTracing/Implementation/DataDog/Client/19_client_halted.t ................... ok
t/OpenTracing/Implementation/DataDog/Client/19_send_span.t ....................... ok
t/OpenTracing/Implementation/DataDog/Scope/00_use_ok.t ........................... ok
t/OpenTracing/Implementation/DataDog/Scope/01_can_all_ok.t ....................... ok
t/OpenTracing/Implementation/DataDog/ScopeManager/01_can_all_ok.t ................ ok
t/OpenTracing/Implementation/DataDog/ScopeManager/09_build_scope.t ............... ok
t/OpenTracing/Implementation/DataDog/ScopeManager/09_build_scope_STRICT.t ........ ok
t/OpenTracing/Implementation/DataDog/ScopeManager/09_build_scope_STRICT_no.t ..... ok
t/OpenTracing/Implementation/DataDog/Span/01_can_all_ok.t ........................ ok
t/OpenTracing/Implementation/DataDog/Span/03_constructor_new.t ................... ok
t/OpenTracing/Implementation/DataDog/SpanContext/00_use_ok.t ..................... ok
t/OpenTracing/Implementation/DataDog/SpanContext/01_can_all_ok.t ................. ok
t/OpenTracing/Implementation/DataDog/SpanContext/01_constructor_new.t ............ ok
t/OpenTracing/Implementation/DataDog/SpanContext/01_constructor_new_STRICT.t ..... ok
t/OpenTracing/Implementation/DataDog/SpanContext/01_constructor_new_STRICT_no.t .. ok
t/OpenTracing/Implementation/DataDog/SpanContext/11_with_environment.t ........... ok
t/OpenTracing/Implementation/DataDog/SpanContext/11_with_hostname.t .............. ok
t/OpenTracing/Implementation/DataDog/SpanContext/11_with_resource_name.t ......... ok
t/OpenTracing/Implementation/DataDog/SpanContext/11_with_service_name.t .......... ok
t/OpenTracing/Implementation/DataDog/SpanContext/11_with_service_type.t .......... ok
t/OpenTracing/Implementation/DataDog/SpanContext/11_with_version.t ............... ok
t/OpenTracing/Implementation/DataDog/Tracer/00_use_ok.t .......................... ok
t/OpenTracing/Implementation/DataDog/Tracer/01_can_all_ok.t ...................... ok
t/OpenTracing/Implementation/DataDog/Tracer/09_build_context.t ................... ok
t/OpenTracing/Implementation/DataDog/Tracer/09_build_span.t ...................... ok
t/OpenTracing/Implementation/DataDog/Tracer/11_extract_context.t ................. ok
t/OpenTracing/Implementation/DataDog/Tracer/12_inject_context.t .................. ok
All tests successful.
Files=33, Tests=46, 10 wallclock secs ( 0.11 usr 0.03 sys + 8.26 cusr 0.97 csys = 9.37 CPU)
Result: PASS
------------------------------
PREREQUISITES
------------------------------
Prerequisite modules loaded:
requires:
Module Need Have
----------------------------- ------- ----------
aliased 0 0.34
Carp 0 1.50
Exporter 0 5.77
Hash::Merge 0 0.302
HTTP::Request 0 6.44
HTTP::Response::Maker 0 0.02
JSON::MaybeXS 0 1.004004
LWP::UserAgent 0 6.68
Math::BigInt::Random::OO 0 0.04
Moo 0 2.005005
Moo::Role 0 2.005005
MooX::Attribute::ENV 0.04 0.04
MooX::Enumeration 0 0.010
MooX::ProtectedAttributes 0 0.03
MooX::Should v0.1.4 v0.1.4
OpenTracing::Implementation 0.03 v0.32.0
OpenTracing::Role v0.86.0 v0.86.0
PerlX::Maybe 0 1.202
Ref::Util 0 0.204
Regexp::Common 0 2017060201
Regexp::Common::URI::http 0 2017060201
Sub::HandlesVia 0 0.050000
Sub::Trigger::Lock 0 0.002
syntax 0 0.004
Syntax::Feature::Maybe 0 1.202
Try::Tiny 0 0.31
Type::Tiny::XS 0 0.025
Types::Common::Numeric 0 2.004000
Types::Common::String 0 2.004000
Types::Interface 0 0.002
Types::Standard 0 2.004000
build_requires:
Module Need Have
----------------------------- ------- ----------
ExtUtils::MakeMaker 0 7.68
Ref::Util 0 0.204
Test::JSON 0 0.11
Test::MockModule 0 0.177.0
Test::Most 0 0.38
Test::OpenTracing::Interface 0 v0.23.0
Test::URI 0 1.084
configure_requires:
Module Need Have
----------------------------- ------- ----------
ExtUtils::MakeMaker::CPANfile 0.09 0.09
------------------------------
ENVIRONMENT AND OTHER CONTEXT
------------------------------
Environment variables:
LANG = en_US.UTF-8
PATH = /usr/local/bin:/usr/bin:/bin:/usr/local/sbin:/usr/sbin:/sbin:/home/cpansand/bin/linux-gnu:/home/cpansand/bin/sh:/home/cpansand/bin:/usr/games:/home/cpansand/devel:/home/eserte/src/srezic-misc/scripts
PERL5LIB = /home/cpansand/.cpan/build/2023042606/Math-BigInt-Random-OO-0.04-0/blib/arch:/home/cpansand/.cpan/build/2023042606/Math-BigInt-Random-OO-0.04-0/blib/lib
PERL5OPT =
PERL5_CPANPLUS_IS_RUNNING = 19981
PERL5_CPAN_IS_RUNNING = 19981
PERL5_CPAN_IS_RUNNING_IN_RECURSION = 7958,19981
PERLDOC = -MPod::Perldoc::ToTextOverstrike
PERL_BATCH = yes
PERL_CANARY_STABILITY_NOPROMPT = 1
PERL_CPAN_REPORTER_CONFIG = /var/tmp/cpansmoker-1023/2023042605/cpanreporter_000_config.ini
PERL_EXTUTILS_AUTOINSTALL = --defaultdeps
PERL_USE_UNSAFE_INC = 1
SHELL = /usr/bin/zsh
TERM = screen
TMPDIR = /var/tmp/cpansmoker-1023/2023042605
Perl special variables (and OS-specific diagnostics, for MSWin32):
$^X = /opt/perl-5.18.4/bin/perl
$UID/$EUID = 1023 / 1023
$GID = 1023 1023
$EGID = 1023 1023
Perl module toolchain versions installed:
Module Have
------------------- --------
CPAN 2.34
CPAN::Meta 2.150010
Cwd 3.75
ExtUtils::CBuilder 0.280236
ExtUtils::Command 7.68
ExtUtils::Install 2.06
ExtUtils::MakeMaker 7.68
ExtUtils::Manifest 1.70
ExtUtils::ParseXS 3.44
File::Spec 3.75
JSON 4.10
JSON::PP 4.15
Module::Build 0.4232
Module::Signature n/a
Parse::CPAN::Meta 2.150010
Test::Harness 3.44
Test::More 1.302194
YAML 1.30
YAML::Syck 1.34
version 0.9929
--
Summary of my perl5 (revision 5 version 18 subversion 4) configuration:
Platform:
osname=linux, osvers=3.10.0-1160.81.1.el7.x86_64, archname=x86_64-linux
uname='linux cloud3.bbbike.org 3.10.0-1160.81.1.el7.x86_64 #1 smp fri dec 16 17:29:43 utc 2022 x86_64 x86_64 x86_64 gnulinux '
config_args='-ds -e -Dprefix=/opt/perl-5.18.4 -Dcf_email=srezic@cpan.org'
hint=recommended, useposix=true, d_sigaction=define
useithreads=undef, usemultiplicity=undef
useperlio=define, d_sfio=undef, uselargefiles=define, usesocks=undef
use64bitint=define, use64bitall=define, uselongdouble=undef
usemymalloc=n, bincompat5005=undef
Compiler:
cc='cc', ccflags ='-fwrapv -fno-strict-aliasing -pipe -fstack-protector -I/usr/local/include -D_LARGEFILE_SOURCE -D_FILE_OFFSET_BITS=64',
optimize='-O2',
cppflags='-fwrapv -fno-strict-aliasing -pipe -fstack-protector -I/usr/local/include'
ccversion='', gccversion='4.8.5 20150623 (Red Hat 4.8.5-44)', gccosandvers=''
intsize=4, longsize=8, ptrsize=8, doublesize=8, byteorder=12345678
d_longlong=define, longlongsize=8, d_longdbl=define, longdblsize=16
ivtype='long', ivsize=8, nvtype='double', nvsize=8, Off_t='off_t', lseeksize=8
alignbytes=8, prototype=define
Linker and Libraries:
ld='cc', ldflags =' -fstack-protector -L/usr/local/lib'
libpth=/usr/local/lib /lib/../lib64 /usr/lib/../lib64 /lib /usr/lib /lib64 /usr/lib64 /usr/local/lib64
libs=-lnsl -lgdbm -ldb -ldl -lm -lcrypt -lutil -lc -lgdbm_compat
perllibs=-lnsl -ldl -lm -lcrypt -lutil -lc
libc=libc-2.17.so, so=so, useshrplib=false, libperl=libperl.a
gnulibc_version='2.17'
Dynamic Linking:
dlsrc=dl_dlopen.xs, dlext=so, d_dlsymun=undef, ccdlflags='-Wl,-E'
cccdlflags='-fPIC', lddlflags='-shared -O2 -L/usr/local/lib -fstack-protector'
Characteristics of this binary (from libperl):
Compile-time options: HAS_TIMES PERLIO_LAYERS PERL_DONT_CREATE_GVSV
PERL_HASH_FUNC_ONE_AT_A_TIME_HARD PERL_MALLOC_WRAP
PERL_PRESERVE_IVUV PERL_SAWAMPERSAND USE_64_BIT_ALL
USE_64_BIT_INT USE_LARGE_FILES USE_LOCALE
USE_LOCALE_COLLATE USE_LOCALE_CTYPE
USE_LOCALE_NUMERIC USE_PERLIO USE_PERL_ATOF
Locally applied patches:
Devel::PatchPerl 2.08
Built under linux
Compiled at Dec 26 2022 19:19:09
%ENV:
PERL5LIB="/home/cpansand/.cpan/build/2023042606/Math-BigInt-Random-OO-0.04-0/blib/arch:/home/cpansand/.cpan/build/2023042606/Math-BigInt-Random-OO-0.04-0/blib/lib"
PERL5OPT=""
PERL5_CPANPLUS_IS_RUNNING="19981"
PERL5_CPAN_IS_RUNNING="19981"
PERL5_CPAN_IS_RUNNING_IN_RECURSION="7958,19981"
PERLDOC="-MPod::Perldoc::ToTextOverstrike"
PERL_BATCH="yes"
PERL_CANARY_STABILITY_NOPROMPT="1"
PERL_CPAN_REPORTER_CONFIG="/var/tmp/cpansmoker-1023/2023042605/cpanreporter_000_config.ini"
PERL_EXTUTILS_AUTOINSTALL="--defaultdeps"
PERL_USE_UNSAFE_INC="1"
@INC:
/home/cpansand/.cpan/build/2023042606/Math-BigInt-Random-OO-0.04-0/blib/arch
/home/cpansand/.cpan/build/2023042606/Math-BigInt-Random-OO-0.04-0/blib/lib
/opt/perl-5.18.4/lib/site_perl/5.18.4/x86_64-linux
/opt/perl-5.18.4/lib/site_perl/5.18.4
/opt/perl-5.18.4/lib/5.18.4/x86_64-linux
/opt/perl-5.18.4/lib/5.18.4
.