Crypt-Password-Util v0.17 Perl 5 v5.22.4 i86pc-solaris
- Status
- Pass
- From
- Serguei Trouchelle (STRO)
- Dist
-
Crypt-Password-Util v0.17
- Platform
- Perl 5 v5.22.4 i86pc-solaris
- Date
- 2018-02-07 15:08:32
- ID
- c2f99324-0c18-11e8-a264-993a4b9d12ec
This distribution has been tested as part of the CPAN Testers
project, supporting the Perl programming language. See
http://wiki.cpantesters.org/ for more information or email
questions to cpan-testers-discuss@perl.org
--
Dear perlancar,
This is a computer-generated report for Crypt-Password-Util-0.17
on perl 5.22.4, created by CPAN-Reporter-1.2018.
Thank you for uploading your work to CPAN. Congratulations!
All tests were successful.
Sections of this report:
* Tester comments
* Program output
* Prerequisites
* Environment and other context
------------------------------
TESTER COMMENTS
------------------------------
Additional comments from tester:
this report is from an automated smoke testing program
and was not reviewed by a human for accuracy
------------------------------
PROGRAM OUTPUT
------------------------------
Output from '/usr/bin/make test':
PERL_DL_NONLAZY=1 "/home/stro/perl/5.22.4/bin/perl" "-MExtUtils::Command::MM" "-MTest::Harness" "-e" "undef *Test::Harness::Switches; test_harness(0, 'blib/lib', 'blib/arch')" t/*.t
t/00-compile.t ........... ok
# Some crypt() results on this system: [
# '$6$rounds=15000$.YbAkMi4vR.qYr1b$QerbkWXSHjyc4GETPw4tDEfhbOzeqIxCahbAYK1vbIk5ARoaglks/pL37r2ZekTJxvfiuLJsMg3HTcaS5BZYe1',
# '$6$rounds=15000$QoA1hhqcekXtuEwX$laCkqZq4aHP0yzplqNFOGzebTOaDOl0V0.saSXvtEY8/dHh2NQWRCHAv7SxWEnaKSeWjniYg5sHAZvbkhmHGX/',
# '$6$rounds=15000$6HRx/vei2wu/IXTX$KCc/Po.KdtsJTCLmyTXO9Wn19xflcHKvdC5PJLDFZimEMbESZ/qhL.7claVSRlxMXGCFETLcRihpAD7/SLeWy1',
# '$6$rounds=15000$59fYTkgc1LxZrS7r$ALsR4Ixl5JsY.srCtDCkWZuTdRb9i95QgsH9Gh8vzVG7UfpRw3ecmFej5G.UzR1V3D1OiGZby78ko2wCRcwZQ/',
# '$6$rounds=15000$Ueh5sAPkouqXbyfS$1QgmvHR801VjTSkwhUYR.TSQ93Tn2/mdT9qPuIEfNQfAlEr48mQ4/90lHEEzTnYxXjlOMf6GeWP72elhwdHay1'
# ]
t/01-basics.t ............ ok
t/author-pod-coverage.t .. skipped: these tests are for testing by the author
t/author-pod-syntax.t .... skipped: these tests are for testing by the author
All tests successful.
Files=4, Tests=26, 1 wallclock secs ( 0.02 usr 0.01 sys + 0.44 cusr 0.05 csys = 0.52 CPU)
Result: PASS
------------------------------
PREREQUISITES
------------------------------
Prerequisite modules loaded:
requires:
Module Need Have
--------------------- -------- --------
Bytes::Random::Secure 0 0.29
Config 0 5.022004
perl 5.010001 5.022004
build_requires:
Module Need Have
--------------------- -------- --------
ExtUtils::MakeMaker 0 7.30
File::Spec 0 3.56_02
IO::Handle 0 1.35
IPC::Open3 0 1.18
Sort::Versions 0 1.62
Test::More 0.98 1.302120
configure_requires:
Module Need Have
--------------------- -------- --------
ExtUtils::MakeMaker 0 7.30
------------------------------
ENVIRONMENT AND OTHER CONTEXT
------------------------------
Environment variables:
AUTOMATED_TESTING = 1
LANG = en_US.UTF-8
PATH = /usr/gnu/bin:/usr/bin:/usr/sbin:/sbin:/usr/sfw/bin:
PERL5LIB =
PERL5OPT =
PERL5_CPANPLUS_IS_RUNNING = 4543
PERL5_CPAN_IS_RUNNING = 4543
PERL5_CPAN_IS_RUNNING_IN_RECURSION = 11625,4543
PERL_CR_SMOKER_CURRENT = App-WHMCSUtils-0.002
PERL_EXTUTILS_AUTOINSTALL = --defaultdeps
PERL_MM_USE_DEFAULT = 1
SHELL = /bin/bash
TERM = xterm-256color
Perl special variables (and OS-specific diagnostics, for MSWin32):
$^X = /home/stro/perl/5.22.4/bin/perl
$UID/$EUID = 101 / 101
$GID = 10 10
$EGID = 10 10
Perl module toolchain versions installed:
Module Have
------------------- ----------
CPAN 2.16
CPAN::Meta 2.150001
Cwd 3.56_02
ExtUtils::CBuilder 0.280221
ExtUtils::Command 7.30
ExtUtils::Install 2.06
ExtUtils::MakeMaker 7.30
ExtUtils::Manifest 1.70
ExtUtils::ParseXS 3.28
File::Spec 3.56_02
JSON 2.97001
JSON::PP 2.27300_01
Module::Build 0.4224
Module::Signature n/a
Parse::CPAN::Meta 1.4414_001
Test::Harness 3.35_01
Test::More 1.302120
YAML 1.23
YAML::Syck 1.30
version 0.9918
--
Summary of my perl5 (revision 5 version 22 subversion 4) configuration:
Platform:
osname=solaris, osvers=2.11, archname=i86pc-solaris
uname='sunos vm-openindiana-001 5.11 illumos-ed992b0aac i86pc i386 i86pc solaris '
config_args=''
hint=recommended, useposix=true, d_sigaction=define
useithreads=undef, usemultiplicity=undef
use64bitint=undef, use64bitall=undef, uselongdouble=undef
usemymalloc=n, bincompat5005=undef
Compiler:
cc='/opt/SUNWspro/bin/cc', ccflags ='-I/usr/gnu/include -D_LARGEFILE_SOURCE -D_FILE_OFFSET_BITS=64 -DPERL_USE_SAFE_PUTENV',
optimize='-O',
cppflags='-I/usr/gnu/include'
ccversion='Sun C 5.10 SunOS_i386 2009/06/03', gccversion='', gccosandvers=''
intsize=4, longsize=4, ptrsize=4, doublesize=8, byteorder=1234, doublekind=3
d_longlong=define, longlongsize=8, d_longdbl=define, longdblsize=12, longdblkind=3
ivtype='long', ivsize=4, nvtype='double', nvsize=8, Off_t='off_t', lseeksize=8
alignbytes=4, prototype=define
Linker and Libraries:
ld='/opt/SUNWspro/bin/cc', ldflags =' -L/usr/lib -L/usr/ccs/lib -L/opt/sunstudio12.1/prod/lib -L/lib -L/usr/gnu/lib '
libpth=/usr/lib /usr/ccs/lib /opt/sunstudio12.1/prod/lib /lib /usr/gnu/lib
libs=-lpthread -lsocket -lnsl -lgdbm -ldb -ldl -lm -lc
perllibs=-lpthread -lsocket -lnsl -ldl -lm -lc
libc=/lib/libc.so, so=so, useshrplib=false, libperl=libperl.a
gnulibc_version=''
Dynamic Linking:
dlsrc=dl_dlopen.xs, dlext=so, d_dlsymun=undef, ccdlflags=' '
cccdlflags='-KPIC', lddlflags='-G -L/usr/lib -L/usr/ccs/lib -L/opt/sunstudio12.1/prod/lib -L/lib -L/usr/gnu/lib'
Characteristics of this binary (from libperl):
Compile-time options: HAS_TIMES PERLIO_LAYERS PERL_DONT_CREATE_GVSV
PERL_HASH_FUNC_ONE_AT_A_TIME_HARD PERL_MALLOC_WRAP
PERL_NEW_COPY_ON_WRITE PERL_PRESERVE_IVUV
PERL_USE_SAFE_PUTENV USE_LARGE_FILES USE_LOCALE
USE_LOCALE_COLLATE USE_LOCALE_CTYPE
USE_LOCALE_NUMERIC USE_LOCALE_TIME USE_PERLIO
USE_PERL_ATOF
Built under solaris
Compiled at Sep 21 2017 00:43:27
%ENV:
PERL5LIB=""
PERL5OPT=""
PERL5_CPANPLUS_IS_RUNNING="4543"
PERL5_CPAN_IS_RUNNING="4543"
PERL5_CPAN_IS_RUNNING_IN_RECURSION="11625,4543"
PERL_CR_SMOKER_CURRENT="App-WHMCSUtils-0.002"
PERL_EXTUTILS_AUTOINSTALL="--defaultdeps"
PERL_MM_USE_DEFAULT="1"
@INC:
/home/stro/perl/5.22.4/lib/site_perl/5.22.4/i86pc-solaris
/home/stro/perl/5.22.4/lib/site_perl/5.22.4
/home/stro/perl/5.22.4/lib/5.22.4/i86pc-solaris
/home/stro/perl/5.22.4/lib/5.22.4
.