SQL-Translator v1.66 Perl 5 v5.41.11 MSWin32-x64-multi-thread

Status
Pass
From
twata
Dist
SQL-Translator v1.66
Platform
Perl 5 v5.41.11 MSWin32-x64-multi-thread
Date
2025-04-17 14:38:38
ID
c2ad75d0-6e25-1014-8029-a44d9c150aa9
This distribution has been tested as part of the CPAN Testers
project, supporting the Perl programming language.  See
http://wiki.cpantesters.org/ for more information or email
questions to cpan-testers-discuss@perl.org


--
Dear Avishai Goldman,

This is a computer-generated report for SQL-Translator-1.66
on perl 5.41.11, created by CPAN-Reporter-1.2020.

Thank you for uploading your work to CPAN.  Congratulations!
All tests were successful.

Sections of this report:

    * Tester comments
    * Program output
    * Prerequisites
    * Environment and other context

------------------------------
TESTER COMMENTS
------------------------------

Additional comments from tester:

none provided

------------------------------
PROGRAM OUTPUT
------------------------------

Output from '"C:\Program Files\Microsoft Visual Studio\2022\Community\VC\Tools\MSVC\14.33.31629\bin\Hostx64\x64\nmake.exe" test':


Microsoft (R) Program Maintenance Utility Version 14.33.31630.0
Copyright (C) Microsoft Corporation.  All rights reserved.

Skip blib\lib\auto\share\dist\SQL-Translator\DiaUml\uml-attribute.tt2 (unchanged)
Skip blib\lib\auto\share\dist\SQL-Translator\DiaUml\uml-class-start.tt2 (unchanged)
Skip blib\lib\auto\share\dist\SQL-Translator\DiaUml\schema.tt2 (unchanged)
Skip blib\lib\auto\share\dist\SQL-Translator\DiaUml\uml-class-all.tt2 (unchanged)
Skip blib\lib\auto\share\dist\SQL-Translator\DiaUml\layer.tt2 (unchanged)
Skip blib\lib\auto\share\dist\SQL-Translator\DiaUml\uml-class-end.tt2 (unchanged)
Skip blib\lib\auto\share\dist\SQL-Translator\PrecompiledParsers\Parse\RecDescent\DDL\SQLT\README (unchanged)
Skip blib\lib\auto\share\dist\SQL-Translator\DiaUml\diagram.tt2 (unchanged)
Skip blib\lib\auto\share\dist\SQL-Translator\DiaUml\uml-class.tt2 (unchanged)
	"C:\perl5-23022-pseudo-fork-rexc\5.41.11\bin\perl.exe" "-MExtUtils::Command::MM" "-MTest::Harness" "-e" "undef *Test::Harness::Switches; test_harness(0, 'blib\lib', 'blib\arch')" t\*.t
t\02mysql-parser.t ...................... ok
t\03mysql-to-oracle.t ................... ok
t\04file,fh,string.t .................... ok
t\05bgep-re.t ........................... ok
t\06xsv.t ............................... skipped: Missing dependency: Text::RecordParser
t\07p_args.t ............................ ok
t\08postgres-to-mysql.t ................. ok
t\09sqlt-diagram.t ...................... skipped: Missing dependencies: GD, Graph::Directed, GD
t\10excel.t ............................. skipped: Missing dependency: Spreadsheet::ParseExcel
t\11normalize.t ......................... ok
t\12header_comment.t .................... ok
t\13schema.t ............................ ok
t\14postgres-parser.t ................... ok
t\15oracle-parser.t ..................... ok
t\16xml-parser.t ........................ skipped: Missing dependency: XML::LibXML
t\17sqlfxml-producer.t .................. ok
t\18ttschema-producer.t ................. skipped: Missing dependencies: XML::LibXML, Template
t\19sybase-parser.t ..................... ok
t\20format_X_name.t ..................... ok
t\23json.t .............................. ok
t\24yaml.t .............................. ok
t\25storable.t .......................... ok
t\26sybase.t ............................ ok
t\27sqlite-parser.t ..................... ok
t\29html.t .............................. skipped: Missing dependency: CGI
t\30sqlt-new-diff-mysql.t ............... ok
t\30sqlt-new-diff-pgsql.t ............... ok
t\30sqlt-new-diff-sqlite.t .............. ok
t\30sqlt-new-diff.t ..................... ok
t\31dumper.t ............................ skipped: Missing dependency: Template
t\32schema-lookups.t .................... ok
t\33tt-table-producer.t ................. skipped: Missing dependency: Template
t\34tt-base.t ........................... skipped: Missing dependencies: Template, XML::LibXML
t\35-access-parser.t .................... ok
t\36-filters.t .......................... skipped: Missing dependency: Template
t\38-filter-names.t ..................... ok
t\38-mysql-producer.t ................... ok
t\39-filter-globals.t ................... ok
t\40oracle-parser-dbi.t ................. ok
t\43xml-to-db2.t ........................ skipped: Missing dependency: XML::LibXML
t\44-xml-to-db2-array.t ................. skipped: Missing dependency: XML::LibXML
t\45db2-producer.t ...................... ok
t\46xml-to-pg.t ......................... skipped: Missing dependency: XML::LibXML
t\47postgres-producer.t ................. ok
t\48xml-to-sqlite.t ..................... skipped: Missing dependency: XML::LibXML
t\49xml-to-pg-samefield.t ............... skipped: Missing dependency: XML::LibXML
t\50-sqlserver-parser.t ................. ok
t\51-xml-to-oracle.t .................... skipped: Missing dependency: XML::LibXML
t\51-xml-to-oracle_quoted.t ............. skipped: Missing dependency: XML::LibXML
t\52-oracle-options.t ................... ok
t\53-oracle-delay-constraints.t ......... ok
t\53-oracle-delay-constraints_quoted.t .. ok
t\54-oracle-alter-constraint.t .......... ok
t\54-oracle-alter-field.t ............... ok
t\54-oracle-sql-diff.t .................. ok
t\55-oracle-add-drop-field.t ............ ok
t\55-oracle-producer.t .................. ok
t\56-sqlite-producer.t .................. ok
t\57-class-dbi.t ........................ ok
t\60roundtrip.t ......................... ok
t\61translator_agnostic.t ............... skipped: Missing dependency: XML::LibXML
t\62roundtrip_datacheck.t ............... skipped: Missing dependency: XML::LibXML
t\63-spacial-pgsql.t .................... ok
t\64xml-to-mysql.t ...................... skipped: Missing dependency: XML::LibXML
t\66-postgres-dbi-parser.t .............. skipped: Set $ENV{DBICTEST_PG_DSN}, _USER and _PASS to run this test, or install Test::PostgreSQL
t\70sqlt-diff_script.t .................. ok
t\70sqlt-diff_script_old.t .............. ok
t\71-generator-sql_server.t ............. ok
t\72-sqlite-add-drop-fields.t ........... ok
t\73-sqlite-respects-quote.t ............ ok
t\74-filename-arrayref.t ................ ok
t\75-sqlserver-producer.t ............... ok
t\mysql-sqlite-translate.t .............. ok
t\postgresql-rename-table-and-field.t ... skipped: Missing dependency: DBD::Pg
t\sqlite-rename-field.t ................. ok
All tests successful.

Test Summary Report
-------------------
t\60roundtrip.t                       (Wstat: 0 Tests: 93 Failed: 0)
  TODO passed:   85, 87, 91, 93
Files=75, Tests=1686, 81 wallclock secs ( 0.33 usr +  0.19 sys =  0.52 CPU)
Result: PASS

------------------------------
PREREQUISITES
------------------------------

Prerequisite modules loaded:

requires:

    Module                  Need     Have    
    ----------------------- -------- --------
    Carp::Clan              0        6.08    
    DBI                     1.54     1.647   
    Digest::SHA             0        6.04    
    File::ShareDir          1.0      1.118   
    List::Util              1.33     1.68_01 
    Moo                     1.000003 2.005005
    Package::Variant        1.001001 1.003002
    Parse::RecDescent       1.967009 1.967015
    perl                    5.008001 5.041011
    Scalar::Util            0        1.68_01 
    Sub::Quote              0        2.006008
    Try::Tiny               0.04     0.32    

build_requires:

    Module                  Need     Have    
    ----------------------- -------- --------
    ExtUtils::MakeMaker     0        7.72    
    JSON::MaybeXS           1.003003 1.004008
    Test::Differences       0        0.71    
    Test::Exception         0.42     0.43    
    Test::More              0.88     1.302210
    Text::ParseWords        0        3.31    
    XML::Writer             0.500    0.900   
    YAML                    0.66     1.31    

configure_requires:

    Module                  Need     Have    
    ----------------------- -------- --------
    ExtUtils::MakeMaker     6.54     7.72    
    File::ShareDir::Install 0        0.14    

opt_requires:

    Module                  Need     Have    
    ----------------------- -------- --------
  ! GD                      0        n/a     
  ! Graph::Directed         0        n/a     
  ! GraphViz                0        n/a     
  ! Spreadsheet::ParseExcel 0.41     n/a     
  ! Template                2.20     n/a     
  ! Text::RecordParser      0.02     n/a     
  ! XML::LibXML             1.69     n/a     


------------------------------
ENVIRONMENT AND OTHER CONTEXT
------------------------------

Environment variables:

    COMSPEC = C:\WINDOWS\system32\cmd.exe
    INCLUDE = C:\Program Files\Microsoft Visual Studio\2022\Community\VC\Tools\MSVC\14.33.31629\include;C:\Program Files\Microsoft Visual Studio\2022\Community\VC\Tools\MSVC\14.33.31629\ATLMFC\include;C:\Program Files\Microsoft Visual Studio\2022\Community\VC\Auxiliary\VS\include;C:\Program Files (x86)\Windows Kits\10\include\10.0.19041.0\ucrt;C:\Program Files (x86)\Windows Kits\10\\include\10.0.19041.0\\um;C:\Program Files (x86)\Windows Kits\10\\include\10.0.19041.0\\shared;C:\Program Files (x86)\Windows Kits\10\\include\10.0.19041.0\\winrt;C:\Program Files (x86)\Windows Kits\10\\include\10.0.19041.0\\cppwinrt;C:\ext\include;C:\perl5-23022-pseudo-fork-rexc\local\include
    LC_ALL = C
    LIB = C:\Program Files\Microsoft Visual Studio\2022\Community\VC\Tools\MSVC\14.33.31629\ATLMFC\lib\x64;C:\Program Files\Microsoft Visual Studio\2022\Community\VC\Tools\MSVC\14.33.31629\lib\x64;C:\Program Files (x86)\Windows Kits\10\lib\10.0.19041.0\ucrt\x64;C:\Program Files (x86)\Windows Kits\10\\lib\10.0.19041.0\\um\x64;C:\ext\lib
    NONINTERACTIVE_TESTING = 1
    NUMBER_OF_PROCESSORS = 4
    PATH = C:\home\oat54111a\perl5\bin;C:\perl5-23022-pseudo-fork-rexc\5.41.11\bin;C:\build-openssl\bin;C:\ext\bin;C:\Program Files\Microsoft Visual Studio\2022\Community\VC\Tools\MSVC\14.33.31629\bin\HostX64\x64;C:\Program Files\Microsoft Visual Studio\2022\Community\Common7\IDE\VC\VCPackages;C:\Program Files\Microsoft Visual Studio\2022\Community\Common7\IDE\CommonExtensions\Microsoft\TestWindow;C:\Program Files\Microsoft Visual Studio\2022\Community\Common7\IDE\CommonExtensions\Microsoft\TeamFoundation\Team Explorer;C:\Program Files\Microsoft Visual Studio\2022\Community\MSBuild\Current\bin\Roslyn;C:\Program Files\Microsoft Visual Studio\2022\Community\Team Tools\Performance Tools\x64;C:\Program Files\Microsoft Visual Studio\2022\Community\Team Tools\Performance Tools;C:\Program Files (x86)\Windows Kits\10\bin\10.0.19041.0\\x64;C:\Program Files (x86)\Windows Kits\10\bin\\x64;C:\Program Files\Microsoft Visual Studio\2022\Community\\MSBuild\Current\Bin\amd64;C:\Windows\Microsoft.NET\Framework64\v4.0.30319;C:\Program Files\Microsoft Visual Studio\2022\Community\Common7\IDE\;C:\Program Files\Microsoft Visual Studio\2022\Community\Common7\Tools\;C:\Program Files (x86)\Windows Resource Kits\Tools\;C:\WINDOWS\system32;C:\WINDOWS;C:\WINDOWS\System32\Wbem;C:\WINDOWS\System32\WindowsPowerShell\v1.0\;C:\Program Files\Microsoft Visual Studio\2022\Community\Common7\IDE\CommonExtensions\Microsoft\CMake\CMake\bin;C:\Program Files\Microsoft Visual Studio\2022\Community\Common7\IDE\CommonExtensions\Microsoft\CMake\Ninja;C:\Program Files\Microsoft Visual Studio\2022\Community\Common7\IDE\VC\Linux\bin\ConnectionManagerExe
    PERL5LIB = C:\home\oat54111a\perl5\lib\perl5
    PERL5OPT = 
    PERL5_CPANPLUS_IS_RUNNING = 14200
    PERL5_CPAN_IS_RUNNING = 14200
    PERL_LOCAL_LIB_ROOT = C:\home\oat54111a\perl5
    PERL_MB_OPT = --install_base "C:\\home\\oat54111a\\perl5"
    PERL_MM_OPT = INSTALL_BASE=C:\\home\\oat54111a\\perl5
    PERL_MM_USE_DEFAULT = 1
    PERL_USE_UNSAFE_INC = 1
    PROCESSOR_IDENTIFIER = Intel64 Family 6 Model 58 Stepping 9, GenuineIntel
    TEMP = C:\Users\USER\AppData\Local\Temp
    TERM = dumb

Perl special variables (and OS-specific diagnostics, for MSWin32):

    $^X = C:\perl5-23022-pseudo-fork-rexc\5.41.11\bin\perl.exe
    $UID/$EUID = 0 / 0
    $GID = 0
    $EGID = 0
    Win32::GetOSName = Win8.1
    Win32::GetOSVersion = , 6, 3, 9600, 2, 0, 0, 256, 1
    Win32::FsType = NTFS
    Win32::IsAdminUser = 0

Perl module toolchain versions installed:

    Module              Have    
    ------------------- --------
    CPAN                2.38    
    CPAN::Meta          2.150010
    Cwd                 3.94    
    ExtUtils::CBuilder  0.280240
    ExtUtils::Command   7.72    
    ExtUtils::Install   2.22    
    ExtUtils::MakeMaker 7.72    
    ExtUtils::Manifest  1.75    
    ExtUtils::ParseXS   3.57    
    File::Spec          3.94    
    JSON                4.10    
    JSON::PP            4.16    
    Module::Build       0.4234  
    Module::Signature   n/a     
    Parse::CPAN::Meta   2.150010
    Test2               1.302210
    Test::Harness       3.50    
    Test::More          1.302210
    YAML                1.31    
    YAML::Syck          n/a     
    version             0.9933  


--

Summary of my perl5 (revision 5 version 41 subversion 11) configuration:
  Snapshot of: 8194f79baa64d5f7bb5c1edbcf836e6c279f9a59
  Platform:
    osname=MSWin32
    osvers=6.3.9600
    archname=MSWin32-x64-multi-thread
    uname=''
    config_args='undef'
    hint=recommended
    useposix=true
    d_sigaction=undef
    useithreads=define
    usemultiplicity=define
    use64bitint=define
    use64bitall=undef
    uselongdouble=undef
    usemymalloc=n
    default_inc_excludes_dot=define
  Compiler:
    cc='cl'
    ccflags ='-nologo -GF -W3 -MD -DWIN32 -D_CONSOLE -DNO_STRICT -DWIN64 -D_CRT_SECURE_NO_DEPRECATE  -D_CRT_NONSTDC_NO_DEPRECATE -D_WINSOCK_DEPRECATED_NO_WARNINGS  -DPERL_TEXTMODE_SCRIPTS -DMULTIPLICITY -DPERL_IMPLICIT_SYS'
    optimize='-O1 -Zi -GL -fp:precise'
    cppflags='-DWIN32'
    ccversion='19.33.31630'
    gccversion=''
    gccosandvers=''
    intsize=4
    longsize=4
    ptrsize=8
    doublesize=8
    byteorder=12345678
    doublekind=3
    d_longlong=undef
    longlongsize=8
    d_longdbl=define
    longdblsize=8
    longdblkind=0
    ivtype='__int64'
    ivsize=8
    nvtype='double'
    nvsize=8
    Off_t='__int64'
    lseeksize=8
    alignbytes=8
    prototype=define
  Linker and Libraries:
    ld='link'
    ldflags ='-nologo -nodefaultlib -debug -opt:ref,icf -ltcg  -libpath:"c:\perl5-23022-pseudo-fork-rexc\5.41.11\lib\CORE"  -machine:AMD64 -subsystem:console,"5.02"'
    libpth="C:\Program Files\Microsoft Visual Studio\2022\Community\VC\Tools\MSVC\14.33.31629\\lib\x64"
    libs=oldnames.lib kernel32.lib user32.lib gdi32.lib winspool.lib  comdlg32.lib advapi32.lib shell32.lib ole32.lib oleaut32.lib  netapi32.lib uuid.lib ws2_32.lib mpr.lib winmm.lib  version.lib odbc32.lib odbccp32.lib comctl32.lib msvcrt.lib vcruntime.lib ucrt.lib
    perllibs=oldnames.lib kernel32.lib user32.lib gdi32.lib winspool.lib  comdlg32.lib advapi32.lib shell32.lib ole32.lib oleaut32.lib  netapi32.lib uuid.lib ws2_32.lib mpr.lib winmm.lib  version.lib odbc32.lib odbccp32.lib comctl32.lib msvcrt.lib vcruntime.lib ucrt.lib
    libc=ucrt.lib
    so=dll
    useshrplib=true
    libperl=perl541.lib
    gnulibc_version=''
  Dynamic Linking:
    dlsrc=dl_win32.xs
    dlext=dll
    d_dlsymun=undef
    ccdlflags=' '
    cccdlflags=' '
    lddlflags='-dll -nologo -nodefaultlib -debug -opt:ref,icf -ltcg  -libpath:"c:\perl5-23022-pseudo-fork-rexc\5.41.11\lib\CORE"  -machine:AMD64 -subsystem:console,"5.02"'


Characteristics of this binary (from libperl): 
  Compile-time options:
    HAS_LONG_DOUBLE
    HAS_TIMES
    HAVE_INTERP_INTERN
    MULTIPLICITY
    PERLIO_LAYERS
    PERL_COPY_ON_WRITE
    PERL_DONT_CREATE_GVSV
    PERL_HASH_FUNC_SIPHASH13
    PERL_HASH_USE_SBOX32
    PERL_IMPLICIT_SYS
    PERL_MALLOC_WRAP
    PERL_OP_PARENT
    PERL_PRESERVE_IVUV
    PERL_USE_SAFE_PUTENV
    USE_64_BIT_INT
    USE_ITHREADS
    USE_LARGE_FILES
    USE_LOCALE
    USE_LOCALE_COLLATE
    USE_LOCALE_CTYPE
    USE_LOCALE_NUMERIC
    USE_LOCALE_TIME
    USE_PERLIO
    USE_PERL_ATOF
    USE_THREAD_SAFE_LOCALE
  Built under MSWin32
  Compiled at Apr 13 2025 16:06:07
  %ENV:
    PERL5LIB="C:\home\oat54111a\perl5\lib\perl5"
    PERL5_CPANPLUS_IS_RUNNING="14200"
    PERL5_CPAN_IS_RUNNING="14200"
    PERL_LOCAL_LIB_ROOT="C:\home\oat54111a\perl5"
    PERL_MB_OPT="--install_base "C:\\home\\oat54111a\\perl5""
    PERL_MM_OPT="INSTALL_BASE=C:\\home\\oat54111a\\perl5"
    PERL_MM_USE_DEFAULT="1"
    PERL_USE_UNSAFE_INC="1"
  @INC:
    C:\home\oat54111a\perl5\lib\perl5/MSWin32-x64-multi-thread
    C:\home\oat54111a\perl5\lib\perl5
    C:/perl5-23022-pseudo-fork-rexc/site/5.41.11/lib
    C:/perl5-23022-pseudo-fork-rexc/5.41.11/lib
    .