Report for Set-Associate-0.004001

Back
From: metabase:user:320bfe00-2aae-11df-837a-5e0a49663a4f
Subject: PASS Set-Associate-0.004001 v5.14.0 GNU/Linux
Date: 2017-03-07T10:13:50Z

This distribution has been tested as part of the CPAN Testers
project, supporting the Perl programming language.  See
http://wiki.cpantesters.org/ for more information or email
questions to cpan-testers-discuss@perl.org


--
Dear Kent Fredric,

This is a computer-generated report for Set-Associate-0.004001
on perl 5.14.0, created by CPAN-Reporter-1.2018.

Thank you for uploading your work to CPAN.  Congratulations!
All tests were successful.

Sections of this report:

    * Tester comments
    * Program output
    * Prerequisites
    * Environment and other context

------------------------------
TESTER COMMENTS
------------------------------

Additional comments from tester:

this report is from an automated smoke testing program
and was not reviewed by a human for accuracy

------------------------------
PROGRAM OUTPUT
------------------------------

Output from '/usr/bin/make test':

PERL_DL_NONLAZY=1 "/home/sand/src/perl/repoperls/installed-perls/host/k93msid/v5.14.0/276a/bin/perl" "-MExtUtils::Command::MM" "-MTest::Harness" "-e" "undef *Test::Harness::Switches; test_harness(0, 'blib/lib', 'blib/arch')" t/*.t t/00-compile/*.t t/01_assoc/*.t t/02_assoc_new/*.t t/03_assoc_direct/*.t
t/00-compile/lib_Set_Associate_NewKey_HashMD5_pm.t ....... ok
t/00-compile/lib_Set_Associate_NewKey_HashSHA1_pm.t ...... ok
t/00-compile/lib_Set_Associate_NewKey_LinearWrap_pm.t .... ok
t/00-compile/lib_Set_Associate_NewKey_PickOffset_pm.t .... ok
t/00-compile/lib_Set_Associate_NewKey_pm.t ............... ok
t/00-compile/lib_Set_Associate_NewKey_RandomPick_pm.t .... ok
t/00-compile/lib_Set_Associate_pm.t ...................... ok
t/00-compile/lib_Set_Associate_RefillItems_Linear_pm.t ... ok
t/00-compile/lib_Set_Associate_RefillItems_pm.t .......... ok
t/00-compile/lib_Set_Associate_RefillItems_Shuffle_pm.t .. ok
t/00-compile/lib_Set_Associate_Role_NewKey_pm.t .......... ok
t/00-compile/lib_Set_Associate_Role_RefillItems_pm.t ..... ok
t/00-compile/lib_Set_Associate_Utils_pm.t ................ ok
# 
# Versions for all modules listed in MYMETA.json (including optional ones):
# 
# === Configure Requires ===
# 
#     Module              Want    Have
#     ------------------- ---- -------
#     ExtUtils::MakeMaker  any 7.25_01
# 
# === Configure Recommends ===
# 
#     Module              Want    Have
#     ------------------- ---- -------
#     ExtUtils::MakeMaker 7.00 7.25_01
# 
# === Build Requires ===
# 
#     Module              Want    Have
#     ------------------- ---- -------
#     ExtUtils::MakeMaker  any 7.25_01
# 
# === Test Requires ===
# 
#     Module              Want     Have
#     ------------------- ---- --------
#     ExtUtils::MakeMaker  any  7.25_01
#     File::Spec           any     3.62
#     Test::Fatal          any    0.014
#     Test::More           any 1.302078
# 
# === Test Recommends ===
# 
#     Module                  Want     Have
#     ------------------- -------- --------
#     CPAN::Meta          2.120900 2.150010
#     ExtUtils::MakeMaker     7.00  7.25_01
#     Test::More              0.99 1.302078
# 
# === Runtime Requires ===
# 
#     Module                      Want   Have
#     --------------------------- ---- ------
#     Carp                         any   1.38
#     Digest::MD5                  any   2.55
#     Digest::SHA1                 any   2.13
#     Exporter                     any   5.72
#     List::Util                   any   1.47
#     Moose                        any 2.2004
#     MooseX::AttributeShortcuts   any  0.028
#     MooseX::Role::Parameterized  any   1.09
#     Scalar::Util                 any   1.47
#     bigint                      0.22   0.47
#     strict                       any   1.04
#     warnings                     any   1.12
# 
# === Runtime Recommends ===
# 
#     Module  Want   Have
#     ------ ----- ------
#     Moose  2.000 2.2004
# 
t/00-report-prereqs.t .................................... ok
Set::Associate::NewKey->linear_wrap should be called as a method at /tmp/loop_over_bdir-23588-2P86X4/Set-Associate-0.004001-0/blib/lib/Set/Associate/NewKey.pm line 74.
t/01_assoc/01_linear.t ................................... ok
Set::Associate::RefillItems->shuffle should be called as a method at /tmp/loop_over_bdir-23588-2P86X4/Set-Associate-0.004001-0/blib/lib/Set/Associate/RefillItems.pm line 128.
t/01_assoc/02_random_shuffle.t ........................... ok
Set::Associate::NewKey->random_pick should be called as a method at /tmp/loop_over_bdir-23588-2P86X4/Set-Associate-0.004001-0/blib/lib/Set/Associate/NewKey.pm line 96.
t/01_assoc/03_random_pick.t .............................. ok
Set::Associate::NewKey->hash_sha1 should be called as a method at /tmp/loop_over_bdir-23588-2P86X4/Set-Associate-0.004001-0/blib/lib/Set/Associate/NewKey.pm line 148.
t/01_assoc/04_hash_sha1.t ................................ ok
Set::Associate::NewKey->hash_md5 should be called as a method at /tmp/loop_over_bdir-23588-2P86X4/Set-Associate-0.004001-0/blib/lib/Set/Associate/NewKey.pm line 172.
t/01_assoc/05_hash_md5.t ................................. ok
t/02_assoc_new/01_linear.t ............................... ok
t/02_assoc_new/02_random_shuffle.t ....................... ok
t/02_assoc_new/03_random_pick.t .......................... ok
t/02_assoc_new/04_hash_sha1.t ............................ ok
t/02_assoc_new/05_hash_md5.t ............................. ok
t/03_assoc_direct/01_linear.t ............................ ok
t/03_assoc_direct/02_random_shuffle.t .................... ok
t/03_assoc_direct/03_random_pick.t ....................... ok
t/03_assoc_direct/04_hash_sha1.t ......................... ok
t/03_assoc_direct/05_hash_md5.t .......................... ok
All tests successful.
Files=29, Tests=187, 24 wallclock secs ( 0.06 usr  0.18 sys + 11.32 cusr  1.16 csys = 12.72 CPU)
Result: PASS

------------------------------
PREREQUISITES
------------------------------

Prerequisite modules loaded:

requires:

    Module                      Need  Have    
    --------------------------- ----- --------
    bigint                      0.22  0.47    
    Carp                        0     1.38    
    Digest::MD5                 0     2.55    
    Digest::SHA1                0     2.13    
    Exporter                    0     5.72    
    List::Util                  0     1.47    
    Moose                       0     2.2004  
    MooseX::AttributeShortcuts  0     0.028   
    MooseX::Role::Parameterized 0     1.09    
    perl                        5.006 5.014000
    Scalar::Util                0     1.47    
    strict                      0     1.04    
    warnings                    0     1.12    

build_requires:

    Module                      Need  Have    
    --------------------------- ----- --------
    ExtUtils::MakeMaker         0     7.25_01 
    File::Spec                  0     3.62    
    Test::Fatal                 0     0.014   
    Test::More                  0     1.302078

configure_requires:

    Module                      Need  Have    
    --------------------------- ----- --------
    ExtUtils::MakeMaker         0     7.25_01 
    perl                        5.006 5.014000


------------------------------
ENVIRONMENT AND OTHER CONTEXT
------------------------------

Environment variables:

    AUTOMATED_TESTING = 1
    LANG = en_US.UTF-8
    PATH = /home/sand/bin:/usr/local/bin:/usr/bin:/bin:/usr/games:/usr/local/perl/bin:/usr/X11/bin:/sbin:/usr/sbin
    PERL5LIB = 
    PERL5OPT = 
    PERL5_CPANPLUS_IS_RUNNING = 23589
    PERL5_CPAN_IS_RUNNING = 23589
    PERL_CANARY_STABILITY_NOPROMPT = 1
    PERL_MM_USE_DEFAULT = 1
    PERL_USE_UNSAFE_INC = 1
    SHELL = /usr/bin/zsh
    TERM = screen

Perl special variables (and OS-specific diagnostics, for MSWin32):

    $^X = /home/sand/src/perl/repoperls/installed-perls/host/k93msid/v5.14.0/276a/bin/perl
    $UID/$EUID = 1005 / 1005
    $GID = 1005 1005
    $EGID = 1005 1005

Perl module toolchain versions installed:

    Module              Have    
    ------------------- --------
    CPAN                2.17    
    CPAN::Meta          2.150010
    Cwd                 3.62    
    ExtUtils::CBuilder  0.280224
    ExtUtils::Command   7.25_01 
    ExtUtils::Install   2.04    
    ExtUtils::MakeMaker 7.25_01 
    ExtUtils::Manifest  1.70    
    ExtUtils::ParseXS   3.30    
    File::Spec          3.62    
    JSON                2.91_04 
    JSON::PP            2.91_04 
    Module::Build       0.4220  
    Module::Signature   0.81    
    Parse::CPAN::Meta   2.150010
    Test::Harness       3.37_01 
    Test::More          1.302078
    YAML                1.21    
    YAML::Syck          1.29    
    version             0.9917  


--

Summary of my perl5 (revision 5 version 14 subversion 0) configuration:
  Derived from: a35ef416833511da752c4b5b836b7a8915712aab
  Platform:
    osname=linux, osvers=4.8.0-2-amd64, archname=x86_64-linux-thread-multi
    uname='linux k93msid 4.8.0-2-amd64 #1 smp debian 4.8.11-1 (2016-12-02) x86_64 gnulinux '
    config_args='-Dprefix=/home/sand/src/perl/repoperls/installed-perls/host/k93msid/v5.14.0/276a -Dmyhostname=k93msid -Dinstallusrbinperl=n -Uversiononly -Dusedevel -des -Ui_db -Dlibswanted=cl pthread socket inet nsl gdbm dbm malloc dl ld sun m crypt sec util c cposix posix ucb BSD gdbm_compat -Duseithreads -Uuselongdouble -DDEBUGGING=both'
    hint=recommended, useposix=true, d_sigaction=define
    useithreads=define, usemultiplicity=define
    useperlio=define, d_sfio=undef, uselargefiles=define, usesocks=undef
    use64bitint=define, use64bitall=define, uselongdouble=undef
    usemymalloc=n, bincompat5005=undef
  Compiler:
    cc='cc', ccflags ='-D_REENTRANT -D_GNU_SOURCE -DDEBUGGING -fno-strict-aliasing -pipe -fstack-protector -I/usr/local/include -D_LARGEFILE_SOURCE -D_FILE_OFFSET_BITS=64',
    optimize='-O2 -g',
    cppflags='-D_REENTRANT -D_GNU_SOURCE -DDEBUGGING -fno-strict-aliasing -pipe -fstack-protector -I/usr/local/include'
    ccversion='', gccversion='6.2.1 20161124', gccosandvers=''
    intsize=4, longsize=8, ptrsize=8, doublesize=8, byteorder=12345678
    d_longlong=define, longlongsize=8, d_longdbl=define, longdblsize=16
    ivtype='long', ivsize=8, nvtype='double', nvsize=8, Off_t='off_t', lseeksize=8
    alignbytes=8, prototype=define
  Linker and Libraries:
    ld='cc', ldflags =' -fstack-protector -L/usr/local/lib'
    libpth=/usr/local/lib /lib/x86_64-linux-gnu /lib/../lib /usr/lib/x86_64-linux-gnu /usr/lib/../lib /lib /usr/lib
    libs=-lpthread -lnsl -ldl -lm -lcrypt -lutil -lc
    perllibs=-lpthread -lnsl -ldl -lm -lcrypt -lutil -lc
    libc=libc-2.24.so, so=so, useshrplib=false, libperl=libperl.a
    gnulibc_version='2.24'
  Dynamic Linking:
    dlsrc=dl_dlopen.xs, dlext=so, d_dlsymun=undef, ccdlflags='-Wl,-E'
    cccdlflags='-fPIC', lddlflags='-shared -O2 -g -L/usr/local/lib -fstack-protector'


Characteristics of this binary (from libperl): 
  Compile-time options: DEBUGGING MULTIPLICITY PERL_DONT_CREATE_GVSV
                        PERL_IMPLICIT_CONTEXT PERL_MALLOC_WRAP
                        PERL_PRESERVE_IVUV PERL_TRACK_MEMPOOL PERL_USE_DEVEL
                        USE_64_BIT_ALL USE_64_BIT_INT USE_ITHREADS
                        USE_LARGE_FILES USE_PERLIO USE_PERL_ATOF
                        USE_REENTRANT_API
  Locally applied patches:
	uncommitted-changes
  Built under linux
  Compiled at Jan  4 2017 11:55:18
  %ENV:
    PERL5LIB=""
    PERL5OPT=""
    PERL5_CPANPLUS_IS_RUNNING="23589"
    PERL5_CPAN_IS_RUNNING="23589"
    PERL_CANARY_STABILITY_NOPROMPT="1"
    PERL_MM_USE_DEFAULT="1"
    PERL_USE_UNSAFE_INC="1"
  @INC:
    /home/sand/src/perl/repoperls/installed-perls/host/k93msid/v5.14.0/276a/lib/site_perl/5.14.0/x86_64-linux-thread-multi
    /home/sand/src/perl/repoperls/installed-perls/host/k93msid/v5.14.0/276a/lib/site_perl/5.14.0
    /home/sand/src/perl/repoperls/installed-perls/host/k93msid/v5.14.0/276a/lib/5.14.0/x86_64-linux-thread-multi
    /home/sand/src/perl/repoperls/installed-perls/host/k93msid/v5.14.0/276a/lib/5.14.0
    .