SQL-SplitStatement v1.00023 Perl 5 v5.41.13 amd64-midnightbsd-thread-multi

Status
Pass
From
Carlos Guevara
Dist
SQL-SplitStatement v1.00023
Platform
Perl 5 v5.41.13 amd64-midnightbsd-thread-multi
Date
2025-05-12 10:56:30
ID
c2a9dd48-2f1f-11f0-9f46-b1d5b0e5010e
This distribution has been tested as part of the CPAN Testers
project, supporting the Perl programming language.  See
http://wiki.cpantesters.org/ for more information or email
questions to cpan-testers-discuss@perl.org


--
Dear Avishai Goldman,

This is a computer-generated report for SQL-SplitStatement-1.00023
on perl 5.41.13, created by CPAN-Reporter-1.2020.

Thank you for uploading your work to CPAN.  Congratulations!
All tests were successful.

Sections of this report:

    * Tester comments
    * Program output
    * Prerequisites
    * Environment and other context

------------------------------
TESTER COMMENTS
------------------------------

Additional comments from tester:

this report is from an automated smoke testing program
and was not reviewed by a human for accuracy

------------------------------
PROGRAM OUTPUT
------------------------------

Output from '/usr/bin/make test':

PERL_DL_NONLAZY=1 "/usr/home/cpan/bin/perl/bin/perl5.41.13" "-MExtUtils::Command::MM" "-MTest::Harness" "-e" "undef *Test::Harness::Switches; test_harness(0, 'blib/lib', 'blib/arch')" t/*.t t/basic/*.t t/mysql/*.t t/postgres/*.t t/proc/*.t
t/00-compile.t .............................. ok
# Testing SQL::SplitStatement 1.00023, Perl 5.041013, /usr/home/cpan/bin/perl/bin/perl5.41.13
t/00-load.t ................................. ok
# 
# Versions for all modules listed in MYMETA.json (including optional ones):
# 
# === Configure Requires ===
# 
#     Module              Want Have
#     ------------------- ---- ----
#     ExtUtils::MakeMaker  any 7.74
# 
# === Build Requires ===
# 
#     Module              Want Have
#     ------------------- ---- ----
#     ExtUtils::MakeMaker  any 7.74
# 
# === Test Requires ===
# 
#     Module              Want     Have
#     ------------------- ---- --------
#     ExtUtils::MakeMaker  any     7.74
#     File::Find           any     1.44
#     File::Spec           any     3.94
#     File::Temp           any   0.2311
#     Test::Differences   0.68     0.71
#     Test::Exception     0.27     0.43
#     Test::More           0.7 1.302211
# 
# === Test Recommends ===
# 
#     Module         Want     Have
#     ---------- -------- --------
#     CPAN::Meta 2.120900 2.150010
# 
# === Runtime Requires ===
# 
#     Module                Want       Have
#     --------------------- ---- ----------
#     Carp                   any       1.54
#     Class::Accessor::Fast  any       0.51
#     Exporter               any       5.79
#     Getopt::Long           any       2.58
#     List::MoreUtils        any      0.430
#     Pod::Usage             any       2.05
#     Regexp::Common         any 2024080801
#     base                   any       2.27
#     constant               any       1.33
#     strict                 any       1.14
#     warnings               any       1.74
# 
t/00-report-prereqs.t ....................... ok
t/80-examples.t ............................. ok
t/81-examples_procedural.t .................. ok
t/82-synopsis.t ............................. ok
t/92-postgresql_pagila.t .................... ok
t/94-exception.t ............................ ok
t/95-script.t ............................... skipped: please install Test::Script::Run to run these tests
t/basic/comments.t .......................... ok
t/basic/empty_statements.t .................. ok
t/basic/hard.t .............................. ok
t/basic/keywords_as_unquoted_identifiers.t .. ok
t/basic/nested_blocks.t ..................... ok
t/basic/placeholders.t ...................... ok
t/basic/placeholders_empty.t ................ ok
t/basic/simple.t ............................ ok
t/basic/slash_terminates.t .................. ok
t/basic/transactions.t ...................... ok
t/basic/transactions_and_proc.t ............. ok
t/mysql/delimiter.t ......................... ok
t/mysql/mixed.t ............................. ok
t/mysql/replace.t ........................... ok
t/mysql/sakila.t ............................ ok
t/postgres/dollar_quoted.t .................. ok
t/postgres/dollar_quoted_w_tranactions.t .... ok
t/postgres/pl_perl.t ........................ ok
t/proc/grant.t .............................. ok
t/proc/plsql_alias.t ........................ ok
t/proc/plsql_function_inside_package.t ...... ok
t/proc/plsql_mixed.t ........................ ok
t/proc/plsql_mixed_endings.t ................ ok
t/proc/plsql_nested_functions.t ............. ok
t/proc/plsql_package.t ...................... ok
t/proc/plsql_RTbug_57971.t .................. ok
t/proc/plsql_slash_endings.t ................ ok
All tests successful.
Files=36, Tests=290,  4 wallclock secs ( 0.06 usr  0.04 sys +  4.10 cusr  0.29 csys =  4.49 CPU)
Result: PASS

------------------------------
PREREQUISITES
------------------------------

Prerequisite modules loaded:

requires:

    Module                Need     Have      
    --------------------- -------- ----------
    base                  0        2.27      
    Carp                  0        1.54      
    Class::Accessor::Fast 0        0.51      
    constant              0        1.33      
    Exporter              0        5.79      
    Getopt::Long          0        2.58      
    List::MoreUtils       0        0.430     
    Pod::Usage            0        2.05      
    Regexp::Common        0        2024080801
    strict                0        1.14      
    warnings              0        1.74      

build_requires:

    Module                Need     Have      
    --------------------- -------- ----------
    ExtUtils::MakeMaker   0        7.74      
    File::Find            0        1.44      
    File::Spec            0        3.94      
    File::Temp            0        0.2311    
    Test::Differences     0.68     0.71      
    Test::Exception       0.27     0.43      
    Test::More            0.7      1.302211  

configure_requires:

    Module                Need     Have      
    --------------------- -------- ----------
    ExtUtils::MakeMaker   0        7.74      

opt_build_requires:

    Module                Need     Have      
    --------------------- -------- ----------
    CPAN::Meta            2.120900 2.150010  


------------------------------
ENVIRONMENT AND OTHER CONTEXT
------------------------------

Environment variables:

    AUTOMATED_TESTING = 1
    DATE_MANIP_TEST_DM5 = 1
    LC_ALL = C
    NONINTERACTIVE_TESTING = 1
    NO_NETWORK_TESTING = 1
    PATH = /home/cpan/bin/perl/bin:/home/cpan/bin:/sbin:/bin:/usr/sbin:/usr/bin:/usr/games:/usr/local/sbin:/usr/local/bin:/home/cpan/bin
    PERL5LIB = 
    PERL5OPT = 
    PERL5_CPANPLUS_IS_RUNNING = 73733
    PERL5_CPAN_IS_RUNNING = 73733
    PERL_MM_USE_DEFAULT = 1
    PERL_USE_UNSAFE_INC = 1
    SHELL = /usr/local/bin/bash
    TERM = screen
    TMPDIR = /home/cpan/tmp

Perl special variables (and OS-specific diagnostics, for MSWin32):

    $^X = /usr/home/cpan/bin/perl/bin/perl5.41.13
    $UID/$EUID = 1002 / 1002
    $GID = 1002 1002
    $EGID = 1002 1002

Perl module toolchain versions installed:

    Module              Have    
    ------------------- --------
    CPAN                2.38    
    CPAN::Meta          2.150010
    Cwd                 3.94    
    ExtUtils::CBuilder  0.280241
    ExtUtils::Command   7.74    
    ExtUtils::Install   2.22    
    ExtUtils::MakeMaker 7.74    
    ExtUtils::Manifest  1.75    
    ExtUtils::ParseXS   3.57    
    File::Spec          3.94    
    JSON                4.10    
    JSON::PP            4.16    
    Module::Build       0.4234  
    Module::Signature   0.89    
    Parse::CPAN::Meta   2.150010
    Test2               1.302211
    Test::Harness       3.50    
    Test::More          1.302211
    YAML                1.31    
    YAML::Syck          1.34    
    version             0.9933  


--

Summary of my perl5 (revision 5 version 41 subversion 13) configuration:
  Commit id: 93d6320471be19c1f4410bdffb1a02dde76a0a43
  Platform:
    osname=midnightbsd
    osvers=3.2.1
    archname=amd64-midnightbsd-thread-multi
    uname='midnightbsd cjg-midnightbsd3 3.2.1 midnightbsd 3.2.1 #15n13132-0869ed7092(stable3.2)-dirty: wed nov 6 12:53:25 est 2024 root@m3264:usrobjusrsrcamd64.amd64sysgeneric amd64 '
    config_args='-des -Dprefix=/home/cpan/bin/perl -Dscriptdir=/home/cpan/bin/perl/bin -Dusedevel -Duse64bitall -Duseithreads'
    hint=recommended
    useposix=true
    d_sigaction=define
    useithreads=define
    usemultiplicity=define
    use64bitint=define
    use64bitall=define
    uselongdouble=undef
    usemymalloc=n
    default_inc_excludes_dot=define
  Compiler:
    cc='cc'
    ccflags ='-DHAS_FPSETMASK -DHAS_FLOATINGPOINT_H -fno-strict-aliasing -pipe -fstack-protector-strong -I/usr/local/include'
    optimize='-O'
    cppflags='-DHAS_FPSETMASK -DHAS_FLOATINGPOINT_H -fno-strict-aliasing -pipe -fstack-protector-strong -I/usr/local/include'
    ccversion=''
    gccversion='MidnightBSD Clang 13.0.0 (git@github.com:llvm/llvm-project.git llvmorg-13.0.0-0-gd7b669b3a303)'
    gccosandvers=''
    intsize=4
    longsize=8
    ptrsize=8
    doublesize=8
    byteorder=12345678
    doublekind=3
    d_longlong=define
    longlongsize=8
    d_longdbl=define
    longdblsize=16
    longdblkind=3
    ivtype='long'
    ivsize=8
    nvtype='double'
    nvsize=8
    Off_t='off_t'
    lseeksize=8
    alignbytes=8
    prototype=define
  Linker and Libraries:
    ld='cc'
    ldflags ='-pthread -Wl,-E  -fstack-protector-strong -L/usr/local/lib'
    libpth=/usr/lib /usr/local/lib /usr/lib/clang/13.0.0/lib
    libs=-lpthread -lgdbm -ldl -lm -lcrypt
    perllibs=-lpthread -ldl -lm -lcrypt
    libc=
    so=so
    useshrplib=false
    libperl=libperl.a
    gnulibc_version=''
  Dynamic Linking:
    dlsrc=dl_dlopen.xs
    dlext=so
    d_dlsymun=undef
    ccdlflags=' '
    cccdlflags='-DPIC -fPIC'
    lddlflags='-shared  -L/usr/local/lib -fstack-protector-strong'


Characteristics of this binary (from libperl): 
  Compile-time options:
    HAS_LONG_DOUBLE
    HAS_STRTOLD
    HAS_TIMES
    MULTIPLICITY
    PERLIO_LAYERS
    PERL_COPY_ON_WRITE
    PERL_DONT_CREATE_GVSV
    PERL_HASH_FUNC_SIPHASH13
    PERL_HASH_USE_SBOX32
    PERL_MALLOC_WRAP
    PERL_OP_PARENT
    PERL_PRESERVE_IVUV
    PERL_USE_DEVEL
    PERL_USE_SAFE_PUTENV
    USE_64_BIT_ALL
    USE_64_BIT_INT
    USE_ITHREADS
    USE_LARGE_FILES
    USE_LOCALE
    USE_LOCALE_COLLATE
    USE_LOCALE_CTYPE
    USE_LOCALE_NUMERIC
    USE_LOCALE_TIME
    USE_PERLIO
    USE_PERL_ATOF
    USE_REENTRANT_API
    USE_THREAD_SAFE_LOCALE
  Built under midnightbsd
  Compiled at May 12 2025 02:54:13
  %ENV:
    PERL5LIB=""
    PERL5OPT=""
    PERL5_CPANPLUS_IS_RUNNING="73733"
    PERL5_CPAN_IS_RUNNING="73733"
    PERL_MM_USE_DEFAULT="1"
    PERL_USE_UNSAFE_INC="1"
  @INC:
    /home/cpan/bin/perl/lib/site_perl/5.41.13/amd64-midnightbsd-thread-multi
    /home/cpan/bin/perl/lib/site_perl/5.41.13
    /home/cpan/bin/perl/lib/5.41.13/amd64-midnightbsd-thread-multi
    /home/cpan/bin/perl/lib/5.41.13
    .