Report for ExtUtils-Depends-0.402

Back
From: metabase:user:e7b3d300-37b2-11e1-8492-b07eb89c7f72
Subject: PASS ExtUtils-Depends-0.402 v5.20.1 GNU/Linux
Date: 2014-11-21T05:10:50Z

This distribution has been tested as part of the CPAN Testers
project, supporting the Perl programming language.  See
http://wiki.cpantesters.org/ for more information or email
questions to cpan-testers-discuss@perl.org


--
Dear XAOC,

This is a computer-generated report for ExtUtils-Depends-0.402
on perl 5.20.1, created by App::cpanminus::reporter 0.11 (1.6102).

Thank you for uploading your work to CPAN.  Congratulations!
All tests were successful.

Sections of this report:

    * Tester comments
    * Program output
    * Prerequisites
    * Environment and other context

------------------------------
TESTER COMMENTS
------------------------------

Additional comments from tester:

none provided

------------------------------
PROGRAM OUTPUT
------------------------------

Output from '':

Building and testing ExtUtils-Depends-0.402
cp lib/ExtUtils/Depends.pm blib/lib/ExtUtils/Depends.pm
Manifying 1 pod document
PERL_DL_NONLAZY=1 "/home/len/perl5/perlbrew/perls/perl-5.20.1/bin/perl" "-MExtUtils::Command::MM" "-MTest::Harness" "-e" "undef *Test::Harness::Switches; test_harness(0, 'blib/lib', 'blib/arch')" t/*.t
t/01_load.t ........ ok
t/02_save_load.t ... ok
t/03_deps.t ........ ok
t/04_extra_libs.t .. skipped: test only for 'MSWin32', 'cygwin', and 'android'
All tests successful.
Files=4, Tests=41,  0 wallclock secs ( 0.03 usr  0.00 sys +  0.23 cusr  0.01 csys =  0.27 CPU)
Result: PASS

------------------------------
PREREQUISITES
------------------------------

Prerequisite modules loaded:

    No requirements found

------------------------------
ENVIRONMENT AND OTHER CONTEXT
------------------------------

Environment variables:

    LANG = en_US.utf8
    PATH = /home/len/perl5/perlbrew/bin:/home/len/perl5/perlbrew/perls/perl-5.20.1/bin:/usr/local/rvm/gems/ruby-2.1.5/bin:/usr/local/rvm/gems/ruby-2.1.5@global/bin:/usr/local/rvm/rubies/ruby-2.1.5/bin:/home/len/bin:/usr/local/bin:/usr/bin:/bin:/usr/local/games:/usr/games:/usr/local/rvm/bin
    PERLBREW_BASHRC_VERSION = 0.67
    PERLBREW_HOME = /home/len/.perlbrew
    PERLBREW_MANPATH = /home/len/perl5/perlbrew/perls/perl-5.20.1/man
    PERLBREW_PATH = /home/len/perl5/perlbrew/bin:/home/len/perl5/perlbrew/perls/perl-5.20.1/bin
    PERLBREW_PERL = perl-5.20.1
    PERLBREW_ROOT = /home/len/perl5/perlbrew
    PERLBREW_VERSION = 0.67
    SHELL = /bin/bash
    TERM = xterm

Perl special variables (and OS-specific diagnostics, for MSWin32):

    EGID = 1000 24 25 27 29 30 44 46 108 109 115 1000 1003
    EUID = 1000
    EXECUTABLE_NAME = /home/len/perl5/perlbrew/perls/perl-5.20.1/bin/perl
    GID = 1000 24 25 27 29 30 44 46 108 109 115 1000 1003
    UID = 1000

Perl module toolchain versions installed:

    Module              Have    
    ------------------- --------
    CPAN                2.05    
    CPAN::Meta          2.143240
    Cwd                 3.48    
    ExtUtils::CBuilder  0.280220
    ExtUtils::Command   1.18    
    ExtUtils::Install   2.04    
    ExtUtils::MakeMaker 7.02    
    ExtUtils::Manifest  1.69    
    ExtUtils::ParseXS   3.24    
    File::Spec          3.48    
    JSON                2.90    
    JSON::PP            2.27300 
    Module::Build       0.4210  
    Module::Signature   n/a     
    Parse::CPAN::Meta   1.4414  
    Test::Harness       3.34    
    Test::More          1.001009
    YAML                1.13    
    YAML::Syck          n/a     
    version             0.9909  


--

Summary of my perl5 (revision 5 version 20 subversion 1) configuration:
   
  Platform:
    osname=linux, osvers=2.6.32-5-686, archname=i686-linux
    uname='linux grover 2.6.32-5-686 #1 smp tue may 13 16:33:32 utc 2014 i686 gnulinux '
    config_args='-de -Dprefix=/home/len/perl5/perlbrew/perls/perl-5.20.1 -Aeval:scriptdir=/home/len/perl5/perlbrew/perls/perl-5.20.1/bin'
    hint=recommended, useposix=true, d_sigaction=define
    useithreads=undef, usemultiplicity=undef
    use64bitint=undef, use64bitall=undef, uselongdouble=undef
    usemymalloc=n, bincompat5005=undef
  Compiler:
    cc='cc', ccflags ='-fwrapv -fno-strict-aliasing -pipe -fstack-protector -I/usr/local/include -D_LARGEFILE_SOURCE -D_FILE_OFFSET_BITS=64',
    optimize='-O2',
    cppflags='-fwrapv -fno-strict-aliasing -pipe -fstack-protector -I/usr/local/include'
    ccversion='', gccversion='4.4.5', gccosandvers=''
    intsize=4, longsize=4, ptrsize=4, doublesize=8, byteorder=1234
    d_longlong=define, longlongsize=8, d_longdbl=define, longdblsize=12
    ivtype='long', ivsize=4, nvtype='double', nvsize=8, Off_t='off_t', lseeksize=8
    alignbytes=4, prototype=define
  Linker and Libraries:
    ld='cc', ldflags =' -fstack-protector -L/usr/local/lib'
    libpth=/usr/local/lib /usr/lib/gcc/i486-linux-gnu/4.4.5/include-fixed /usr/include/i486-linux-gnu /usr/lib /lib/../lib /usr/lib/../lib /lib /usr/lib/i486-linux-gnu /usr/lib64
    libs=-lnsl -lgdbm -ldl -lm -lcrypt -lutil -lc -lgdbm_compat
    perllibs=-lnsl -ldl -lm -lcrypt -lutil -lc
    libc=/lib/libc-2.11.3.so, so=so, useshrplib=false, libperl=libperl.a
    gnulibc_version='2.11.3'
  Dynamic Linking:
    dlsrc=dl_dlopen.xs, dlext=so, d_dlsymun=undef, ccdlflags='-Wl,-E'
    cccdlflags='-fPIC', lddlflags='-shared -O2 -L/usr/local/lib -fstack-protector'


Characteristics of this binary (from libperl): 
  Compile-time options: HAS_TIMES PERLIO_LAYERS PERL_DONT_CREATE_GVSV
                        PERL_HASH_FUNC_ONE_AT_A_TIME_HARD PERL_MALLOC_WRAP
                        PERL_NEW_COPY_ON_WRITE PERL_PRESERVE_IVUV
                        USE_LARGE_FILES USE_LOCALE USE_LOCALE_COLLATE
                        USE_LOCALE_CTYPE USE_LOCALE_NUMERIC USE_PERLIO
                        USE_PERL_ATOF
  Built under linux
  Compiled at Sep 29 2014 23:51:02
  %ENV:
    PERLBREW_BASHRC_VERSION="0.67"
    PERLBREW_HOME="/home/len/.perlbrew"
    PERLBREW_MANPATH="/home/len/perl5/perlbrew/perls/perl-5.20.1/man"
    PERLBREW_PATH="/home/len/perl5/perlbrew/bin:/home/len/perl5/perlbrew/perls/perl-5.20.1/bin"
    PERLBREW_PERL="perl-5.20.1"
    PERLBREW_ROOT="/home/len/perl5/perlbrew"
    PERLBREW_VERSION="0.67"
  @INC:
    /home/len/perl5/perlbrew/perls/perl-5.20.1/lib/site_perl/5.20.1/i686-linux
    /home/len/perl5/perlbrew/perls/perl-5.20.1/lib/site_perl/5.20.1
    /home/len/perl5/perlbrew/perls/perl-5.20.1/lib/5.20.1/i686-linux
    /home/len/perl5/perlbrew/perls/perl-5.20.1/lib/5.20.1
    .