Business-PayPal-API v0.77 Perl 5 v5.24.1 x86_64-linux
- Status
- Pass
- From
- Slaven Rezić (SREZIC)
- Dist
-
Business-PayPal-API v0.77
- Platform
- Perl 5 v5.24.1 x86_64-linux
- Date
- 2017-11-13 18:09:15
- ID
- c27aa1ea-c89d-11e7-9786-b21738ff84fa
This distribution has been tested as part of the CPAN Testers
project, supporting the Perl programming language. See
http://wiki.cpantesters.org/ for more information or email
questions to cpan-testers-discuss@perl.org
--
Dear Olaf Alders,
This is a computer-generated report for Business-PayPal-API-0.77
on perl 5.24.1, created by CPAN-Reporter-1.2018.
Thank you for uploading your work to CPAN. Congratulations!
All tests were successful.
Sections of this report:
* Tester comments
* Program output
* Prerequisites
* Environment and other context
------------------------------
TESTER COMMENTS
------------------------------
Additional comments from tester:
none provided
------------------------------
PROGRAM OUTPUT
------------------------------
Output from '/usr/bin/make test':
PERL_DL_NONLAZY=1 "/opt/perl-5.24.1/bin/perl5.24.1" "-MExtUtils::Command::MM" "-MTest::Harness" "-e" "undef *Test::Harness::Switches; test_harness(0, 'blib/lib', 'blib/arch')" t/*.t t/advanced/*.t t/basic/*.t
#
# Versions for all modules listed in MYMETA.json (including optional ones):
#
# === Configure Requires ===
#
# Module Want Have
# ------------------- ---- ----
# ExtUtils::MakeMaker any 7.30
#
# === Build Requires ===
#
# Module Want Have
# ------------------- ---- ----
# ExtUtils::MakeMaker any 7.30
#
# === Test Requires ===
#
# Module Want Have
# ------------------- ---- --------
# Cwd any 3.63_01
# ExtUtils::MakeMaker any 7.30
# File::Spec any 3.63_01
# List::AllUtils any 0.14
# Test::More any 1.302106
# Test::Most any 0.35
# autodie any 2.29
#
# === Test Recommends ===
#
# Module Want Have
# ---------- -------- --------
# CPAN::Meta 2.120900 2.150010
#
# === Runtime Requires ===
#
# Module Want Have
# ------------- ---- ----
# Carp any 1.40
# Data::Printer any 0.40
# SOAP::Lite 0.67 1.20
# strict any 1.11
# warnings any 1.36
#
t/00-report-prereqs.t ............... ok
t/advanced/ExpressCheckout.t ........ skipped: No WPP_TEST env var set. Please see README to run tests
t/advanced/ExpressOrder.t ........... skipped: No WPP_TEST env var set. Please see README to run tests
t/advanced/GetTransactionDetails.t .. skipped: No WPP_TEST env var set. Please see README to run tests
t/advanced/OptionFields.t ........... skipped: No WPP_TEST env var set. Please see README to run tests
t/advanced/RefundTransaction.t ...... skipped: No WPP_TEST env var set. Please see README to run tests
t/advanced/TransactionSearch.t ...... skipped: No WPP_TEST env var set. Please see README to run tests
t/basic/Business-PayPal-API.t ....... ok
t/basic/DirectPayments.t ............ skipped: No WPP_TEST env var set. Please see README to run tests
t/basic/MassPay.t ................... skipped: No WPP_TEST env var set. Please see README to run tests
t/basic/RecurringPayments.t ......... skipped: No WPP_TEST env var set. Please see README to run tests
Name "main::SUBSCRIPTION_PAY_HTML" used only once: possible typo at t/basic/SubscriptionPayments.t line 62.
t/basic/SubscriptionPayments.t ...... skipped: No WPP_TEST env var set. Please see README to run tests
All tests successful.
Files=12, Tests=2, 1 wallclock secs ( 0.02 usr 0.04 sys + 0.53 cusr 0.05 csys = 0.64 CPU)
Result: PASS
------------------------------
PREREQUISITES
------------------------------
Prerequisite modules loaded:
requires:
Module Need Have
------------------- -------- --------
Carp 0 1.40
Data::Printer 0 0.40
perl 5.008001 5.024001
SOAP::Lite 0.67 1.20
strict 0 1.11
warnings 0 1.36
build_requires:
Module Need Have
------------------- -------- --------
autodie 0 2.29
Cwd 0 3.63_01
ExtUtils::MakeMaker 0 7.30
File::Spec 0 3.63_01
List::AllUtils 0 0.14
Test::More 0 1.302106
Test::Most 0 0.35
configure_requires:
Module Need Have
------------------- -------- --------
ExtUtils::MakeMaker 0 7.30
perl 5.008001 5.024001
opt_build_requires:
Module Need Have
------------------- -------- --------
CPAN::Meta 2.120900 2.150010
------------------------------
ENVIRONMENT AND OTHER CONTEXT
------------------------------
Environment variables:
LANG = C
PATH = /usr/local/bin:/usr/bin:/bin:/usr/local/sbin:/usr/sbin:/sbin:/home/cpansand/bin/linux-gnu:/home/cpansand/bin/sh:/home/cpansand/bin:/usr/games:/home/cpansand/devel:/home/eserte/src/srezic-misc/scripts
PERL5LIB = /home/cpansand/.cpan/build/2017111315/AnyEvent-ProcessPool-0.04-4/blib/arch:/home/cpansand/.cpan/build/2017111315/AnyEvent-ProcessPool-0.04-4/blib/lib
PERL5OPT =
PERL5_CPANPLUS_IS_RUNNING = 24934
PERL5_CPAN_IS_RUNNING = 24934
PERL5_CPAN_IS_RUNNING_IN_RECURSION = 24838,24934
PERLDOC = -MPod::Perldoc::ToTextOverstrike
PERL_BATCH = yes
PERL_CANARY_STABILITY_NOPROMPT = 1
PERL_CPAN_REPORTER_CONFIG = /var/tmp/cpansmoker-1023/2017111315/cpanreporter_000_config.ini
PERL_EXTUTILS_AUTOINSTALL = --defaultdeps
PERL_USE_UNSAFE_INC = 1
SHELL = /usr/bin/zsh
TERM = screen
TMPDIR = /var/tmp/cpansmoker-1023/2017111315
Perl special variables (and OS-specific diagnostics, for MSWin32):
$^X = /opt/perl-5.24.1/bin/perl5.24.1
$UID/$EUID = 1023 / 1023
$GID = 1023 1023
$EGID = 1023 1023
Perl module toolchain versions installed:
Module Have
------------------- --------
CPAN 2.16
CPAN::Meta 2.150010
Cwd 3.63_01
ExtUtils::CBuilder 0.280226
ExtUtils::Command 7.30
ExtUtils::Install 2.06
ExtUtils::MakeMaker 7.30
ExtUtils::Manifest 1.70
ExtUtils::ParseXS 3.31
File::Spec 3.63_01
JSON 2.94
JSON::PP 2.94
Module::Build 0.4224
Module::Signature 0.81
Parse::CPAN::Meta 2.150010
Test::Harness 3.39
Test::More 1.302106
YAML 1.24
YAML::Syck 1.30
version 0.9916
--
Summary of my perl5 (revision 5 version 24 subversion 1) configuration:
Platform:
osname=linux, osvers=4.9.0-3-amd64, archname=x86_64-linux
uname='linux debian9 4.9.0-3-amd64 #1 smp debian 4.9.30-2+deb9u1 (2017-06-18) x86_64 gnulinux '
config_args='-ds -e -Dprefix=/opt/perl-5.24.1 -Dcf_email=srezic@cpan.org'
hint=recommended, useposix=true, d_sigaction=define
useithreads=undef, usemultiplicity=undef
use64bitint=define, use64bitall=define, uselongdouble=undef
usemymalloc=n, bincompat5005=undef
Compiler:
cc='cc', ccflags ='-fwrapv -fno-strict-aliasing -pipe -fstack-protector-strong -I/usr/local/include -D_LARGEFILE_SOURCE -D_FILE_OFFSET_BITS=64',
optimize='-O2',
cppflags='-fwrapv -fno-strict-aliasing -pipe -fstack-protector-strong -I/usr/local/include'
ccversion='', gccversion='6.3.0 20170516', gccosandvers=''
intsize=4, longsize=8, ptrsize=8, doublesize=8, byteorder=12345678, doublekind=3
d_longlong=define, longlongsize=8, d_longdbl=define, longdblsize=16, longdblkind=3
ivtype='long', ivsize=8, nvtype='double', nvsize=8, Off_t='off_t', lseeksize=8
alignbytes=8, prototype=define
Linker and Libraries:
ld='cc', ldflags =' -fstack-protector-strong -L/usr/local/lib'
libpth=/usr/local/lib /usr/lib/gcc/x86_64-linux-gnu/6/include-fixed /usr/include/x86_64-linux-gnu /usr/lib /lib/x86_64-linux-gnu /lib/../lib /usr/lib/x86_64-linux-gnu /usr/lib/../lib /lib
libs=-lpthread -lnsl -lgdbm -ldb -ldl -lm -lcrypt -lutil -lc -lgdbm_compat
perllibs=-lpthread -lnsl -ldl -lm -lcrypt -lutil -lc
libc=libc-2.24.so, so=so, useshrplib=false, libperl=libperl.a
gnulibc_version='2.24'
Dynamic Linking:
dlsrc=dl_dlopen.xs, dlext=so, d_dlsymun=undef, ccdlflags='-Wl,-E'
cccdlflags='-fPIC', lddlflags='-shared -O2 -L/usr/local/lib -fstack-protector-strong'
Characteristics of this binary (from libperl):
Compile-time options: HAS_TIMES PERLIO_LAYERS PERL_COPY_ON_WRITE
PERL_DONT_CREATE_GVSV
PERL_HASH_FUNC_ONE_AT_A_TIME_HARD PERL_MALLOC_WRAP
PERL_PRESERVE_IVUV USE_64_BIT_ALL USE_64_BIT_INT
USE_LARGE_FILES USE_LOCALE USE_LOCALE_COLLATE
USE_LOCALE_CTYPE USE_LOCALE_NUMERIC USE_LOCALE_TIME
USE_PERLIO USE_PERL_ATOF
Built under linux
Compiled at Jun 23 2017 20:31:37
%ENV:
PERL5LIB="/home/cpansand/.cpan/build/2017111315/AnyEvent-ProcessPool-0.04-4/blib/arch:/home/cpansand/.cpan/build/2017111315/AnyEvent-ProcessPool-0.04-4/blib/lib"
PERL5OPT=""
PERL5_CPANPLUS_IS_RUNNING="24934"
PERL5_CPAN_IS_RUNNING="24934"
PERL5_CPAN_IS_RUNNING_IN_RECURSION="24838,24934"
PERLDOC="-MPod::Perldoc::ToTextOverstrike"
PERL_BATCH="yes"
PERL_CANARY_STABILITY_NOPROMPT="1"
PERL_CPAN_REPORTER_CONFIG="/var/tmp/cpansmoker-1023/2017111315/cpanreporter_000_config.ini"
PERL_EXTUTILS_AUTOINSTALL="--defaultdeps"
PERL_USE_UNSAFE_INC="1"
@INC:
/home/cpansand/.cpan/build/2017111315/AnyEvent-ProcessPool-0.04-4/blib/arch
/home/cpansand/.cpan/build/2017111315/AnyEvent-ProcessPool-0.04-4/blib/lib
/opt/perl-5.24.1/lib/site_perl/5.24.1/x86_64-linux
/opt/perl-5.24.1/lib/site_perl/5.24.1
/opt/perl-5.24.1/lib/5.24.1/x86_64-linux
/opt/perl-5.24.1/lib/5.24.1
.