Proc-ProcessTable-Match v0.0.1 Perl 5 v5.18.2 MSWin32-x86-multi-thread

Status
Pass
From
Alexandr Ciornii (CHORNY)
Dist
Proc-ProcessTable-Match v0.0.1
Platform
Perl 5 v5.18.2 MSWin32-x86-multi-thread
Date
2019-10-29 18:15:05
ID
c24f2726-6c0a-1014-a49a-40e2208bb38c
This distribution has been tested as part of the CPAN Testers
project, supporting the Perl programming language.  See
http://wiki.cpantesters.org/ for more information or email
questions to cpan-testers-discuss@perl.org


--
Dear Zane C. Bowers-Hadley,

This is a computer-generated report for Proc-ProcessTable-Match-0.0.1
on perl 5.18.2, created by CPAN-Reporter-1.2018.

Thank you for uploading your work to CPAN.  Congratulations!
All tests were successful.

Sections of this report:

    * Tester comments
    * Program output
    * Prerequisites
    * Environment and other context

------------------------------
TESTER COMMENTS
------------------------------

Additional comments from tester:

this report is from an automated smoke testing program
and was not reviewed by a human for accuracy

------------------------------
PROGRAM OUTPUT
------------------------------

Output from 'C:\strawberry182\c\bin\dmake.exe test':

C:\strawberry182\perl\bin\perl.exe "-MExtUtils::Command::MM" "-MTest::Harness" "-e" "undef *Test::Harness::Switches; test_harness(0, 'blib\lib', 'blib\arch')" t/*.t
# Testing Proc::ProcessTable::Match 0.0.1, Perl 5.018002, C:\strawberry182\perl\bin\perl.exe
t/00-load.t ....... ok
# Testing Proc::ProcessTable::Match::Cmndline 0.0.0, Perl 5.018002, C:\strawberry182\perl\bin\perl.exe
t/01-load.t ....... ok
# Testing Proc::ProcessTable::Match::Command 0.0.0, Perl 5.018002, C:\strawberry182\perl\bin\perl.exe
t/02-load.t ....... ok
# Testing Proc::ProcessTable::Match::EGID 0.0.0, Perl 5.018002, C:\strawberry182\perl\bin\perl.exe
t/03-load.t ....... ok
# Testing Proc::ProcessTable::Match::EGIDset 0.0.0, Perl 5.018002, C:\strawberry182\perl\bin\perl.exe
t/04-load.t ....... ok
# Testing Proc::ProcessTable::Match::EUID 0.0.0, Perl 5.018002, C:\strawberry182\perl\bin\perl.exe
t/05-load.t ....... ok
# Testing Proc::ProcessTable::Match::EUIDset 0.0.0, Perl 5.018002, C:\strawberry182\perl\bin\perl.exe
t/06-load.t ....... ok
# Testing Proc::ProcessTable::Match::Fname 0.0.0, Perl 5.018002, C:\strawberry182\perl\bin\perl.exe
t/07-load.t ....... ok
# Testing Proc::ProcessTable::Match::GID 0.0.0, Perl 5.018002, C:\strawberry182\perl\bin\perl.exe
t/08-load.t ....... ok
# Testing Proc::ProcessTable::Match::Idle 0.0.0, Perl 5.018002, C:\strawberry182\perl\bin\perl.exe
t/09-load.t ....... ok
# Testing Proc::ProcessTable::Match::JID 0.0.0, Perl 5.018002, C:\strawberry182\perl\bin\perl.exe
t/10-load.t ....... ok
# Testing Proc::ProcessTable::Match::KernProc 0.0.0, Perl 5.018002, C:\strawberry182\perl\bin\perl.exe
t/11-load.t ....... ok
# Testing Proc::ProcessTable::Match::PID 0.0.0, Perl 5.018002, C:\strawberry182\perl\bin\perl.exe
t/12-load.t ....... ok
# Testing Proc::ProcessTable::Match::PctCPU 0.0.0, Perl 5.018002, C:\strawberry182\perl\bin\perl.exe
t/13-load.t ....... ok
# Testing Proc::ProcessTable::Match::PctMem 0.0.0, Perl 5.018002, C:\strawberry182\perl\bin\perl.exe
t/14-load.t ....... ok
# Testing Proc::ProcessTable::Match::Priority 0.0.0, Perl 5.018002, C:\strawberry182\perl\bin\perl.exe
t/15-load.t ....... ok
# Testing Proc::ProcessTable::Match::RSS 0.0.0, Perl 5.018002, C:\strawberry182\perl\bin\perl.exe
t/16-load.t ....... ok
# Testing Proc::ProcessTable::Match::Size 0.0.0, Perl 5.018002, C:\strawberry182\perl\bin\perl.exe
t/17-load.t ....... ok
# Testing Proc::ProcessTable::Match::Start 0.0.0, Perl 5.018002, C:\strawberry182\perl\bin\perl.exe
t/18-load.t ....... ok
# Testing Proc::ProcessTable::Match::State 0.0.0, Perl 5.018002, C:\strawberry182\perl\bin\perl.exe
t/19-load.t ....... ok
# Testing Proc::ProcessTable::Match::Swapped 0.0.0, Perl 5.018002, C:\strawberry182\perl\bin\perl.exe
t/20-load.t ....... ok
# Testing Proc::ProcessTable::Match::Time 0.0.1, Perl 5.018002, C:\strawberry182\perl\bin\perl.exe
t/21-load.t ....... ok
# Testing Proc::ProcessTable::Match::UID 0.0.0, Perl 5.018002, C:\strawberry182\perl\bin\perl.exe
t/22-load.t ....... ok
# Testing Proc::ProcessTable::Match::WChan 0.0.0, Perl 5.018002, C:\strawberry182\perl\bin\perl.exe
t/23-load.t ....... ok
t/manifest.t ...... skipped: Author tests not required for installation
t/pod-coverage.t .. skipped: Author tests not required for installation
t/pod.t ........... skipped: Author tests not required for installation
All tests successful.
Files=27, Tests=24,  4 wallclock secs ( 0.13 usr +  0.14 sys =  0.27 CPU)
Result: PASS

------------------------------
PREREQUISITES
------------------------------

Prerequisite modules loaded:

requires:

    Module              Need  Have    
    ------------------- ----- --------
    perl                5.006 5.018002
    Proc::ProcessTable  0.59  0.59    

build_requires:

    Module              Need  Have    
    ------------------- ----- --------
    ExtUtils::MakeMaker 0     6.84    
    Test::More          0     1.001002


------------------------------
ENVIRONMENT AND OTHER CONTEXT
------------------------------

Environment variables:

    AUTOMATED_TESTING = 1
    COMSPEC = C:\WINDOWS\system32\cmd.exe
    NUMBER_OF_PROCESSORS = 1
    PATH = C:\WINDOWS\system32;C:\WINDOWS;C:\WINDOWS\System32\Wbem;C:\strawberry182\c\bin;C:\strawberry182\perl\site\bin;C:\strawberry182\perl\bin
    PERL5LIB = C:\strawberry182\cpan\build\Proc-ProcessTable-InfoString-0.0.1-0/blib/arch;C:\strawberry182\cpan\build\Proc-ProcessTable-InfoString-0.0.1-0/blib/lib;C:\strawberry182\cpan\build\Term-ANSIColor-4.06-0/blib/arch;C:\strawberry182\cpan\build\Term-ANSIColor-4.06-0/blib/lib;C:\strawberry182\cpan\build\Proc-ProcessTable-0.59-0/blib/arch;C:\strawberry182\cpan\build\Proc-ProcessTable-0.59-0/blib/lib;C:\strawberry182\cpan\build\Data-Unixish-1.570-0/blib/arch;C:\strawberry182\cpan\build\Data-Unixish-1.570-0/blib/lib;C:\strawberry182\cpan\build\Text-ANSI-WideUtil-0.22-0/blib/arch;C:\strawberry182\cpan\build\Text-ANSI-WideUtil-0.22-0/blib/lib;C:\strawberry182\cpan\build\Text-ANSI-Util-0.230-0/blib/arch;C:\strawberry182\cpan\build\Text-ANSI-Util-0.230-0/blib/lib;C:\strawberry182\cpan\build\String-Pad-0.020-0/blib/arch;C:\strawberry182\cpan\build\String-Pad-0.020-0/blib/lib;C:\strawberry182\cpan\build\Sort-Sub-0.110-0/blib/arch;C:\strawberry182\cpan\build\Sort-Sub-0.110-0/blib/lib;C:\strawberry182\cpan\build\Package-Util-Lite-0.001-0/blib/arch;C:\strawberry182\cpan\build\Package-Util-Lite-0.001-0/blib/lib;C:\strawberry182\cpan\build\Number-Format-Metric-0.60-0/blib/arch;C:\strawberry182\cpan\build\Number-Format-Metric-0.60-0/blib/lib;C:\strawberry182\cpan\build\Number-Format-1.75-1/blib/arch;C:\strawberry182\cpan\build\Number-Format-1.75-1/blib/lib
    PERL5OPT = 
    PERL5_CPANPLUS_IS_RUNNING = 1176
    PERL5_CPAN_IS_RUNNING = 1176
    PERL5_CPAN_IS_RUNNING_IN_RECURSION = 1812,1176
    PERL_CR_SMOKER_CURRENT = Proc-ProcessTable-ncps-0.1.0
    PERL_CR_SMOKER_RUNONCE = 1
    PERL_EXTUTILS_AUTOINSTALL = --defaultdeps
    PERL_HASH_SEED = 0x11111111
    PERL_MM_USE_DEFAULT = 1
    PROCESSOR_IDENTIFIER = x86 Family 18 Model 1 Stepping 0, AuthenticAMD
    TEMP = C:\DOCUME~1\c\LOCALS~1\Temp
    TERM = dumb

Perl special variables (and OS-specific diagnostics, for MSWin32):

    $^X = C:\strawberry182\perl\bin\perl.exe
    $UID/$EUID = 0 / 0
    $GID = 0
    $EGID = 0
    Win32::GetOSName = WinXP/.Net
    Win32::GetOSVersion = Service Pack 3, 5, 1, 2600, 2, 3, 0, 256, 1
    Win32::FsType = NTFS
    Win32::IsAdminUser = 1

Perl module toolchain versions installed:

    Module              Have    
    ------------------- --------
    CPAN                2.16    
    CPAN::Meta          2.133380
    Cwd                 3.40    
    ExtUtils::CBuilder  0.280212
    ExtUtils::Command   1.18    
    ExtUtils::Install   1.59    
    ExtUtils::MakeMaker 6.84    
    ExtUtils::Manifest  1.63    
    ExtUtils::ParseXS   3.22    
    File::Spec          3.40    
    JSON                2.90    
    JSON::PP            2.27203 
    Module::Build       0.4203  
    Module::Signature   n/a     
    Parse::CPAN::Meta   1.4414  
    Test::Harness       3.30    
    Test::More          1.001002
    YAML                0.90    
    YAML::Syck          1.27    
    version             0.9904  


--

Summary of my perl5 (revision 5 version 18 subversion 2) configuration:
   
  Platform:
    osname=MSWin32, osvers=6.2, archname=MSWin32-x86-multi-thread
    uname='Win32 strawberry-perl-no64 5.18.2.1 #1 Tue Jan  7 19:43:33 2014 i386'
    config_args='undef'
    hint=recommended, useposix=true, d_sigaction=undef
    useithreads=define, usemultiplicity=define
    useperlio=define, d_sfio=undef, uselargefiles=define, usesocks=undef
    use64bitint=undef, use64bitall=undef, uselongdouble=undef
    usemymalloc=n, bincompat5005=undef
  Compiler:
    cc='gcc', ccflags =' -s -O2 -DWIN32  -DPERL_TEXTMODE_SCRIPTS -DPERL_IMPLICIT_CONTEXT -DPERL_IMPLICIT_SYS -DUSE_PERLIO -fno-strict-aliasing -mms-bitfields',
    optimize='-s -O2',
    cppflags='-DWIN32'
    ccversion='', gccversion='4.7.3', gccosandvers=''
    intsize=4, longsize=4, ptrsize=4, doublesize=8, byteorder=1234
    d_longlong=define, longlongsize=8, d_longdbl=define, longdblsize=12
    ivtype='long', ivsize=4, nvtype='double', nvsize=8, Off_t='long long', lseeksize=8
    alignbytes=8, prototype=define
  Linker and Libraries:
    ld='g++', ldflags ='-s -L"C:\strawberry182\perl\lib\CORE" -L"C:\strawberry182\c\lib"'
    libpth=C:\strawberry182\c\lib C:\strawberry182\c\i686-w64-mingw32\lib C:\strawberry182\c\lib\gcc\i686-w64-mingw32\4.7.3
    libs=-lmoldname -lkernel32 -luser32 -lgdi32 -lwinspool -lcomdlg32 -ladvapi32 -lshell32 -lole32 -loleaut32 -lnetapi32 -luuid -lws2_32 -lmpr -lwinmm -lversion -lodbc32 -lodbccp32 -lcomctl32
    perllibs=-lmoldname -lkernel32 -luser32 -lgdi32 -lwinspool -lcomdlg32 -ladvapi32 -lshell32 -lole32 -loleaut32 -lnetapi32 -luuid -lws2_32 -lmpr -lwinmm -lversion -lodbc32 -lodbccp32 -lcomctl32
    libc=, so=dll, useshrplib=true, libperl=libperl518.a
    gnulibc_version=''
  Dynamic Linking:
    dlsrc=dl_win32.xs, dlext=dll, d_dlsymun=undef, ccdlflags=' '
    cccdlflags=' ', lddlflags='-mdll -s -L"C:\strawberry182\perl\lib\CORE" -L"C:\strawberry182\c\lib"'


Characteristics of this binary (from libperl): 
  Compile-time options: HAS_TIMES HAVE_INTERP_INTERN MULTIPLICITY
                        PERLIO_LAYERS PERL_DONT_CREATE_GVSV
                        PERL_HASH_FUNC_ONE_AT_A_TIME_HARD
                        PERL_IMPLICIT_CONTEXT PERL_IMPLICIT_SYS
                        PERL_MALLOC_WRAP PERL_PRESERVE_IVUV PERL_SAWAMPERSAND
                        USE_ITHREADS USE_LARGE_FILES USE_LOCALE
                        USE_LOCALE_COLLATE USE_LOCALE_CTYPE
                        USE_LOCALE_NUMERIC USE_PERLIO USE_PERL_ATOF
  Built under MSWin32
  Compiled at Jan  7 2014 19:51:54
  %ENV:
    PERL5LIB="C:\strawberry182\cpan\build\Proc-ProcessTable-InfoString-0.0.1-0/blib/arch;C:\strawberry182\cpan\build\Proc-ProcessTable-InfoString-0.0.1-0/blib/lib;C:\strawberry182\cpan\build\Term-ANSIColor-4.06-0/blib/arch;C:\strawberry182\cpan\build\Term-ANSIColor-4.06-0/blib/lib;C:\strawberry182\cpan\build\Proc-ProcessTable-0.59-0/blib/arch;C:\strawberry182\cpan\build\Proc-ProcessTable-0.59-0/blib/lib;C:\strawberry182\cpan\build\Data-Unixish-1.570-0/blib/arch;C:\strawberry182\cpan\build\Data-Unixish-1.570-0/blib/lib;C:\strawberry182\cpan\build\Text-ANSI-WideUtil-0.22-0/blib/arch;C:\strawberry182\cpan\build\Text-ANSI-WideUtil-0.22-0/blib/lib;C:\strawberry182\cpan\build\Text-ANSI-Util-0.230-0/blib/arch;C:\strawberry182\cpan\build\Text-ANSI-Util-0.230-0/blib/lib;C:\strawberry182\cpan\build\String-Pad-0.020-0/blib/arch;C:\strawberry182\cpan\build\String-Pad-0.020-0/blib/lib;C:\strawberry182\cpan\build\Sort-Sub-0.110-0/blib/arch;C:\strawberry182\cpan\build\Sort-Sub-0.110-0/blib/lib;C:\strawberry182\cpan\build\Package-Util-Lite-0.001-0/blib/arch;C:\strawberry182\cpan\build\Package-Util-Lite-0.001-0/blib/lib;C:\strawberry182\cpan\build\Number-Format-Metric-0.60-0/blib/arch;C:\strawberry182\cpan\build\Number-Format-Metric-0.60-0/blib/lib;C:\strawberry182\cpan\build\Number-Format-1.75-1/blib/arch;C:\strawberry182\cpan\build\Number-Format-1.75-1/blib/lib"
    PERL5_CPANPLUS_IS_RUNNING="1176"
    PERL5_CPAN_IS_RUNNING="1176"
    PERL5_CPAN_IS_RUNNING_IN_RECURSION="1812,1176"
    PERL_CR_SMOKER_CURRENT="Proc-ProcessTable-ncps-0.1.0"
    PERL_CR_SMOKER_RUNONCE="1"
    PERL_EXTUTILS_AUTOINSTALL="--defaultdeps"
    PERL_HASH_SEED="0x11111111"
    PERL_MM_USE_DEFAULT="1"
  @INC:
    C:\strawberry182\cpan\build\Proc-ProcessTable-InfoString-0.0.1-0/blib/arch
    C:\strawberry182\cpan\build\Proc-ProcessTable-InfoString-0.0.1-0/blib/lib
    C:\strawberry182\cpan\build\Term-ANSIColor-4.06-0/blib/arch
    C:\strawberry182\cpan\build\Term-ANSIColor-4.06-0/blib/lib
    C:\strawberry182\cpan\build\Proc-ProcessTable-0.59-0/blib/arch
    C:\strawberry182\cpan\build\Proc-ProcessTable-0.59-0/blib/lib
    C:\strawberry182\cpan\build\Data-Unixish-1.570-0/blib/arch
    C:\strawberry182\cpan\build\Data-Unixish-1.570-0/blib/lib
    C:\strawberry182\cpan\build\Text-ANSI-WideUtil-0.22-0/blib/arch
    C:\strawberry182\cpan\build\Text-ANSI-WideUtil-0.22-0/blib/lib
    C:\strawberry182\cpan\build\Text-ANSI-Util-0.230-0/blib/arch
    C:\strawberry182\cpan\build\Text-ANSI-Util-0.230-0/blib/lib
    C:\strawberry182\cpan\build\String-Pad-0.020-0/blib/arch
    C:\strawberry182\cpan\build\String-Pad-0.020-0/blib/lib
    C:\strawberry182\cpan\build\Sort-Sub-0.110-0/blib/arch
    C:\strawberry182\cpan\build\Sort-Sub-0.110-0/blib/lib
    C:\strawberry182\cpan\build\Package-Util-Lite-0.001-0/blib/arch
    C:\strawberry182\cpan\build\Package-Util-Lite-0.001-0/blib/lib
    C:\strawberry182\cpan\build\Number-Format-Metric-0.60-0/blib/arch
    C:\strawberry182\cpan\build\Number-Format-Metric-0.60-0/blib/lib
    C:\strawberry182\cpan\build\Number-Format-1.75-1/blib/arch
    C:\strawberry182\cpan\build\Number-Format-1.75-1/blib/lib
    C:/strawberry182/perl/site/lib
    C:/strawberry182/perl/vendor/lib
    C:/strawberry182/perl/lib
    .