Mail-Mbox-MessageParser v1.5111 Perl 5 v5.14.3 x86_64-gnukfreebsd-thread-multi
- Status
- Pass
- From
- Chris Williams (BINGOS)
- Dist
-
Mail-Mbox-MessageParser v1.5111
- Platform
- Perl 5 v5.14.3 x86_64-gnukfreebsd-thread-multi
- Date
- 2018-07-19 00:00:34
- ID
- c23b82ce-8ae6-11e8-98d5-bb14e5798fec
This distribution has been tested as part of the CPAN Testers
project, supporting the Perl programming language. See
http://wiki.cpantesters.org/ for more information or email
questions to cpan-testers-discuss@perl.org
--
Dear DCOPPIT,
This is a computer-generated error report created automatically by
CPANPLUS, version 0.9176. Testers personal comments may appear
at the end of this report.
Thank you for uploading your work to CPAN. Congratulations!
All tests were successful.
TEST RESULTS:
Below is the error stack from stage 'make test':
PERL_DL_NONLAZY=1 "/home/cpan/pit/thr/perl-5.14.3/bin/perl" "-MExtUtils::Command::MM" "-MTest::Harness" "-e" "undef *Test::Harness::Switches; test_harness(1, 'blib/lib', 'blib/arch')" t/*.t
t/000_standard__compile.t .......
1..6
ok 1 - Compile test for blib/lib/Mail/Mbox/MessageParser.pm
ok 2 - Compile test for blib/lib/Mail/Mbox/MessageParser/Perl.pm
ok 3 - Compile test for blib/lib/Mail/Mbox/MessageParser/Grep.pm
ok 4 - Compile test for blib/lib/Mail/Mbox/MessageParser/MetaInfo.pm
ok 5 - Compile test for blib/lib/Mail/Mbox/MessageParser/Cache.pm
ok 6 - Compile test for blib/lib/Mail/Mbox/MessageParser/Config.pm
ok
t/000_standard__perl_critic.t ... skipped: Author test. Set $ENV{TEST_AUTHOR} to a true value to run.
t/000_standard__pod.t ........... skipped: Test::Pod required for testing POD
t/000_standard__pod_coverage.t .. skipped: Test::Pod::Coverage required for testing POD coverage
t/appended_mailbox.t ............
1..6
Testing modified mailbox with Perl implementation
Comparing /tmp/1CmaPMJ7XF to t/mailboxes/mailarc-1.txt
Output /tmp/1CmaPMJ7XF looks good.
ok 1 - Computing differences
Testing modified mailbox with Cache implementation
Comparing /tmp/lZyXupbEmA to t/mailboxes/mailarc-1.txt
Output /tmp/lZyXupbEmA looks good.
ok 2 - Computing differences
Testing modified mailbox with Grep implementation
ok 3 # skip GNU grep not available
Testing modified mailbox with Perl implementation
Comparing /tmp/Ps88ytZCdG to t/mailboxes/mailarc-1.txt
Output /tmp/Ps88ytZCdG looks good.
ok 4 - Computing differences
Testing modified mailbox with Cache implementation
Comparing /tmp/iiB3t0i9YN to t/mailboxes/mailarc-1.txt
Output /tmp/iiB3t0i9YN looks good.
ok 5 - Computing differences
Testing modified mailbox with Grep implementation
ok 6 # skip GNU grep not available
ok
t/bzip2.t .......................
1..1
Running test:
"/bin/cat" "t/mailboxes/mailarc-2.txt.bz2" | "/bin/bzip2" -cd
Comparing /tmp/8cr1Q9pzwN to t/results/mailarc-2.txt
Output /tmp/8cr1Q9pzwN looks good.
Comparing /tmp/cNDKA9X2Fy to t/results/none
Output /tmp/cNDKA9X2Fy looks good.
ok 1 - Computing differences
ok
t/endline.t .....................
1..8
Testing filename: t/mailboxes/mailarc-1-dos.txt
ok 1 - Dos endline expected
ok 2 - Dos endline expected
ok 3 - Dos endline expected
ok 4 # skip GNU grep not available
Testing filename: t/mailboxes/mailarc-1.txt
ok 5 - Unix endline expected
ok 6 - Unix endline expected
ok 7 - Unix endline expected
ok 8 # skip GNU grep not available
ok
t/filehandle_compressed.t .......
1..16
Testing filename: t/mailboxes/mailarc-2.txt.bz2
Comparing /tmp/7V4kiwM2LH to t/mailboxes/mailarc-2.txt
Output /tmp/7V4kiwM2LH looks good.
ok 1 - Computing differences
Comparing /tmp/K3352eUa75 to t/mailboxes/mailarc-2.txt
Output /tmp/K3352eUa75 looks good.
ok 2 - Computing differences
Comparing /tmp/eVzzOLXa7Q to t/mailboxes/mailarc-2.txt
Output /tmp/eVzzOLXa7Q looks good.
ok 3 - Computing differences
ok 4 # skip GNU grep not available
Testing filename: t/mailboxes/mailarc-2.txt.gz
Comparing /tmp/OPPg_F4QdK to t/mailboxes/mailarc-2.txt
Output /tmp/OPPg_F4QdK looks good.
ok 5 - Computing differences
Comparing /tmp/ptbIhFvQSm to t/mailboxes/mailarc-2.txt
Output /tmp/ptbIhFvQSm looks good.
ok 6 - Computing differences
Comparing /tmp/53ylnVe8AE to t/mailboxes/mailarc-2.txt
Output /tmp/53ylnVe8AE looks good.
ok 7 - Computing differences
ok 8 # skip GNU grep not available
Testing filename: t/mailboxes/mailarc-2.txt.lz
ok 9 # skip lzip not available
ok 10 # skip lzip not available
ok 11 # skip lzip not available
ok 12 # skip lzip not available
Testing filename: t/mailboxes/mailarc-2.txt.xz
Comparing /tmp/wmx6ogNYtA to t/mailboxes/mailarc-2.txt
Output /tmp/wmx6ogNYtA looks good.
ok 13 - Computing differences
Comparing /tmp/UwvIIsjWTZ to t/mailboxes/mailarc-2.txt
Output /tmp/UwvIIsjWTZ looks good.
ok 14 - Computing differences
Comparing /tmp/hRgtCNpO3C to t/mailboxes/mailarc-2.txt
Output /tmp/hRgtCNpO3C looks good.
ok 15 - Computing differences
ok 16 # skip GNU grep not available
ok
t/filehandle_noncompressed.t ....
1..44
Testing filename: t/mailboxes/binary_body.txt
Comparing /tmp/w9WvMG8SH9 to t/mailboxes/binary_body.txt
Output /tmp/w9WvMG8SH9 looks good.
ok 1 - Computing differences
Comparing /tmp/Iq9UQhtzcl to t/mailboxes/binary_body.txt
Output /tmp/Iq9UQhtzcl looks good.
ok 2 - Computing differences
Comparing /tmp/voZtujYlqg to t/mailboxes/binary_body.txt
Output /tmp/voZtujYlqg looks good.
ok 3 - Computing differences
ok 4 # skip GNU grep not available
Testing filename: t/mailboxes/hessbug.txt
Comparing /tmp/AFjI0ezpZF to t/mailboxes/hessbug.txt
Output /tmp/AFjI0ezpZF looks good.
ok 5 - Computing differences
Comparing /tmp/tpXcaGHUQa to t/mailboxes/hessbug.txt
Output /tmp/tpXcaGHUQa looks good.
ok 6 - Computing differences
Comparing /tmp/FLzg3gdY2k to t/mailboxes/hessbug.txt
Output /tmp/FLzg3gdY2k looks good.
ok 7 - Computing differences
ok 8 # skip GNU grep not available
Testing filename: t/mailboxes/invalid-boundaries.txt
Comparing /tmp/WL3iamtEtr to t/mailboxes/invalid-boundaries.txt
Output /tmp/WL3iamtEtr looks good.
ok 9 - Computing differences
Comparing /tmp/CBa7ETsSns to t/mailboxes/invalid-boundaries.txt
Output /tmp/CBa7ETsSns looks good.
ok 10 - Computing differences
Comparing /tmp/WIu4tXVfbr to t/mailboxes/invalid-boundaries.txt
Output /tmp/WIu4tXVfbr looks good.
ok 11 - Computing differences
ok 12 # skip GNU grep not available
Testing filename: t/mailboxes/mailarc-1-dos.txt
Comparing /tmp/nqUBk4jrbq to t/mailboxes/mailarc-1-dos.txt
Output /tmp/nqUBk4jrbq looks good.
ok 13 - Computing differences
Comparing /tmp/pXFPIyTXxP to t/mailboxes/mailarc-1-dos.txt
Output /tmp/pXFPIyTXxP looks good.
ok 14 - Computing differences
Comparing /tmp/P_XMxFORsS to t/mailboxes/mailarc-1-dos.txt
Output /tmp/P_XMxFORsS looks good.
ok 15 - Computing differences
ok 16 # skip GNU grep not available
Testing filename: t/mailboxes/mailarc-1.txt
Comparing /tmp/65k2LI1yS3 to t/mailboxes/mailarc-1.txt
Output /tmp/65k2LI1yS3 looks good.
ok 17 - Computing differences
Comparing /tmp/KA4leBRUm0 to t/mailboxes/mailarc-1.txt
Output /tmp/KA4leBRUm0 looks good.
ok 18 - Computing differences
Comparing /tmp/09v0AjNNLo to t/mailboxes/mailarc-1.txt
Output /tmp/09v0AjNNLo looks good.
ok 19 - Computing differences
ok 20 # skip GNU grep not available
Testing filename: t/mailboxes/mailarc-2.txt
Comparing /tmp/CqD8esUdZJ to t/mailboxes/mailarc-2.txt
Output /tmp/CqD8esUdZJ looks good.
ok 21 - Computing differences
Comparing /tmp/Gl1EIIdsMh to t/mailboxes/mailarc-2.txt
Output /tmp/Gl1EIIdsMh looks good.
ok 22 - Computing differences
Comparing /tmp/Xl20bRtcCJ to t/mailboxes/mailarc-2.txt
Output /tmp/Xl20bRtcCJ looks good.
ok 23 - Computing differences
ok 24 # skip GNU grep not available
Testing filename: t/mailboxes/mailarc-3.txt
Comparing /tmp/mrWSGEtz2r to t/mailboxes/mailarc-3.txt
Output /tmp/mrWSGEtz2r looks good.
ok 25 - Computing differences
Comparing /tmp/KFgKvqxGFl to t/mailboxes/mailarc-3.txt
Output /tmp/KFgKvqxGFl looks good.
ok 26 - Computing differences
Comparing /tmp/wnH1Ypakam to t/mailboxes/mailarc-3.txt
Output /tmp/wnH1Ypakam looks good.
ok 27 - Computing differences
ok 28 # skip GNU grep not available
Testing filename: t/mailboxes/mailseparators.txt
Comparing /tmp/t_SZNgpcsR to t/mailboxes/mailseparators.txt
Output /tmp/t_SZNgpcsR looks good.
ok 29 - Computing differences
Comparing /tmp/pKWP9SCHrS to t/mailboxes/mailseparators.txt
Output /tmp/pKWP9SCHrS looks good.
ok 30 - Computing differences
Comparing /tmp/ieavEDJdaf to t/mailboxes/mailseparators.txt
Output /tmp/ieavEDJdaf looks good.
ok 31 - Computing differences
ok 32 # skip GNU grep not available
Testing filename: t/mailboxes/malformed.txt
Comparing /tmp/KX4bZINMOm to t/mailboxes/malformed.txt
Output /tmp/KX4bZINMOm looks good.
ok 33 - Computing differences
Comparing /tmp/hGoSGLmHDZ to t/mailboxes/malformed.txt
Output /tmp/hGoSGLmHDZ looks good.
ok 34 - Computing differences
Comparing /tmp/wYiDykZKBm to t/mailboxes/malformed.txt
Output /tmp/wYiDykZKBm looks good.
ok 35 - Computing differences
ok 36 # skip GNU grep not available
Testing filename: t/mailboxes/newlines_at_beginning.txt
Comparing /tmp/SjOHd5wZHN to t/mailboxes/newlines_at_beginning.txt
Output /tmp/SjOHd5wZHN looks good.
ok 37 - Computing differences
Comparing /tmp/LZakB69lAC to t/mailboxes/newlines_at_beginning.txt
Output /tmp/LZakB69lAC looks good.
ok 38 - Computing differences
Comparing /tmp/V5B8LyDocr to t/mailboxes/newlines_at_beginning.txt
Output /tmp/V5B8LyDocr looks good.
ok 39 - Computing differences
ok 40 # skip GNU grep not available
Testing filename: t/mailboxes/vm-emacs.txt
Comparing /tmp/0osNZqP7Ue to t/mailboxes/vm-emacs.txt
Output /tmp/0osNZqP7Ue looks good.
ok 41 - Computing differences
Comparing /tmp/y9Ilvi85oT to t/mailboxes/vm-emacs.txt
Output /tmp/y9Ilvi85oT looks good.
ok 42 - Computing differences
Comparing /tmp/oHXY_UXNWS to t/mailboxes/vm-emacs.txt
Output /tmp/oHXY_UXNWS looks good.
ok 43 - Computing differences
ok 44 # skip GNU grep not available
ok
t/filename_compressed.t .........
1..4
Testing filename: t/mailboxes/mailarc-2.txt.bz2
Comparing /tmp/DtUA2i5JUz to t/mailboxes/mailarc-2.txt
Output /tmp/DtUA2i5JUz looks good.
ok 1 - Computing differences
Testing filename: t/mailboxes/mailarc-2.txt.gz
Comparing /tmp/Pwe4FBTukr to t/mailboxes/mailarc-2.txt
Output /tmp/Pwe4FBTukr looks good.
ok 2 - Computing differences
Testing filename: t/mailboxes/mailarc-2.txt.lz
ok 3 # skip lzip not available
Testing filename: t/mailboxes/mailarc-2.txt.xz
Comparing /tmp/EjSOC2a3kz to t/mailboxes/mailarc-2.txt
Output /tmp/EjSOC2a3kz looks good.
ok 4 - Computing differences
ok
t/filename_noncompressed.t ......
1..11
Testing filename: t/mailboxes/binary_body.txt
Comparing /tmp/M62P0jOp5_ to t/mailboxes/binary_body.txt
Output /tmp/M62P0jOp5_ looks good.
ok 1 - Computing differences
Testing filename: t/mailboxes/hessbug.txt
Comparing /tmp/a0VsofIMZ9 to t/mailboxes/hessbug.txt
Output /tmp/a0VsofIMZ9 looks good.
ok 2 - Computing differences
Testing filename: t/mailboxes/invalid-boundaries.txt
Comparing /tmp/RsVaTHOLfX to t/mailboxes/invalid-boundaries.txt
Output /tmp/RsVaTHOLfX looks good.
ok 3 - Computing differences
Testing filename: t/mailboxes/mailarc-1-dos.txt
Comparing /tmp/uHuIW9bquM to t/mailboxes/mailarc-1-dos.txt
Output /tmp/uHuIW9bquM looks good.
ok 4 - Computing differences
Testing filename: t/mailboxes/mailarc-1.txt
Comparing /tmp/6XMO5gwTU7 to t/mailboxes/mailarc-1.txt
Output /tmp/6XMO5gwTU7 looks good.
ok 5 - Computing differences
Testing filename: t/mailboxes/mailarc-2.txt
Comparing /tmp/O_jqOAb272 to t/mailboxes/mailarc-2.txt
Output /tmp/O_jqOAb272 looks good.
ok 6 - Computing differences
Testing filename: t/mailboxes/mailarc-3.txt
Comparing /tmp/rhQxl7jNRY to t/mailboxes/mailarc-3.txt
Output /tmp/rhQxl7jNRY looks good.
ok 7 - Computing differences
Testing filename: t/mailboxes/mailseparators.txt
Comparing /tmp/DdAiGRi6tz to t/mailboxes/mailseparators.txt
Output /tmp/DdAiGRi6tz looks good.
ok 8 - Computing differences
Testing filename: t/mailboxes/malformed.txt
Comparing /tmp/WyMHAKGY7x to t/mailboxes/malformed.txt
Output /tmp/WyMHAKGY7x looks good.
ok 9 - Computing differences
Testing filename: t/mailboxes/newlines_at_beginning.txt
Comparing /tmp/mI26q9AyrX to t/mailboxes/newlines_at_beginning.txt
Output /tmp/mI26q9AyrX looks good.
ok 10 - Computing differences
Testing filename: t/mailboxes/vm-emacs.txt
Comparing /tmp/W_xWdsTi5t to t/mailboxes/vm-emacs.txt
Output /tmp/W_xWdsTi5t looks good.
ok 11 - Computing differences
ok
t/grep.t ........................
1..4
Running test:
unset LC_ALL LC_COLLATE LANG LC_CTYPE LC_MESSAGES; grep --extended-regexp --line-number --byte-offset --binary-files=text "^From [^:]+(:[0-9][0-9]){1,2}( *([A-Z]{2,6}|[+-]?[0-9]{4})){1,3}( remote from .*)?
?$" t/mailboxes/mailarc-1.txt
ok 1 # skip 1
Running test:
unset LC_ALL LC_COLLATE LANG LC_CTYPE LC_MESSAGES; grep --extended-regexp --line-number --byte-offset --binary-files=text "^From [^:]+(:[0-9][0-9]){1,2}( *([A-Z]{2,6}|[+-]?[0-9]{4})){1,3}( remote from .*)?
?$" t/mailboxes/mailarc-2.txt
ok 2 # skip 1
Running test:
unset LC_ALL LC_COLLATE LANG LC_CTYPE LC_MESSAGES; grep --extended-regexp --line-number --byte-offset --binary-files=text "^From [^:]+(:[0-9][0-9]){1,2}( *([A-Z]{2,6}|[+-]?[0-9]{4})){1,3}( remote from .*)?
?$" t/mailboxes/mailarc-3.txt
ok 3 # skip 1
Running test:
unset LC_ALL LC_COLLATE LANG LC_CTYPE LC_MESSAGES; grep --extended-regexp --line-number --byte-offset --binary-files=text "^From [^:]+(:[0-9][0-9]){1,2}( *([A-Z]{2,6}|[+-]?[0-9]{4})){1,3}( remote from .*)?
?$" t/mailboxes/mailseparators.txt
ok 4 # skip 1
ok
t/gzip.t ........................
1..1
Running test:
"/bin/cat" "t/mailboxes/mailarc-2.txt.gz" | "/bin/gzip" -cd
Comparing /tmp/C4iAArWtWc to t/results/mailarc-2.txt
Output /tmp/C4iAArWtWc looks good.
Comparing /tmp/EA7UGdcapn to t/results/none
Output /tmp/EA7UGdcapn looks good.
ok 1 - Computing differences
ok
t/length.t ......................
1..30
Testing filename: t/mailboxes/binary_body.txt
Comparing /tmp/A7hSl3B1BE to t/results/length_binary_body.stdout
Output /tmp/A7hSl3B1BE looks good.
ok 1 - Computing differences
Comparing /tmp/7oJ9C56VEW to t/results/length_binary_body.stdout
Output /tmp/7oJ9C56VEW looks good.
ok 2 - Computing differences
ok 3 # skip GNU grep not available
Testing filename: t/mailboxes/hessbug.txt
Comparing /tmp/Jb_uwmIyD8 to t/results/length_hessbug.stdout
Output /tmp/Jb_uwmIyD8 looks good.
ok 4 - Computing differences
Comparing /tmp/QxpEJXxk9k to t/results/length_hessbug.stdout
Output /tmp/QxpEJXxk9k looks good.
ok 5 - Computing differences
ok 6 # skip GNU grep not available
Testing filename: t/mailboxes/invalid-boundaries.txt
Comparing /tmp/YGsxt5BtXl to t/results/length_invalid-boundaries.stdout
Output /tmp/YGsxt5BtXl looks good.
ok 7 - Computing differences
Comparing /tmp/J7FaHpbehl to t/results/length_invalid-boundaries.stdout
Output /tmp/J7FaHpbehl looks good.
ok 8 - Computing differences
ok 9 # skip GNU grep not available
Testing filename: t/mailboxes/mailarc-1-dos.txt
Comparing /tmp/h1BrKqnkxi to t/results/length_mailarc-1-dos.stdout
Output /tmp/h1BrKqnkxi looks good.
ok 10 - Computing differences
Comparing /tmp/ZifmVQaCrC to t/results/length_mailarc-1-dos.stdout
Output /tmp/ZifmVQaCrC looks good.
ok 11 - Computing differences
ok 12 # skip GNU grep not available
Testing filename: t/mailboxes/mailarc-1.txt
Comparing /tmp/bCJiJEnAHu to t/results/length_mailarc-1.stdout
Output /tmp/bCJiJEnAHu looks good.
ok 13 - Computing differences
Comparing /tmp/Xjc1xVEVcU to t/results/length_mailarc-1.stdout
Output /tmp/Xjc1xVEVcU looks good.
ok 14 - Computing differences
ok 15 # skip GNU grep not available
Testing filename: t/mailboxes/mailarc-2.txt
Comparing /tmp/pfH9mPIilC to t/results/length_mailarc-2.stdout
Output /tmp/pfH9mPIilC looks good.
ok 16 - Computing differences
Comparing /tmp/9jzETkLjsZ to t/results/length_mailarc-2.stdout
Output /tmp/9jzETkLjsZ looks good.
ok 17 - Computing differences
ok 18 # skip GNU grep not available
Testing filename: t/mailboxes/mailarc-3.txt
Comparing /tmp/lTZSS8CvPd to t/results/length_mailarc-3.stdout
Output /tmp/lTZSS8CvPd looks good.
ok 19 - Computing differences
Comparing /tmp/BtAlTwINwx to t/results/length_mailarc-3.stdout
Output /tmp/BtAlTwINwx looks good.
ok 20 - Computing differences
ok 21 # skip GNU grep not available
Testing filename: t/mailboxes/mailseparators.txt
Comparing /tmp/EuJ_JtPgEc to t/results/length_mailseparators.stdout
Output /tmp/EuJ_JtPgEc looks good.
ok 22 - Computing differences
Comparing /tmp/MycXzpvjtU to t/results/length_mailseparators.stdout
Output /tmp/MycXzpvjtU looks good.
ok 23 - Computing differences
ok 24 # skip GNU grep not available
Testing filename: t/mailboxes/malformed.txt
Comparing /tmp/OTaNGkMJSO to t/results/length_malformed.stdout
Output /tmp/OTaNGkMJSO looks good.
ok 25 - Computing differences
Comparing /tmp/fkOA6VKUj9 to t/results/length_malformed.stdout
Output /tmp/fkOA6VKUj9 looks good.
ok 26 - Computing differences
ok 27 # skip GNU grep not available
Testing filename: t/mailboxes/newlines_at_beginning.txt
Comparing /tmp/t3m5KcLpVe to t/results/length_newlines_at_beginning.stdout
Output /tmp/t3m5KcLpVe looks good.
ok 28 - Computing differences
Comparing /tmp/eJntLOLYLP to t/results/length_newlines_at_beginning.stdout
Output /tmp/eJntLOLYLP looks good.
ok 29 - Computing differences
ok 30 # skip GNU grep not available
ok
t/line_number.t .................
1..30
Testing filename: t/mailboxes/binary_body.txt
Comparing /tmp/lf3cu_rysf to t/results/line_number_binary_body.stdout
Output /tmp/lf3cu_rysf looks good.
ok 1 - Computing differences
Comparing /tmp/qcq79CH09R to t/results/line_number_binary_body.stdout
Output /tmp/qcq79CH09R looks good.
ok 2 - Computing differences
ok 3 # skip GNU grep not available
Testing filename: t/mailboxes/hessbug.txt
Comparing /tmp/HIeO1aXP0o to t/results/line_number_hessbug.stdout
Output /tmp/HIeO1aXP0o looks good.
ok 4 - Computing differences
Comparing /tmp/7MyMQf25jQ to t/results/line_number_hessbug.stdout
Output /tmp/7MyMQf25jQ looks good.
ok 5 - Computing differences
ok 6 # skip GNU grep not available
Testing filename: t/mailboxes/invalid-boundaries.txt
Comparing /tmp/82E23gNneW to t/results/line_number_invalid-boundaries.stdout
Output /tmp/82E23gNneW looks good.
ok 7 - Computing differences
Comparing /tmp/GNbxyzPJ_P to t/results/line_number_invalid-boundaries.stdout
Output /tmp/GNbxyzPJ_P looks good.
ok 8 - Computing differences
ok 9 # skip GNU grep not available
Testing filename: t/mailboxes/mailarc-1-dos.txt
Comparing /tmp/Zqv88lhryB to t/results/line_number_mailarc-1-dos.stdout
Output /tmp/Zqv88lhryB looks good.
ok 10 - Computing differences
Comparing /tmp/FFJ8uCDgZn to t/results/line_number_mailarc-1-dos.stdout
Output /tmp/FFJ8uCDgZn looks good.
ok 11 - Computing differences
ok 12 # skip GNU grep not available
Testing filename: t/mailboxes/mailarc-1.txt
Comparing /tmp/JADqI_4IYg to t/results/line_number_mailarc-1.stdout
Output /tmp/JADqI_4IYg looks good.
ok 13 - Computing differences
Comparing /tmp/tMYN_Yrya8 to t/results/line_number_mailarc-1.stdout
Output /tmp/tMYN_Yrya8 looks good.
ok 14 - Computing differences
ok 15 # skip GNU grep not available
Testing filename: t/mailboxes/mailarc-2.txt
Comparing /tmp/qlCznz_MEt to t/results/line_number_mailarc-2.stdout
Output /tmp/qlCznz_MEt looks good.
ok 16 - Computing differences
Comparing /tmp/qlg6KGEHkp to t/results/line_number_mailarc-2.stdout
Output /tmp/qlg6KGEHkp looks good.
ok 17 - Computing differences
ok 18 # skip GNU grep not available
Testing filename: t/mailboxes/mailarc-3.txt
Comparing /tmp/ATIdXZIbOv to t/results/line_number_mailarc-3.stdout
Output /tmp/ATIdXZIbOv looks good.
ok 19 - Computing differences
Comparing /tmp/O_HX813io1 to t/results/line_number_mailarc-3.stdout
Output /tmp/O_HX813io1 looks good.
ok 20 - Computing differences
ok 21 # skip GNU grep not available
Testing filename: t/mailboxes/mailseparators.txt
Comparing /tmp/C9f4MiwOlB to t/results/line_number_mailseparators.stdout
Output /tmp/C9f4MiwOlB looks good.
ok 22 - Computing differences
Comparing /tmp/FswbBss6lP to t/results/line_number_mailseparators.stdout
Output /tmp/FswbBss6lP looks good.
ok 23 - Computing differences
ok 24 # skip GNU grep not available
Testing filename: t/mailboxes/malformed.txt
Comparing /tmp/BXdcKAEeHr to t/results/line_number_malformed.stdout
Output /tmp/BXdcKAEeHr looks good.
ok 25 - Computing differences
Comparing /tmp/d9zD2P8Ibx to t/results/line_number_malformed.stdout
Output /tmp/d9zD2P8Ibx looks good.
ok 26 - Computing differences
ok 27 # skip GNU grep not available
Testing filename: t/mailboxes/newlines_at_beginning.txt
Comparing /tmp/mPPJhCgPsL to t/results/line_number_newlines_at_beginning.stdout
Output /tmp/mPPJhCgPsL looks good.
ok 28 - Computing differences
Comparing /tmp/DNHqJplI49 to t/results/line_number_newlines_at_beginning.stdout
Output /tmp/DNHqJplI49 looks good.
ok 29 - Computing differences
ok 30 # skip GNU grep not available
ok
t/lzip.t ........................
1..1
Running test:
"/bin/cat" "t/mailboxes/mailarc-2.txt.lz" | "lzip" -cd
ok 1 # skip lzip not available
ok
t/number.t ......................
1..30
Testing filename: t/mailboxes/binary_body.txt
Comparing /tmp/YaQNxGK1_Y to t/results/number_binary_body.stdout
Output /tmp/YaQNxGK1_Y looks good.
ok 1 - Computing differences
Comparing /tmp/NRMjyhlydk to t/results/number_binary_body.stdout
Output /tmp/NRMjyhlydk looks good.
ok 2 - Computing differences
ok 3 # skip GNU grep not available
Testing filename: t/mailboxes/hessbug.txt
Comparing /tmp/DSDgQqaW5d to t/results/number_hessbug.stdout
Output /tmp/DSDgQqaW5d looks good.
ok 4 - Computing differences
Comparing /tmp/xUoZk2NDLJ to t/results/number_hessbug.stdout
Output /tmp/xUoZk2NDLJ looks good.
ok 5 - Computing differences
ok 6 # skip GNU grep not available
Testing filename: t/mailboxes/invalid-boundaries.txt
Comparing /tmp/TQD2b8uPMZ to t/results/number_invalid-boundaries.stdout
Output /tmp/TQD2b8uPMZ looks good.
ok 7 - Computing differences
Comparing /tmp/0xSHL6CV1N to t/results/number_invalid-boundaries.stdout
Output /tmp/0xSHL6CV1N looks good.
ok 8 - Computing differences
ok 9 # skip GNU grep not available
Testing filename: t/mailboxes/mailarc-1-dos.txt
Comparing /tmp/8s4XN5KHb3 to t/results/number_mailarc-1-dos.stdout
Output /tmp/8s4XN5KHb3 looks good.
ok 10 - Computing differences
Comparing /tmp/prOGiuPwvz to t/results/number_mailarc-1-dos.stdout
Output /tmp/prOGiuPwvz looks good.
ok 11 - Computing differences
ok 12 # skip GNU grep not available
Testing filename: t/mailboxes/mailarc-1.txt
Comparing /tmp/jBxD9RRiE5 to t/results/number_mailarc-1.stdout
Output /tmp/jBxD9RRiE5 looks good.
ok 13 - Computing differences
Comparing /tmp/zdgSU60iBS to t/results/number_mailarc-1.stdout
Output /tmp/zdgSU60iBS looks good.
ok 14 - Computing differences
ok 15 # skip GNU grep not available
Testing filename: t/mailboxes/mailarc-2.txt
Comparing /tmp/59C04FbFSe to t/results/number_mailarc-2.stdout
Output /tmp/59C04FbFSe looks good.
ok 16 - Computing differences
Comparing /tmp/lD1laMIdY_ to t/results/number_mailarc-2.stdout
Output /tmp/lD1laMIdY_ looks good.
ok 17 - Computing differences
ok 18 # skip GNU grep not available
Testing filename: t/mailboxes/mailarc-3.txt
Comparing /tmp/AoIpZpWu8l to t/results/number_mailarc-3.stdout
Output /tmp/AoIpZpWu8l looks good.
ok 19 - Computing differences
Comparing /tmp/TAmPfKhesB to t/results/number_mailarc-3.stdout
Output /tmp/TAmPfKhesB looks good.
ok 20 - Computing differences
ok 21 # skip GNU grep not available
Testing filename: t/mailboxes/mailseparators.txt
Comparing /tmp/4F627FXY_J to t/results/number_mailseparators.stdout
Output /tmp/4F627FXY_J looks good.
ok 22 - Computing differences
Comparing /tmp/CHz38atDrf to t/results/number_mailseparators.stdout
Output /tmp/CHz38atDrf looks good.
ok 23 - Computing differences
ok 24 # skip GNU grep not available
Testing filename: t/mailboxes/malformed.txt
Comparing /tmp/2F1Duwn5em to t/results/number_malformed.stdout
Output /tmp/2F1Duwn5em looks good.
ok 25 - Computing differences
Comparing /tmp/vV_1fmoubh to t/results/number_malformed.stdout
Output /tmp/vV_1fmoubh looks good.
ok 26 - Computing differences
ok 27 # skip GNU grep not available
Testing filename: t/mailboxes/newlines_at_beginning.txt
Comparing /tmp/fg6mws64Xz to t/results/number_newlines_at_beginning.stdout
Output /tmp/fg6mws64Xz looks good.
ok 28 - Computing differences
Comparing /tmp/wQvX5HwUfl to t/results/number_newlines_at_beginning.stdout
Output /tmp/wQvX5HwUfl looks good.
ok 29 - Computing differences
ok 30 # skip GNU grep not available
ok
t/offset.t ......................
1..30
Testing filename: t/mailboxes/binary_body.txt
Comparing /tmp/oAJYc_1cCY to t/results/offset_binary_body.stdout
Output /tmp/oAJYc_1cCY looks good.
ok 1 - Computing differences
Comparing /tmp/35Sih_5Jwy to t/results/offset_binary_body.stdout
Output /tmp/35Sih_5Jwy looks good.
ok 2 - Computing differences
ok 3 # skip GNU grep not available
Testing filename: t/mailboxes/hessbug.txt
Comparing /tmp/IA2dYCbjxQ to t/results/offset_hessbug.stdout
Output /tmp/IA2dYCbjxQ looks good.
ok 4 - Computing differences
Comparing /tmp/Nnuzl1SpSu to t/results/offset_hessbug.stdout
Output /tmp/Nnuzl1SpSu looks good.
ok 5 - Computing differences
ok 6 # skip GNU grep not available
Testing filename: t/mailboxes/invalid-boundaries.txt
Comparing /tmp/H_000sdMkR to t/results/offset_invalid-boundaries.stdout
Output /tmp/H_000sdMkR looks good.
ok 7 - Computing differences
Comparing /tmp/Ib7WUyjSZO to t/results/offset_invalid-boundaries.stdout
Output /tmp/Ib7WUyjSZO looks good.
ok 8 - Computing differences
ok 9 # skip GNU grep not available
Testing filename: t/mailboxes/mailarc-1-dos.txt
Comparing /tmp/3D_TbiDFzA to t/results/offset_mailarc-1-dos.stdout
Output /tmp/3D_TbiDFzA looks good.
ok 10 - Computing differences
Comparing /tmp/0Z6vIgHHeP to t/results/offset_mailarc-1-dos.stdout
Output /tmp/0Z6vIgHHeP looks good.
ok 11 - Computing differences
ok 12 # skip GNU grep not available
Testing filename: t/mailboxes/mailarc-1.txt
Comparing /tmp/aO5_MlMV8V to t/results/offset_mailarc-1.stdout
Output /tmp/aO5_MlMV8V looks good.
ok 13 - Computing differences
Comparing /tmp/R0jiFaxThC to t/results/offset_mailarc-1.stdout
Output /tmp/R0jiFaxThC looks good.
ok 14 - Computing differences
ok 15 # skip GNU grep not available
Testing filename: t/mailboxes/mailarc-2.txt
Comparing /tmp/kPb4VO6FEd to t/results/offset_mailarc-2.stdout
Output /tmp/kPb4VO6FEd looks good.
ok 16 - Computing differences
Comparing /tmp/OsUe5bPajF to t/results/offset_mailarc-2.stdout
Output /tmp/OsUe5bPajF looks good.
ok 17 - Computing differences
ok 18 # skip GNU grep not available
Testing filename: t/mailboxes/mailarc-3.txt
Comparing /tmp/XpyCVeE6TS to t/results/offset_mailarc-3.stdout
Output /tmp/XpyCVeE6TS looks good.
ok 19 - Computing differences
Comparing /tmp/DJWtMN6qlJ to t/results/offset_mailarc-3.stdout
Output /tmp/DJWtMN6qlJ looks good.
ok 20 - Computing differences
ok 21 # skip GNU grep not available
Testing filename: t/mailboxes/mailseparators.txt
Comparing /tmp/n74ePzdC1f to t/results/offset_mailseparators.stdout
Output /tmp/n74ePzdC1f looks good.
ok 22 - Computing differences
Comparing /tmp/IRhsvZVUC5 to t/results/offset_mailseparators.stdout
Output /tmp/IRhsvZVUC5 looks good.
ok 23 - Computing differences
ok 24 # skip GNU grep not available
Testing filename: t/mailboxes/malformed.txt
Comparing /tmp/ffmI_BTKhp to t/results/offset_malformed.stdout
Output /tmp/ffmI_BTKhp looks good.
ok 25 - Computing differences
Comparing /tmp/aeXR7J82wK to t/results/offset_malformed.stdout
Output /tmp/aeXR7J82wK looks good.
ok 26 - Computing differences
ok 27 # skip GNU grep not available
Testing filename: t/mailboxes/newlines_at_beginning.txt
Comparing /tmp/XTwA_vCJKP to t/results/offset_newlines_at_beginning.stdout
Output /tmp/XTwA_vCJKP looks good.
ok 28 - Computing differences
Comparing /tmp/iQon4AsGqn to t/results/offset_newlines_at_beginning.stdout
Output /tmp/iQon4AsGqn looks good.
ok 29 - Computing differences
ok 30 # skip GNU grep not available
ok
t/prologue.t ....................
1..33
Testing filename: t/mailboxes/binary_body.txt
Comparing /tmp/gSR7ocHHjM to t/mailboxes/binary_body.txt
Output /tmp/gSR7ocHHjM looks good.
ok 1 - Computing differences
Comparing /tmp/HiRXnSMHqD to t/mailboxes/binary_body.txt
Output /tmp/HiRXnSMHqD looks good.
ok 2 - Computing differences
ok 3 # skip GNU grep not available
Testing filename: t/mailboxes/hessbug.txt
Comparing /tmp/VvKw9KH6L_ to t/mailboxes/hessbug.txt
Output /tmp/VvKw9KH6L_ looks good.
ok 4 - Computing differences
Comparing /tmp/8VJGH_JzyD to t/mailboxes/hessbug.txt
Output /tmp/8VJGH_JzyD looks good.
ok 5 - Computing differences
ok 6 # skip GNU grep not available
Testing filename: t/mailboxes/invalid-boundaries.txt
Comparing /tmp/elTmFtUF4p to t/mailboxes/invalid-boundaries.txt
Output /tmp/elTmFtUF4p looks good.
ok 7 - Computing differences
Comparing /tmp/Vy1yhmY4kU to t/mailboxes/invalid-boundaries.txt
Output /tmp/Vy1yhmY4kU looks good.
ok 8 - Computing differences
ok 9 # skip GNU grep not available
Testing filename: t/mailboxes/mailarc-1-dos.txt
Comparing /tmp/llIcJbo3pc to t/mailboxes/mailarc-1-dos.txt
Output /tmp/llIcJbo3pc looks good.
ok 10 - Computing differences
Comparing /tmp/Pos9zUM7Nw to t/mailboxes/mailarc-1-dos.txt
Output /tmp/Pos9zUM7Nw looks good.
ok 11 - Computing differences
ok 12 # skip GNU grep not available
Testing filename: t/mailboxes/mailarc-1.txt
Comparing /tmp/4b7swKT0fG to t/mailboxes/mailarc-1.txt
Output /tmp/4b7swKT0fG looks good.
ok 13 - Computing differences
Comparing /tmp/Qs9OIwbpaB to t/mailboxes/mailarc-1.txt
Output /tmp/Qs9OIwbpaB looks good.
ok 14 - Computing differences
ok 15 # skip GNU grep not available
Testing filename: t/mailboxes/mailarc-2.txt
Comparing /tmp/iz8xB9SnH5 to t/mailboxes/mailarc-2.txt
Output /tmp/iz8xB9SnH5 looks good.
ok 16 - Computing differences
Comparing /tmp/SzYRXfvQQc to t/mailboxes/mailarc-2.txt
Output /tmp/SzYRXfvQQc looks good.
ok 17 - Computing differences
ok 18 # skip GNU grep not available
Testing filename: t/mailboxes/mailarc-3.txt
Comparing /tmp/CvlqT5HeAB to t/mailboxes/mailarc-3.txt
Output /tmp/CvlqT5HeAB looks good.
ok 19 - Computing differences
Comparing /tmp/vD0ikg2oKA to t/mailboxes/mailarc-3.txt
Output /tmp/vD0ikg2oKA looks good.
ok 20 - Computing differences
ok 21 # skip GNU grep not available
Testing filename: t/mailboxes/mailseparators.txt
Comparing /tmp/bksaRE6D6O to t/mailboxes/mailseparators.txt
Output /tmp/bksaRE6D6O looks good.
ok 22 - Computing differences
Comparing /tmp/DgmPUyDPRV to t/mailboxes/mailseparators.txt
Output /tmp/DgmPUyDPRV looks good.
ok 23 - Computing differences
ok 24 # skip GNU grep not available
Testing filename: t/mailboxes/malformed.txt
Comparing /tmp/kie4klUtzX to t/mailboxes/malformed.txt
Output /tmp/kie4klUtzX looks good.
ok 25 - Computing differences
Comparing /tmp/DIhfunEqAR to t/mailboxes/malformed.txt
Output /tmp/DIhfunEqAR looks good.
ok 26 - Computing differences
ok 27 # skip GNU grep not available
Testing filename: t/mailboxes/newlines_at_beginning.txt
Comparing /tmp/A9EAe0kfCn to t/mailboxes/newlines_at_beginning.txt
Output /tmp/A9EAe0kfCn looks good.
ok 28 - Computing differences
Comparing /tmp/xoN_RKKyGo to t/mailboxes/newlines_at_beginning.txt
Output /tmp/xoN_RKKyGo looks good.
ok 29 - Computing differences
ok 30 # skip GNU grep not available
Testing filename: t/mailboxes/vm-emacs.txt
Comparing /tmp/drfW4a7_Qi to t/mailboxes/vm-emacs.txt
Output /tmp/drfW4a7_Qi looks good.
ok 31 - Computing differences
Comparing /tmp/Ka67bYGyda to t/mailboxes/vm-emacs.txt
Output /tmp/Ka67bYGyda looks good.
ok 32 - Computing differences
ok 33 # skip GNU grep not available
ok
t/reset.t .......................
1..60
Testing filename: t/mailboxes/binary_body.txt
Testing partial mailbox reset with Perl implementation
Comparing /tmp/TLjhdcR0p9 to t/results/reset_binary_body.stdout
Output /tmp/TLjhdcR0p9 looks good.
ok 1 - Computing differences
Testing partial mailbox reset with Cache implementation
Comparing /tmp/RwoTFdh6lP to t/results/reset_binary_body.stdout
Output /tmp/RwoTFdh6lP looks good.
ok 2 - Computing differences
Testing partial mailbox reset with Grep implementation
ok 3 # skip GNU grep not available
Testing full mailbox reset with Perl implementation
Comparing /tmp/ZsLZOaRXIk to t/results/reset_binary_body.stdout
Output /tmp/ZsLZOaRXIk looks good.
ok 4 - Computing differences
Testing full mailbox reset with Cache implementation
Comparing /tmp/lkVZ3ecBLD to t/results/reset_binary_body.stdout
Output /tmp/lkVZ3ecBLD looks good.
ok 5 - Computing differences
Testing full mailbox reset with Grep implementation
ok 6 # skip GNU grep not available
Testing filename: t/mailboxes/hessbug.txt
Testing partial mailbox reset with Perl implementation
Comparing /tmp/PIyP3Zy8xC to t/results/reset_hessbug.stdout
Output /tmp/PIyP3Zy8xC looks good.
ok 7 - Computing differences
Testing partial mailbox reset with Cache implementation
Comparing /tmp/aMXL_QFdzk to t/results/reset_hessbug.stdout
Output /tmp/aMXL_QFdzk looks good.
ok 8 - Computing differences
Testing partial mailbox reset with Grep implementation
ok 9 # skip GNU grep not available
Testing full mailbox reset with Perl implementation
Comparing /tmp/ap7sYPKOWH to t/results/reset_hessbug.stdout
Output /tmp/ap7sYPKOWH looks good.
ok 10 - Computing differences
Testing full mailbox reset with Cache implementation
Comparing /tmp/p0CvXMqc8J to t/results/reset_hessbug.stdout
Output /tmp/p0CvXMqc8J looks good.
ok 11 - Computing differences
Testing full mailbox reset with Grep implementation
ok 12 # skip GNU grep not available
Testing filename: t/mailboxes/invalid-boundaries.txt
Testing partial mailbox reset with Perl implementation
Comparing /tmp/5nzdLw15gb to t/results/reset_invalid-boundaries.stdout
Output /tmp/5nzdLw15gb looks good.
ok 13 - Computing differences
Testing partial mailbox reset with Cache implementation
Comparing /tmp/eHX2JHs3dI to t/results/reset_invalid-boundaries.stdout
Output /tmp/eHX2JHs3dI looks good.
ok 14 - Computing differences
Testing partial mailbox reset with Grep implementation
ok 15 # skip GNU grep not available
Testing full mailbox reset with Perl implementation
Comparing /tmp/32tLCoy_hk to t/results/reset_invalid-boundaries.stdout
Output /tmp/32tLCoy_hk looks good.
ok 16 - Computing differences
Testing full mailbox reset with Cache implementation
Comparing /tmp/Ke9jAItehT to t/results/reset_invalid-boundaries.stdout
Output /tmp/Ke9jAItehT looks good.
ok 17 - Computing differences
Testing full mailbox reset with Grep implementation
ok 18 # skip GNU grep not available
Testing filename: t/mailboxes/mailarc-1-dos.txt
Testing partial mailbox reset with Perl implementation
Comparing /tmp/QBjWl6yFdH to t/results/reset_mailarc-1-dos.stdout
Output /tmp/QBjWl6yFdH looks good.
ok 19 - Computing differences
Testing partial mailbox reset with Cache implementation
Comparing /tmp/h7pc2h5Vnx to t/results/reset_mailarc-1-dos.stdout
Output /tmp/h7pc2h5Vnx looks good.
ok 20 - Computing differences
Testing partial mailbox reset with Grep implementation
ok 21 # skip GNU grep not available
Testing full mailbox reset with Perl implementation
Comparing /tmp/CQ6jj3sOS1 to t/results/reset_mailarc-1-dos.stdout
Output /tmp/CQ6jj3sOS1 looks good.
ok 22 - Computing differences
Testing full mailbox reset with Cache implementation
Comparing /tmp/K3iEpP67SB to t/results/reset_mailarc-1-dos.stdout
Output /tmp/K3iEpP67SB looks good.
ok 23 - Computing differences
Testing full mailbox reset with Grep implementation
ok 24 # skip GNU grep not available
Testing filename: t/mailboxes/mailarc-1.txt
Testing partial mailbox reset with Perl implementation
Comparing /tmp/DbqHiJXrTg to t/results/reset_mailarc-1.stdout
Output /tmp/DbqHiJXrTg looks good.
ok 25 - Computing differences
Testing partial mailbox reset with Cache implementation
Comparing /tmp/jtn9L2fyK8 to t/results/reset_mailarc-1.stdout
Output /tmp/jtn9L2fyK8 looks good.
ok 26 - Computing differences
Testing partial mailbox reset with Grep implementation
ok 27 # skip GNU grep not available
Testing full mailbox reset with Perl implementation
Comparing /tmp/gV0hkQoKkC to t/results/reset_mailarc-1.stdout
Output /tmp/gV0hkQoKkC looks good.
ok 28 - Computing differences
Testing full mailbox reset with Cache implementation
Comparing /tmp/CmaVrzRLDH to t/results/reset_mailarc-1.stdout
Output /tmp/CmaVrzRLDH looks good.
ok 29 - Computing differences
Testing full mailbox reset with Grep implementation
ok 30 # skip GNU grep not available
Testing filename: t/mailboxes/mailarc-2.txt
Testing partial mailbox reset with Perl implementation
Comparing /tmp/lQ5dkXLzwU to t/results/reset_mailarc-2.stdout
Output /tmp/lQ5dkXLzwU looks good.
ok 31 - Computing differences
Testing partial mailbox reset with Cache implementation
Comparing /tmp/uhtX_cHgk6 to t/results/reset_mailarc-2.stdout
Output /tmp/uhtX_cHgk6 looks good.
ok 32 - Computing differences
Testing partial mailbox reset with Grep implementation
ok 33 # skip GNU grep not available
Testing full mailbox reset with Perl implementation
Comparing /tmp/ewtNR2TtvC to t/results/reset_mailarc-2.stdout
Output /tmp/ewtNR2TtvC looks good.
ok 34 - Computing differences
Testing full mailbox reset with Cache implementation
Comparing /tmp/MTeGqEEdqE to t/results/reset_mailarc-2.stdout
Output /tmp/MTeGqEEdqE looks good.
ok 35 - Computing differences
Testing full mailbox reset with Grep implementation
ok 36 # skip GNU grep not available
Testing filename: t/mailboxes/mailarc-3.txt
Testing partial mailbox reset with Perl implementation
Comparing /tmp/X9UpTfV5TN to t/results/reset_mailarc-3.stdout
Output /tmp/X9UpTfV5TN looks good.
ok 37 - Computing differences
Testing partial mailbox reset with Cache implementation
Comparing /tmp/QYubNiI0yc to t/results/reset_mailarc-3.stdout
Output /tmp/QYubNiI0yc looks good.
ok 38 - Computing differences
Testing partial mailbox reset with Grep implementation
ok 39 # skip GNU grep not available
Testing full mailbox reset with Perl implementation
Comparing /tmp/jpx8K17q3c to t/results/reset_mailarc-3.stdout
Output /tmp/jpx8K17q3c looks good.
ok 40 - Computing differences
Testing full mailbox reset with Cache implementation
Comparing /tmp/sc3EjavRau to t/results/reset_mailarc-3.stdout
Output /tmp/sc3EjavRau looks good.
ok 41 - Computing differences
Testing full mailbox reset with Grep implementation
ok 42 # skip GNU grep not available
Testing filename: t/mailboxes/mailseparators.txt
Testing partial mailbox reset with Perl implementation
Comparing /tmp/WLr11_qLKP to t/results/reset_mailseparators.stdout
Output /tmp/WLr11_qLKP looks good.
ok 43 - Computing differences
Testing partial mailbox reset with Cache implementation
Comparing /tmp/cuzx7egDeA to t/results/reset_mailseparators.stdout
Output /tmp/cuzx7egDeA looks good.
ok 44 - Computing differences
Testing partial mailbox reset with Grep implementation
ok 45 # skip GNU grep not available
Testing full mailbox reset with Perl implementation
Comparing /tmp/jMtg9QZEEq to t/results/reset_mailseparators.stdout
Output /tmp/jMtg9QZEEq looks good.
ok 46 - Computing differences
Testing full mailbox reset with Cache implementation
Comparing /tmp/MwdC4asobu to t/results/reset_mailseparators.stdout
Output /tmp/MwdC4asobu looks good.
ok 47 - Computing differences
Testing full mailbox reset with Grep implementation
ok 48 # skip GNU grep not available
Testing filename: t/mailboxes/malformed.txt
Testing partial mailbox reset with Perl implementation
Comparing /tmp/28GrIlMjHZ to t/results/reset_malformed.stdout
Output /tmp/28GrIlMjHZ looks good.
ok 49 - Computing differences
Testing partial mailbox reset with Cache implementation
Comparing /tmp/prWiLWXDxs to t/results/reset_malformed.stdout
Output /tmp/prWiLWXDxs looks good.
ok 50 - Computing differences
Testing partial mailbox reset with Grep implementation
ok 51 # skip GNU grep not available
Testing full mailbox reset with Perl implementation
Comparing /tmp/2ByR9OMSC_ to t/results/reset_malformed.stdout
Output /tmp/2ByR9OMSC_ looks good.
ok 52 - Computing differences
Testing full mailbox reset with Cache implementation
Comparing /tmp/NJ0YHVw40w to t/results/reset_malformed.stdout
Output /tmp/NJ0YHVw40w looks good.
ok 53 - Computing differences
Testing full mailbox reset with Grep implementation
ok 54 # skip GNU grep not available
Testing filename: t/mailboxes/newlines_at_beginning.txt
Testing partial mailbox reset with Perl implementation
Comparing /tmp/A4_NsWfhua to t/results/reset_newlines_at_beginning.stdout
Output /tmp/A4_NsWfhua looks good.
ok 55 - Computing differences
Testing partial mailbox reset with Cache implementation
Comparing /tmp/MO5OKHGjrv to t/results/reset_newlines_at_beginning.stdout
Output /tmp/MO5OKHGjrv looks good.
ok 56 - Computing differences
Testing partial mailbox reset with Grep implementation
ok 57 # skip GNU grep not available
Testing full mailbox reset with Perl implementation
Comparing /tmp/51vJ__EOgx to t/results/reset_newlines_at_beginning.stdout
Output /tmp/51vJ__EOgx looks good.
ok 58 - Computing differences
Testing full mailbox reset with Cache implementation
Comparing /tmp/psm515mr93 to t/results/reset_newlines_at_beginning.stdout
Output /tmp/psm515mr93 looks good.
ok 59 - Computing differences
Testing full mailbox reset with Grep implementation
ok 60 # skip GNU grep not available
ok
t/separators.t ..................
1..6
Testing filename: t/mailboxes/separators2.sep
ok 1 - Number of emails in t/mailboxes/separators2.sep
ok 2 - Number of emails in t/mailboxes/separators2.sep
ok 3 # skip GNU grep not available
Testing filename: t/mailboxes/separators1.sep
ok 4 - Number of emails in t/mailboxes/separators1.sep
ok 5 - Number of emails in t/mailboxes/separators1.sep
ok 6 # skip GNU grep not available
ok
t/stdin_compressed.t ............
1..4
Testing filename: t/mailboxes/mailarc-2.txt.bz2
Comparing /tmp/2aFhqQgq3i to t/mailboxes/mailarc-2.txt
Output /tmp/2aFhqQgq3i looks good.
ok 1 - Computing differences
Testing filename: t/mailboxes/mailarc-2.txt.gz
Comparing /tmp/lA1vFQYNDC to t/mailboxes/mailarc-2.txt
Output /tmp/lA1vFQYNDC looks good.
ok 2 - Computing differences
Testing filename: t/mailboxes/mailarc-2.txt.lz
ok 3 # skip lzip not available
Testing filename: t/mailboxes/mailarc-2.txt.xz
Comparing /tmp/25TGzh3UTS to t/mailboxes/mailarc-2.txt
Output /tmp/25TGzh3UTS looks good.
ok 4 - Computing differences
ok
t/stdin_uncompressed.t ..........
1..11
Testing filename: t/mailboxes/binary_body.txt
Comparing /tmp/Wop2BvJMci to t/mailboxes/binary_body.txt
Output /tmp/Wop2BvJMci looks good.
ok 1 - Computing differences
Testing filename: t/mailboxes/hessbug.txt
Comparing /tmp/BmGeywObMY to t/mailboxes/hessbug.txt
Output /tmp/BmGeywObMY looks good.
ok 2 - Computing differences
Testing filename: t/mailboxes/invalid-boundaries.txt
Comparing /tmp/U9R33piQiQ to t/mailboxes/invalid-boundaries.txt
Output /tmp/U9R33piQiQ looks good.
ok 3 - Computing differences
Testing filename: t/mailboxes/mailarc-1-dos.txt
Comparing /tmp/hY4H27b_jn to t/mailboxes/mailarc-1-dos.txt
Output /tmp/hY4H27b_jn looks good.
ok 4 - Computing differences
Testing filename: t/mailboxes/mailarc-1.txt
Comparing /tmp/W0_soUl3gp to t/mailboxes/mailarc-1.txt
Output /tmp/W0_soUl3gp looks good.
ok 5 - Computing differences
Testing filename: t/mailboxes/mailarc-2.txt
Comparing /tmp/yCCaYkrAfd to t/mailboxes/mailarc-2.txt
Output /tmp/yCCaYkrAfd looks good.
ok 6 - Computing differences
Testing filename: t/mailboxes/mailarc-3.txt
Comparing /tmp/BUsbunQOWg to t/mailboxes/mailarc-3.txt
Output /tmp/BUsbunQOWg looks good.
ok 7 - Computing differences
Testing filename: t/mailboxes/mailseparators.txt
Comparing /tmp/X79ID5yMsU to t/mailboxes/mailseparators.txt
Output /tmp/X79ID5yMsU looks good.
ok 8 - Computing differences
Testing filename: t/mailboxes/malformed.txt
Comparing /tmp/ZBT5v8Baar to t/mailboxes/malformed.txt
Output /tmp/ZBT5v8Baar looks good.
ok 9 - Computing differences
Testing filename: t/mailboxes/newlines_at_beginning.txt
Comparing /tmp/OM7tNOVZCS to t/mailboxes/newlines_at_beginning.txt
Output /tmp/OM7tNOVZCS looks good.
ok 10 - Computing differences
Testing filename: t/mailboxes/vm-emacs.txt
Comparing /tmp/IBt847yVzg to t/mailboxes/vm-emacs.txt
Output /tmp/IBt847yVzg looks good.
ok 11 - Computing differences
ok
t/undef_return_value.t ..........
1..33
Testing Perl
Comparing /tmp/QAxwWT3Pcn to t/mailboxes/binary_body.txt
Output /tmp/QAxwWT3Pcn looks good.
ok 1 - Computing differences
Testing Cache implementation
Comparing /tmp/8Jic7LBCmz to t/mailboxes/binary_body.txt
Output /tmp/8Jic7LBCmz looks good.
ok 2 - Computing differences
ok 3 # skip GNU grep not available
Testing Perl
Comparing /tmp/CjYFbbDcMz to t/mailboxes/hessbug.txt
Output /tmp/CjYFbbDcMz looks good.
ok 4 - Computing differences
Testing Cache implementation
Comparing /tmp/fVPOYyugp2 to t/mailboxes/hessbug.txt
Output /tmp/fVPOYyugp2 looks good.
ok 5 - Computing differences
ok 6 # skip GNU grep not available
Testing Perl
Comparing /tmp/EgMUdXJQDi to t/mailboxes/invalid-boundaries.txt
Output /tmp/EgMUdXJQDi looks good.
ok 7 - Computing differences
Testing Cache implementation
Comparing /tmp/_125LdjU6n to t/mailboxes/invalid-boundaries.txt
Output /tmp/_125LdjU6n looks good.
ok 8 - Computing differences
ok 9 # skip GNU grep not available
Testing Perl
Comparing /tmp/uZ_HbPQ3rZ to t/mailboxes/mailarc-1-dos.txt
Output /tmp/uZ_HbPQ3rZ looks good.
ok 10 - Computing differences
Testing Cache implementation
Comparing /tmp/ibjlCKiV9N to t/mailboxes/mailarc-1-dos.txt
Output /tmp/ibjlCKiV9N looks good.
ok 11 - Computing differences
ok 12 # skip GNU grep not available
Testing Perl
Comparing /tmp/VmtY6_k75d to t/mailboxes/mailarc-1.txt
Output /tmp/VmtY6_k75d looks good.
ok 13 - Computing differences
Testing Cache implementation
Comparing /tmp/oZae68Yt_q to t/mailboxes/mailarc-1.txt
Output /tmp/oZae68Yt_q looks good.
ok 14 - Computing differences
ok 15 # skip GNU grep not available
Testing Perl
Comparing /tmp/FvEepFVqXG to t/mailboxes/mailarc-2.txt
Output /tmp/FvEepFVqXG looks good.
ok 16 - Computing differences
Testing Cache implementation
Comparing /tmp/MagJwKyUpe to t/mailboxes/mailarc-2.txt
Output /tmp/MagJwKyUpe looks good.
ok 17 - Computing differences
ok 18 # skip GNU grep not available
Testing Perl
Comparing /tmp/nvw8RxRLam to t/mailboxes/mailarc-3.txt
Output /tmp/nvw8RxRLam looks good.
ok 19 - Computing differences
Testing Cache implementation
Comparing /tmp/nSOHYKMjhY to t/mailboxes/mailarc-3.txt
Output /tmp/nSOHYKMjhY looks good.
ok 20 - Computing differences
ok 21 # skip GNU grep not available
Testing Perl
Comparing /tmp/C_djoLButk to t/mailboxes/mailseparators.txt
Output /tmp/C_djoLButk looks good.
ok 22 - Computing differences
Testing Cache implementation
Comparing /tmp/2t3NNmVQT8 to t/mailboxes/mailseparators.txt
Output /tmp/2t3NNmVQT8 looks good.
ok 23 - Computing differences
ok 24 # skip GNU grep not available
Testing Perl
Comparing /tmp/HvjKilw3zq to t/mailboxes/malformed.txt
Output /tmp/HvjKilw3zq looks good.
ok 25 - Computing differences
Testing Cache implementation
Comparing /tmp/pkmm6DwC6G to t/mailboxes/malformed.txt
Output /tmp/pkmm6DwC6G looks good.
ok 26 - Computing differences
ok 27 # skip GNU grep not available
Testing Perl
Comparing /tmp/Fbblv3uvmj to t/mailboxes/newlines_at_beginning.txt
Output /tmp/Fbblv3uvmj looks good.
ok 28 - Computing differences
Testing Cache implementation
Comparing /tmp/s28wXMzbUa to t/mailboxes/newlines_at_beginning.txt
Output /tmp/s28wXMzbUa looks good.
ok 29 - Computing differences
ok 30 # skip GNU grep not available
Testing Perl
Comparing /tmp/I7cV3zXy1O to t/mailboxes/vm-emacs.txt
Output /tmp/I7cV3zXy1O looks good.
ok 31 - Computing differences
Testing Cache implementation
Comparing /tmp/WEiXAFRi2K to t/mailboxes/vm-emacs.txt
Output /tmp/WEiXAFRi2K looks good.
ok 32 - Computing differences
ok 33 # skip GNU grep not available
ok
t/xz.t ..........................
1..1
Running test:
"/bin/cat" "t/mailboxes/mailarc-2.txt.xz" | "/usr/bin/xz" -cd
Comparing /tmp/5RG4zjQaJw to t/results/mailarc-2.txt
Output /tmp/5RG4zjQaJw looks good.
Comparing /tmp/abP2B69bP7 to t/results/none
Output /tmp/abP2B69bP7 looks good.
ok 1 - Computing differences
ok
All tests successful.
Files=25, Tests=370, 5 wallclock secs ( 0.13 usr 0.02 sys + 2.50 cusr 1.80 csys = 4.45 CPU)
Result: PASS
PREREQUISITES:
Here is a list of prerequisites you specified and versions we
managed to load:
Module Name Have Want
ExtUtils::MakeMaker 7.34 6.36
File::Path 2.15 2.08
File::Slurper 0.012 0
FileHandle::Unget 0.1634 0
Storable 3.11 0
Test::Compile v1.3.0 0
Test::More 1.302136 0
Text::Diff 1.45 0
UNIVERSAL::require 0.18 0
URI::Escape 3.31 0
Perl module toolchain versions installed:
Module Name Have
CPANPLUS 0.9176
CPANPLUS::Dist::Build 0.90
Cwd 3.74
ExtUtils::CBuilder 0.280230
ExtUtils::Command 7.34
ExtUtils::Install 2.14
ExtUtils::MakeMaker 7.34
ExtUtils::Manifest 1.71
ExtUtils::ParseXS 3.35
File::Spec 3.74
Module::Build 0.4224
Pod::Parser 1.37
Pod::Simple 3.16
Test2 1.302136
Test::Harness 3.42
Test::More 1.302136
version 0.9924
******************************** NOTE ********************************
The comments above are created mechanically, possibly without manual
checking by the sender. As there are many people performing automatic
tests on each upload to CPAN, it is likely that you will receive
identical messages about the same problem.
If you believe that the message is mistaken, please reply to the first
one with correction and/or additional informations, and do not take
it personally. We appreciate your patience. :)
**********************************************************************
Additional comments:
This report was machine-generated by CPANPLUS::Dist::YACSmoke 1.02.
Powered by minismokebox version 0.68
------------------------------
ENVIRONMENT AND OTHER CONTEXT
------------------------------
Environment variables:
AUTOMATED_TESTING = 1
LANG = en_GB.UTF-8
LANGUAGE = en_GB:en
NONINTERACTIVE_TESTING = 1
PATH = /usr/local/bin:/usr/bin:/bin:/usr/local/games:/usr/games
PERL5LIB = :/home/cpan/pit/thr/conf/perl-5.14.3/.cpanplus/5.14.3/build/KDJMTXrmWS/Test-Needs-0.002005/blib/lib:/home/cpan/pit/thr/conf/perl-5.14.3/.cpanplus/5.14.3/build/KDJMTXrmWS/Test-Needs-0.002005/blib/arch:/home/cpan/pit/thr/conf/perl-5.14.3/.cpanplus/5.14.3/build/OSbLXyaSk8/URI-1.74/blib/lib:/home/cpan/pit/thr/conf/perl-5.14.3/.cpanplus/5.14.3/build/OSbLXyaSk8/URI-1.74/blib/arch:/home/cpan/pit/thr/conf/perl-5.14.3/.cpanplus/5.14.3/build/g1KYvKcsL5/Test-Warnings-0.026/blib/lib:/home/cpan/pit/thr/conf/perl-5.14.3/.cpanplus/5.14.3/build/g1KYvKcsL5/Test-Warnings-0.026/blib/arch:/home/cpan/pit/thr/conf/perl-5.14.3/.cpanplus/5.14.3/build/8e_t_zXtxp/File-Slurper-0.012/blib/lib:/home/cpan/pit/thr/conf/perl-5.14.3/.cpanplus/5.14.3/build/8e_t_zXtxp/File-Slurper-0.012/blib/arch:/home/cpan/pit/thr/conf/perl-5.14.3/.cpanplus/5.14.3/build/PlMJcpiOlA/UNIVERSAL-require-0.18/blib/lib:/home/cpan/pit/thr/conf/perl-5.14.3/.cpanplus/5.14.3/build/PlMJcpiOlA/UNIVERSAL-require-0.18/blib/arch:/home/cpan/pit/thr/conf/perl-5.14.3/.cpanplus/5.14.3/build/lfiLO8_Q2c/Test-Compile-v1.3.0/blib/lib:/home/cpan/pit/thr/conf/perl-5.14.3/.cpanplus/5.14.3/build/lfiLO8_Q2c/Test-Compile-v1.3.0/blib/arch:/home/cpan/pit/thr/conf/perl-5.14.3/.cpanplus/5.14.3/build/HYe9ebKUuk/FileHandle-Unget-0.1634/blib/lib:/home/cpan/pit/thr/conf/perl-5.14.3/.cpanplus/5.14.3/build/HYe9ebKUuk/FileHandle-Unget-0.1634/blib/arch:/home/cpan/pit/thr/conf/perl-5.14.3/.cpanplus/5.14.3/build/GNaYgLQCx0/Algorithm-Diff-1.1903/blib/lib:/home/cpan/pit/thr/conf/perl-5.14.3/.cpanplus/5.14.3/build/GNaYgLQCx0/Algorithm-Diff-1.1903/blib/arch:/home/cpan/pit/thr/conf/perl-5.14.3/.cpanplus/5.14.3/build/pZNkPGlIOH/Text-Diff-1.45/blib/lib:/home/cpan/pit/thr/conf/perl-5.14.3/.cpanplus/5.14.3/build/pZNkPGlIOH/Text-Diff-1.45/blib/arch:/home/cpan/pit/thr/conf/perl-5.14.3/.cpanplus/5.14.3/build/MTG9VJ_wU6/Mail-Mbox-MessageParser-1.5111/blib/lib:/home/cpan/pit/thr/conf/perl-5.14.3/.cpanplus/5.14.3/build/MTG9VJ_wU6/Mail-Mbox-MessageParser-1.5111/blib/arch
PERL5_CPANPLUS_IS_RUNNING = 34856
PERL5_CPANPLUS_IS_VERSION = 0.9176
PERL5_MINISMOKEBOX = 0.68
PERL5_YACSMOKE_BASE = /home/cpan/pit/thr/conf/perl-5.14.3
PERL_EXTUTILS_AUTOINSTALL = --defaultdeps
PERL_MM_USE_DEFAULT = 1
SHELL = /bin/bash
TERM = screen
Perl special variables (and OS-specific diagnostics, for MSWin32):
Perl: $^X = /home/cpan/pit/thr/perl-5.14.3/bin/perl
UID: $< = 1001
EUID: $> = 1001
GID: $( = 1001 1001
EGID: $) = 1001 1001
-------------------------------
--
Summary of my perl5 (revision 5 version 14 subversion 3) configuration:
Platform:
osname=gnukfreebsd, osvers=10.1-0-amd64, archname=x86_64-gnukfreebsd-thread-multi
uname='gnukfreebsd kondor 10.1-0-amd64 #0 wed, 16 mar 2016 23:16:33 +0000 x86_64 amd64 qemu virtual cpu version 2.0.0 gnukfreebsd '
config_args='-des -Dprefix=/home/cpan/pit/thr/perl-5.14.3 -Dusethreads'
hint=recommended, useposix=true, d_sigaction=define
useithreads=define, usemultiplicity=define
useperlio=define, d_sfio=undef, uselargefiles=define, usesocks=undef
use64bitint=define, use64bitall=define, uselongdouble=undef
usemymalloc=n, bincompat5005=undef
Compiler:
cc='cc', ccflags ='-D_REENTRANT -D_GNU_SOURCE -fno-strict-aliasing -pipe -fstack-protector -I/usr/local/include -D_LARGEFILE_SOURCE -D_FILE_OFFSET_BITS=64',
optimize='-O2',
cppflags='-D_REENTRANT -D_GNU_SOURCE -fno-strict-aliasing -pipe -fstack-protector -I/usr/local/include'
ccversion='', gccversion='4.9.2', gccosandvers=''
intsize=4, longsize=8, ptrsize=8, doublesize=8, byteorder=12345678
d_longlong=define, longlongsize=8, d_longdbl=define, longdblsize=16
ivtype='long', ivsize=8, nvtype='double', nvsize=8, Off_t='off_t', lseeksize=8
alignbytes=8, prototype=define
Linker and Libraries:
ld='cc', ldflags =' -fstack-protector -L/usr/local/lib'
libpth=/usr/local/lib /lib/x86_64-kfreebsd-gnu /lib/../lib /usr/lib/x86_64-kfreebsd-gnu /usr/lib/../lib /lib /usr/lib
libs=-lnsl -lgdbm -ldl -lm -lcrypt -lutil -lpthread -lc -lgdbm_compat
perllibs=-lnsl -ldl -lm -lcrypt -lutil -lpthread -lc
libc=/usr/lib/x86_64-kfreebsd-gnu/libc.so, so=so, useshrplib=false, libperl=libperl.a
gnulibc_version='2.19'
Dynamic Linking:
dlsrc=dl_dlopen.xs, dlext=so, d_dlsymun=undef, ccdlflags='-Wl,-E'
cccdlflags='-fpic', lddlflags='-shared -O2 -L/usr/local/lib -fstack-protector'
Characteristics of this binary (from libperl):
Compile-time options: MULTIPLICITY PERL_DONT_CREATE_GVSV
PERL_IMPLICIT_CONTEXT PERL_MALLOC_WRAP
PERL_PRESERVE_IVUV USE_64_BIT_ALL USE_64_BIT_INT
USE_ITHREADS USE_LARGE_FILES USE_PERLIO USE_PERL_ATOF
USE_REENTRANT_API
Locally applied patches:
Devel::PatchPerl 1.42
Built under gnukfreebsd
Compiled at May 7 2016 04:03:36
%ENV:
PERL5LIB=":/home/cpan/pit/thr/conf/perl-5.14.3/.cpanplus/5.14.3/build/KDJMTXrmWS/Test-Needs-0.002005/blib/lib:/home/cpan/pit/thr/conf/perl-5.14.3/.cpanplus/5.14.3/build/KDJMTXrmWS/Test-Needs-0.002005/blib/arch:/home/cpan/pit/thr/conf/perl-5.14.3/.cpanplus/5.14.3/build/OSbLXyaSk8/URI-1.74/blib/lib:/home/cpan/pit/thr/conf/perl-5.14.3/.cpanplus/5.14.3/build/OSbLXyaSk8/URI-1.74/blib/arch:/home/cpan/pit/thr/conf/perl-5.14.3/.cpanplus/5.14.3/build/g1KYvKcsL5/Test-Warnings-0.026/blib/lib:/home/cpan/pit/thr/conf/perl-5.14.3/.cpanplus/5.14.3/build/g1KYvKcsL5/Test-Warnings-0.026/blib/arch:/home/cpan/pit/thr/conf/perl-5.14.3/.cpanplus/5.14.3/build/8e_t_zXtxp/File-Slurper-0.012/blib/lib:/home/cpan/pit/thr/conf/perl-5.14.3/.cpanplus/5.14.3/build/8e_t_zXtxp/File-Slurper-0.012/blib/arch:/home/cpan/pit/thr/conf/perl-5.14.3/.cpanplus/5.14.3/build/PlMJcpiOlA/UNIVERSAL-require-0.18/blib/lib:/home/cpan/pit/thr/conf/perl-5.14.3/.cpanplus/5.14.3/build/PlMJcpiOlA/UNIVERSAL-require-0.18/blib/arch:/home/cpan/pit/thr/conf/perl-5.14.3/.cpanplus/5.14.3/build/lfiLO8_Q2c/Test-Compile-v1.3.0/blib/lib:/home/cpan/pit/thr/conf/perl-5.14.3/.cpanplus/5.14.3/build/lfiLO8_Q2c/Test-Compile-v1.3.0/blib/arch:/home/cpan/pit/thr/conf/perl-5.14.3/.cpanplus/5.14.3/build/HYe9ebKUuk/FileHandle-Unget-0.1634/blib/lib:/home/cpan/pit/thr/conf/perl-5.14.3/.cpanplus/5.14.3/build/HYe9ebKUuk/FileHandle-Unget-0.1634/blib/arch:/home/cpan/pit/thr/conf/perl-5.14.3/.cpanplus/5.14.3/build/GNaYgLQCx0/Algorithm-Diff-1.1903/blib/lib:/home/cpan/pit/thr/conf/perl-5.14.3/.cpanplus/5.14.3/build/GNaYgLQCx0/Algorithm-Diff-1.1903/blib/arch:/home/cpan/pit/thr/conf/perl-5.14.3/.cpanplus/5.14.3/build/pZNkPGlIOH/Text-Diff-1.45/blib/lib:/home/cpan/pit/thr/conf/perl-5.14.3/.cpanplus/5.14.3/build/pZNkPGlIOH/Text-Diff-1.45/blib/arch:/home/cpan/pit/thr/conf/perl-5.14.3/.cpanplus/5.14.3/build/MTG9VJ_wU6/Mail-Mbox-MessageParser-1.5111/blib/lib:/home/cpan/pit/thr/conf/perl-5.14.3/.cpanplus/5.14.3/build/MTG9VJ_wU6/Mail-Mbox-MessageParser-1.5111/blib/arch"
PERL5_CPANPLUS_IS_RUNNING="34856"
PERL5_CPANPLUS_IS_VERSION="0.9176"
PERL5_MINISMOKEBOX="0.68"
PERL5_YACSMOKE_BASE="/home/cpan/pit/thr/conf/perl-5.14.3"
PERL_EXTUTILS_AUTOINSTALL="--defaultdeps"
PERL_MM_USE_DEFAULT="1"
@INC:
/home/cpan/pit/thr/conf/perl-5.14.3/.cpanplus/5.14.3/build/KDJMTXrmWS/Test-Needs-0.002005/blib/lib
/home/cpan/pit/thr/conf/perl-5.14.3/.cpanplus/5.14.3/build/KDJMTXrmWS/Test-Needs-0.002005/blib/arch
/home/cpan/pit/thr/conf/perl-5.14.3/.cpanplus/5.14.3/build/OSbLXyaSk8/URI-1.74/blib/lib
/home/cpan/pit/thr/conf/perl-5.14.3/.cpanplus/5.14.3/build/OSbLXyaSk8/URI-1.74/blib/arch
/home/cpan/pit/thr/conf/perl-5.14.3/.cpanplus/5.14.3/build/g1KYvKcsL5/Test-Warnings-0.026/blib/lib
/home/cpan/pit/thr/conf/perl-5.14.3/.cpanplus/5.14.3/build/g1KYvKcsL5/Test-Warnings-0.026/blib/arch
/home/cpan/pit/thr/conf/perl-5.14.3/.cpanplus/5.14.3/build/8e_t_zXtxp/File-Slurper-0.012/blib/lib
/home/cpan/pit/thr/conf/perl-5.14.3/.cpanplus/5.14.3/build/8e_t_zXtxp/File-Slurper-0.012/blib/arch
/home/cpan/pit/thr/conf/perl-5.14.3/.cpanplus/5.14.3/build/PlMJcpiOlA/UNIVERSAL-require-0.18/blib/lib
/home/cpan/pit/thr/conf/perl-5.14.3/.cpanplus/5.14.3/build/PlMJcpiOlA/UNIVERSAL-require-0.18/blib/arch
/home/cpan/pit/thr/conf/perl-5.14.3/.cpanplus/5.14.3/build/lfiLO8_Q2c/Test-Compile-v1.3.0/blib/lib
/home/cpan/pit/thr/conf/perl-5.14.3/.cpanplus/5.14.3/build/lfiLO8_Q2c/Test-Compile-v1.3.0/blib/arch
/home/cpan/pit/thr/conf/perl-5.14.3/.cpanplus/5.14.3/build/HYe9ebKUuk/FileHandle-Unget-0.1634/blib/lib
/home/cpan/pit/thr/conf/perl-5.14.3/.cpanplus/5.14.3/build/HYe9ebKUuk/FileHandle-Unget-0.1634/blib/arch
/home/cpan/pit/thr/conf/perl-5.14.3/.cpanplus/5.14.3/build/GNaYgLQCx0/Algorithm-Diff-1.1903/blib/lib
/home/cpan/pit/thr/conf/perl-5.14.3/.cpanplus/5.14.3/build/GNaYgLQCx0/Algorithm-Diff-1.1903/blib/arch
/home/cpan/pit/thr/conf/perl-5.14.3/.cpanplus/5.14.3/build/pZNkPGlIOH/Text-Diff-1.45/blib/lib
/home/cpan/pit/thr/conf/perl-5.14.3/.cpanplus/5.14.3/build/pZNkPGlIOH/Text-Diff-1.45/blib/arch
/home/cpan/pit/thr/conf/perl-5.14.3/.cpanplus/5.14.3/build/MTG9VJ_wU6/Mail-Mbox-MessageParser-1.5111/blib/lib
/home/cpan/pit/thr/conf/perl-5.14.3/.cpanplus/5.14.3/build/MTG9VJ_wU6/Mail-Mbox-MessageParser-1.5111/blib/arch
/home/cpan/pit/thr/perl-5.14.3/lib/site_perl/5.14.3/x86_64-gnukfreebsd-thread-multi
/home/cpan/pit/thr/perl-5.14.3/lib/site_perl/5.14.3
/home/cpan/pit/thr/perl-5.14.3/lib/5.14.3/x86_64-gnukfreebsd-thread-multi
/home/cpan/pit/thr/perl-5.14.3/lib/5.14.3
.