JSON-Schema-Modern v0.609 Perl 5 v5.26.2 darwin-thread-multi-2level

Status
Pass
From
David Cantrell (DCANTRELL)
Dist
JSON-Schema-Modern v0.609
Platform
Perl 5 v5.26.2 darwin-thread-multi-2level
Date
2025-04-21 21:37:00
ID
c2098be0-1ef8-11f0-ba70-a728618cf63c
This distribution has been tested as part of the CPAN Testers
project, supporting the Perl programming language.  See
http://wiki.cpantesters.org/ for more information or email
questions to cpan-testers-discuss@perl.org


--
Dear Karen Etheridge,

This is a computer-generated report for JSON-Schema-Modern-0.609
on perl 5.26.2, created by CPAN-Reporter-1.2019.

Thank you for uploading your work to CPAN.  Congratulations!
All tests were successful.

Sections of this report:

    * Tester comments
    * Program output
    * Prerequisites
    * Environment and other context

------------------------------
TESTER COMMENTS
------------------------------

Additional comments from tester:

this report is from an automated smoke testing program
and was not reviewed by a human for accuracy

------------------------------
PROGRAM OUTPUT
------------------------------

Output from './Build test':

# 
# Versions for all modules listed in MYMETA.json (including optional ones):
# 
# === Configure Requires ===
# 
#     Module               Want     Have
#     ------------------- ----- --------
#     Module::Build::Tiny 0.034    0.051
#     perl                5.020 5.026002
# 
# === Test Requires ===
# 
#     Module                             Want     Have
#     ------------------------------ -------- --------
#     CPAN::Meta::Check                 0.011    0.018
#     CPAN::Meta::Requirements            any    2.143
#     Data::Dumper                        any    2.167
#     File::Spec                          any     3.67
#     Math::BigInt                   1.999701 1.999806
#     Module::Metadata                    any 1.000033
#     Term::ANSIColor                     any     4.06
#     Test2::API                          any 1.302210
#     Test::Deep                          any    1.130
#     Test::Deep::UnorderedPairs          any    0.006
#     Test::Fatal                         any    0.016
#     Test::File::ShareDir                any 1.001002
#     Test::JSON::Schema::Acceptance    1.021    1.027
#     Test::Memory::Cycle                 any     1.06
#     Test::More                         0.96 1.302210
#     Test::Needs                         any 0.002006
#     Test::Warnings                      any    0.030
#     Test::Without::Module              0.19     0.23
#     lib                                 any     0.64
#     perl                            v5.20.0 5.026002
#     utf8                                any     1.19
# 
# === Test Recommends ===
# 
#     Module         Want     Have
#     ---------- -------- --------
#     CPAN::Meta 2.120900 2.150010
# 
# === Runtime Requires ===
# 
#     Module                        Want     Have
#     ------------------------- -------- --------
#     B                              any     1.68
#     Carp                           any     1.42
#     Cpanel::JSON::XS              4.38     4.39
#     Digest::MD5                    any     2.55
#     Exporter                       any     5.72
#     Feature::Compat::Try           any     0.05
#     File::ShareDir                 any    1.118
#     Getopt::Long::Descriptive      any    0.116
#     JSON::PP                      4.11     4.16
#     List::Util                    1.55     1.69
#     MIME::Base64                   any     3.15
#     Math::BigFloat                 any 1.999806
#     Math::BigInt              1.999701 1.999806
#     Mojo::JSON                     any    undef
#     Mojo::JSON::Pointer            any    undef
#     Mojo::Message::Response        any    undef
#     Mojo::URL                      any    undef
#     Mojolicious                   7.87     9.39
#     Moo                            any 2.005005
#     Moo::Role                      any 2.005005
#     MooX::TypeTiny            0.002002 0.002003
#     Path::Tiny                     any    0.114
#     Ref::Util                    0.100    0.204
#     Safe::Isa                 1.000008 1.000010
#     Scalar::Util                   any     1.69
#     Storable                       any     2.62
#     Sub::Install                   any    0.928
#     Types::Common::Numeric         any 2.008001
#     Types::Standard           1.016003 2.008001
#     autovivification               any     0.18
#     builtin::compat           0.003003 0.003003
#     constant                       any     1.33
#     experimental                 0.026    0.034
#     if                             any   0.0606
#     namespace::clean               any     0.27
#     open                           any     1.11
#     overload                       any     1.28
#     perl                       v5.20.0 5.026002
#     stable                       0.031    0.034
#     strict                         any     1.11
#     strictures                       2 2.000006
#     warnings                       any     1.37
# 
# === Runtime Suggests ===
# 
#     Module                    Want    Have
#     ------------------------- ---- -------
#     Class::XSAccessor          any    1.19
#     Data::Validate::Domain    0.13 missing
#     DateTime::Format::RFC3339  any missing
#     Email::Address::XS        1.04 missing
#     Net::IDN::Encode           any missing
#     Ref::Util::XS              any   0.117
#     Sereal                     any missing
#     Time::Moment               any missing
#     Type::Tiny::XS             any   0.025
# 
# === Other Modules ===
# 
#     Module                Have
#     ----------------- --------
#     Cpanel::JSON::XS      4.39
#     Encode                2.88
#     File::Temp          0.2304
#     JSON::PP              4.16
#     JSON::XS           missing
#     Math::BigFloat    1.999806
#     Math::BigInt      1.999806
#     Module::Runtime      0.017
#     Mojolicious           9.39
#     Sereal::Decoder    missing
#     Sereal::Encoder    missing
#     Sub::Name          missing
#     YAML               missing
#     autodie               2.29
#     builtin            missing
#     builtin::Backport  missing
# 
t/00-report-prereqs.t ................... ok
t/add-schema.t .......................... ok
# 
# AUTHOR_TESTING: <undef>
# AUTOMATED_TESTING: 1
# EXTENDED_TESTING: <undef>
# NO_TODO: <undef>
# TEST_DIR: <undef>
# NO_SHORT_CIRCUIT: <undef>
# 
# 
# generated with:              Test::JSON::Schema::Acceptance 1.027
# specification version:       draft2019-09
# using custom test directory: t/additional-tests-draft2019-09
# optional tests included:     yes
# 
# filename                                  pass  todo-fail  fail
# ---------------------------------------------------------------
# anchor.json                                  2          0     0
# annotation-collection.json                  10          0     0
# badRef.json                                  3          0     0
# faux-buggy-schemas.json                      2          0     0
# format-duration.json                         9          0     0
# format-ipv4.json                             4          0     0
# format-ipv6.json                            17          0     0
# format-relative-json-pointer.json            7          0     0
# formats.json                                 4          0     0
# id.json                                      6          0     0
# integers.json                               29          0     0
# keyword-independence.json                  812          0     0
# loose-types-const-enum.json                  8          0     0
# recursive-dynamic.json                       4          0     0
# ref-and-id.json                              6          0     0
# ref.json                                    10          0     0
# short-circuit.json                          20          0     0
# unknownKeyword.json                          4          0     0
# vocabulary.json                              5          0     0
# optional/format-date-time.json               2          2     0
# optional/format-date.json                    1          0     0
# optional/format-time.json                   13          0     0
# ---------------------------------------------------------------
# TOTAL                                      978          2     0
# 
# Congratulations, all non-optional tests are passing!
# 
t/additional-tests-draft2019-09.t ....... ok
# 
# AUTHOR_TESTING: <undef>
# AUTOMATED_TESTING: 1
# EXTENDED_TESTING: <undef>
# NO_TODO: <undef>
# TEST_DIR: <undef>
# NO_SHORT_CIRCUIT: <undef>
# 
# 
# generated with:              Test::JSON::Schema::Acceptance 1.027
# specification version:       draft2020-12
# using custom test directory: t/additional-tests-draft2020-12
# optional tests included:     yes
# 
# filename                                  pass  todo-fail  fail
# ---------------------------------------------------------------
# anchor.json                                  2          0     0
# annotation-collection.json                  10          0     0
# badRef.json                                  3          0     0
# dynamicRef.json                              7          0     0
# faux-buggy-schemas.json                      2          0     0
# format-duration.json                         9          0     0
# format-ipv4.json                             4          0     0
# format-ipv6.json                            17          0     0
# format-relative-json-pointer.json            7          0     0
# formats.json                                 4          0     0
# id.json                                      6          0     0
# integers.json                               29          0     0
# keyword-independence.json                  884          0     0
# loose-types-const-enum.json                  8          0     0
# recursive-dynamic.json                       2          0     0
# ref-and-id.json                              6          0     0
# ref.json                                    10          0     0
# short-circuit.json                          20          0     0
# unknownKeyword.json                          4          0     0
# vocabulary.json                             11          0     0
# optional/format-date-time.json               2          2     0
# optional/format-date.json                    1          0     0
# optional/format-time.json                   13          0     0
# ---------------------------------------------------------------
# TOTAL                                     1061          2     0
# 
# Congratulations, all non-optional tests are passing!
# 
t/additional-tests-draft2020-12.t ....... ok
# 
# AUTHOR_TESTING: <undef>
# AUTOMATED_TESTING: 1
# EXTENDED_TESTING: <undef>
# NO_TODO: <undef>
# TEST_DIR: <undef>
# NO_SHORT_CIRCUIT: <undef>
# 
# 
# generated with:              Test::JSON::Schema::Acceptance 1.027
# specification version:       draft7
# using custom test directory: t/additional-tests-draft7
# optional tests included:     yes
# 
# filename                                  pass  todo-fail  fail
# ---------------------------------------------------------------
# badRef.json                                  3          0     0
# faux-buggy-schemas.json                      2          0     0
# format-ipv4.json                             4          0     0
# format-relative-json-pointer.json            7          0     0
# id.json                                      9          0     0
# integers.json                               29          0     0
# keyword-independence.json                  636          0     0
# loose-types-const-enum.json                  8          0     0
# not-an-anchor.json                           2          0     0
# not-an-id.json                               2          0     0
# ref-and-id.json                              2          0     0
# ref.json                                    10          0     0
# short-circuit.json                          16          0     0
# unknownKeyword.json                          8          0     0
# vocabulary.json                              3          0     0
# optional/format-date-time.json               2          2     0
# optional/format-date.json                    1          0     0
# optional/format-time.json                   13          0     0
# ---------------------------------------------------------------
# TOTAL                                      757          2     0
# 
# Congratulations, all non-optional tests are passing!
# 
t/additional-tests-draft7.t ............. ok
t/annotations.t ......................... ok
t/boolean-data.t ........................ ok
t/boolean-schemas.t ..................... ok
t/cached-metaschemas.t .................. ok
t/callbacks.t ........................... ok
t/checksums.t ........................... ok
t/content-encoding.t .................... ok
t/dialects.t ............................ ok
t/document.t ............................ ok
t/equality.t ............................ ok
t/errors.t .............................. ok
t/evaluate_json_string.t ................ ok
t/find-identifiers.t .................... ok
t/formats.t ............................. ok
# 
# AUTHOR_TESTING: <undef>
# AUTOMATED_TESTING: 1
# EXTENDED_TESTING: <undef>
# NO_TODO: <undef>
# TEST_DIR: <undef>
# NO_SHORT_CIRCUIT: <undef>
# 
# 
# generated with:              Test::JSON::Schema::Acceptance 1.027
# specification version:       draft2019-09
# using custom test directory: t/invalid-schemas
# optional tests included:     no
# 
# filename                                  pass  todo-fail  fail
# ---------------------------------------------------------------
# invalid-input.json                           2          0     0
# ref.json                                     2          0     0
# vocabulary.json                              4          0     0
# ---------------------------------------------------------------
# TOTAL                                        8          0     0
# 
# Congratulations, all non-optional tests are passing!
# 
# 
# AUTHOR_TESTING: <undef>
# AUTOMATED_TESTING: 1
# EXTENDED_TESTING: <undef>
# NO_TODO: <undef>
# TEST_DIR: <undef>
# NO_SHORT_CIRCUIT: <undef>
# 
# 
# generated with:              Test::JSON::Schema::Acceptance 1.027
# specification version:       draft2020-12
# using custom test directory: t/invalid-schemas
# optional tests included:     no
# 
# filename                                  pass  todo-fail  fail
# ---------------------------------------------------------------
# invalid-input.json                           2          0     0
# ref.json                                     2          0     0
# vocabulary.json                              4          0     0
# ---------------------------------------------------------------
# TOTAL                                        8          0     0
# 
# Congratulations, all non-optional tests are passing!
# 
t/invalid-schemas.t ..................... ok
t/max_traversal_depth.t ................. ok
t/multipleOf.t .......................... ok
t/output_format.t ....................... ok
t/pattern.t ............................. ok
t/ref.t ................................. ok
t/serialization.t ....................... skipped: Need Sereal::Encoder, Sereal::Decoder
t/specification_version.t ............... ok
t/strict.t .............................. ok
t/stringy-numbers.t ..................... ok
t/traverse.t ............................ ok
t/type.t ................................ ok
t/unsupported-keywords.t ................ ok
t/validate-schema.t ..................... ok
t/vocabularies.t ........................ ok
# 
# AUTHOR_TESTING: <undef>
# AUTOMATED_TESTING: 1
# EXTENDED_TESTING: <undef>
# NO_TODO: <undef>
# TEST_DIR: <undef>
# NO_SHORT_CIRCUIT: <undef>
# 
# 
# generated with:              Test::JSON::Schema::Acceptance 1.027
# with commit:                 e524505b8ac4a61c5dc162b51d68c2385a134706 (Test-JSON-Schema-Acceptance-1.026-16-ge524505)
# from repository:             git://github.com/json-schema-org/JSON-Schema-Test-Suite.git
# specification version:       draft2019-09
# using custom test directory: <base test directory>/optional/format
# optional tests included:     yes
# 
# filename                                  pass  todo-fail  fail
# ---------------------------------------------------------------
# date-time.json                              22          3     0
# date.json                                   39          8     0
# duration.json                               26          0     0
# email.json                                  11          4     0
# hostname.json                               14         11     0
# idn-email.json                               8          2     0
# idn-hostname.json                           27         31     0
# ipv4.json                                   16          0     0
# ipv6.json                                   40          0     0
# iri-reference.json                          11          2     0
# iri.json                                    14          1     0
# json-pointer.json                           38          0     0
# regex.json                                   8          0     0
# relative-json-pointer.json                  18          0     0
# time.json                                   45          0     0
# unknown.json                                 7          0     0
# uri-reference.json                          13          0     0
# uri-template.json                            9          1     0
# uri.json                                    25          1     0
# uuid.json                                   21          0     0
# ---------------------------------------------------------------
# TOTAL                                      412         64     0
# 
# Congratulations, all non-optional tests are passing!
# 
t/zzz-acceptance-draft2019-09-format.t .. ok
# 
# AUTHOR_TESTING: <undef>
# AUTOMATED_TESTING: 1
# EXTENDED_TESTING: <undef>
# NO_TODO: <undef>
# TEST_DIR: <undef>
# NO_SHORT_CIRCUIT: <undef>
# 
# 
# generated with:              Test::JSON::Schema::Acceptance 1.027
# with commit:                 e524505b8ac4a61c5dc162b51d68c2385a134706 (Test-JSON-Schema-Acceptance-1.026-16-ge524505)
# from repository:             git://github.com/json-schema-org/JSON-Schema-Test-Suite.git
# specification version:       draft2019-09
# optional tests included:     yes
# skipping directory:          optional/format
# 
# filename                                  pass  todo-fail  fail
# ---------------------------------------------------------------
# additionalItems.json                        20          0     0
# additionalProperties.json                   21          0     0
# allOf.json                                  30          0     0
# anchor.json                                  8          0     0
# anyOf.json                                  18          0     0
# boolean_schema.json                         18          0     0
# const.json                                  50          0     0
# contains.json                               21          0     0
# content.json                                18          0     0
# default.json                                 7          0     0
# defs.json                                    2          0     0
# dependentRequired.json                      20          0     0
# dependentSchemas.json                       20          0     0
# enum.json                                   45          0     0
# exclusiveMaximum.json                        4          0     0
# exclusiveMinimum.json                        4          0     0
# format.json                                114          0     0
# if-then-else.json                           26          0     0
# infinite-loop-detection.json                 2          0     0
# items.json                                  28          0     0
# maxContains.json                            12          0     0
# maxItems.json                                6          0     0
# maxLength.json                               7          0     0
# maxProperties.json                          10          0     0
# maximum.json                                 8          0     0
# minContains.json                            28          0     0
# minItems.json                                6          0     0
# minLength.json                               7          0     0
# minProperties.json                           8          0     0
# minimum.json                                11          0     0
# multipleOf.json                             10          0     0
# not.json                                    40          0     0
# oneOf.json                                  27          0     0
# pattern.json                                 9          0     0
# patternProperties.json                      23          0     0
# properties.json                             28          0     0
# propertyNames.json                          13          0     0
# recursiveRef.json                           34          0     0
# ref.json                                    79          0     0
# refRemote.json                              31          0     0
# required.json                               16          0     0
# type.json                                   80          0     0
# unevaluatedItems.json                       55          0     0
# unevaluatedProperties.json                 122          0     0
# uniqueItems.json                            69          0     0
# vocabulary.json                              5          0     0
# optional/anchor.json                         4          0     0
# optional/bignum.json                         9          0     0
# optional/cross-draft.json                    3          0     0
# optional/dependencies-compatibility.json    22         14     0
# optional/ecmascript-regex.json              60         14     0
# optional/float-overflow.json                 1          0     0
# optional/id.json                             3          0     0
# optional/no-schema.json                      3          0     0
# optional/non-bmp-regex.json                 12          0     0
# optional/refOfUnknownKeyword.json            3          3     0
# optional/unknownKeyword.json                 3          0     0
# ---------------------------------------------------------------
# TOTAL                                     1343         31     0
# 
# Congratulations, all non-optional tests are passing!
# 
t/zzz-acceptance-draft2019-09.t ......... ok
# 
# AUTHOR_TESTING: <undef>
# AUTOMATED_TESTING: 1
# EXTENDED_TESTING: <undef>
# NO_TODO: <undef>
# TEST_DIR: <undef>
# NO_SHORT_CIRCUIT: <undef>
# 
# 
# generated with:              Test::JSON::Schema::Acceptance 1.027
# with commit:                 e524505b8ac4a61c5dc162b51d68c2385a134706 (Test-JSON-Schema-Acceptance-1.026-16-ge524505)
# from repository:             git://github.com/json-schema-org/JSON-Schema-Test-Suite.git
# specification version:       draft2020-12
# using custom test directory: <base test directory>/optional/format
# optional tests included:     yes
# 
# filename                                  pass  todo-fail  fail
# ---------------------------------------------------------------
# date-time.json                              22          3     0
# date.json                                   39          8     0
# duration.json                               26          0     0
# ecmascript-regex.json                        0          1     0
# email.json                                  16          6     0
# hostname.json                               14         11     0
# idn-email.json                               8          2     0
# idn-hostname.json                           27         31     0
# ipv4.json                                   16          0     0
# ipv6.json                                   40          0     0
# iri-reference.json                          11          2     0
# iri.json                                    14          1     0
# json-pointer.json                           38          0     0
# regex.json                                   8          0     0
# relative-json-pointer.json                  18          0     0
# time.json                                   45          0     0
# unknown.json                                 7          0     0
# uri-reference.json                          13          0     0
# uri-template.json                            9          1     0
# uri.json                                    25          1     0
# uuid.json                                   21          0     0
# ---------------------------------------------------------------
# TOTAL                                      417         67     0
# 
# Congratulations, all non-optional tests are passing!
# 
t/zzz-acceptance-draft2020-12-format.t .. ok
# 
# AUTHOR_TESTING: <undef>
# AUTOMATED_TESTING: 1
# EXTENDED_TESTING: <undef>
# NO_TODO: <undef>
# TEST_DIR: <undef>
# NO_SHORT_CIRCUIT: <undef>
# 
# 
# generated with:              Test::JSON::Schema::Acceptance 1.027
# with commit:                 e524505b8ac4a61c5dc162b51d68c2385a134706 (Test-JSON-Schema-Acceptance-1.026-16-ge524505)
# from repository:             git://github.com/json-schema-org/JSON-Schema-Test-Suite.git
# specification version:       draft2020-12
# optional tests included:     yes
# skipping directory:          optional/format
# 
# filename                                  pass  todo-fail  fail
# ---------------------------------------------------------------
# additionalProperties.json                   21          0     0
# allOf.json                                  30          0     0
# anchor.json                                  8          0     0
# anyOf.json                                  18          0     0
# boolean_schema.json                         18          0     0
# const.json                                  50          0     0
# contains.json                               21          0     0
# content.json                                18          0     0
# default.json                                 7          0     0
# defs.json                                    2          0     0
# dependentRequired.json                      20          0     0
# dependentSchemas.json                       20          0     0
# dynamicRef.json                             42          0     0
# enum.json                                   45          0     0
# exclusiveMaximum.json                        4          0     0
# exclusiveMinimum.json                        4          0     0
# format.json                                133          0     0
# if-then-else.json                           26          0     0
# infinite-loop-detection.json                 2          0     0
# items.json                                  29          0     0
# maxContains.json                            12          0     0
# maxItems.json                                6          0     0
# maxLength.json                               7          0     0
# maxProperties.json                          10          0     0
# maximum.json                                 8          0     0
# minContains.json                            28          0     0
# minItems.json                                6          0     0
# minLength.json                               7          0     0
# minProperties.json                           8          0     0
# minimum.json                                11          0     0
# multipleOf.json                             10          0     0
# not.json                                    40          0     0
# oneOf.json                                  27          0     0
# pattern.json                                 9          0     0
# patternProperties.json                      23          0     0
# prefixItems.json                            11          0     0
# properties.json                             28          0     0
# propertyNames.json                          10          0     0
# ref.json                                    77          0     0
# refRemote.json                              31          0     0
# required.json                               16          0     0
# type.json                                   80          0     0
# unevaluatedItems.json                       66          0     0
# unevaluatedProperties.json                 122          0     0
# uniqueItems.json                            69          0     0
# vocabulary.json                              5          0     0
# optional/anchor.json                         4          0     0
# optional/bignum.json                         9          0     0
# optional/cross-draft.json                    1          0     0
# optional/dependencies-compatibility.json    22         14     0
# optional/dynamicRef.json                     2          0     0
# optional/ecmascript-regex.json              60         14     0
# optional/float-overflow.json                 1          0     0
# optional/format-assertion.json               4          0     0
# optional/id.json                             3          0     0
# optional/no-schema.json                      3          0     0
# optional/non-bmp-regex.json                 12          0     0
# optional/refOfUnknownKeyword.json            3          3     0
# optional/unknownKeyword.json                 3          0     0
# ---------------------------------------------------------------
# TOTAL                                     1372         31     0
# 
# Congratulations, all non-optional tests are passing!
# 
t/zzz-acceptance-draft2020-12.t ......... ok
# 
# AUTHOR_TESTING: <undef>
# AUTOMATED_TESTING: 1
# EXTENDED_TESTING: <undef>
# NO_TODO: <undef>
# TEST_DIR: <undef>
# NO_SHORT_CIRCUIT: <undef>
# 
# 
# generated with:              Test::JSON::Schema::Acceptance 1.027
# with commit:                 e524505b8ac4a61c5dc162b51d68c2385a134706 (Test-JSON-Schema-Acceptance-1.026-16-ge524505)
# from repository:             git://github.com/json-schema-org/JSON-Schema-Test-Suite.git
# specification version:       draft4
# using custom test directory: <base test directory>/optional/format
# optional tests included:     yes
# 
# filename                                  pass  todo-fail  fail
# ---------------------------------------------------------------
# date-time.json                              22          3     0
# email.json                                  11          4     0
# hostname.json                               13         11     0
# ipv4.json                                   16          0     0
# ipv6.json                                   40          0     0
# unknown.json                                 7          0     0
# uri.json                                    25          1     0
# ---------------------------------------------------------------
# TOTAL                                      134         19     0
# 
# Congratulations, all non-optional tests are passing!
# 
t/zzz-acceptance-draft4-format.t ........ ok
# 
# AUTHOR_TESTING: <undef>
# AUTOMATED_TESTING: 1
# EXTENDED_TESTING: <undef>
# NO_TODO: <undef>
# TEST_DIR: <undef>
# NO_SHORT_CIRCUIT: <undef>
# 
# 
# generated with:              Test::JSON::Schema::Acceptance 1.027
# with commit:                 e524505b8ac4a61c5dc162b51d68c2385a134706 (Test-JSON-Schema-Acceptance-1.026-16-ge524505)
# from repository:             git://github.com/json-schema-org/JSON-Schema-Test-Suite.git
# specification version:       draft4
# optional tests included:     yes
# skipping directory:          optional/format
# 
# filename                                  pass  todo-fail  fail
# ---------------------------------------------------------------
# additionalItems.json                        18          0     0
# additionalProperties.json                   16          0     0
# allOf.json                                  27          0     0
# anyOf.json                                  15          0     0
# default.json                                 7          0     0
# definitions.json                             2          0     0
# dependencies.json                           29          0     0
# enum.json                                   45          0     0
# format.json                                 36          0     0
# infinite-loop-detection.json                 2          0     0
# items.json                                  21          0     0
# maxItems.json                                4          0     0
# maxLength.json                               5          0     0
# maxProperties.json                           8          0     0
# maximum.json                                14          0     0
# minItems.json                                4          0     0
# minLength.json                               5          0     0
# minProperties.json                           6          0     0
# minimum.json                                17          0     0
# multipleOf.json                             10          0     0
# not.json                                    20          0     0
# oneOf.json                                  23          0     0
# pattern.json                                 9          0     0
# patternProperties.json                      18          0     0
# properties.json                             24          0     0
# ref.json                                    45          0     0
# refRemote.json                              17          0     0
# required.json                               15          0     0
# type.json                                   79          0     0
# uniqueItems.json                            69          0     0
# optional/bignum.json                         9          0     0
# optional/ecmascript-regex.json              60         14     0
# optional/float-overflow.json                 1          0     0
# optional/id.json                             3          0     0
# optional/non-bmp-regex.json                 12          0     0
# optional/zeroTerminatedFloats.json           0          1     0
# ---------------------------------------------------------------
# TOTAL                                      695         15     0
# 
# Congratulations, all non-optional tests are passing!
# 
t/zzz-acceptance-draft4.t ............... ok
# 
# AUTHOR_TESTING: <undef>
# AUTOMATED_TESTING: 1
# EXTENDED_TESTING: <undef>
# NO_TODO: <undef>
# TEST_DIR: <undef>
# NO_SHORT_CIRCUIT: <undef>
# 
# 
# generated with:              Test::JSON::Schema::Acceptance 1.027
# with commit:                 e524505b8ac4a61c5dc162b51d68c2385a134706 (Test-JSON-Schema-Acceptance-1.026-16-ge524505)
# from repository:             git://github.com/json-schema-org/JSON-Schema-Test-Suite.git
# specification version:       draft6
# using custom test directory: <base test directory>/optional/format
# optional tests included:     yes
# 
# filename                                  pass  todo-fail  fail
# ---------------------------------------------------------------
# date-time.json                              22          3     0
# email.json                                  11          4     0
# hostname.json                               13         11     0
# ipv4.json                                   16          0     0
# ipv6.json                                   40          0     0
# json-pointer.json                           38          0     0
# unknown.json                                 7          0     0
# uri-reference.json                          13          0     0
# uri-template.json                            9          1     0
# uri.json                                    25          1     0
# ---------------------------------------------------------------
# TOTAL                                      194         20     0
# 
# Congratulations, all non-optional tests are passing!
# 
t/zzz-acceptance-draft6-format.t ........ ok
# 
# AUTHOR_TESTING: <undef>
# AUTOMATED_TESTING: 1
# EXTENDED_TESTING: <undef>
# NO_TODO: <undef>
# TEST_DIR: <undef>
# NO_SHORT_CIRCUIT: <undef>
# 
# 
# generated with:              Test::JSON::Schema::Acceptance 1.027
# with commit:                 e524505b8ac4a61c5dc162b51d68c2385a134706 (Test-JSON-Schema-Acceptance-1.026-16-ge524505)
# from repository:             git://github.com/json-schema-org/JSON-Schema-Test-Suite.git
# specification version:       draft6
# optional tests included:     yes
# skipping directory:          optional/format
# 
# filename                                  pass  todo-fail  fail
# ---------------------------------------------------------------
# additionalItems.json                        20          0     0
# additionalProperties.json                   16          0     0
# allOf.json                                  30          0     0
# anyOf.json                                  18          0     0
# boolean_schema.json                         18          0     0
# const.json                                  50          0     0
# contains.json                               19          0     0
# default.json                                 7          0     0
# definitions.json                             2          0     0
# dependencies.json                           36          0     0
# enum.json                                   45          0     0
# exclusiveMaximum.json                        4          0     0
# exclusiveMinimum.json                        4          0     0
# format.json                                 54          0     0
# infinite-loop-detection.json                 2          0     0
# items.json                                  28          0     0
# maxItems.json                                6          0     0
# maxLength.json                               7          0     0
# maxProperties.json                          10          0     0
# maximum.json                                 8          0     0
# minItems.json                                6          0     0
# minLength.json                               7          0     0
# minProperties.json                           8          0     0
# minimum.json                                11          0     0
# multipleOf.json                             10          0     0
# not.json                                    38          0     0
# oneOf.json                                  27          0     0
# pattern.json                                 9          0     0
# patternProperties.json                      23          0     0
# properties.json                             28          0     0
# propertyNames.json                          13          0     0
# ref.json                                    70          0     0
# refRemote.json                              23          0     0
# required.json                               16          0     0
# type.json                                   80          0     0
# uniqueItems.json                            69          0     0
# optional/bignum.json                         9          0     0
# optional/ecmascript-regex.json              60         14     0
# optional/float-overflow.json                 1          0     0
# optional/id.json                             7          0     0
# optional/non-bmp-regex.json                 12          0     0
# optional/unknownKeyword.json                 3          0     0
# ---------------------------------------------------------------
# TOTAL                                      914         14     0
# 
# Congratulations, all non-optional tests are passing!
# 
t/zzz-acceptance-draft6.t ............... ok
# 
# AUTHOR_TESTING: <undef>
# AUTOMATED_TESTING: 1
# EXTENDED_TESTING: <undef>
# NO_TODO: <undef>
# TEST_DIR: <undef>
# NO_SHORT_CIRCUIT: <undef>
# 
# 
# generated with:              Test::JSON::Schema::Acceptance 1.027
# with commit:                 e524505b8ac4a61c5dc162b51d68c2385a134706 (Test-JSON-Schema-Acceptance-1.026-16-ge524505)
# from repository:             git://github.com/json-schema-org/JSON-Schema-Test-Suite.git
# specification version:       draft7
# using custom test directory: <base test directory>/optional/format
# optional tests included:     yes
# 
# filename                                  pass  todo-fail  fail
# ---------------------------------------------------------------
# date-time.json                              22          3     0
# date.json                                   39          8     0
# email.json                                  11          4     0
# hostname.json                               13         11     0
# idn-email.json                               8          2     0
# idn-hostname.json                           26         31     0
# ipv4.json                                   16          0     0
# ipv6.json                                   40          0     0
# iri-reference.json                          11          2     0
# iri.json                                    14          1     0
# json-pointer.json                           38          0     0
# regex.json                                   8          0     0
# relative-json-pointer.json                  18          0     0
# time.json                                   45          0     0
# unknown.json                                 7          0     0
# uri-reference.json                          13          0     0
# uri-template.json                            9          1     0
# uri.json                                    25          1     0
# ---------------------------------------------------------------
# TOTAL                                      363         64     0
# 
# Congratulations, all non-optional tests are passing!
# 
t/zzz-acceptance-draft7-format.t ........ ok
# 
# AUTHOR_TESTING: <undef>
# AUTOMATED_TESTING: 1
# EXTENDED_TESTING: <undef>
# NO_TODO: <undef>
# TEST_DIR: <undef>
# NO_SHORT_CIRCUIT: <undef>
# 
# 
# generated with:              Test::JSON::Schema::Acceptance 1.027
# with commit:                 e524505b8ac4a61c5dc162b51d68c2385a134706 (Test-JSON-Schema-Acceptance-1.026-16-ge524505)
# from repository:             git://github.com/json-schema-org/JSON-Schema-Test-Suite.git
# specification version:       draft7
# optional tests included:     yes
# skipping directory:          optional/format
# 
# filename                                  pass  todo-fail  fail
# ---------------------------------------------------------------
# additionalItems.json                        20          0     0
# additionalProperties.json                   16          0     0
# allOf.json                                  30          0     0
# anyOf.json                                  18          0     0
# boolean_schema.json                         18          0     0
# const.json                                  50          0     0
# contains.json                               21          0     0
# default.json                                 7          0     0
# definitions.json                             2          0     0
# dependencies.json                           36          0     0
# enum.json                                   45          0     0
# exclusiveMaximum.json                        4          0     0
# exclusiveMinimum.json                        4          0     0
# format.json                                102          0     0
# if-then-else.json                           26          0     0
# infinite-loop-detection.json                 2          0     0
# items.json                                  28          0     0
# maxItems.json                                6          0     0
# maxLength.json                               7          0     0
# maxProperties.json                          10          0     0
# maximum.json                                 8          0     0
# minItems.json                                6          0     0
# minLength.json                               7          0     0
# minProperties.json                           8          0     0
# minimum.json                                11          0     0
# multipleOf.json                             10          0     0
# not.json                                    38          0     0
# oneOf.json                                  27          0     0
# pattern.json                                 9          0     0
# patternProperties.json                      23          0     0
# properties.json                             28          0     0
# propertyNames.json                          13          0     0
# ref.json                                    78          0     0
# refRemote.json                              23          0     0
# required.json                               16          0     0
# type.json                                   80          0     0
# uniqueItems.json                            69          0     0
# optional/bignum.json                         9          0     0
# optional/content.json                       10          0     0
# optional/cross-draft.json                    2          0     0
# optional/ecmascript-regex.json              60         14     0
# optional/float-overflow.json                 1          0     0
# optional/id.json                             7          0     0
# optional/non-bmp-regex.json                 12          0     0
# optional/unknownKeyword.json                 3          0     0
# ---------------------------------------------------------------
# TOTAL                                     1010         14     0
# 
# Congratulations, all non-optional tests are passing!
# 
t/zzz-acceptance-draft7.t ............... ok
t/zzz-check-breaks.t .................... ok
All tests successful.

Test Summary Report
-------------------
t/additional-tests-draft2019-09.t     (Wstat: 0 Tests: 983 Failed: 0)
  TODO passed:   963-980
t/additional-tests-draft2020-12.t     (Wstat: 0 Tests: 1066 Failed: 0)
  TODO passed:   1046-1063
t/additional-tests-draft7.t           (Wstat: 0 Tests: 762 Failed: 0)
  TODO passed:   742-759
t/zzz-acceptance-draft2019-09-format.t (Wstat: 0 Tests: 478 Failed: 0)
  TODO passed:   1-72, 99-206, 263-275, 287, 420-429, 455
t/zzz-acceptance-draft2019-09.t       (Wstat: 0 Tests: 1376 Failed: 0)
  TODO passed:   1237-1272, 1281-1290, 1296, 1307, 1318-1319
                1326, 1335-1336, 1343, 1366-1371
t/zzz-acceptance-draft2020-12-format.t (Wstat: 0 Tests: 486 Failed: 0)
  TODO passed:   1-72, 99-214, 271-283, 295, 428-437, 463
t/zzz-acceptance-draft2020-12.t       (Wstat: 0 Tests: 1405 Failed: 0)
  TODO passed:   1260-1295, 1306-1315, 1321, 1332, 1343-1344
                1351, 1360-1361, 1368, 1395-1400
t/zzz-acceptance-draft4-format.t      (Wstat: 0 Tests: 155 Failed: 0)
  TODO passed:   1-64, 153
t/zzz-acceptance-draft4.t             (Wstat: 0 Tests: 712 Failed: 0)
  TODO passed:   628-637, 643, 654, 665-666, 673, 682-683
                690, 710
t/zzz-acceptance-draft6-format.t      (Wstat: 0 Tests: 216 Failed: 0)
  TODO passed:   1-64, 179-188, 214
t/zzz-acceptance-draft6.t             (Wstat: 0 Tests: 930 Failed: 0)
  TODO passed:   840-849, 855, 866, 877-878, 885, 894-895
                902
t/zzz-acceptance-draft7-format.t      (Wstat: 0 Tests: 429 Failed: 0)
  TODO passed:   1-178, 235-247, 259, 327-371, 392-401, 427
t/zzz-acceptance-draft7.t             (Wstat: 0 Tests: 1026 Failed: 0)
  TODO passed:   936-945, 951, 962, 973-974, 981, 990-991
                998
Files=45, Tests=10348, 262 wallclock secs (11.33 usr  0.58 sys + 192.05 cusr 11.44 csys = 215.40 CPU)
Result: PASS

------------------------------
PREREQUISITES
------------------------------

Prerequisite modules loaded:

requires:

    Module                         Need     Have    
    ------------------------------ -------- --------
    autovivification               0        0.18    
    B                              0        1.68    
    builtin::compat                0.003003 0.003003
    Carp                           0        1.42    
    constant                       0        1.33    
    Cpanel::JSON::XS               4.38     4.39    
    Digest::MD5                    0        2.55    
    experimental                   0.026    0.034   
    Exporter                       0        5.72    
    Feature::Compat::Try           0        0.05    
    File::ShareDir                 0        1.118   
    Getopt::Long::Descriptive      0        0.116   
    if                             0        0.0606  
    JSON::PP                       4.11     4.16    
    List::Util                     1.55     1.69    
    Math::BigFloat                 0        1.999806
    Math::BigInt                   1.999701 1.999806
    MIME::Base64                   0        3.15    
    Mojo::JSON                     0        0       
    Mojo::JSON::Pointer            0        0       
    Mojo::Message::Response        0        0       
    Mojo::URL                      0        0       
    Mojolicious                    7.87     9.39    
    Moo                            0        2.005005
    Moo::Role                      0        2.005005
    MooX::TypeTiny                 0.002002 0.002003
    namespace::clean               0        0.27    
    open                           0        1.11    
    overload                       0        1.28    
    Path::Tiny                     0        0.114   
    perl                           v5.20.0  5.026002
    Ref::Util                      0.100    0.204   
    Safe::Isa                      1.000008 1.000010
    Scalar::Util                   0        1.69    
    stable                         0.031    0.034   
    Storable                       0        2.62    
    strict                         0        1.11    
    strictures                     2        2.000006
    Sub::Install                   0        0.928   
    Types::Common::Numeric         0        2.008001
    Types::Standard                1.016003 2.008001
    warnings                       0        1.37    

build_requires:

    Module                         Need     Have    
    ------------------------------ -------- --------
    CPAN::Meta::Check              0.011    0.018   
    CPAN::Meta::Requirements       0        2.143   
    Data::Dumper                   0        2.167   
    File::Spec                     0        3.67    
    lib                            0        0.64    
    Math::BigInt                   1.999701 1.999806
    Module::Metadata               0        1.000033
    perl                           v5.20.0  5.026002
    Term::ANSIColor                0        4.06    
    Test2::API                     0        1.302210
    Test::Deep                     0        1.130   
    Test::Deep::UnorderedPairs     0        0.006   
    Test::Fatal                    0        0.016   
    Test::File::ShareDir           0        1.001002
    Test::JSON::Schema::Acceptance 1.021    1.027   
    Test::Memory::Cycle            0        1.06    
    Test::More                     0.96     1.302210
    Test::Needs                    0        0.002006
    Test::Warnings                 0        0.030   
    Test::Without::Module          0.19     0.23    
    utf8                           0        1.19    

configure_requires:

    Module                         Need     Have    
    ------------------------------ -------- --------
    Module::Build::Tiny            0.034    0.051   
    perl                           5.020    5.026002

opt_build_requires:

    Module                         Need     Have    
    ------------------------------ -------- --------
    CPAN::Meta                     2.120900 2.150010


------------------------------
ENVIRONMENT AND OTHER CONTEXT
------------------------------

Environment variables:

    AUTOMATED_TESTING = 1
    LANG = en_GB.UTF-8
    LC_TERMINAL = iTerm2
    LC_TERMINAL_VERSION = 3.5.13
    NONINTERACTIVE_TESTING = 1
    PATH = /Users/cpantesting/perl5/perlbrew/bin:/Users/cpantesting/perl5/perlbrew/perls/perl-5.32.0/bin:/usr/local/bin:/System/Cryptexes/App/usr/bin:/usr/bin:/bin:/usr/sbin:/sbin:/var/run/com.apple.security.cryptexd/codex.system/bootstrap/usr/local/bin:/var/run/com.apple.security.cryptexd/codex.system/bootstrap/usr/bin:/var/run/com.apple.security.cryptexd/codex.system/bootstrap/usr/appleinternal/bin:/opt/X11/bin:/Library/Apple/usr/bin:/Applications/VMware Fusion.app/Contents/Public:/usr/local/zfs/bin:/Users/cpantesting/.cargo/bin
    PERL = 5.26.2
    PERL5LIB = 
    PERL5OPT = 
    PERL5_CPANPLUS_IS_RUNNING = 39609
    PERL5_CPAN_IS_RUNNING = 39609
    PERLBREW_HOME = /Users/cpantesting/.perlbrew
    PERLBREW_MANPATH = /Users/cpantesting/perl5/perlbrew/perls/perl-5.32.0/man
    PERLBREW_PATH = /Users/cpantesting/perl5/perlbrew/bin:/Users/cpantesting/perl5/perlbrew/perls/perl-5.32.0/bin
    PERLBREW_PERL = perl-5.32.0
    PERLBREW_ROOT = /Users/cpantesting/perl5/perlbrew
    PERLBREW_SHELLRC_VERSION = 0.94
    PERLBREW_VERSION = 0.94
    PERLVER = 5.26.2
    PERL_INLINE_DIRECTORY = /Users/cpantesting/.Inline-5.26.2
    PERL_MM_USE_DEFAULT = 1
    PERL_USE_UNSAFE_INC = 0
    SHELL = /bin/bash
    TERM = screen
    TMPDIR = /var/folders/zy/47mkymr176b35xhyp425tk7h0000gq/T/

Perl special variables (and OS-specific diagnostics, for MSWin32):

    $^X = /Users/cpantesting/cpantesting/perl-5.26.2/bin/perl
    $UID/$EUID = 503 / 503
    $GID = 20 20 12 61 399 703 702 701 100
    $EGID = 20 20 12 61 399 703 702 701 100

Perl module toolchain versions installed:

    Module              Have    
    ------------------- --------
    CPAN                2.18    
    CPAN::Meta          2.150010
    Cwd                 3.67    
    ExtUtils::CBuilder  0.280235
    ExtUtils::Command   7.58    
    ExtUtils::Install   2.06    
    ExtUtils::MakeMaker 7.58    
    ExtUtils::Manifest  1.70    
    ExtUtils::ParseXS   3.34    
    File::Spec          3.67    
    JSON                n/a     
    JSON::PP            4.16    
    Module::Build       0.4231  
    Module::Signature   n/a     
    Parse::CPAN::Meta   2.150010
    Test2               1.302210
    Test::Harness       3.38    
    Test::More          1.302210
    YAML                n/a     
    YAML::Syck          n/a     
    version             0.9917  


--

Summary of my perl5 (revision 5 version 26 subversion 2) configuration:
   
  Platform:
    osname=darwin
    osvers=19.6.0
    archname=darwin-thread-multi-2level
    uname='darwin harrow.local 19.6.0 darwin kernel version 19.6.0: thu oct 29 22:56:45 pdt 2020; root:xnu-6153.141.2.2~1release_x86_64 x86_64 '
    config_args='-de -Dusethreads -Dprefix=/Users/cpantesting/cpantesting/perl-5.26.2'
    hint=recommended
    useposix=true
    d_sigaction=define
    useithreads=define
    usemultiplicity=define
    use64bitint=define
    use64bitall=define
    uselongdouble=undef
    usemymalloc=n
    default_inc_excludes_dot=define
    bincompat5005=undef
  Compiler:
    cc='cc'
    ccflags ='-fno-common -DPERL_DARWIN -mmacosx-version-min=10.15 -fno-strict-aliasing -pipe -fstack-protector-strong -I/usr/local/include -DPERL_USE_SAFE_PUTENV'
    optimize='-O3'
    cppflags='-fno-common -DPERL_DARWIN -mmacosx-version-min=10.15 -fno-strict-aliasing -pipe -fstack-protector-strong -I/usr/local/include'
    ccversion=''
    gccversion='Apple LLVM 12.0.0 (clang-1200.0.32.27)'
    gccosandvers=''
    intsize=4
    longsize=8
    ptrsize=8
    doublesize=8
    byteorder=12345678
    doublekind=3
    d_longlong=define
    longlongsize=8
    d_longdbl=define
    longdblsize=16
    longdblkind=3
    ivtype='long'
    ivsize=8
    nvtype='double'
    nvsize=8
    Off_t='off_t'
    lseeksize=8
    alignbytes=8
    prototype=define
  Linker and Libraries:
    ld='cc'
    ldflags =' -mmacosx-version-min=10.15 -fstack-protector-strong -L/usr/local/lib'
    libpth=/usr/local/lib /Library/Developer/CommandLineTools/usr/lib/clang/12.0.0/lib /Library/Developer/CommandLineTools/SDKs/MacOSX10.15.sdk/usr/lib /Library/Developer/CommandLineTools/usr/lib /usr/lib
    libs=-lpthread -lgdbm -ldbm -ldl -lm -lutil -lc
    perllibs=-lpthread -ldl -lm -lutil -lc
    libc=
    so=dylib
    useshrplib=false
    libperl=libperl.a
    gnulibc_version=''
  Dynamic Linking:
    dlsrc=dl_dlopen.xs
    dlext=bundle
    d_dlsymun=undef
    ccdlflags=' '
    cccdlflags=' '
    lddlflags=' -mmacosx-version-min=10.15 -bundle -undefined dynamic_lookup -L/usr/local/lib -fstack-protector-strong'


Characteristics of this binary (from libperl): 
  Compile-time options:
    HAS_TIMES
    MULTIPLICITY
    PERLIO_LAYERS
    PERL_COPY_ON_WRITE
    PERL_DONT_CREATE_GVSV
    PERL_IMPLICIT_CONTEXT
    PERL_MALLOC_WRAP
    PERL_OP_PARENT
    PERL_PRESERVE_IVUV
    PERL_USE_SAFE_PUTENV
    USE_64_BIT_ALL
    USE_64_BIT_INT
    USE_ITHREADS
    USE_LARGE_FILES
    USE_LOCALE
    USE_LOCALE_COLLATE
    USE_LOCALE_CTYPE
    USE_LOCALE_NUMERIC
    USE_LOCALE_TIME
    USE_PERLIO
    USE_PERL_ATOF
    USE_REENTRANT_API
  Built under darwin
  Compiled at Dec 29 2020 22:52:38
  %ENV:
    PERL="5.26.2"
    PERL5LIB=""
    PERL5OPT=""
    PERL5_CPANPLUS_IS_RUNNING="39609"
    PERL5_CPAN_IS_RUNNING="39609"
    PERLBREW_HOME="/Users/cpantesting/.perlbrew"
    PERLBREW_MANPATH="/Users/cpantesting/perl5/perlbrew/perls/perl-5.32.0/man"
    PERLBREW_PATH="/Users/cpantesting/perl5/perlbrew/bin:/Users/cpantesting/perl5/perlbrew/perls/perl-5.32.0/bin"
    PERLBREW_PERL="perl-5.32.0"
    PERLBREW_ROOT="/Users/cpantesting/perl5/perlbrew"
    PERLBREW_SHELLRC_VERSION="0.94"
    PERLBREW_VERSION="0.94"
    PERLVER="5.26.2"
    PERL_INLINE_DIRECTORY="/Users/cpantesting/.Inline-5.26.2"
    PERL_MM_USE_DEFAULT="1"
    PERL_USE_UNSAFE_INC="0"
  @INC:
    /Users/cpantesting/cpantesting/perl-5.26.2/lib/site_perl/5.26.2/darwin-thread-multi-2level
    /Users/cpantesting/cpantesting/perl-5.26.2/lib/site_perl/5.26.2
    /Users/cpantesting/cpantesting/perl-5.26.2/lib/5.26.2/darwin-thread-multi-2level
    /Users/cpantesting/cpantesting/perl-5.26.2/lib/5.26.2