Module-Install v1.21 Perl 5 v5.41.9 x86_64-linux
- Status
- Pass
- From
- John SJ Anderson
- Dist
-
Module-Install v1.21
- Platform
- Perl 5 v5.41.9 x86_64-linux
- Date
- 2025-02-24 19:58:46
- ID
- c20233a8-f2e9-11ef-a69b-d8db397336e8
This distribution has been tested as part of the CPAN Testers
project, supporting the Perl programming language. See
http://wiki.cpantesters.org/ for more information or email
questions to cpan-testers-discuss@perl.org
--
Dear ETHER,
This is a computer-generated report for Module-Install-1.21
on perl 5.41.9, created by App::cpanminus::reporter 0.22 (1.7048).
Thank you for uploading your work to CPAN. Congratulations!
All tests were successful.
Sections of this report:
* Tester comments
* Program output
* Prerequisites
* Environment and other context
------------------------------
TESTER COMMENTS
------------------------------
Additional comments from tester:
none provided
------------------------------
PROGRAM OUTPUT
------------------------------
Output from '':
Building and testing Module-Install-1.21
cp lib/Module/Install/Include.pm blib/lib/Module/Install/Include.pm
cp lib/Module/Install/With.pm blib/lib/Module/Install/With.pm
cp lib/Module/Install.pm blib/lib/Module/Install.pm
cp lib/Module/Install/Makefile.pm blib/lib/Module/Install/Makefile.pm
cp lib/Module/Install/Share.pm blib/lib/Module/Install/Share.pm
cp lib/Module/Install/Admin/Metadata.pm blib/lib/Module/Install/Admin/Metadata.pm
cp lib/Module/Install/FAQ.pod blib/lib/Module/Install/FAQ.pod
cp lib/Module/Install/Admin.pm blib/lib/Module/Install/Admin.pm
cp lib/Module/Install/Admin/Find.pm blib/lib/Module/Install/Admin/Find.pm
cp lib/Module/Install/Base.pm blib/lib/Module/Install/Base.pm
cp lib/Module/Install/Admin/Compiler.pm blib/lib/Module/Install/Admin/Compiler.pm
cp lib/Module/Install/Run.pm blib/lib/Module/Install/Run.pm
cp lib/Module/Install/Fetch.pm blib/lib/Module/Install/Fetch.pm
cp lib/inc/Module/Install.pm blib/lib/inc/Module/Install.pm
cp lib/Module/Install/External.pm blib/lib/Module/Install/External.pm
cp lib/Module/Install/WriteAll.pm blib/lib/Module/Install/WriteAll.pm
cp lib/Module/Install/Can.pm blib/lib/Module/Install/Can.pm
cp lib/Module/Install/Deprecated.pm blib/lib/Module/Install/Deprecated.pm
cp lib/Module/Install/API.pod blib/lib/Module/Install/API.pod
cp lib/Module/Install/Admin/Include.pm blib/lib/Module/Install/Admin/Include.pm
cp lib/Module/Install/Scripts.pm blib/lib/Module/Install/Scripts.pm
cp lib/Module/Install/Admin/Bundle.pm blib/lib/Module/Install/Admin/Bundle.pm
cp lib/Module/Install/Win32.pm blib/lib/Module/Install/Win32.pm
cp lib/Module/Install/Bundle.pm blib/lib/Module/Install/Bundle.pm
cp lib/Module/AutoInstall.pm blib/lib/Module/AutoInstall.pm
cp lib/Module/Install.pod blib/lib/Module/Install.pod
cp lib/Module/Install/AutoInstall.pm blib/lib/Module/Install/AutoInstall.pm
cp lib/Module/Install/Philosophy.pod blib/lib/Module/Install/Philosophy.pod
cp lib/Module/Install/Inline.pm blib/lib/Module/Install/Inline.pm
cp lib/Module/Install/PAR.pm blib/lib/Module/Install/PAR.pm
cp lib/Module/Install/Admin/Makefile.pm blib/lib/Module/Install/Admin/Makefile.pm
cp lib/Module/Install/Metadata.pm blib/lib/Module/Install/Metadata.pm
cp lib/Module/Install/Admin/Manifest.pm blib/lib/Module/Install/Admin/Manifest.pm
cp lib/Module/Install/MakeMaker.pm blib/lib/Module/Install/MakeMaker.pm
cp lib/Module/Install/Admin/ScanDeps.pm blib/lib/Module/Install/Admin/ScanDeps.pm
cp lib/Module/Install/Admin/WriteAll.pm blib/lib/Module/Install/Admin/WriteAll.pm
cp lib/Module/Install/Compiler.pm blib/lib/Module/Install/Compiler.pm
Manifying 19 pod documents
PERL_DL_NONLAZY=1 "/opt/plenv/versions/5.41.9/bin/perl5.41.9" "-MExtUtils::Command::MM" "-MTest::Harness" "-e" "undef *Test::Harness::Switches; test_harness(0, 'inc', 'blib/lib', 'blib/arch')" t/*.t t/recursive/*.t
t/01_compile.t .......................... ok
t/02_mymeta.t ........................... skipped: New EU::MM has own MYMETA support
t/03_autoinstall.t ...................... skipped: Skipping dangerous test
t/04_version.t .......................... ok
t/05_share.t ............................ ok
t/06_ppport.t ........................... ok
t/07_perl_version.t ..................... ok
t/09_read.t ............................. ok
t/10_test.t ............................. ok
t/11_extraction.t ....................... ok
t/12_eumm_params.t ...................... ok
t/13_author_tests.t ..................... ok
t/13_author_tests_ext.t ................. skipped: requires Module::Install::AuthorTests
t/13_author_tests_ext2.t ................ skipped: requires Module::Install::ExtraTests 0.007
t/14_auto_include_deps_with_version.t ... skipped: your perl is new enough to have File::Spec 3.30 in core
t/15_wrong_usage.t ...................... ok
t/16_require.t .......................... ok
t/17_sign.t ............................. ok
t/18_all_from.t ......................... ok
t/19_authors.t .......................... ok
t/20_authors_with_special_characters.t .. ok
t/21_makemaker_args.t ................... ok
Use of uninitialized value $cmd in substitution (s///) at /opt/plenv/versions/5.41.9/lib/perl5/5.41.9/ExtUtils/MM_Any.pm line 347.
Use of uninitialized value $mandir in pattern match (m//) at /opt/plenv/versions/5.41.9/lib/perl5/5.41.9/ExtUtils/MM_Unix.pm line 1530.
Use of uninitialized value $mandir in pattern match (m//) at /opt/plenv/versions/5.41.9/lib/perl5/5.41.9/ExtUtils/MM_Unix.pm line 1530.
Use of uninitialized value $mandir in pattern match (m//) at /opt/plenv/versions/5.41.9/lib/perl5/5.41.9/ExtUtils/MM_Unix.pm line 1530.
Use of uninitialized value $mandir in pattern match (m//) at /opt/plenv/versions/5.41.9/lib/perl5/5.41.9/ExtUtils/MM_Unix.pm line 1530.
Use of uninitialized value $mandir in pattern match (m//) at /opt/plenv/versions/5.41.9/lib/perl5/5.41.9/ExtUtils/MM_Unix.pm line 1530.
Use of uninitialized value $mandir in pattern match (m//) at /opt/plenv/versions/5.41.9/lib/perl5/5.41.9/ExtUtils/MM_Unix.pm line 1530.
Use of uninitialized value $mandir in pattern match (m//) at /opt/plenv/versions/5.41.9/lib/perl5/5.41.9/ExtUtils/MM_Unix.pm line 1530.
Use of uninitialized value $mandir in pattern match (m//) at /opt/plenv/versions/5.41.9/lib/perl5/5.41.9/ExtUtils/MM_Unix.pm line 1530.
Use of uninitialized value $mandir in pattern match (m//) at /opt/plenv/versions/5.41.9/lib/perl5/5.41.9/ExtUtils/MM_Unix.pm line 1530.
Use of uninitialized value $cmd in substitution (s///) at /opt/plenv/versions/5.41.9/lib/perl5/5.41.9/ExtUtils/MM_Any.pm line 347.
Use of uninitialized value $mandir in pattern match (m//) at /opt/plenv/versions/5.41.9/lib/perl5/5.41.9/ExtUtils/MM_Unix.pm line 1530.
Use of uninitialized value $mandir in pattern match (m//) at /opt/plenv/versions/5.41.9/lib/perl5/5.41.9/ExtUtils/MM_Unix.pm line 1530.
Use of uninitialized value $mandir in pattern match (m//) at /opt/plenv/versions/5.41.9/lib/perl5/5.41.9/ExtUtils/MM_Unix.pm line 1530.
Use of uninitialized value $mandir in pattern match (m//) at /opt/plenv/versions/5.41.9/lib/perl5/5.41.9/ExtUtils/MM_Unix.pm line 1530.
Use of uninitialized value $mandir in pattern match (m//) at /opt/plenv/versions/5.41.9/lib/perl5/5.41.9/ExtUtils/MM_Unix.pm line 1530.
Use of uninitialized value $mandir in pattern match (m//) at /opt/plenv/versions/5.41.9/lib/perl5/5.41.9/ExtUtils/MM_Unix.pm line 1530.
Use of uninitialized value $mandir in pattern match (m//) at /opt/plenv/versions/5.41.9/lib/perl5/5.41.9/ExtUtils/MM_Unix.pm line 1530.
Use of uninitialized value $mandir in pattern match (m//) at /opt/plenv/versions/5.41.9/lib/perl5/5.41.9/ExtUtils/MM_Unix.pm line 1530.
Use of uninitialized value $mandir in pattern match (m//) at /opt/plenv/versions/5.41.9/lib/perl5/5.41.9/ExtUtils/MM_Unix.pm line 1530.
Use of uninitialized value $cmd in substitution (s///) at /opt/plenv/versions/5.41.9/lib/perl5/5.41.9/ExtUtils/MM_Any.pm line 347.
Use of uninitialized value $mandir in pattern match (m//) at /opt/plenv/versions/5.41.9/lib/perl5/5.41.9/ExtUtils/MM_Unix.pm line 1530.
Use of uninitialized value $mandir in pattern match (m//) at /opt/plenv/versions/5.41.9/lib/perl5/5.41.9/ExtUtils/MM_Unix.pm line 1530.
Use of uninitialized value $mandir in pattern match (m//) at /opt/plenv/versions/5.41.9/lib/perl5/5.41.9/ExtUtils/MM_Unix.pm line 1530.
Use of uninitialized value $mandir in pattern match (m//) at /opt/plenv/versions/5.41.9/lib/perl5/5.41.9/ExtUtils/MM_Unix.pm line 1530.
Use of uninitialized value $mandir in pattern match (m//) at /opt/plenv/versions/5.41.9/lib/perl5/5.41.9/ExtUtils/MM_Unix.pm line 1530.
Use of uninitialized value $mandir in pattern match (m//) at /opt/plenv/versions/5.41.9/lib/perl5/5.41.9/ExtUtils/MM_Unix.pm line 1530.
Use of uninitialized value $mandir in pattern match (m//) at /opt/plenv/versions/5.41.9/lib/perl5/5.41.9/ExtUtils/MM_Unix.pm line 1530.
Use of uninitialized value $mandir in pattern match (m//) at /opt/plenv/versions/5.41.9/lib/perl5/5.41.9/ExtUtils/MM_Unix.pm line 1530.
Use of uninitialized value $mandir in pattern match (m//) at /opt/plenv/versions/5.41.9/lib/perl5/5.41.9/ExtUtils/MM_Unix.pm line 1530.
Use of uninitialized value $cmd in substitution (s///) at /opt/plenv/versions/5.41.9/lib/perl5/5.41.9/ExtUtils/MM_Any.pm line 347.
Use of uninitialized value $mandir in pattern match (m//) at /opt/plenv/versions/5.41.9/lib/perl5/5.41.9/ExtUtils/MM_Unix.pm line 1530.
Use of uninitialized value $mandir in pattern match (m//) at /opt/plenv/versions/5.41.9/lib/perl5/5.41.9/ExtUtils/MM_Unix.pm line 1530.
Use of uninitialized value $mandir in pattern match (m//) at /opt/plenv/versions/5.41.9/lib/perl5/5.41.9/ExtUtils/MM_Unix.pm line 1530.
Use of uninitialized value $mandir in pattern match (m//) at /opt/plenv/versions/5.41.9/lib/perl5/5.41.9/ExtUtils/MM_Unix.pm line 1530.
Use of uninitialized value $mandir in pattern match (m//) at /opt/plenv/versions/5.41.9/lib/perl5/5.41.9/ExtUtils/MM_Unix.pm line 1530.
Use of uninitialized value $mandir in pattern match (m//) at /opt/plenv/versions/5.41.9/lib/perl5/5.41.9/ExtUtils/MM_Unix.pm line 1530.
Use of uninitialized value $mandir in pattern match (m//) at /opt/plenv/versions/5.41.9/lib/perl5/5.41.9/ExtUtils/MM_Unix.pm line 1530.
Use of uninitialized value $mandir in pattern match (m//) at /opt/plenv/versions/5.41.9/lib/perl5/5.41.9/ExtUtils/MM_Unix.pm line 1530.
Use of uninitialized value $mandir in pattern match (m//) at /opt/plenv/versions/5.41.9/lib/perl5/5.41.9/ExtUtils/MM_Unix.pm line 1530.
old INSTALLDIRS (probably set by makemaker_args) is overriden by installdirs
Use of uninitialized value $cmd in substitution (s///) at /opt/plenv/versions/5.41.9/lib/perl5/5.41.9/ExtUtils/MM_Any.pm line 347.
Use of uninitialized value $mandir in pattern match (m//) at /opt/plenv/versions/5.41.9/lib/perl5/5.41.9/ExtUtils/MM_Unix.pm line 1530.
Use of uninitialized value $mandir in pattern match (m//) at /opt/plenv/versions/5.41.9/lib/perl5/5.41.9/ExtUtils/MM_Unix.pm line 1530.
Use of uninitialized value $mandir in pattern match (m//) at /opt/plenv/versions/5.41.9/lib/perl5/5.41.9/ExtUtils/MM_Unix.pm line 1530.
Use of uninitialized value $mandir in pattern match (m//) at /opt/plenv/versions/5.41.9/lib/perl5/5.41.9/ExtUtils/MM_Unix.pm line 1530.
Use of uninitialized value $mandir in pattern match (m//) at /opt/plenv/versions/5.41.9/lib/perl5/5.41.9/ExtUtils/MM_Unix.pm line 1530.
Use of uninitialized value $mandir in pattern match (m//) at /opt/plenv/versions/5.41.9/lib/perl5/5.41.9/ExtUtils/MM_Unix.pm line 1530.
Use of uninitialized value $mandir in pattern match (m//) at /opt/plenv/versions/5.41.9/lib/perl5/5.41.9/ExtUtils/MM_Unix.pm line 1530.
Use of uninitialized value $mandir in pattern match (m//) at /opt/plenv/versions/5.41.9/lib/perl5/5.41.9/ExtUtils/MM_Unix.pm line 1530.
Use of uninitialized value $mandir in pattern match (m//) at /opt/plenv/versions/5.41.9/lib/perl5/5.41.9/ExtUtils/MM_Unix.pm line 1530.
Use of uninitialized value $cmd in substitution (s///) at /opt/plenv/versions/5.41.9/lib/perl5/5.41.9/ExtUtils/MM_Any.pm line 347.
Use of uninitialized value $mandir in pattern match (m//) at /opt/plenv/versions/5.41.9/lib/perl5/5.41.9/ExtUtils/MM_Unix.pm line 1530.
Use of uninitialized value $mandir in pattern match (m//) at /opt/plenv/versions/5.41.9/lib/perl5/5.41.9/ExtUtils/MM_Unix.pm line 1530.
Use of uninitialized value $mandir in pattern match (m//) at /opt/plenv/versions/5.41.9/lib/perl5/5.41.9/ExtUtils/MM_Unix.pm line 1530.
Use of uninitialized value $mandir in pattern match (m//) at /opt/plenv/versions/5.41.9/lib/perl5/5.41.9/ExtUtils/MM_Unix.pm line 1530.
Use of uninitialized value $mandir in pattern match (m//) at /opt/plenv/versions/5.41.9/lib/perl5/5.41.9/ExtUtils/MM_Unix.pm line 1530.
Use of uninitialized value $mandir in pattern match (m//) at /opt/plenv/versions/5.41.9/lib/perl5/5.41.9/ExtUtils/MM_Unix.pm line 1530.
Use of uninitialized value $mandir in pattern match (m//) at /opt/plenv/versions/5.41.9/lib/perl5/5.41.9/ExtUtils/MM_Unix.pm line 1530.
Use of uninitialized value $mandir in pattern match (m//) at /opt/plenv/versions/5.41.9/lib/perl5/5.41.9/ExtUtils/MM_Unix.pm line 1530.
Use of uninitialized value $mandir in pattern match (m//) at /opt/plenv/versions/5.41.9/lib/perl5/5.41.9/ExtUtils/MM_Unix.pm line 1530.
t/22_installdirs.t ...................... ok
t/23_pl_files.t ......................... ok
t/24_multiple_license_blocks.t .......... ok
t/25_perl_version_from.t ................ ok
t/26_unknown_func.t ..................... ok
Warning: prerequisite Test::More 9999 not found. We have 1.302209.
t/27_build_requires_and_include.t ....... ok
t/28_makemaker_args.t ................... ok
t/29_requires_from.t .................... ok
t/30_build_subdirs.t .................... ok
t/31_add_metadata.t ..................... ok
t/32_module_name.t ...................... ok
t/33_copy.t ............................. ok
t/34_readwrite.t ........................ ok
t/recursive/test.t ...................... ok
All tests successful.
Files=36, Tests=547, 14 wallclock secs ( 0.13 usr 0.02 sys + 11.38 cusr 2.40 csys = 13.93 CPU)
Result: PASS
------------------------------
PREREQUISITES
------------------------------
Prerequisite modules loaded:
runtime:
Module Need Have
------------------- ------ ----------
Devel::PPPort 3.16 3.73
ExtUtils::Install 1.52 2.22
ExtUtils::MakeMaker 6.59 7.70
ExtUtils::ParseXS 2.19 3.57
File::Path 0 2.18
File::Remove 1.42 1.61
File::Spec 3.28 3.93
Module::Build 0.29 0.4234
Module::CoreList 2.17 5.20250220
Module::ScanDeps 1.09 1.37
Parse::CPAN::Meta 1.4413 2.150010
perl 5.006 5.041009
YAML::Tiny 1.38 1.76
build:
Module Need Have
------------------- ------ ----------
autodie 0 2.37
ExtUtils::MakeMaker 6.59 7.70
Test::Harness 3.13 3.50
Test::More 0.86 1.302209
YAML::Tiny 1.33 1.76
configure:
Module Need Have
------------------- ------ ----------
ExtUtils::MakeMaker 0 7.70
------------------------------
ENVIRONMENT AND OTHER CONTEXT
------------------------------
Environment variables:
LANG = en_US.UTF-8
LC_ALL = en_US.UTF-8
LC_TERMINAL = iTerm2
LC_TERMINAL_VERSION = 3.5.10
PATH = /opt/plenv/versions/5.41.9/bin:/opt/plenv/libexec:/opt/plenv/plugins/perl-build/bin:/home/genehack/bin:/opt/miniconda3/condabin:/opt/plenv/shims:/opt/plenv/bin:/opt/go/bin:/opt/git/bin:/opt/emacs/bin:/opt/local/bin:/usr/local/bin:/usr/bin:/bin:/usr/games:/opt/rust/cargo/bin
PERL_CPANM_OPT = --skip-installed --prompt
SHELL = /bin/zsh
TERM = screen-256color
Perl special variables (and OS-specific diagnostics, for MSWin32):
EGID = 1001 113 122 1001
EUID = 1001
EXECUTABLE_NAME = /opt/plenv/versions/5.41.9/bin/perl5.41.9
GID = 1001 113 122 1001
UID = 1001
Perl module toolchain versions installed:
Module Have
------------------- --------
CPAN 2.38
CPAN::Meta 2.150010
Cwd 3.92
ExtUtils::CBuilder 0.280240
ExtUtils::Command 7.70
ExtUtils::Install 2.22
ExtUtils::MakeMaker 7.70
ExtUtils::Manifest 1.75
ExtUtils::ParseXS 3.57
File::Spec 3.93
JSON 4.10
JSON::PP 4.16
Module::Build 0.4234
Module::Signature n/a
Parse::CPAN::Meta 2.150010
Test::Harness 3.50
Test::More 1.302209
YAML 1.31
YAML::Syck n/a
version 0.9933
--
Summary of my perl5 (revision 5 version 41 subversion 9) configuration:
Platform:
osname=linux
osvers=5.10.0-20-amd64
archname=x86_64-linux
uname='linux doof 5.10.0-20-amd64 #1 smp debian 5.10.158-2 (2022-12-13) x86_64 gnulinux '
config_args='-Dprefix=/opt/plenv/versions/5.41.9 -de -Dversiononly -Dusedevel -A'eval:scriptdir=/opt/plenv/versions/5.41.9/bin''
hint=recommended
useposix=true
d_sigaction=define
useithreads=undef
usemultiplicity=undef
use64bitint=define
use64bitall=define
uselongdouble=undef
usemymalloc=n
default_inc_excludes_dot=define
Compiler:
cc='cc'
ccflags ='-fwrapv -fno-strict-aliasing -pipe -fstack-protector-strong -I/usr/local/include -D_LARGEFILE_SOURCE -D_FILE_OFFSET_BITS=64 -D_FORTIFY_SOURCE=2'
optimize='-O2'
cppflags='-fwrapv -fno-strict-aliasing -pipe -fstack-protector-strong -I/usr/local/include'
ccversion=''
gccversion='12.2.0'
gccosandvers=''
intsize=4
longsize=8
ptrsize=8
doublesize=8
byteorder=12345678
doublekind=3
d_longlong=define
longlongsize=8
d_longdbl=define
longdblsize=16
longdblkind=3
ivtype='long'
ivsize=8
nvtype='double'
nvsize=8
Off_t='off_t'
lseeksize=8
alignbytes=8
prototype=define
Linker and Libraries:
ld='cc'
ldflags =' -fstack-protector-strong -L/usr/local/lib'
libpth=/usr/local/lib /usr/lib/x86_64-linux-gnu /usr/lib /usr/lib64
libs=-lpthread -lgdbm -ldl -lm -lcrypt -lutil -lc
perllibs=-lpthread -ldl -lm -lcrypt -lutil -lc
libc=/lib/x86_64-linux-gnu/libc.so.6
so=so
useshrplib=false
libperl=libperl.a
gnulibc_version='2.36'
Dynamic Linking:
dlsrc=dl_dlopen.xs
dlext=so
d_dlsymun=undef
ccdlflags='-Wl,-E'
cccdlflags='-fPIC'
lddlflags='-shared -O2 -L/usr/local/lib -fstack-protector-strong'
Characteristics of this binary (from libperl):
Compile-time options:
HAS_LONG_DOUBLE
HAS_STRTOLD
HAS_TIMES
PERLIO_LAYERS
PERL_COPY_ON_WRITE
PERL_DONT_CREATE_GVSV
PERL_HASH_FUNC_SIPHASH13
PERL_HASH_USE_SBOX32
PERL_MALLOC_WRAP
PERL_OP_PARENT
PERL_PRESERVE_IVUV
PERL_USE_DEVEL
PERL_USE_SAFE_PUTENV
USE_64_BIT_ALL
USE_64_BIT_INT
USE_LARGE_FILES
USE_LOCALE
USE_LOCALE_COLLATE
USE_LOCALE_CTYPE
USE_LOCALE_NUMERIC
USE_LOCALE_TIME
USE_PERLIO
USE_PERL_ATOF
Built under linux
Compiled at Feb 24 2025 10:41:35
%ENV:
PERL_CPANM_OPT="--skip-installed --prompt"
@INC:
/opt/plenv/versions/5.41.9/lib/perl5/site_perl/5.41.9/x86_64-linux
/opt/plenv/versions/5.41.9/lib/perl5/site_perl/5.41.9
/opt/plenv/versions/5.41.9/lib/perl5/5.41.9/x86_64-linux
/opt/plenv/versions/5.41.9/lib/perl5/5.41.9