HTML-KhatGallery-Plugin-SortNaturally v0.02 Perl 5 v5.8.9 x86_64-linux
- Status
- Pass
- From
- Andreas J. König (ANDK)
- Dist
-
HTML-KhatGallery-Plugin-SortNaturally v0.02
- Platform
- Perl 5 v5.8.9 x86_64-linux
- Date
- 2022-04-15 22:38:23
- ID
- c1fbd6b8-bd0c-11ec-9a27-a76d7e71ea71
This distribution has been tested as part of the CPAN Testers
project, supporting the Perl programming language. See
http://wiki.cpantesters.org/ for more information or email
questions to cpan-testers-discuss@perl.org
--
Dear Kathryn Andersen,
This is a computer-generated report for HTML-KhatGallery-Plugin-SortNaturally-0.02
on perl 5.8.9, created by CPAN-Reporter-1.2018.
Thank you for uploading your work to CPAN. Congratulations!
All tests were successful.
Sections of this report:
* Tester comments
* Program output
* Prerequisites
* Environment and other context
------------------------------
TESTER COMMENTS
------------------------------
Additional comments from tester:
this report is from an automated smoke testing program
and was not reviewed by a human for accuracy
------------------------------
PROGRAM OUTPUT
------------------------------
Output from './Build test':
t/00-compile.t ........... ok
#
# Versions for all modules listed in MYMETA.json (including optional ones):
#
# === Configure Requires ===
#
# Module Want Have
# ------------- ---- ------
# Module::Build 0.28 0.4229
#
# === Build Requires ===
#
# Module Want Have
# ------------- ---- ------
# Module::Build 0.28 0.4229
#
# === Test Requires ===
#
# Module Want Have
# ------------------- ---- --------
# ExtUtils::MakeMaker any 7.42
# File::Spec any 3.75
# IO::Handle any 1.48
# IPC::Open3 any 1.03
# Test::Distribution any 2.00
# Test::More any 1.302190
#
# === Test Recommends ===
#
# Module Want Have
# ---------- -------- --------
# CPAN::Meta 2.120900 2.150010
#
# === Runtime Requires ===
#
# Module Want Have
# --------------- ---- -------
# Sort::Naturally any 1.03
# strict any 1.03
# warnings any 1.05_01
#
t/00-report-prereqs.t .... ok
t/00_dist.t .............. ok
# Testing HTML::KhatGallery::Plugin::SortNaturally 0.02
t/01_load.t .............. ok
t/02_pod.t ............... ok
t/03_pod-coverage.t ...... ok
t/author-distmeta.t ...... skipped: these tests are for testing by the author
t/author-pod-coverage.t .. skipped: these tests are for testing by the author
t/author-pod-syntax.t .... skipped: these tests are for testing by the author
t/author-portability.t ... skipped: these tests are for testing by the author
t/pod-coverage.t ......... ok
t/pod.t .................. ok
t/release-has-version.t .. skipped: these tests are for release candidate testing
All tests successful.
Files=13, Tests=17, 3 wallclock secs ( 0.03 usr 0.05 sys + 0.87 cusr 0.16 csys = 1.11 CPU)
Result: PASS
------------------------------
PREREQUISITES
------------------------------
Prerequisite modules loaded:
requires:
Module Need Have
------------------- ----- --------
Sort::Naturally 0 1.03
strict 0 1.03
warnings 0 1.05_01
build_requires:
Module Need Have
------------------- ----- --------
ExtUtils::MakeMaker 0 7.42
File::Spec 0 3.75
IO::Handle 0 1.48
IPC::Open3 0 1.03
Module::Build 0.28 0.4229
perl 5.006 5.008009
Test::Distribution 0 2.00
Test::More 0 1.302190
configure_requires:
Module Need Have
------------------- ----- --------
Module::Build 0.28 0.4229
------------------------------
ENVIRONMENT AND OTHER CONTEXT
------------------------------
Environment variables:
AUTOMATED_TESTING = 1
LANG = en_US.UTF-8
PATH = /home/sand/bin:/usr/local/bin:/usr/bin:/bin:/usr/games:/usr/local/perl/bin:/usr/X11/bin:/sbin:/usr/sbin
PERL5LIB =
PERL5OPT =
PERL5_CPANPLUS_IS_RUNNING = 13702
PERL5_CPAN_IS_RUNNING = 13702
PERL_CANARY_STABILITY_NOPROMPT = 1
PERL_MM_USE_DEFAULT = 1
PERL_USE_UNSAFE_INC = 1
SHELL = /usr/bin/zsh
TERM = screen
Perl special variables (and OS-specific diagnostics, for MSWin32):
$^X = /home/sand/src/perl/repoperls/installed-perls/host/k93msid/perl-5.8.9/6fdb/bin/perl
$UID/$EUID = 1005 / 1005
$GID = 1005 1005
$EGID = 1005 1005
Perl module toolchain versions installed:
Module Have
------------------- --------
CPAN 2.29
CPAN::Meta 2.150010
Cwd 3.75
ExtUtils::CBuilder 0.280231
ExtUtils::Command 7.42
ExtUtils::Install 2.06
ExtUtils::MakeMaker 7.42
ExtUtils::Manifest 1.70
ExtUtils::ParseXS 3.35
File::Spec 3.75
JSON 4.05
JSON::PP 4.08
Module::Build 0.4229
Module::Signature 0.88
Parse::CPAN::Meta 2.150010
Test::Harness 3.43_04
Test::More 1.302190
YAML 1.29
YAML::Syck 1.31
version 0.9924
--
Summary of my perl5 (revision 5 version 8 subversion 9) configuration:
Platform:
osname=linux, osvers=5.3.0-2-amd64, archname=x86_64-linux
uname='linux k93msid 5.3.0-2-amd64 #1 smp debian 5.3.9-3 (2019-11-19) x86_64 gnulinux '
config_args='-Dprefix=/home/sand/src/perl/repoperls/installed-perls/host/k93msid/perl-5.8.9/6fdb -Dmyhostname=k93msid -Dinstallusrbinperl=n -Uversiononly -Dusedevel -des -Ui_db -Dlibswanted=cl pthread socket inet nsl gdbm dbm malloc dl ld sun m crypt sec util c cposix posix ucb BSD gdbm_compat -Uuseithreads -Uuselongdouble -Doptimize=-g'
hint=recommended, useposix=true, d_sigaction=define
usethreads=undef use5005threads=undef useithreads=undef usemultiplicity=undef
useperlio=define d_sfio=undef uselargefiles=define usesocks=undef
use64bitint=define use64bitall=define uselongdouble=undef
usemymalloc=n, bincompat5005=undef
Compiler:
cc='cc', ccflags ='-fwrapv -DDEBUGGING -fno-strict-aliasing -pipe -I/usr/local/include -D_LARGEFILE_SOURCE -D_FILE_OFFSET_BITS=64',
optimize='-g',
cppflags='-fwrapv -DDEBUGGING -fno-strict-aliasing -pipe -I/usr/local/include'
ccversion='', gccversion='9.2.1 20191109', gccosandvers=''
intsize=4, longsize=8, ptrsize=8, doublesize=8, byteorder=12345678
d_longlong=define, longlongsize=8, d_longdbl=define, longdblsize=16
ivtype='long', ivsize=8, nvtype='double', nvsize=8, Off_t='off_t', lseeksize=8
alignbytes=8, prototype=define
Linker and Libraries:
ld='cc', ldflags =' -L/usr/local/lib'
libpth=/usr/local/lib /lib/x86_64-linux-gnu /lib/../lib /usr/lib/x86_64-linux-gnu /usr/lib/../lib /lib /usr/lib
libs=-lpthread -lnsl -ldl -lm -lcrypt -lutil -lc
perllibs=-lpthread -lnsl -ldl -lm -lcrypt -lutil -lc
libc=libc-2.29.so, so=so, useshrplib=false, libperl=libperl.a
gnulibc_version='2.29'
Dynamic Linking:
dlsrc=dl_dlopen.xs, dlext=so, d_dlsymun=undef, ccdlflags='-Wl,-E'
cccdlflags='-fPIC', lddlflags='-shared -g -L/usr/local/lib'
Characteristics of this binary (from libperl):
Compile-time options: DEBUGGING PERL_MALLOC_WRAP USE_64_BIT_ALL
USE_64_BIT_INT USE_FAST_STDIO USE_LARGE_FILES
USE_PERLIO
Built under linux
Compiled at Nov 27 2019 05:06:43
%ENV:
PERL5LIB=""
PERL5OPT=""
PERL5_CPANPLUS_IS_RUNNING="13702"
PERL5_CPAN_IS_RUNNING="13702"
PERL_CANARY_STABILITY_NOPROMPT="1"
PERL_MM_USE_DEFAULT="1"
PERL_USE_UNSAFE_INC="1"
@INC:
/home/sand/src/perl/repoperls/installed-perls/host/k93msid/perl-5.8.9/6fdb/lib/5.8.9/x86_64-linux
/home/sand/src/perl/repoperls/installed-perls/host/k93msid/perl-5.8.9/6fdb/lib/5.8.9
/home/sand/src/perl/repoperls/installed-perls/host/k93msid/perl-5.8.9/6fdb/lib/site_perl/5.8.9/x86_64-linux
/home/sand/src/perl/repoperls/installed-perls/host/k93msid/perl-5.8.9/6fdb/lib/site_perl/5.8.9
.