Test-CleanNamespaces v0.24 Perl 5 v5.31.8 x86_64-linux

Status
Pass
From
John SJ Anderson
Dist
Test-CleanNamespaces v0.24
Platform
Perl 5 v5.31.8 x86_64-linux
Date
2020-01-20 21:06:41
ID
c1d09146-3bc8-11ea-8fd4-59b58cd52012
This distribution has been tested as part of the CPAN Testers
project, supporting the Perl programming language.  See
http://wiki.cpantesters.org/ for more information or email
questions to cpan-testers-discuss@perl.org


--
Dear ETHER,

This is a computer-generated report for Test-CleanNamespaces-0.24
on perl 5.31.8, created by App::cpanminus::reporter 0.17 (1.7044).

Thank you for uploading your work to CPAN.  Congratulations!
All tests were successful.

Sections of this report:

    * Tester comments
    * Program output
    * Prerequisites
    * Environment and other context

------------------------------
TESTER COMMENTS
------------------------------

Additional comments from tester:

none provided

------------------------------
PROGRAM OUTPUT
------------------------------

Output from '':

Building and testing Test-CleanNamespaces-0.24
cp lib/Test/CleanNamespaces.pm blib/lib/Test/CleanNamespaces.pm
Manifying 1 pod document
PERL_DL_NONLAZY=1 "/opt/plenv/versions/5.31.8/bin/perl5.31.8" "-MExtUtils::Command::MM" "-MTest::Harness" "-e" "undef *Test::Harness::Switches; test_harness(0, 'blib/lib', 'blib/arch')" t/*.t
# 
# Versions for all modules listed in MYMETA.json (including optional ones):
# 
# === Configure Requires ===
# 
#     Module                       Want     Have
#     ------------------------ -------- --------
#     CPAN::Meta::Requirements 2.120620    2.140
#     ExtUtils::MakeMaker           any     7.44
#     Module::Metadata              any 1.000037
# 
# === Build Requires ===
# 
#     Module              Want Have
#     ------------------- ---- ----
#     ExtUtils::MakeMaker  any 7.44
# 
# === Test Requires ===
# 
#     Module                 Want     Have
#     --------------------- ----- --------
#     ExtUtils::MakeMaker     any     7.44
#     File::Spec              any     3.78
#     File::Spec::Functions   any     3.78
#     File::pushd             any    1.016
#     Scalar::Util            any     1.53
#     Sub::Exporter           any    0.987
#     Test::Deep              any    1.128
#     Test::More             0.96 1.302171
#     Test::Needs             any 0.002006
#     Test::Tester            any 1.302171
#     Test::Warnings        0.009    0.028
#     constant                any     1.33
#     if                      any   0.0608
#     lib                     any     0.65
#     namespace::clean        any     0.27
#     overload                any     1.31
#     parent                  any    0.237
# 
# === Test Recommends ===
# 
#     Module         Want     Have
#     ---------- -------- --------
#     CPAN::Meta 2.120900 2.150010
# 
# === Test Suggests ===
# 
#     Module                          Want     Have
#     --------------------------- -------- --------
#     Class::MOP::Class                any  missing
#     Moo                              any  missing
#     Moo::Role                        any  missing
#     Moose                            any  missing
#     Moose::Exporter                  any  missing
#     Moose::Role                      any  missing
#     MooseX::Role::Parameterized      any  missing
#     Mouse                            any  missing
#     Mouse::Role                      any  missing
#     Role::Tiny                  1.003000 2.001004
#     metaclass                        any  missing
# 
# === Runtime Requires ===
# 
#     Module              Want     Have
#     --------------- -------- --------
#     Exporter            5.57     5.74
#     File::Find           any     1.37
#     File::Spec           any     3.78
#     Module::Runtime      any    0.016
#     Package::Stash      0.14     0.38
#     Role::Tiny      1.003000 2.001004
#     Sub::Identify        any     0.14
#     Test::Builder        any 1.302171
#     strict               any     1.11
#     warnings             any     1.46
# 
# === Runtime Recommends ===
# 
#     Module             Want Have
#     ------------------ ---- ----
#     Package::Stash::XS  any 0.29
# 
# === Runtime Suggests ===
# 
#     Module     Want     Have
#     ---------- ---- --------
#     Role::Tiny  any 2.001004
# 
# === Other Modules ===
# 
#     Module             Have
#     --------------- -------
#     Encode             3.02
#     File::Temp       0.2309
#     JSON::PP           4.04
#     Module::Runtime   0.016
#     Pod::Coverage   missing
#     Sub::Name          0.26
#     YAML            missing
#     autodie            2.32
# 
t/00-report-prereqs.t ......... ok
t/basic.t ..................... ok
t/class_mop.t ................. skipped: skipping for regular installs, due to possible circular dependency issues
t/clean-namespaces.t .......... ok
t/find_modules.t .............. ok
t/moo.t ....................... skipped: Need Moo 1.000007
t/moose-parameterized-role.t .. skipped: skipping for regular installs, due to possible circular dependency issues
t/moose.t ..................... skipped: skipping for regular installs, due to possible circular dependency issues
t/mouse.t ..................... skipped: Need Mouse
t/overload.t .................. ok
t/role_tiny.t ................. ok
t/self.t ...................... ok
t/zzz-check-breaks.t .......... ok
All tests successful.
Files=13, Tests=106,  1 wallclock secs ( 0.09 usr  0.01 sys +  0.97 cusr  0.15 csys =  1.22 CPU)
Result: PASS

------------------------------
PREREQUISITES
------------------------------

Prerequisite modules loaded:

    No requirements found

------------------------------
ENVIRONMENT AND OTHER CONTEXT
------------------------------

Environment variables:

    LANG = en_US.UTF-8
    LC_ALL = en_US.UTF-8
    LC_TERMINAL = iTerm2
    LC_TERMINAL_VERSION = 3.3.6
    PATH = /opt/plenv/versions/5.31.8/bin:/opt/plenv/libexec:/opt/plenv/plugins/perl-build/bin:/opt/plenv/shims:/opt/git/bin:/opt/plenv/shims:/opt/plenv/bin:/opt/nvm/versions/node/v12.11.1/bin:/home/genehack/bin:/opt/go/bin:/opt/vim/bin:/opt/tmux/bin:/opt/ruby/bin:/opt/rust/bin:/opt/gitflow/bin:/opt/emacs/bin:/opt/local/bin:/opt/git/bin:/usr/local/bin:/usr/bin:/bin:/usr/games:/home/genehack/proj/go/bin:/opt/swift/usr/bin
    PERL_CPANM_OPT = --skip-installed --prompt
    SHELL = /bin/zsh
    TERM = screen-256color

Perl special variables (and OS-specific diagnostics, for MSWin32):

    EGID = 1001 24 25 27 29 30 44 46 102 125 1001
    EUID = 1001
    EXECUTABLE_NAME = /opt/plenv/versions/5.31.8/bin/perl5.31.8
    GID = 1001 24 25 27 29 30 44 46 102 125 1001
    UID = 1001

Perl module toolchain versions installed:

    Module              Have    
    ------------------- --------
    CPAN                2.27    
    CPAN::Meta          2.150010
    Cwd                 3.78    
    ExtUtils::CBuilder  0.280233
    ExtUtils::Command   7.44    
    ExtUtils::Install   2.14    
    ExtUtils::MakeMaker 7.44    
    ExtUtils::Manifest  1.72    
    ExtUtils::ParseXS   3.40    
    File::Spec          3.78    
    JSON                4.02    
    JSON::PP            4.04    
    Module::Build       0.4229  
    Module::Signature   n/a     
    Parse::CPAN::Meta   2.150010
    Test::Harness       3.42    
    Test::More          1.302171
    YAML                1.29    
    YAML::Syck          n/a     
    version             0.9924  


--

Summary of my perl5 (revision 5 version 31 subversion 8) configuration:
   
  Platform:
    osname=linux
    osvers=4.19.0-6-amd64
    archname=x86_64-linux
    uname='linux ferb 4.19.0-6-amd64 #1 smp debian 4.19.67-2+deb10u2 (2019-11-11) x86_64 gnulinux '
    config_args='-Dprefix=/opt/plenv/versions/5.31.8 -de -Dversiononly -Dusedevel -A'eval:scriptdir=/opt/plenv/versions/5.31.8/bin''
    hint=recommended
    useposix=true
    d_sigaction=define
    useithreads=undef
    usemultiplicity=undef
    use64bitint=define
    use64bitall=define
    uselongdouble=undef
    usemymalloc=n
    default_inc_excludes_dot=define
    bincompat5005=undef
  Compiler:
    cc='cc'
    ccflags ='-fwrapv -fno-strict-aliasing -pipe -fstack-protector-strong -I/usr/local/include -D_LARGEFILE_SOURCE -D_FILE_OFFSET_BITS=64 -D_FORTIFY_SOURCE=2'
    optimize='-O2'
    cppflags='-fwrapv -fno-strict-aliasing -pipe -fstack-protector-strong -I/usr/local/include'
    ccversion=''
    gccversion='8.3.0'
    gccosandvers=''
    intsize=4
    longsize=8
    ptrsize=8
    doublesize=8
    byteorder=12345678
    doublekind=3
    d_longlong=define
    longlongsize=8
    d_longdbl=define
    longdblsize=16
    longdblkind=3
    ivtype='long'
    ivsize=8
    nvtype='double'
    nvsize=8
    Off_t='off_t'
    lseeksize=8
    alignbytes=8
    prototype=define
  Linker and Libraries:
    ld='cc'
    ldflags =' -fstack-protector-strong -L/usr/local/lib -L/opt/local/lib'
    libpth=/usr/local/lib /usr/lib/gcc/x86_64-linux-gnu/8/include-fixed /usr/include/x86_64-linux-gnu /usr/lib /opt/local/lib /lib/x86_64-linux-gnu /lib/../lib /usr/lib/x86_64-linux-gnu /usr/lib/../lib /lib
    libs=-lpthread -lnsl -lgdbm -ldl -lm -lcrypt -lutil -lc
    perllibs=-lpthread -lnsl -ldl -lm -lcrypt -lutil -lc
    libc=libc-2.28.so
    so=so
    useshrplib=false
    libperl=libperl.a
    gnulibc_version='2.28'
  Dynamic Linking:
    dlsrc=dl_dlopen.xs
    dlext=so
    d_dlsymun=undef
    ccdlflags='-Wl,-E'
    cccdlflags='-fPIC'
    lddlflags='-shared -O2 -L/usr/local/lib -L/opt/local/lib -fstack-protector-strong'


Characteristics of this binary (from libperl): 
  Compile-time options:
    HAS_TIMES
    PERLIO_LAYERS
    PERL_COPY_ON_WRITE
    PERL_DONT_CREATE_GVSV
    PERL_MALLOC_WRAP
    PERL_OP_PARENT
    PERL_PRESERVE_IVUV
    PERL_USE_DEVEL
    USE_64_BIT_ALL
    USE_64_BIT_INT
    USE_LARGE_FILES
    USE_LOCALE
    USE_LOCALE_COLLATE
    USE_LOCALE_CTYPE
    USE_LOCALE_NUMERIC
    USE_LOCALE_TIME
    USE_PERLIO
    USE_PERL_ATOF
  Built under linux
  Compiled at Jan 20 2020 10:53:08
  %ENV:
    PERL_CPANM_OPT="--skip-installed --prompt"
  @INC:
    /opt/plenv/versions/5.31.8/lib/perl5/site_perl/5.31.8/x86_64-linux
    /opt/plenv/versions/5.31.8/lib/perl5/site_perl/5.31.8
    /opt/plenv/versions/5.31.8/lib/perl5/5.31.8/x86_64-linux
    /opt/plenv/versions/5.31.8/lib/perl5/5.31.8