MaxMind-DB-Reader v1.000014 Perl 5 v5.37.7 x86_64-linux-thread-multi
- Status
- Pass
- From
- Andreas J. König (ANDK)
- Dist
-
MaxMind-DB-Reader v1.000014
- Platform
- Perl 5 v5.37.7 x86_64-linux-thread-multi
- Date
- 2023-01-05 21:48:57
- ID
- c1be27f8-8d42-11ed-bf78-1bffda9fb2ba
This distribution has been tested as part of the CPAN Testers
project, supporting the Perl programming language. See
http://wiki.cpantesters.org/ for more information or email
questions to cpan-testers-discuss@perl.org
--
Dear MaxMind, Inc.,
This is a computer-generated report for MaxMind-DB-Reader-1.000014
on perl 5.37.7, created by CPAN-Reporter-1.2018.
Thank you for uploading your work to CPAN. Congratulations!
All tests were successful.
Sections of this report:
* Tester comments
* Program output
* Prerequisites
* Environment and other context
------------------------------
TESTER COMMENTS
------------------------------
Additional comments from tester:
this report is from an automated smoke testing program
and was not reviewed by a human for accuracy
------------------------------
PROGRAM OUTPUT
------------------------------
Output from '/usr/bin/make test':
PERL_DL_NONLAZY=1 "/tmp/basesmoker-reloperl-yptJ/bin/perl" "-MExtUtils::Command::MM" "-MTest::Harness" "-e" "undef *Test::Harness::Switches; test_harness(0, 'blib/lib', 'blib/arch')" t/*.t t/MaxMind/DB/*.t t/MaxMind/DB/Reader/*.t t/MaxMind/DB/Reader/Decoder-types/*.t
#
# Versions for all modules listed in MYMETA.json (including optional ones):
#
# === Configure Requires ===
#
# Module Want Have
# ------------------- ---- ----
# ExtUtils::MakeMaker any 7.66
#
# === Build Requires ===
#
# Module Want Have
# ------------------- ---- ----
# ExtUtils::MakeMaker any 7.66
#
# === Test Requires ===
#
# Module Want Have
# ------------------------------- ---- --------
# Exporter any 5.77
# ExtUtils::MakeMaker any 7.66
# File::Spec any 3.88
# Path::Class 0.27 0.37
# Scalar::Util 1.42 1.63
# Test::Bits any 0.02
# Test::Fatal any 0.017
# Test::MaxMind::DB::Common::Data any 0.040001
# Test::MaxMind::DB::Common::Util any 0.040001
# Test::More 0.96 1.302191
# Test::Number::Delta any 1.06
# Test::Requires any 0.11
# lib any 0.65
# utf8 any 1.25
#
# === Test Recommends ===
#
# Module Want Have
# ---------- -------- --------
# CPAN::Meta 2.120900 2.150010
#
# === Runtime Requires ===
#
# Module Want Have
# ------------------------- -------- --------
# Carp any 1.54
# Data::IEEE754 any 0.02
# Data::Printer any 1.001000
# Data::Validate::IP 0.25 0.31
# DateTime any 1.59
# Encode any 3.19
# Getopt::Long any 2.54
# List::AllUtils any 0.19
# Math::BigInt any 1.999837
# MaxMind::DB::Common 0.040001 0.040001
# MaxMind::DB::Metadata any 0.040001
# MaxMind::DB::Role::Debugs any 0.040001
# MaxMind::DB::Types any 0.040001
# Module::Implementation any 0.09
# Moo 1.003000 2.005004
# Moo::Role any 2.005004
# MooX::StrictConstructor any 0.011
# Role::Tiny 1.003002 2.002004
# Socket 1.87 2.036
# autodie any 2.34
# bytes any 1.08
# constant any 1.33
# namespace::autoclean any 0.29
# strict any 1.12
# warnings any 1.61
#
# === Runtime Suggests ===
#
# Module Want Have
# ----------------------- -------- -------
# MaxMind::DB::Reader::XS 1.000003 missing
#
t/00-report-prereqs.t ............................. ok
t/MaxMind/DB/Reader-broken-databases.t ............ ok
t/MaxMind/DB/Reader-decoder.t ..................... ok
t/MaxMind/DB/Reader-no-ipv4-search-tree.t ......... ok
t/MaxMind/DB/Reader.t ............................. ok
t/MaxMind/DB/Reader/Decoder-maps-with-pointers.t .. ok
t/MaxMind/DB/Reader/Decoder-types/array.t ......... ok
t/MaxMind/DB/Reader/Decoder-types/boolean.t ....... ok
t/MaxMind/DB/Reader/Decoder-types/bytes.t ......... ok
t/MaxMind/DB/Reader/Decoder-types/container.t ..... ok
t/MaxMind/DB/Reader/Decoder-types/double.t ........ ok
t/MaxMind/DB/Reader/Decoder-types/end_marker.t .... ok
t/MaxMind/DB/Reader/Decoder-types/float.t ......... ok
t/MaxMind/DB/Reader/Decoder-types/int32.t ......... ok
t/MaxMind/DB/Reader/Decoder-types/map.t ........... ok
t/MaxMind/DB/Reader/Decoder-types/pointer.t ....... ok
t/MaxMind/DB/Reader/Decoder-types/uint128.t ....... ok
t/MaxMind/DB/Reader/Decoder-types/uint16.t ........ ok
t/MaxMind/DB/Reader/Decoder-types/uint32.t ........ ok
t/MaxMind/DB/Reader/Decoder-types/uint64.t ........ ok
t/MaxMind/DB/Reader/Decoder-types/utf8_string.t ... ok
t/MaxMind/DB/Reader/Decoder.t ..................... ok
t/MaxMind/DB/Reader/NoMoose.t ..................... ok
All tests successful.
Files=23, Tests=485, 5 wallclock secs ( 0.09 usr 0.04 sys + 4.59 cusr 0.69 csys = 5.41 CPU)
Result: PASS
------------------------------
PREREQUISITES
------------------------------
Prerequisite modules loaded:
requires:
Module Need Have
------------------------------- -------- --------
autodie 0 2.34
bytes 0 1.08
Carp 0 1.54
constant 0 1.33
Data::IEEE754 0 0.02
Data::Printer 0 1.001000
Data::Validate::IP 0.25 0.31
DateTime 0 1.59
Encode 0 3.19
Getopt::Long 0 2.54
List::AllUtils 0 0.19
Math::BigInt 0 1.999837
MaxMind::DB::Common 0.040001 0.040001
MaxMind::DB::Metadata 0 0.040001
MaxMind::DB::Role::Debugs 0 0.040001
MaxMind::DB::Types 0 0.040001
Module::Implementation 0 0.09
Moo 1.003000 2.005004
Moo::Role 0 2.005004
MooX::StrictConstructor 0 0.011
namespace::autoclean 0 0.29
perl 5.010000 5.037007
Role::Tiny 1.003002 2.002004
Socket 1.87 2.036
strict 0 1.12
warnings 0 1.61
build_requires:
Module Need Have
------------------------------- -------- --------
Exporter 0 5.77
ExtUtils::MakeMaker 0 7.66
File::Spec 0 3.88
lib 0 0.65
Path::Class 0.27 0.37
Scalar::Util 1.42 1.63
Test::Bits 0 0.02
Test::Fatal 0 0.017
Test::MaxMind::DB::Common::Data 0 0.040001
Test::MaxMind::DB::Common::Util 0 0.040001
Test::More 0.96 1.302191
Test::Number::Delta 0 1.06
Test::Requires 0 0.11
utf8 0 1.25
configure_requires:
Module Need Have
------------------------------- -------- --------
ExtUtils::MakeMaker 0 7.66
------------------------------
ENVIRONMENT AND OTHER CONTEXT
------------------------------
Environment variables:
AUTOMATED_TESTING = 1
LANG = en_US.UTF-8
LC_ADDRESS = de_DE.UTF-8
LC_IDENTIFICATION = de_DE.UTF-8
LC_MEASUREMENT = de_DE.UTF-8
LC_MONETARY = de_DE.UTF-8
LC_NAME = de_DE.UTF-8
LC_NUMERIC = de_DE.UTF-8
LC_PAPER = de_DE.UTF-8
LC_TELEPHONE = de_DE.UTF-8
LC_TIME = de_DE.UTF-8
PATH = /home/sand/bin:/usr/local/bin:/usr/local/sbin:/usr/sbin:/usr/bin:/sbin:/bin:/usr/games:/usr/local/games:/snap/bin:/usr/local/perl/bin:/usr/X11/bin
PERL = /tmp/basesmoker-reloperl-yptJ/bin/perl
PERL5LIB = /tmp/loop_over_bdir-6179-b5GIts/Business-Shipping-DataFiles-1.02-0/blib/arch:/tmp/loop_over_bdir-6179-b5GIts/Business-Shipping-DataFiles-1.02-0/blib/lib
PERL5OPT =
PERL5_CPANPLUS_IS_RUNNING = 6194
PERL5_CPAN_IS_RUNNING = 6194
PERL_CANARY_STABILITY_NOPROMPT = 1
PERL_MM_USE_DEFAULT = 1
PERL_USE_UNSAFE_INC = 1
SHELL = /usr/bin/zsh
TERM = screen
Perl special variables (and OS-specific diagnostics, for MSWin32):
$^X = /tmp/basesmoker-reloperl-yptJ/bin/perl
$UID/$EUID = 1005 / 1005
$GID = 1005 1005
$EGID = 1005 1005
Perl module toolchain versions installed:
Module Have
------------------- --------
CPAN 2.34
CPAN::Meta 2.150010
Cwd 3.88
ExtUtils::CBuilder 0.280238
ExtUtils::Command 7.66
ExtUtils::Install 2.20
ExtUtils::MakeMaker 7.66
ExtUtils::Manifest 1.73
ExtUtils::ParseXS 3.49
File::Spec 3.88
JSON 4.10
JSON::PP 4.16
Module::Build 0.4232
Module::Signature 0.88
Parse::CPAN::Meta 2.150010
Test::Harness 3.44
Test::More 1.302191
YAML 1.30
YAML::Syck 1.34
version 0.9929
--
Summary of my perl5 (revision 5 version 37 subversion 7) configuration:
Commit id: b1163c2ae562670f2bf4c7700087f0c9d0ad8fe5
Platform:
osname=linux
osvers=5.15.0-56-generic
archname=x86_64-linux-thread-multi
uname='linux k93jammy 5.15.0-56-generic #62-ubuntu smp tue nov 22 19:54:14 utc 2022 x86_64 x86_64 x86_64 gnulinux '
config_args='-Dprefix=/home/sand/src/perl/repoperls/installed-perls/host/k93jammy/v5.37.7/b4f3 -Dmyhostname=k93jammy -Dinstallusrbinperl=n -Uversiononly -Dusedevel -des -Ui_db -Dlibswanted=cl pthread socket inet nsl gdbm dbm malloc dl ld sun m crypt sec util c cposix posix ucb BSD gdbm_compat -Duseithreads -Uuselongdouble -DEBUGGING=-g'
hint=recommended
useposix=true
d_sigaction=define
useithreads=define
usemultiplicity=define
use64bitint=define
use64bitall=define
uselongdouble=undef
usemymalloc=n
default_inc_excludes_dot=define
Compiler:
cc='cc'
ccflags ='-D_REENTRANT -D_GNU_SOURCE -fwrapv -fno-strict-aliasing -pipe -fstack-protector-strong -I/usr/local/include -D_LARGEFILE_SOURCE -D_FILE_OFFSET_BITS=64'
optimize='-O2 -g'
cppflags='-D_REENTRANT -D_GNU_SOURCE -fwrapv -fno-strict-aliasing -pipe -fstack-protector-strong -I/usr/local/include'
ccversion=''
gccversion='11.3.0'
gccosandvers=''
intsize=4
longsize=8
ptrsize=8
doublesize=8
byteorder=12345678
doublekind=3
d_longlong=define
longlongsize=8
d_longdbl=define
longdblsize=16
longdblkind=3
ivtype='long'
ivsize=8
nvtype='double'
nvsize=8
Off_t='off_t'
lseeksize=8
alignbytes=8
prototype=define
Linker and Libraries:
ld='cc'
ldflags =' -fstack-protector-strong -L/usr/local/lib'
libpth=/usr/local/lib /usr/lib/x86_64-linux-gnu /usr/lib /usr/lib64
libs=-lpthread -lnsl -ldl -lm -lcrypt -lutil -lc
perllibs=-lpthread -lnsl -ldl -lm -lcrypt -lutil -lc
libc=/lib/x86_64-linux-gnu/libc.so.6
so=so
useshrplib=false
libperl=libperl.a
gnulibc_version='2.35'
Dynamic Linking:
dlsrc=dl_dlopen.xs
dlext=so
d_dlsymun=undef
ccdlflags='-Wl,-E'
cccdlflags='-fPIC'
lddlflags='-shared -O2 -g -L/usr/local/lib -fstack-protector-strong'
Characteristics of this binary (from libperl):
Compile-time options:
HAS_TIMES
MULTIPLICITY
PERLIO_LAYERS
PERL_COPY_ON_WRITE
PERL_DONT_CREATE_GVSV
PERL_HASH_FUNC_SIPHASH13
PERL_HASH_USE_SBOX32
PERL_MALLOC_WRAP
PERL_OP_PARENT
PERL_PRESERVE_IVUV
PERL_USE_DEVEL
PERL_USE_SAFE_PUTENV
USE_64_BIT_ALL
USE_64_BIT_INT
USE_ITHREADS
USE_LARGE_FILES
USE_LOCALE
USE_LOCALE_COLLATE
USE_LOCALE_CTYPE
USE_LOCALE_NUMERIC
USE_LOCALE_TIME
USE_PERLIO
USE_PERL_ATOF
USE_REENTRANT_API
USE_THREAD_SAFE_LOCALE
Built under linux
Compiled at Jan 4 2023 13:32:48
%ENV:
PERL="/tmp/basesmoker-reloperl-yptJ/bin/perl"
PERL5LIB="/tmp/loop_over_bdir-6179-b5GIts/Business-Shipping-DataFiles-1.02-0/blib/arch:/tmp/loop_over_bdir-6179-b5GIts/Business-Shipping-DataFiles-1.02-0/blib/lib"
PERL5OPT=""
PERL5_CPANPLUS_IS_RUNNING="6194"
PERL5_CPAN_IS_RUNNING="6194"
PERL_CANARY_STABILITY_NOPROMPT="1"
PERL_MM_USE_DEFAULT="1"
PERL_USE_UNSAFE_INC="1"
@INC:
/tmp/loop_over_bdir-6179-b5GIts/Business-Shipping-DataFiles-1.02-0/blib/arch
/tmp/loop_over_bdir-6179-b5GIts/Business-Shipping-DataFiles-1.02-0/blib/lib
/home/sand/src/perl/repoperls/installed-perls/host/k93jammy/v5.37.7/b4f3/lib/site_perl/5.37.7/x86_64-linux-thread-multi
/home/sand/src/perl/repoperls/installed-perls/host/k93jammy/v5.37.7/b4f3/lib/site_perl/5.37.7
/home/sand/src/perl/repoperls/installed-perls/host/k93jammy/v5.37.7/b4f3/lib/5.37.7/x86_64-linux-thread-multi
/home/sand/src/perl/repoperls/installed-perls/host/k93jammy/v5.37.7/b4f3/lib/5.37.7
.