Report for CatalystX-SimpleLogin-0.18

Back
From: metabase:user:314402c4-2aae-11df-837a-5e0a49663a4f
Subject: PASS CatalystX-SimpleLogin-0.18 v5.10.1 FreeBSD
Date: 2012-07-21T14:02:49Z

This distribution has been tested as part of the CPAN Testers
project, supporting the Perl programming language.  See
http://wiki.cpantesters.org/ for more information or email
questions to cpan-testers-discuss@perl.org


--
Dear Tomas Doran,

This is a computer-generated report for CatalystX-SimpleLogin-0.18
on perl 5.10.1, created by CPAN-Reporter-1.2006.

Thank you for uploading your work to CPAN.  Congratulations!
All tests were successful.

Sections of this report:

    * Tester comments
    * Program output
    * Prerequisites
    * Environment and other context

------------------------------
TESTER COMMENTS
------------------------------

Additional comments from tester:

none provided

------------------------------
PROGRAM OUTPUT
------------------------------

Output from '/usr/bin/make test':

PERL_DL_NONLAZY=1 /usr/perl5.10.1/bin/perl5.10.1 "-MExtUtils::Command::MM" "-e" "test_harness(0, 'inc', 'blib/lib', 'blib/arch')" t/*.t
t/00-load.t ........................... ok
[warn] Attempted to use view 'TestApp::View::HTML', but does not exist
t/01-live-test.t ...................... ok
[warn] Attempted to use view 'TestAppRedirect::View::HTML', but does not exist
t/02-redirect-test.t .................. ok
t/03-login-form.t ..................... ok
[warn] Attempted to use view 'TestAppRedirect::View::HTML', but does not exist
t/04-test-role-apply-order.t .......... ok
[warn] Attempted to use view 'TestAppRedirect::View::HTML', but does not exist
t/05-login-redirect-custom-message.t .. ok
[warn] Attempted to use view 'TestAppRenderTT::View::HTML', but does not exist
t/06-rendertt.t ....................... ok
Constant subroutine OpenID::util::VERSION_1_NAMESPACE redefined at /usr/perl5.10.1/lib/5.10.1/constant.pm line 137.
Constant subroutine OpenID::util::VERSION_2_NAMESPACE redefined at /usr/perl5.10.1/lib/5.10.1/constant.pm line 137.
Subroutine version_1_namespace redefined at /usr/perl5.10.1/lib/site_perl/5.10.1/Net/OpenID/Consumer.pm line 901.
Subroutine version_2_namespace redefined at /usr/perl5.10.1/lib/site_perl/5.10.1/Net/OpenID/Consumer.pm line 904.
Subroutine version_1_xrds_service_url redefined at /usr/perl5.10.1/lib/site_perl/5.10.1/Net/OpenID/Consumer.pm line 907.
Subroutine version_2_xrds_service_url redefined at /usr/perl5.10.1/lib/site_perl/5.10.1/Net/OpenID/Consumer.pm line 910.
Subroutine version_2_xrds_directed_service_url redefined at /usr/perl5.10.1/lib/site_perl/5.10.1/Net/OpenID/Consumer.pm line 913.
Subroutine version_2_identifier_select_url redefined at /usr/perl5.10.1/lib/site_perl/5.10.1/Net/OpenID/Consumer.pm line 916.
Subroutine parse_keyvalue redefined at /usr/perl5.10.1/lib/site_perl/5.10.1/Net/OpenID/Consumer.pm line 938.
Subroutine eurl redefined at /usr/perl5.10.1/lib/site_perl/5.10.1/Net/OpenID/Consumer.pm line 979.
Subroutine push_url_arg redefined at /usr/perl5.10.1/lib/site_perl/5.10.1/Net/OpenID/Consumer.pm line 986.
Subroutine push_openid2_url_arg redefined at /usr/perl5.10.1/lib/site_perl/5.10.1/Net/OpenID/Consumer.pm line 999.
Subroutine time_to_w3c redefined at /usr/perl5.10.1/lib/site_perl/5.10.1/Net/OpenID/Consumer.pm line 1010.
Subroutine w3c_to_time redefined at /usr/perl5.10.1/lib/site_perl/5.10.1/Net/OpenID/Consumer.pm line 1021.
Subroutine b64 redefined at /usr/perl5.10.1/lib/site_perl/5.10.1/Net/OpenID/Consumer.pm line 1052.
Subroutine d64 redefined at /usr/perl5.10.1/lib/site_perl/5.10.1/Net/OpenID/Consumer.pm line 1058.
[warn] Attempted to use view 'TestAppOpenID::View::HTML', but does not exist
t/07-openid-live.t .................... ok
t/08-dbic-mappedfields.t .............. skipped: One of the required classes for this test Due to a method name conflict in roles 'CatalystX::Component::Traits' and 'MooseX::Traits::Pluggable', the method '_find_trait' must be implemented or excluded by 'Catalyst::Model::DBIC::Schema' at /usr/perl5.10.1/lib/site_perl/5.10.1/i386-freebsd/Moose/Meta/Role/Application/ToClass.pm line 134.
[warn] Attempted to use view 'TestAppClearSession::View::HTML', but does not exist
t/09-clearsession.t ................... ok
[warn] Attempted to use view 'TestAppFormArgs::View::HTML', but does not exist
t/10-form-args.t ...................... ok
[warn] Attempted to use view 'TestApp::View::HTML', but does not exist
t/chained_parts.t ..................... ok
All tests successful.
Files=12, Tests=99, 40 wallclock secs ( 0.04 usr  0.06 sys + 29.90 cusr  1.57 csys = 31.57 CPU)
Result: PASS

------------------------------
PREREQUISITES
------------------------------

Prerequisite modules loaded:

requires:

    Module                                   Need    Have    
    ---------------------------------------- ------- --------
    Catalyst::Action::RenderView             0       0.16    
    Catalyst::Action::REST                   0.74    0.96    
    Catalyst::ActionRole::ACL                0       0.05    
    Catalyst::Plugin::Authentication         0       0.10021 
    Catalyst::Plugin::Session                0.27    0.31    
    Catalyst::Plugin::Session::State::Cookie 0       0.17    
    Catalyst::Plugin::Session::Store::File   0       0.18    
    Catalyst::Runtime                        5.80013 5.90015 
    Catalyst::View::TT                       0       0.35    
    CatalystX::Component::Traits             0.13    0.14    
    CatalystX::InjectComponent               0       0.025   
    File::Temp                               0       0.22    
    HTML::FormHandler                        0.28001 0.40010 
    HTTP::Request::Common                    0       6.03    
    Moose                                    0       2.0603  
    Moose::Autobox                           0       0.11    
    MooseX::MethodAttributes                 0.18    0.26    
    MooseX::RelatedClassRoles                0.004   0.004   
    MooseX::Types                            0       0.31    
    MooseX::Types::Common                    0       0.001008
    namespace::autoclean                     0       0.13    
    SQL::Translator                          0       0.11012 
    Test::Exception                          0       0.31    
    Test::More                               0.94    0.98    

build_requires:

    Module                                   Need    Have    
    ---------------------------------------- ------- --------
    Catalyst::Action::RenderView             0       0.16    
    Catalyst::ActionRole::ACL                0       0.05    
    Catalyst::Plugin::Session::State::Cookie 0       0.17    
    Catalyst::Plugin::Session::Store::File   0       0.18    
    CatalystX::InjectComponent               0       0.025   
    ExtUtils::MakeMaker                      6.36    6.62    
    File::Temp                               0       0.22    
    HTTP::Request::Common                    0       6.03    
    SQL::Translator                          0       0.11012 
    Test::Exception                          0       0.31    
    Test::More                               0.94    0.98    

configure_requires:

    Module                                   Need    Have    
    ---------------------------------------- ------- --------
    ExtUtils::MakeMaker                      6.36    6.62    


------------------------------
ENVIRONMENT AND OTHER CONTEXT
------------------------------

Environment variables:

    DBIC_NO_WARN_BAD_PERL = 1
    PATH = /usr/local/bin:/usr/X11R6/bin:/usr/X11/bin:/usr/perl5.8.0/bin:/usr/bin:/bin:/usr/local/sbin:/usr/sbin:/sbin:/usr/local/pilot/bin:/home/cpansand/bin/freebsd8.0:/home/cpansand/bin/sh:/home/cpansand/bin:/usr/X386/bin:/usr/games:/home/cpansand/devel:/usr/home/e/eserte/work/srezic-misc/scripts
    PERL5LIB = 
    PERL5OPT = 
    PERL5_CPANPLUS_IS_RUNNING = 54550
    PERL5_CPAN_IS_RUNNING = 54550
    PERL5_CPAN_IS_RUNNING_IN_RECURSION = 54504,54550
    PERL_BATCH = yes
    PERL_CPAN_REPORTER_CONFIG = /var/tmp/cpansmoker-1023/b0YmUii_Zp_config.ini
    PERL_EXTUTILS_AUTOINSTALL = --defaultdeps
    PERL_HTML_DISPLAY_CLASS = HTML::Display::Mozilla
    SHELL = /usr/local/bin/zsh
    TERM = screen
    TMPDIR = /var/tmp/cpansmoker-1023

Perl special variables (and OS-specific diagnostics, for MSWin32):

    $^X = /usr/perl5.10.1/bin/perl5.10.1
    $UID/$EUID = 1023 / 1023
    $GID = 1023 1023
    $EGID = 1023 1023

Perl module toolchain versions installed:

    Module              Have    
    ------------------- --------
    CPAN                1.9800  
    CPAN::Meta          2.112150
    Cwd                 3.33    
    ExtUtils::CBuilder  0.280205
    ExtUtils::Command   1.17    
    ExtUtils::Install   1.54    
    ExtUtils::MakeMaker 6.62    
    ExtUtils::Manifest  1.60    
    ExtUtils::ParseXS   3.15    
    File::Spec          3.33    
    JSON                2.53    
    JSON::PP            2.27200 
    Module::Build       0.4001  
    Module::Signature   0.68    
    Parse::CPAN::Meta   1.4403  
    Test::Harness       3.23    
    Test::More          0.98    
    YAML                0.81    
    YAML::Syck          1.20    
    version             0.96    


--

Summary of my perl5 (revision 5 version 10 subversion 1) configuration:
   
  Platform:
    osname=freebsd, osvers=8.0-release, archname=i386-freebsd
    uname='freebsd biokovo.herceg.de 8.0-release freebsd 8.0-release #0: sat nov 21 15:48:17 utc 2009 root@almeida.cse.buffalo.edu:usrobjusrsrcsysgeneric i386 '
    config_args='-Dprefix=/usr/perl5.10.1 -Dusemymalloc=n -D cc=ccache cc -Dgccansipedantic -Duse64bit -de -D hintfile=myfreebsd'
    hint=recommended, useposix=true, d_sigaction=define
    useithreads=undef, usemultiplicity=undef
    useperlio=define, d_sfio=undef, uselargefiles=define, usesocks=undef
    use64bitint=undef, use64bitall=undef, uselongdouble=undef
    usemymalloc=n, bincompat5005=undef
  Compiler:
    cc='ccache cc', ccflags ='-DHAS_FPSETMASK -DHAS_FLOATINGPOINT_H -fno-strict-aliasing -pipe -fstack-protector -I/usr/local/include',
    optimize='-O2 -mtune=athlon64 -pipe',
    cppflags='-DHAS_FPSETMASK -DHAS_FLOATINGPOINT_H -fno-strict-aliasing -pipe -fstack-protector -I/usr/local/include'
    ccversion='', gccversion='4.2.1 20070719  [FreeBSD]', gccosandvers=''
    intsize=4, longsize=4, ptrsize=4, doublesize=8, byteorder=1234
    d_longlong=define, longlongsize=8, d_longdbl=define, longdblsize=12
    ivtype='long', ivsize=4, nvtype='double', nvsize=8, Off_t='off_t', lseeksize=8
    alignbytes=4, prototype=define
  Linker and Libraries:
    ld='ccache cc', ldflags ='-Wl,-E  -fstack-protector -L/usr/local/lib'
    libpth=/usr/lib /usr/local/lib
    libs=-lgdbm -lm -lcrypt -lutil -lc
    perllibs=-lm -lcrypt -lutil -lc
    libc=, so=so, useshrplib=false, libperl=libperl.a
    gnulibc_version=''
  Dynamic Linking:
    dlsrc=dl_dlopen.xs, dlext=so, d_dlsymun=undef, ccdlflags=' '
    cccdlflags='-DPIC -fPIC', lddlflags='-shared  -L/usr/local/lib -fstack-protector'


Characteristics of this binary (from libperl): 
  Compile-time options: PERL_DONT_CREATE_GVSV PERL_MALLOC_WRAP PERL_USE_DEVEL
                        USE_LARGE_FILES USE_PERLIO
  Built under freebsd
  Compiled at Feb  6 2010 13:47:51
  %ENV:
    PERL5LIB=""
    PERL5OPT=""
    PERL5_CPANPLUS_IS_RUNNING="54550"
    PERL5_CPAN_IS_RUNNING="54550"
    PERL5_CPAN_IS_RUNNING_IN_RECURSION="54504,54550"
    PERL_BATCH="yes"
    PERL_CPAN_REPORTER_CONFIG="/var/tmp/cpansmoker-1023/b0YmUii_Zp_config.ini"
    PERL_EXTUTILS_AUTOINSTALL="--defaultdeps"
    PERL_HTML_DISPLAY_CLASS="HTML::Display::Mozilla"
  @INC:
    /usr/perl5.10.1/lib/5.10.1/i386-freebsd
    /usr/perl5.10.1/lib/5.10.1
    /usr/perl5.10.1/lib/site_perl/5.10.1/i386-freebsd
    /usr/perl5.10.1/lib/site_perl/5.10.1
    .