Report for Module-Install-ReadmeFromPod-0.22

Back
From: metabase:user:b53c7f44-4c0e-11e4-9ced-a04ade49192c
Subject: PASS Module-Install-ReadmeFromPod-0.22 v5.20.2 RC1 GNU/Linux
Date: 2015-02-06T09:37:24Z

This distribution has been tested as part of the CPAN Testers
project, supporting the Perl programming language.  See
http://wiki.cpantesters.org/ for more information or email
questions to cpan-testers-discuss@perl.org


--
Dear Chris Williams,

This is a computer-generated report for Module-Install-ReadmeFromPod-0.22
on perl 5.20.2, created by CPAN-Reporter-1.2011.

Thank you for uploading your work to CPAN.  Congratulations!
All tests were successful.

Sections of this report:

    * Tester comments
    * Program output
    * Prerequisites
    * Environment and other context

------------------------------
TESTER COMMENTS
------------------------------

Additional comments from tester:

this report is from an automated smoke testing program
and was not reviewed by a human for accuracy

------------------------------
PROGRAM OUTPUT
------------------------------

Output from '/usr/bin/make test':

PERL_DL_NONLAZY=1 "/opt/perlcc5-32-O0-5.20.2-RC1/bin/perl" "-MExtUtils::Command::MM" "-MTest::Harness" "-e" "undef *Test::Harness::Switches; test_harness(0, 'inc', 'blib/lib', 'blib/arch')" t/*.t
# Testing Module::Install::ReadmeFromPod 0.22, Perl 5.020002, /opt/perlcc5-32-O0-5.20.2-RC1/bin/perl
t/00_compile.t ....... ok
# include /root/.cpan/build/Module-Install-ReadmeFromPod-0.22-fE4Ug5/dist/jMGPb7J2jg/inc/Module/Install.pm
# include inc/Module/Install/Metadata.pm
# include inc/Module/Install/Base.pm
# include inc/Module/Install/ReadmeFromPod.pm
# readme_from README.pm to txt
# readme_from README.pm to htm
# readme_from README.pm to man
# include inc/Module/Install/WriteAll.pm
# include inc/Module/Install/Makefile.pm
# include inc/Module/Install/Win32.pm
# include inc/Module/Install/Can.pm
# include inc/Module/Install/Fetch.pm
# Generating a Unix-style Makefile
# Writing Makefile for Foo::Bar
# Writing MYMETA.yml and MYMETA.json
# Writing META.yml
# make[1]: Entering directory `/root/.cpan/build/Module-Install-ReadmeFromPod-0.22-fE4Ug5/dist/jMGPb7J2jg'
# rm -f \
# 	  Bar.bso Bar.def \
# 	  Bar.exp Bar.x \
# 	   blib/arch/auto/Foo/Bar/extralibs.all \
# 	  blib/arch/auto/Foo/Bar/extralibs.ld Makefile.aperl \
# 	  *.a *.o \
# 	  *perl.core MYMETA.json \
# 	  MYMETA.yml blibdirs.ts \
# 	  core core.*perl.*.? \
# 	  core.[0-9] core.[0-9][0-9] \
# 	  core.[0-9][0-9][0-9] core.[0-9][0-9][0-9][0-9] \
# 	  core.[0-9][0-9][0-9][0-9][0-9] libBar.def \
# 	  mon.out perl \
# 	  perl perl.exe \
# 	  perlmain.c pm_to_blib \
# 	  pm_to_blib.ts so_locations \
# 	  tmon.out 
# rm -rf \
# 	  blib 
# mv Makefile Makefile.old > /dev/null 2>&1
# rm -f \
# 	  Makefile Makefile.old 
# rm -rf \
# 	  MYMETA.yml Foo-Bar-0.01 
# rm -f Foo-Bar-0.01.tar.gz
# rm -f MANIFEST.bak _build
# "/opt/perlcc5-32-O0-5.20.2-RC1/bin/perl" "-Iinc" "-Ilib" "-MModule::Install::Admin" -e "remove_meta()"
# rm -rf inc
# "/opt/perlcc5-32-O0-5.20.2-RC1/bin/perl" "-Iinc" "-MExtUtils::Manifest=fullcheck" -e fullcheck
# Problem opening MANIFEST: No such file or directory at /opt/perlcc5-32-O0-5.20.2-RC1/lib/site_perl/5.20.2/ExtUtils/Manifest.pm line 349.
# Problem opening MANIFEST: No such file or directory at /opt/perlcc5-32-O0-5.20.2-RC1/lib/site_perl/5.20.2/ExtUtils/Manifest.pm line 349.
# Not in MANIFEST: Makefile.PL
# Not in MANIFEST: README
# Not in MANIFEST: README.1
# Not in MANIFEST: README.htm
# Not in MANIFEST: README.pm
# make[1]: Leaving directory `/root/.cpan/build/Module-Install-ReadmeFromPod-0.22-fE4Ug5/dist/jMGPb7J2jg'
t/01_dist.t .......... ok
# include /root/.cpan/build/Module-Install-ReadmeFromPod-0.22-fE4Ug5/dist/lOkxJyJhcv/inc/Module/Install.pm
# include inc/Module/Install/Metadata.pm
# include inc/Module/Install/Base.pm
# include inc/Module/Install/ReadmeFromPod.pm
# readme_from README.pm to text
# include inc/Module/Install/Makefile.pm
# readme_from README.pm to html
# readme_from README.pm to man
# include inc/Module/Install/WriteAll.pm
# include inc/Module/Install/Win32.pm
# include inc/Module/Install/Can.pm
# include inc/Module/Install/Fetch.pm
# Generating a Unix-style Makefile
# Writing Makefile for Foo::Bar
# Writing MYMETA.yml and MYMETA.json
# Writing META.yml
# make[1]: Entering directory `/root/.cpan/build/Module-Install-ReadmeFromPod-0.22-fE4Ug5/dist/lOkxJyJhcv'
# rm -f \
# 	  Bar.bso Bar.def \
# 	  Bar.exp Bar.x \
# 	   blib/arch/auto/Foo/Bar/extralibs.all \
# 	  blib/arch/auto/Foo/Bar/extralibs.ld Makefile.aperl \
# 	  *.a *.o \
# 	  *perl.core MYMETA.json \
# 	  MYMETA.yml blibdirs.ts \
# 	  core core.*perl.*.? \
# 	  core.[0-9] core.[0-9][0-9] \
# 	  core.[0-9][0-9][0-9] core.[0-9][0-9][0-9][0-9] \
# 	  core.[0-9][0-9][0-9][0-9][0-9] libBar.def \
# 	  mon.out perl \
# 	  perl perl.exe \
# 	  perlmain.c pm_to_blib \
# 	  pm_to_blib.ts so_locations \
# 	  tmon.out 
# rm -rf \
# 	  Foobar.htm Foobar.man \
# 	  Foobar.txt blib 
# mv Makefile Makefile.old > /dev/null 2>&1
# rm -f \
# 	  Makefile Makefile.old 
# rm -rf \
# 	  MYMETA.yml Foo-Bar-0.01 
# rm -f Foo-Bar-0.01.tar.gz
# rm -f MANIFEST.bak _build
# "/opt/perlcc5-32-O0-5.20.2-RC1/bin/perl" "-Iinc" "-Ilib" "-MModule::Install::Admin" -e "remove_meta()"
# rm -rf inc
# "/opt/perlcc5-32-O0-5.20.2-RC1/bin/perl" "-Iinc" "-MExtUtils::Manifest=fullcheck" -e fullcheck
# Problem opening MANIFEST: No such file or directory at /opt/perlcc5-32-O0-5.20.2-RC1/lib/site_perl/5.20.2/ExtUtils/Manifest.pm line 349.
# Problem opening MANIFEST: No such file or directory at /opt/perlcc5-32-O0-5.20.2-RC1/lib/site_perl/5.20.2/ExtUtils/Manifest.pm line 349.
# Not in MANIFEST: Makefile.PL
# Not in MANIFEST: README.pm
# make[1]: Leaving directory `/root/.cpan/build/Module-Install-ReadmeFromPod-0.22-fE4Ug5/dist/lOkxJyJhcv'
t/02_clean.t ......... ok
# include /root/.cpan/build/Module-Install-ReadmeFromPod-0.22-fE4Ug5/dist/cDzKnWQEZG/inc/Module/Install.pm
# include inc/Module/Install/Metadata.pm
# include inc/Module/Install/Base.pm
# include inc/Module/Install/Makefile.pm
# include inc/Module/Install/ReadmeFromPod.pm
# readme_from README.pm to txt
# include inc/Module/Install/WriteAll.pm
# include inc/Module/Install/Win32.pm
# include inc/Module/Install/Can.pm
# include inc/Module/Install/Fetch.pm
# Generating a Unix-style Makefile
# Writing Makefile for Foo::Bar
# Writing MYMETA.yml and MYMETA.json
# Writing META.yml
# make[1]: Entering directory `/root/.cpan/build/Module-Install-ReadmeFromPod-0.22-fE4Ug5/dist/cDzKnWQEZG'
# rm -f \
# 	  Bar.bso Bar.def \
# 	  Bar.exp Bar.x \
# 	   blib/arch/auto/Foo/Bar/extralibs.all \
# 	  blib/arch/auto/Foo/Bar/extralibs.ld Makefile.aperl \
# 	  *.a *.o \
# 	  *perl.core MYMETA.json \
# 	  MYMETA.yml blibdirs.ts \
# 	  core core.*perl.*.? \
# 	  core.[0-9] core.[0-9][0-9] \
# 	  core.[0-9][0-9][0-9] core.[0-9][0-9][0-9][0-9] \
# 	  core.[0-9][0-9][0-9][0-9][0-9] libBar.def \
# 	  mon.out perl \
# 	  perl perl.exe \
# 	  perlmain.c pm_to_blib \
# 	  pm_to_blib.ts so_locations \
# 	  tmon.out 
# rm -rf \
# 	  blib 
# mv Makefile Makefile.old > /dev/null 2>&1
# rm -f \
# 	  Makefile.old Makefile 
# rm -rf \
# 	  Foo-Bar-0.01 MYMETA.yml 
# rm -f Foo-Bar-0.01.tar.gz
# rm -f MANIFEST.bak _build
# "/opt/perlcc5-32-O0-5.20.2-RC1/bin/perl" "-Iinc" "-Ilib" "-MModule::Install::Admin" -e "remove_meta()"
# rm -rf inc
# "/opt/perlcc5-32-O0-5.20.2-RC1/bin/perl" "-Iinc" "-MExtUtils::Manifest=fullcheck" -e fullcheck
# Problem opening MANIFEST: No such file or directory at /opt/perlcc5-32-O0-5.20.2-RC1/lib/site_perl/5.20.2/ExtUtils/Manifest.pm line 349.
# Problem opening MANIFEST: No such file or directory at /opt/perlcc5-32-O0-5.20.2-RC1/lib/site_perl/5.20.2/ExtUtils/Manifest.pm line 349.
# Not in MANIFEST: Makefile.PL
# Not in MANIFEST: README
# Not in MANIFEST: README.pm
# make[1]: Leaving directory `/root/.cpan/build/Module-Install-ReadmeFromPod-0.22-fE4Ug5/dist/cDzKnWQEZG'
t/03_all_from.t ...... ok
t/04_distpdf.t ....... skipped: App::pod2pdf not installed
t/05_cleanpdf.t ...... skipped: App::pod2pdf not installed
t/99_pod.t ........... ok
t/99_pod_coverage.t .. ok
All tests successful.
Files=8, Tests=20, 18 wallclock secs ( 0.26 usr  0.03 sys + 15.20 cusr  1.73 csys = 17.22 CPU)
Result: PASS

------------------------------
PREREQUISITES
------------------------------

Prerequisite modules loaded:

requires:

    Module              Need  Have    
    ------------------- ----- --------
    Module::Install     1     1.14    
    perl                5.006 5.020002
    Pod::Html           0     1.21    
    Pod::Man            0     2.28    
    Pod::Text           3.13  3.18    

build_requires:

    Module              Need  Have    
    ------------------- ----- --------
    Capture::Tiny       0.05  0.27    
    ExtUtils::MakeMaker 6.59  7.04    
    File::Temp          0     0.2304  
    Test::More          0.47  1.001014

configure_requires:

    Module              Need  Have    
    ------------------- ----- --------
    ExtUtils::MakeMaker 6.59  7.04    

opt_requires:

    Module              Need  Have    
    ------------------- ----- --------
  ! App::pod2pdf        0     n/a     


------------------------------
ENVIRONMENT AND OTHER CONTEXT
------------------------------

Environment variables:

    AUTOMATED_TESTING = 1
    LANG = en_US.utf8
    NONINTERACTIVE_TESTING = 1
    PATH = /usr/lib/qt-3.3/bin:/usr/kerberos/sbin:/usr/kerberos/bin:/usr/lib/ccache:/usr/local/sbin:/usr/sbin:/sbin:/usr/local/bin:/usr/bin:/bin:/usr/lib/firebird/bin:/opt/real/RealPlayer:/root/bin:/usr/lib/firebird/bin:/opt/real/RealPlayer
    PERL5LIB = 
    PERL5OPT = 
    PERL5_CPANPLUS_IS_RUNNING = 17341
    PERL5_CPAN_IS_RUNNING = 17341
    PERL_MM_USE_DEFAULT = 1
    SHELL = /bin/bash
    TERM = xterm

Perl special variables (and OS-specific diagnostics, for MSWin32):

    $^X = /opt/perlcc5-32-O0-5.20.2-RC1/bin/perl
    $UID/$EUID = 0 / 0
    $GID = 0 0 1 2 3 4 6 10
    $EGID = 0 0 1 2 3 4 6 10

Perl module toolchain versions installed:

    Module              Have    
    ------------------- --------
    CPAN                2.05    
    CPAN::Meta          2.143240
    Cwd                 3.47    
    ExtUtils::CBuilder  0.280220
    ExtUtils::Command   1.18    
    ExtUtils::Install   2.04    
    ExtUtils::MakeMaker 7.04    
    ExtUtils::Manifest  1.70    
    ExtUtils::ParseXS   3.24    
    File::Spec          3.47    
    JSON                2.90    
    JSON::PP            2.27300 
    Module::Build       0.4211  
    Module::Signature   0.73    
    Parse::CPAN::Meta   1.4414  
    Test::Harness       3.35    
    Test::More          1.001014
    YAML                1.14    
    YAML::Syck          1.29    
    version             0.9912  


--

Summary of my perl5 (revision 5 version 20 subversion 2) configuration:
   
  Platform:
    osname=linux, osvers=2.6.32.63, archname=i686-linux-thread-multi-64int-ld
    uname='linux localhost.localdomain 2.6.32.63 #2 smp fri jan 30 10:45:01 pst 2015 i686 i686 i386 gnulinux '
    config_args='-Dcc=/opt/bin/gcc -Dprefix=/opt/perlcc5-32-O0-5.20.2-RC1 -DDEBUGGING'
    hint=recommended, useposix=true, d_sigaction=define
    useithreads=define, usemultiplicity=define
    use64bitint=define, use64bitall=undef, uselongdouble=define
    usemymalloc=y, bincompat5005=undef
  Compiler:
    cc='/opt/bin/gcc', ccflags ='-D_REENTRANT -D_GNU_SOURCE -fwrapv -DDEBUGGING -fno-strict-aliasing -pipe -fstack-protector -I/usr/local/include -D_LARGEFILE_SOURCE -D_FILE_OFFSET_BITS=64',
    optimize='-O0 -g',
    cppflags='-D_REENTRANT -D_GNU_SOURCE -fwrapv -DDEBUGGING -fno-strict-aliasing -pipe -fstack-protector -I/usr/local/include'
    ccversion='', gccversion='5.0.0 20140817 (experimental)', gccosandvers=''
    intsize=4, longsize=4, ptrsize=4, doublesize=8, byteorder=12345678
    d_longlong=define, longlongsize=8, d_longdbl=define, longdblsize=12
    ivtype='long long', ivsize=8, nvtype='long double', nvsize=12, Off_t='off_t', lseeksize=8
    alignbytes=4, prototype=define
  Linker and Libraries:
    ld='/opt/bin/gcc', ldflags =' -fstack-protector -L/usr/local/lib'
    libpth=/usr/local/lib /opt/lib /opt/lib/gcc/i686-pc-linux-gnu/5.0.0/include-fixed /usr/lib /lib
    libs=-lnsl -lgdbm -ldb -ldl -lm -lcrypt -lutil -lpthread -lc
    perllibs=-lnsl -ldl -lm -lcrypt -lutil -lpthread -lc
    libc=libc-2.8.so, so=so, useshrplib=true, libperl=libperl.so
    gnulibc_version='2.8'
  Dynamic Linking:
    dlsrc=dl_dlopen.xs, dlext=so, d_dlsymun=undef, ccdlflags='-Wl,-E -Wl,-rpath,/opt/perlcc5-32-O0-5.20.2-RC1/lib/5.20.2/i686-linux-thread-multi-64int-ld/CORE'
    cccdlflags='-fPIC', lddlflags='-shared -O0 -g -L/usr/local/lib -fstack-protector'


Characteristics of this binary (from libperl): 
  Compile-time options: DEBUGGING HAS_TIMES MULTIPLICITY MYMALLOC
                        PERLIO_LAYERS PERL_DONT_CREATE_GVSV
                        PERL_HASH_FUNC_ONE_AT_A_TIME_HARD
                        PERL_IMPLICIT_CONTEXT PERL_MAD PERL_MALLOC_WRAP
                        PERL_NEW_COPY_ON_WRITE PERL_PRESERVE_IVUV
                        PERL_TRACK_MEMPOOL USE_64_BIT_INT USE_FAST_STDIO
                        USE_ITHREADS USE_LARGE_FILES USE_LOCALE
                        USE_LOCALE_COLLATE USE_LOCALE_CTYPE
                        USE_LOCALE_NUMERIC USE_LONG_DOUBLE USE_PERLIO
                        USE_PERL_ATOF USE_REENTRANT_API
  Locally applied patches:
	RC1
  Built under linux
  Compiled at Feb  3 2015 18:21:15
  %ENV:
    PERL5LIB=""
    PERL5OPT=""
    PERL5_CPANPLUS_IS_RUNNING="17341"
    PERL5_CPAN_IS_RUNNING="17341"
    PERL_MM_USE_DEFAULT="1"
  @INC:
    /opt/perlcc5-32-O0-5.20.2-RC1/lib/site_perl/5.20.2/i686-linux-thread-multi-64int-ld
    /opt/perlcc5-32-O0-5.20.2-RC1/lib/site_perl/5.20.2
    /opt/perlcc5-32-O0-5.20.2-RC1/lib/5.20.2/i686-linux-thread-multi-64int-ld
    /opt/perlcc5-32-O0-5.20.2-RC1/lib/5.20.2
    .