Back
From: metabase:user:3198cbe2-2aae-11df-837a-5e0a49663a4f
Subject: PASS DBIx-Class-Graph-1.05 v5.16.1 GNU/Linux
Date: 2012-12-06T19:04:27Z
This distribution has been tested as part of the CPAN Testers
project, supporting the Perl programming language. See
http://wiki.cpantesters.org/ for more information or email
questions to cpan-testers-discuss@perl.org
--
Dear Moritz Onken,
This is a computer-generated report for DBIx-Class-Graph-1.05
on perl 5.16.1, created by CPAN-Reporter-1.2006.
Thank you for uploading your work to CPAN. Congratulations!
All tests were successful.
Sections of this report:
* Tester comments
* Program output
* Prerequisites
* Environment and other context
------------------------------
TESTER COMMENTS
------------------------------
Additional comments from tester:
this report is from an automated smoke testing program
and was not reviewed by a human for accuracy
------------------------------
PROGRAM OUTPUT
------------------------------
Output from './Build test':
t/00-compile.t ................ ok
#
Useless use of a variable in void context at /home/graham/perls/perl-5.16.1-thread/lib/site_perl/5.16.1/x86_64-linux-thread-multi/List/MoreUtils.pm line 362.
Argument "1.14_01" isn't numeric in numeric ge (>=) at (eval 67) line 1.
#
# perl: v5.16.1 (wanted any version) on linux from /home/graham/perls/perl-5.16.1-thread/bin/perl
#
# Class::C3 => 0.24 (want any version)
# DBIx::Class => 0.08204 (want any version)
# DBIx::Class::ResultSet => <undef> (want any version)
# DBIx::Class::Schema => <undef> (want any version)
# File::Find => 1.20 (want any version)
# File::Temp => 0.22 (want any version)
# Graph => 0.94 (want 0.94)
# List::MoreUtils => 0.33005 (want any version)
# Module::Build => 0.4003 (want 0.3601)
# Moose => 2.0604 (want any version)
# Moose::Role => 2.0604 (want any version)
# Scalar::Util => 1.25 (want any version)
# Test::Memory::Cycle => 1.04 (want any version)
# Test::More => 0.9803 (want 0.88)
# base => 2.18 (want any version)
# strict => 1.07 (want any version)
# warnings => 1.13 (want any version)
#
# Thanks for using my code. I hope it works for you.
# If not, please try and include this output in the bug report.
# That will help me reproduce the issue and solve you problem.
#
t/000-report-versions-tiny.t .. ok
Useless use of a variable in void context at /home/graham/perls/perl-5.16.1-thread/lib/site_perl/5.16.1/x86_64-linux-thread-multi/List/MoreUtils.pm line 362.
Name "Package::DeprecationManager::a" used only once: possible typo at /home/graham/perls/perl-5.16.1-thread/lib/site_perl/5.16.1/x86_64-linux-thread-multi/List/MoreUtils.pm line 362.
Name "Package::DeprecationManager::b" used only once: possible typo at /home/graham/perls/perl-5.16.1-thread/lib/site_perl/5.16.1/x86_64-linux-thread-multi/List/MoreUtils.pm line 362.
DBIx::Class::Storage::DBI::dbh(): Internal transaction state of handle DBI::db=HASH(0x3126ae8) (apparently in a transaction) does not seem to match its AutoCommit attribute setting of TRUE - this is an indication of a potentially serious bug in your transaction handling logic at t/lib/TestLib/Schema.pm line 32
Argument "1.14_01" isn't numeric in numeric ge (>=) at (eval 352) line 1.
t/complex.t ................... ok
Useless use of a variable in void context at /home/graham/perls/perl-5.16.1-thread/lib/site_perl/5.16.1/x86_64-linux-thread-multi/List/MoreUtils.pm line 362.
Name "Package::DeprecationManager::a" used only once: possible typo at /home/graham/perls/perl-5.16.1-thread/lib/site_perl/5.16.1/x86_64-linux-thread-multi/List/MoreUtils.pm line 362.
Name "Package::DeprecationManager::b" used only once: possible typo at /home/graham/perls/perl-5.16.1-thread/lib/site_perl/5.16.1/x86_64-linux-thread-multi/List/MoreUtils.pm line 362.
DBIx::Class::Storage::DBI::dbh(): Internal transaction state of handle DBI::db=HASH(0x3b7f598) (apparently in a transaction) does not seem to match its AutoCommit attribute setting of TRUE - this is an indication of a potentially serious bug in your transaction handling logic at t/lib/TestLib/Schema.pm line 32
Argument "1.14_01" isn't numeric in numeric ge (>=) at (eval 352) line 1.
t/leak.t ...................... ok
t/release-has-version.t ....... skipped: these tests are for release candidate testing
t/release-kwalitee.t .......... skipped: these tests are for release candidate testing
t/release-minimum-version.t ... skipped: these tests are for release candidate testing
t/release-pod-coverage.t ...... skipped: these tests are for release candidate testing
t/release-pod-syntax.t ........ skipped: these tests are for release candidate testing
Useless use of a variable in void context at /home/graham/perls/perl-5.16.1-thread/lib/site_perl/5.16.1/x86_64-linux-thread-multi/List/MoreUtils.pm line 362.
Name "Package::DeprecationManager::a" used only once: possible typo at /home/graham/perls/perl-5.16.1-thread/lib/site_perl/5.16.1/x86_64-linux-thread-multi/List/MoreUtils.pm line 362.
Name "Package::DeprecationManager::b" used only once: possible typo at /home/graham/perls/perl-5.16.1-thread/lib/site_perl/5.16.1/x86_64-linux-thread-multi/List/MoreUtils.pm line 362.
DBIx::Class::Storage::DBI::dbh(): Internal transaction state of handle DBI::db=HASH(0x2dc6328) (apparently in a transaction) does not seem to match its AutoCommit attribute setting of TRUE - this is an indication of a potentially serious bug in your transaction handling logic at t/lib/TestLib/Schema.pm line 32
Argument "1.14_01" isn't numeric in numeric ge (>=) at (eval 352) line 1.
t/result.t .................... ok
Useless use of a variable in void context at /home/graham/perls/perl-5.16.1-thread/lib/site_perl/5.16.1/x86_64-linux-thread-multi/List/MoreUtils.pm line 362.
Name "Package::DeprecationManager::a" used only once: possible typo at /home/graham/perls/perl-5.16.1-thread/lib/site_perl/5.16.1/x86_64-linux-thread-multi/List/MoreUtils.pm line 362.
Name "Package::DeprecationManager::b" used only once: possible typo at /home/graham/perls/perl-5.16.1-thread/lib/site_perl/5.16.1/x86_64-linux-thread-multi/List/MoreUtils.pm line 362.
DBIx::Class::Storage::DBI::dbh(): Internal transaction state of handle DBI::db=HASH(0x25b7f10) (apparently in a transaction) does not seem to match its AutoCommit attribute setting of TRUE - this is an indication of a potentially serious bug in your transaction handling logic at t/lib/TestLib/Schema.pm line 32
Argument "1.14_01" isn't numeric in numeric ge (>=) at (eval 352) line 1.
t/resultset.t ................. ok
Useless use of a variable in void context at /home/graham/perls/perl-5.16.1-thread/lib/site_perl/5.16.1/x86_64-linux-thread-multi/List/MoreUtils.pm line 362.
Name "Package::DeprecationManager::a" used only once: possible typo at /home/graham/perls/perl-5.16.1-thread/lib/site_perl/5.16.1/x86_64-linux-thread-multi/List/MoreUtils.pm line 362.
Name "Package::DeprecationManager::b" used only once: possible typo at /home/graham/perls/perl-5.16.1-thread/lib/site_perl/5.16.1/x86_64-linux-thread-multi/List/MoreUtils.pm line 362.
DBIx::Class::Storage::DBI::dbh(): Internal transaction state of handle DBI::db=HASH(0x2af6b48) (apparently in a transaction) does not seem to match its AutoCommit attribute setting of TRUE - this is an indication of a potentially serious bug in your transaction handling logic at t/lib/TestLib/Schema.pm line 32
Argument "1.14_01" isn't numeric in numeric ge (>=) at (eval 352) line 1.
t/simple01.t .................. ok
Useless use of a variable in void context at /home/graham/perls/perl-5.16.1-thread/lib/site_perl/5.16.1/x86_64-linux-thread-multi/List/MoreUtils.pm line 362.
Name "Package::DeprecationManager::a" used only once: possible typo at /home/graham/perls/perl-5.16.1-thread/lib/site_perl/5.16.1/x86_64-linux-thread-multi/List/MoreUtils.pm line 362.
Name "Package::DeprecationManager::b" used only once: possible typo at /home/graham/perls/perl-5.16.1-thread/lib/site_perl/5.16.1/x86_64-linux-thread-multi/List/MoreUtils.pm line 362.
DBIx::Class::Storage::DBI::dbh(): Internal transaction state of handle DBI::db=HASH(0x35aaea8) (apparently in a transaction) does not seem to match its AutoCommit attribute setting of TRUE - this is an indication of a potentially serious bug in your transaction handling logic at t/lib/TestLib/Schema.pm line 32
Argument "1.14_01" isn't numeric in numeric ge (>=) at (eval 352) line 1.
t/simple02.t .................. ok
Useless use of a variable in void context at /home/graham/perls/perl-5.16.1-thread/lib/site_perl/5.16.1/x86_64-linux-thread-multi/List/MoreUtils.pm line 362.
Name "Package::DeprecationManager::a" used only once: possible typo at /home/graham/perls/perl-5.16.1-thread/lib/site_perl/5.16.1/x86_64-linux-thread-multi/List/MoreUtils.pm line 362.
Name "Package::DeprecationManager::b" used only once: possible typo at /home/graham/perls/perl-5.16.1-thread/lib/site_perl/5.16.1/x86_64-linux-thread-multi/List/MoreUtils.pm line 362.
DBIx::Class::Storage::DBI::dbh(): Internal transaction state of handle DBI::db=HASH(0x3451d00) (apparently in a transaction) does not seem to match its AutoCommit attribute setting of TRUE - this is an indication of a potentially serious bug in your transaction handling logic at t/lib/TestLib/Schema.pm line 32
Argument "1.14_01" isn't numeric in numeric ge (>=) at (eval 352) line 1.
t/simplesucc.t ................ ok
Useless use of a variable in void context at /home/graham/perls/perl-5.16.1-thread/lib/site_perl/5.16.1/x86_64-linux-thread-multi/List/MoreUtils.pm line 362.
Name "Package::DeprecationManager::a" used only once: possible typo at /home/graham/perls/perl-5.16.1-thread/lib/site_perl/5.16.1/x86_64-linux-thread-multi/List/MoreUtils.pm line 362.
Name "Package::DeprecationManager::b" used only once: possible typo at /home/graham/perls/perl-5.16.1-thread/lib/site_perl/5.16.1/x86_64-linux-thread-multi/List/MoreUtils.pm line 362.
DBIx::Class::Storage::DBI::dbh(): Internal transaction state of handle DBI::db=HASH(0x230ce60) (apparently in a transaction) does not seem to match its AutoCommit attribute setting of TRUE - this is an indication of a potentially serious bug in your transaction handling logic at t/lib/TestLib/Schema.pm line 32
Argument "1.14_01" isn't numeric in numeric ge (>=) at (eval 352) line 1.
t/wrapper.t ................... ok
All tests successful.
Files=15, Tests=69, 12 wallclock secs ( 0.07 usr 0.04 sys + 10.50 cusr 0.68 csys = 11.29 CPU)
Result: PASS
------------------------------
PREREQUISITES
------------------------------
Prerequisite modules loaded:
requires:
Module Need Have
---------------------- ------ --------
base 0 2.18
Class::C3 0 0.24
DBIx::Class 0 0.08204
DBIx::Class::ResultSet 0 0
Graph 0.94 0.94
List::MoreUtils 0 0.33_005
Moose 0 2.0604
Moose::Role 0 2.0604
Scalar::Util 0 1.25
strict 0 1.07
warnings 0 1.13
build_requires:
Module Need Have
---------------------- ------ --------
DBIx::Class::Schema 0 0
File::Find 0 1.20
File::Temp 0 0.22
Module::Build 0.3601 0.4003
Test::Memory::Cycle 0 1.04
Test::More 0.88 0.98_03
configure_requires:
Module Need Have
---------------------- ------ --------
Module::Build 0.3601 0.4003
------------------------------
ENVIRONMENT AND OTHER CONTEXT
------------------------------
Environment variables:
AUTOMATED_TESTING = 1
LANG = C
PATH = /home/graham/perls/perl-5.16.1-thread/bin:/usr/local/bin:/usr/bin:/bin:/usr/local/sbin:/usr/sbin:/sbin:/usr/bin/core_perl
PERL5LIB =
PERL5OPT =
PERL5_CPANPLUS_IS_RUNNING = 15605
PERL5_CPAN_IS_RUNNING = 15605
PERL5_CPAN_IS_RUNNING_IN_RECURSION = 10741,15605
PERL_CR_SMOKER_CURRENT = DBIx-Class-Graph-1.05
PERL_EXTUTILS_AUTOINSTALL = --defaultdeps
PERL_MM_USE_DEFAULT = 1
SHELL = /bin/bash
TERM = xterm
Perl special variables (and OS-specific diagnostics, for MSWin32):
$^X = /home/graham/perls/perl-5.16.1-thread/bin/perl
$UID/$EUID = 1000 / 1000
$GID = 100 100
$EGID = 100 100
Perl module toolchain versions installed:
Module Have
------------------- --------
CPAN 1.99_51
CPAN::Meta 2.120351
Cwd 3.39_02
ExtUtils::CBuilder 0.280205
ExtUtils::Command 1.17
ExtUtils::Install 1.58
ExtUtils::MakeMaker 6.63_04
ExtUtils::Manifest 1.61
ExtUtils::ParseXS 3.18
File::Spec 3.39_02
JSON 2.53
JSON::PP 2.27200
Module::Build 0.4003
Module::Signature 0.70
Parse::CPAN::Meta 1.4404
Test::Harness 3.23
Test::More 0.98_03
YAML 0.81
YAML::Syck 1.22
version 0.9901
--
Summary of my perl5 (revision 5 version 16 subversion 1) configuration:
Platform:
osname=linux, osvers=3.5.6-1-arch, archname=x86_64-linux-thread-multi
uname='linux grosics 3.5.6-1-arch #1 smp preempt sun oct 7 19:30:49 cest 2012 x86_64 gnulinux '
config_args=''
hint=recommended, useposix=true, d_sigaction=define
useithreads=define, usemultiplicity=define
useperlio=define, d_sfio=undef, uselargefiles=define, usesocks=undef
use64bitint=define, use64bitall=define, uselongdouble=undef
usemymalloc=n, bincompat5005=undef
Compiler:
cc='cc', ccflags ='-D_REENTRANT -D_GNU_SOURCE -fno-strict-aliasing -pipe -fstack-protector -I/usr/local/include -D_LARGEFILE_SOURCE -D_FILE_OFFSET_BITS=64',
optimize='-O2',
cppflags='-D_REENTRANT -D_GNU_SOURCE -fno-strict-aliasing -pipe -fstack-protector -I/usr/local/include'
ccversion='', gccversion='4.7.2', gccosandvers=''
intsize=4, longsize=8, ptrsize=8, doublesize=8, byteorder=12345678
d_longlong=define, longlongsize=8, d_longdbl=define, longdblsize=16
ivtype='long', ivsize=8, nvtype='double', nvsize=8, Off_t='off_t', lseeksize=8
alignbytes=8, prototype=define
Linker and Libraries:
ld='cc', ldflags =' -fstack-protector -L/usr/local/lib'
libpth=/usr/local/lib /lib/../lib /usr/lib/../lib /lib /usr/lib
libs=-lnsl -lgdbm -ldb -ldl -lm -lcrypt -lutil -lpthread -lc -lgdbm_compat
perllibs=-lnsl -ldl -lm -lcrypt -lutil -lpthread -lc
libc=/lib/libc-2.16.so, so=so, useshrplib=false, libperl=libperl.a
gnulibc_version='2.16'
Dynamic Linking:
dlsrc=dl_dlopen.xs, dlext=so, d_dlsymun=undef, ccdlflags='-Wl,-E'
cccdlflags='-fPIC', lddlflags='-shared -O2 -L/usr/local/lib -fstack-protector'
Characteristics of this binary (from libperl):
Compile-time options: HAS_TIMES MULTIPLICITY PERLIO_LAYERS
PERL_DONT_CREATE_GVSV PERL_IMPLICIT_CONTEXT
PERL_MALLOC_WRAP PERL_PRESERVE_IVUV USE_64_BIT_ALL
USE_64_BIT_INT USE_ITHREADS USE_LARGE_FILES
USE_LOCALE USE_LOCALE_COLLATE USE_LOCALE_CTYPE
USE_LOCALE_NUMERIC USE_PERLIO USE_PERL_ATOF
USE_REENTRANT_API
Built under linux
Compiled at Oct 23 2012 11:54:06
%ENV:
PERL5LIB=""
PERL5OPT=""
PERL5_CPANPLUS_IS_RUNNING="15605"
PERL5_CPAN_IS_RUNNING="15605"
PERL5_CPAN_IS_RUNNING_IN_RECURSION="10741,15605"
PERL_CR_SMOKER_CURRENT="DBIx-Class-Graph-1.05"
PERL_EXTUTILS_AUTOINSTALL="--defaultdeps"
PERL_MM_USE_DEFAULT="1"
@INC:
/home/graham/perls/perl-5.16.1-thread/lib/site_perl/5.16.1/x86_64-linux-thread-multi
/home/graham/perls/perl-5.16.1-thread/lib/site_perl/5.16.1
/home/graham/perls/perl-5.16.1-thread/lib/5.16.1/x86_64-linux-thread-multi
/home/graham/perls/perl-5.16.1-thread/lib/5.16.1
.