Cache-Memcached-Mock v0.05 Perl 5 v5.8.8 i386-netbsd-thread-multi
- Status
- Pass
- From
- Nigel Horne
- Dist
-
Cache-Memcached-Mock v0.05
- Platform
- Perl 5 v5.8.8 i386-netbsd-thread-multi
- Date
- 2010-07-11 19:44:44
- ID
- c18a05e4-8d24-11df-a6f3-c22dad993be1
This distribution has been tested as part of the CPAN Testers
project, supporting the Perl programming language. See
http://wiki.cpantesters.org/ for more information or email
questions to cpan-testers-discuss@perl.org
--
Dear Opera Software ASA,
This is a computer-generated report for Cache-Memcached-Mock-0.05
on perl 5.8.8, created by CPAN-Reporter-1.1711.
Thank you for uploading your work to CPAN. Congratulations!
All tests were successful.
Sections of this report:
* Tester comments
* Program output
* Prerequisites
* Environment and other context
------------------------------
TESTER COMMENTS
------------------------------
Additional comments from tester:
this report is from an automated smoke testing program
and was not reviewed by a human for accuracy
------------------------------
PROGRAM OUTPUT
------------------------------
Output from '/usr/bin/make test':
PERL_DL_NONLAZY=1 /usr/bin/perl "-MExtUtils::Command::MM" "-e" "test_harness(0, 'blib/lib', 'blib/arch')" t/*.t
t/000-load.t .......... ok
t/add.t ............... ok
# Sleeping to allow the key to expire
t/expiry.t ............ ok
t/get-multi.t ......... ok
t/get-set.t ........... ok
t/incr-decr.t ......... ok
t/replace.t ........... ok
t/value-size-limit.t .. ok
All tests successful.
Files=8, Tests=44, 6 wallclock secs ( 0.09 usr 0.00 sys + 0.55 cusr 0.12 csys = 0.76 CPU)
Result: PASS
------------------------------
PREREQUISITES
------------------------------
Prerequisite modules loaded:
build_requires:
Module Need Have
------------------- ---- ----
Test::More 0 0.94
configure_requires:
Module Need Have
------------------- ---- ----
ExtUtils::MakeMaker 6.31 6.56
------------------------------
ENVIRONMENT AND OTHER CONTEXT
------------------------------
Environment variables:
AUTOMATED_TESTING = 1
PATH = /usr/bin:/bin:/usr/pkg/bin:/usr/local/bin:/home/njh/bin::/opt/intel/cc/9.1.038/bin:/opt/IBMJava2-13/bin:/usr/X11R6/bin:/home/njh/linux/bin:/usr/pkg/lib/perl5/site_perl/bin
PERL5LIB =
PERL5OPT =
PERL5_CPANPLUS_IS_RUNNING = 21494
PERL5_CPAN_IS_RUNNING = 21494
PERL5_MINISMOKEBOX = 0.26
PERL_EXTUTILS_AUTOINSTALL = --defaultdeps
PERL_MM_USE_DEFAULT = 1
SHELL = /bin/ksh
TERM = vt100
Perl special variables (and OS-specific diagnostics, for MSWin32):
$^X = /usr/bin/perl
$UID/$EUID = 0 / 0
$GID = 0 31 20 5 4 3 2 0
$EGID = 0 31 20 5 4 3 2 0
Perl module toolchain versions installed:
Module Have
------------------- ------
CPAN 1.9402
Cwd 3.31
ExtUtils::CBuilder 0.2703
ExtUtils::Command 1.16
ExtUtils::Install 1.54
ExtUtils::MakeMaker 6.56
ExtUtils::Manifest 1.58
ExtUtils::ParseXS 2.2206
File::Spec 3.31
Module::Build 0.3607
Module::Signature 0.64
Test::Harness 3.21
Test::More 0.94
YAML 0.71
YAML::Syck 1.10
version 0.82
--
Summary of my perl5 (revision 5 version 8 subversion 8) configuration:
Platform:
osname=netbsd, osvers=4.0, archname=i386-netbsd-thread-multi
uname='netbsd twist.lip6.fr 4.0 netbsd 4.0 (xen3_domu) #0: sun dec 16 01:26:00 pst 2007 builds@wb34:homebuildsabnetbsd-4-0-releasei386200712160005z-objhomebuildsabnetbsd-4-0-releasesrcsysarchi386compilexen3_domu i386 '
config_args='-sde -Darchname=i386-netbsd -Dcc=cc -Doptimize=-O2 -pthread -I/usr/include -Ui_malloc -Uusemymalloc -Uinstallusrbinperl -Dinstallstyle=lib/perl5 -Dprefix=/usr/pkg -Dsiteprefix=/usr/pkg -Dvendorprefix=/usr/pkg -Dscriptdir=/usr/pkg/lib/perl5/bin -Dsitescript=/usr/pkg/lib/perl5/site_perl/bin -Dvendorscript=/usr/pkg/lib/perl5/vendor_perl/bin -Dsitebin=/usr/pkg/lib/perl5/site_perl/bin -Dvendorbin=/usr/pkg/lib/perl5/vendor_perl/bin -Dprivlib=/usr/pkg/lib/perl5/5.8.0 -Dsitelib=/usr/pkg/lib/perl5/site_perl/5.8.0 -Dvendorlib=/usr/pkg/lib/perl5/vendor_perl/5.8.0 -Dsitelib_stem=/usr/pkg/lib/perl5/site_perl -Dvendorlib_stem=/usr/pkg/lib/perl5/vendor_perl -Dman1ext=1 -Dman1dir=/usr/pkg/lib/perl5/man/man1 -Dsiteman1dir=/usr/pkg/lib/perl5/site_perl/man/man1 -Dvendorman1dir=/usr/pkg/lib/perl5/vendor_perl/man/man1 -Dman3ext=3 -Dman3dir=/usr/pkg/lib/perl5/man/man3 -Dsiteman3dir=/usr/pkg/lib/perl5/site_perl/man/man3 -Dvendorman3dir=/usr/pkg/lib/perl5/vendor_perl/man/man3 -Duseshrplib -Daphostname=/bin/hostname -Dln=/bin/ln -Dsed=/usr/bin/sed -Dsh=/bin/sh -Dissymlink=test -h -Dperl5=false -Duseithreads -Dlibswanted=m crypt '
hint=recommended, useposix=true, d_sigaction=define
usethreads=define use5005threads=undef useithreads=define usemultiplicity=define
useperlio=define d_sfio=undef uselargefiles=define usesocks=undef
use64bitint=undef use64bitall=undef uselongdouble=undef
usemymalloc=n, bincompat5005=undef
Compiler:
cc='cc', ccflags ='-fno-strict-aliasing -pipe -Wdeclaration-after-statement',
optimize='-O2 -pthread -I/usr/include',
cppflags='-fno-strict-aliasing -pipe -Wdeclaration-after-statement'
ccversion='', gccversion='4.1.2 20061021 prerelease (NetBSD nb3 20061125)', gccosandvers=''
intsize=4, longsize=4, ptrsize=4, doublesize=8, byteorder=1234
d_longlong=define, longlongsize=8, d_longdbl=define, longdblsize=12
ivtype='long', ivsize=4, nvtype='double', nvsize=8, Off_t='off_t', lseeksize=8
alignbytes=4, prototype=define
Linker and Libraries:
ld='cc', ldflags ='-Wl,-R/usr/pkg/lib '
libpth=/usr/lib
libs=-lm -lcrypt -lpthread
perllibs=-lm -lcrypt -lpthread
libc=/lib/libc.so, so=so, useshrplib=true, libperl=libperl.so
gnulibc_version=''
Dynamic Linking:
dlsrc=dl_dlopen.xs, dlext=so, d_dlsymun=undef, ccdlflags='-Wl,-E -Wl,-R/usr/pkg/lib/perl5/5.8.0/i386-netbsd-thread-multi/CORE'
cccdlflags='-DPIC -fPIC ', lddlflags='-Wl,-R/usr/pkg/lib --whole-archive -shared '
Characteristics of this binary (from libperl):
Compile-time options: MULTIPLICITY PERL_IMPLICIT_CONTEXT USE_ITHREADS
USE_LARGE_FILES USE_PERLIO USE_REENTRANT_API
Built under netbsd
Compiled at Apr 15 2008 16:20:00
%ENV:
PERL5LIB=""
PERL5OPT=""
PERL5_CPANPLUS_IS_RUNNING="21494"
PERL5_CPAN_IS_RUNNING="21494"
PERL5_MINISMOKEBOX="0.26"
PERL_EXTUTILS_AUTOINSTALL="--defaultdeps"
PERL_MM_USE_DEFAULT="1"
@INC:
/usr/pkg/lib/perl5/site_perl/5.8.0/i386-netbsd-thread-multi
/usr/pkg/lib/perl5/site_perl/5.8.0
/usr/pkg/lib/perl5/site_perl
/usr/pkg/lib/perl5/vendor_perl/5.8.0/i386-netbsd-thread-multi
/usr/pkg/lib/perl5/vendor_perl/5.8.0
/usr/pkg/lib/perl5/vendor_perl
/usr/pkg/lib/perl5/5.8.0/i386-netbsd-thread-multi
/usr/pkg/lib/perl5/5.8.0
.