HTML-Formatter v2.16 Perl 5 v5.24.2 i86pc-solaris-thread-multi

Status
Pass
From
Serguei Trouchelle (STRO)
Dist
HTML-Formatter v2.16
Platform
Perl 5 v5.24.2 i86pc-solaris-thread-multi
Date
2017-10-31 19:07:35
ID
c15776b4-be6e-11e7-9afc-edd812b9258d
This distribution has been tested as part of the CPAN Testers
project, supporting the Perl programming language.  See
http://wiki.cpantesters.org/ for more information or email
questions to cpan-testers-discuss@perl.org


--
Dear Nigel Metheringham,

This is a computer-generated report for HTML-Formatter-2.16
on perl 5.24.2, created by CPAN-Reporter-1.2018.

Thank you for uploading your work to CPAN.  Congratulations!
All tests were successful.

Sections of this report:

    * Tester comments
    * Program output
    * Prerequisites
    * Environment and other context

------------------------------
TESTER COMMENTS
------------------------------

Additional comments from tester:

this report is from an automated smoke testing program
and was not reviewed by a human for accuracy

------------------------------
PROGRAM OUTPUT
------------------------------

Output from '/usr/bin/make test':

PERL_DL_NONLAZY=1 "/home/stro/perl/5.24.2t/bin/perl" "-MExtUtils::Command::MM" "-MTest::Harness" "-e" "undef *Test::Harness::Switches; test_harness(0, 'blib/lib', 'blib/arch')" t/*.t
t/00-compile.t ............... ok
# 
# Versions for all modules listed in MYMETA.json (including optional ones):
# 
# === Configure Requires ===
# 
#     Module              Want    Have
#     ------------------- ---- -------
#     ExtUtils::MakeMaker  any 7.10_02
# 
# === Build Requires ===
# 
#     Module              Want    Have
#     ------------------- ---- -------
#     ExtUtils::MakeMaker  any 7.10_02
# 
# === Test Requires ===
# 
#     Module              Want     Have
#     ------------------- ---- --------
#     ExtUtils::MakeMaker  any  7.10_02
#     File::Slurper        any    0.010
#     File::Spec           any  3.63_01
#     FindBin              any     1.51
#     IO::Handle           any     1.36
#     IPC::Open3           any     1.20
#     Test::More          0.96 1.302105
#     Test::Warnings       any    0.026
#     blib                1.01     1.06
#     bytes                any     1.05
#     lib                  any     0.63
# 
# === Test Recommends ===
# 
#     Module         Want     Have
#     ---------- -------- --------
#     CPAN::Meta 2.120900 2.150005
# 
# === Runtime Requires ===
# 
#     Module                              Want    Have
#     ----------------------------------- ---- -------
#     Carp                                 any    1.40
#     Data::Dumper                         any   2.160
#     Encode                               any    2.93
#     Font::Metrics::Courier               any   undef
#     Font::Metrics::CourierBold           any   undef
#     Font::Metrics::CourierBoldOblique    any   undef
#     Font::Metrics::CourierOblique        any   undef
#     Font::Metrics::Helvetica             any   undef
#     Font::Metrics::HelveticaBold         any   undef
#     Font::Metrics::HelveticaBoldOblique  any   undef
#     Font::Metrics::HelveticaOblique      any   undef
#     Font::Metrics::TimesBold             any   undef
#     Font::Metrics::TimesBoldItalic       any   undef
#     Font::Metrics::TimesItalic           any   undef
#     Font::Metrics::TimesRoman            any   undef
#     HTML::Element                       3.15    5.07
#     HTML::TreeBuilder                    any    5.07
#     IO::File                             any    1.16
#     base                                 any 2.23_01
#     integer                              any    1.01
#     parent                               any   0.234
#     strict                               any    1.11
#     utf8                                 any    1.19
#     warnings                             any    1.36
# 
t/00-report-prereqs.t ........ ok
t/01_ps.t .................... ok
t/02_rtf.t ................... ok
t/03_text.t .................. ok
t/04_md.t .................... ok
t/author-critic.t ............ skipped: these tests are for testing by the author
t/author-eol.t ............... skipped: these tests are for testing by the author
t/author-no-tabs.t ........... skipped: these tests are for testing by the author
t/author-pod-spell.t ......... skipped: these tests are for testing by the author
t/author-pod-syntax.t ........ skipped: these tests are for testing by the author
t/author-portability.t ....... skipped: these tests are for testing by the author
t/author-synopsis.t .......... skipped: these tests are for testing by the author
t/release-dist-manifest.t .... skipped: these tests are for release candidate testing
t/release-distmeta.t ......... skipped: these tests are for release candidate testing
t/release-has-version.t ...... skipped: these tests are for release candidate testing
t/release-minimum-version.t .. skipped: these tests are for release candidate testing
t/release-unused-vars.t ...... skipped: these tests are for release candidate testing
t/rt111783.t ................. ok
t/rt69426.t .................. ok
All tests successful.
Files=20, Tests=94,  2 wallclock secs ( 0.06 usr  0.05 sys +  1.09 cusr  0.20 csys =  1.40 CPU)
Result: PASS

------------------------------
PREREQUISITES
------------------------------

Prerequisite modules loaded:

requires:

    Module                              Need     Have    
    ----------------------------------- -------- --------
    base                                0        2.23_01 
    Carp                                0        1.40    
    Data::Dumper                        0        2.160   
    Encode                              0        2.93    
    Font::Metrics::Courier              0        0       
    Font::Metrics::CourierBold          0        0       
    Font::Metrics::CourierBoldOblique   0        0       
    Font::Metrics::CourierOblique       0        0       
    Font::Metrics::Helvetica            0        0       
    Font::Metrics::HelveticaBold        0        0       
    Font::Metrics::HelveticaBoldOblique 0        0       
    Font::Metrics::HelveticaOblique     0        0       
    Font::Metrics::TimesBold            0        0       
    Font::Metrics::TimesBoldItalic      0        0       
    Font::Metrics::TimesItalic          0        0       
    Font::Metrics::TimesRoman           0        0       
    HTML::Element                       3.15     5.07    
    HTML::TreeBuilder                   0        5.07    
    integer                             0        1.01    
    IO::File                            0        1.16    
    parent                              0        0.234   
    perl                                5.008    5.024002
    strict                              0        1.11    
    utf8                                0        1.19    
    warnings                            0        1.36    

build_requires:

    Module                              Need     Have    
    ----------------------------------- -------- --------
    blib                                1.01     1.06    
    bytes                               0        1.05    
    ExtUtils::MakeMaker                 0        7.10_02 
    File::Slurper                       0        0.010   
    File::Spec                          0        3.63_01 
    FindBin                             0        1.51    
    IO::Handle                          0        1.36    
    IPC::Open3                          0        1.20    
    lib                                 0        0.63    
    Test::More                          0.96     1.302105
    Test::Warnings                      0        0.026   

configure_requires:

    Module                              Need     Have    
    ----------------------------------- -------- --------
    ExtUtils::MakeMaker                 0        7.10_02 

opt_build_requires:

    Module                              Need     Have    
    ----------------------------------- -------- --------
    CPAN::Meta                          2.120900 2.150005


------------------------------
ENVIRONMENT AND OTHER CONTEXT
------------------------------

Environment variables:

    AUTOMATED_TESTING = 1
    LANG = en_US.UTF-8
    PATH = /usr/gnu/bin:/usr/bin:/usr/sbin:/sbin:/usr/sfw/bin:
    PERL5LIB = 
    PERL5OPT = 
    PERL5_CPANPLUS_IS_RUNNING = 303
    PERL5_CPAN_IS_RUNNING = 303
    PERL5_CPAN_IS_RUNNING_IN_RECURSION = 6861,303
    PERL_CR_SMOKER_CURRENT = Sim-OPT-0.73.35
    PERL_EXTUTILS_AUTOINSTALL = --defaultdeps
    PERL_MM_USE_DEFAULT = 1
    SHELL = /bin/bash
    TERM = xterm-256color

Perl special variables (and OS-specific diagnostics, for MSWin32):

    $^X = /home/stro/perl/5.24.2t/bin/perl
    $UID/$EUID = 101 / 101
    $GID = 10 10
    $EGID = 10 10

Perl module toolchain versions installed:

    Module              Have      
    ------------------- ----------
    CPAN                2.16      
    CPAN::Meta          2.150005  
    Cwd                 3.63_01   
    ExtUtils::CBuilder  0.280225  
    ExtUtils::Command   7.10_02   
    ExtUtils::Install   2.04      
    ExtUtils::MakeMaker 7.10_02   
    ExtUtils::Manifest  1.70      
    ExtUtils::ParseXS   3.31      
    File::Spec          3.63_01   
    JSON                2.94      
    JSON::PP            2.27300_01
    Module::Build       0.4224    
    Module::Signature   n/a       
    Parse::CPAN::Meta   1.4417_001
    Test::Harness       3.36_01   
    Test::More          1.302105  
    YAML                1.23      
    YAML::Syck          1.30      
    version             0.9916    


--

Summary of my perl5 (revision 5 version 24 subversion 2) configuration:
   
  Platform:
    osname=solaris, osvers=2.11, archname=i86pc-solaris-thread-multi
    uname='sunos vm-openindiana-001 5.11 illumos-ed992b0aac i86pc i386 i86pc solaris '
    config_args=''
    hint=recommended, useposix=true, d_sigaction=define
    useithreads=define, usemultiplicity=define
    use64bitint=undef, use64bitall=undef, uselongdouble=undef
    usemymalloc=n, bincompat5005=undef
  Compiler:
    cc='/opt/SUNWspro/bin/cc', ccflags ='-D_REENTRANT -I/usr/gnu/include -D_LARGEFILE_SOURCE -D_FILE_OFFSET_BITS=64 -DPERL_USE_SAFE_PUTENV',
    optimize='-O',
    cppflags='-D_REENTRANT -I/usr/gnu/include'
    ccversion='Sun C 5.10 SunOS_i386 2009/06/03', gccversion='', gccosandvers=''
    intsize=4, longsize=4, ptrsize=4, doublesize=8, byteorder=1234, doublekind=3
    d_longlong=define, longlongsize=8, d_longdbl=define, longdblsize=12, longdblkind=3
    ivtype='long', ivsize=4, nvtype='double', nvsize=8, Off_t='off_t', lseeksize=8
    alignbytes=4, prototype=define
  Linker and Libraries:
    ld='/opt/SUNWspro/bin/cc', ldflags =' -L/usr/lib -L/usr/ccs/lib -L/opt/sunstudio12.1/prod/lib -L/lib -L/usr/gnu/lib '
    libpth=/usr/lib /usr/ccs/lib /opt/sunstudio12.1/prod/lib /lib /usr/gnu/lib
    libs=-lpthread -lsocket -lnsl -lgdbm -ldb -ldl -lm -lc
    perllibs=-lpthread -lsocket -lnsl -ldl -lm -lc
    libc=/lib/libc.so, so=so, useshrplib=true, libperl=libperl.so
    gnulibc_version=''
  Dynamic Linking:
    dlsrc=dl_dlopen.xs, dlext=so, d_dlsymun=undef, ccdlflags='  -R /home/stro/perl/5.24.2t/lib/5.24.2/i86pc-solaris-thread-multi/CORE'
    cccdlflags='-KPIC', lddlflags='-G -L/usr/lib -L/usr/ccs/lib -L/opt/sunstudio12.1/prod/lib -L/lib -L/usr/gnu/lib'


Characteristics of this binary (from libperl): 
  Compile-time options: HAS_TIMES MULTIPLICITY PERLIO_LAYERS
                        PERL_COPY_ON_WRITE PERL_DONT_CREATE_GVSV
                        PERL_HASH_FUNC_ONE_AT_A_TIME_HARD
                        PERL_IMPLICIT_CONTEXT PERL_MALLOC_WRAP
                        PERL_PRESERVE_IVUV PERL_USE_SAFE_PUTENV USE_ITHREADS
                        USE_LARGE_FILES USE_LOCALE USE_LOCALE_COLLATE
                        USE_LOCALE_CTYPE USE_LOCALE_NUMERIC USE_LOCALE_TIME
                        USE_PERLIO USE_PERL_ATOF USE_REENTRANT_API
  Built under solaris
  Compiled at Sep 19 2017 21:46:43
  %ENV:
    PERL5LIB=""
    PERL5OPT=""
    PERL5_CPANPLUS_IS_RUNNING="303"
    PERL5_CPAN_IS_RUNNING="303"
    PERL5_CPAN_IS_RUNNING_IN_RECURSION="6861,303"
    PERL_CR_SMOKER_CURRENT="Sim-OPT-0.73.35"
    PERL_EXTUTILS_AUTOINSTALL="--defaultdeps"
    PERL_MM_USE_DEFAULT="1"
  @INC:
    /home/stro/perl/5.24.2t/lib/site_perl/5.24.2/i86pc-solaris-thread-multi
    /home/stro/perl/5.24.2t/lib/site_perl/5.24.2
    /home/stro/perl/5.24.2t/lib/5.24.2/i86pc-solaris-thread-multi
    /home/stro/perl/5.24.2t/lib/5.24.2
    .