HTML-Template v2.97 Perl 5 v5.26.3 x86_64-linux
- Status
- Pass
- From
- Nigel Horne
- Dist
-
HTML-Template v2.97
- Platform
- Perl 5 v5.26.3 x86_64-linux
- Date
- 2020-11-23 20:09:12
- ID
- c14ef55e-2dc7-11eb-aec9-e939e3648b51
This distribution has been tested as part of the CPAN Testers
project, supporting the Perl programming language. See
http://wiki.cpantesters.org/ for more information or email
questions to cpan-testers-discuss@perl.org
--
Dear Sam Tregar,
This is a computer-generated report for HTML-Template-2.97
on perl 5.26.3, created by CPAN-Reporter-1.2018.
Thank you for uploading your work to CPAN. Congratulations!
All tests were successful.
Sections of this report:
* Tester comments
* Program output
* Prerequisites
* Environment and other context
------------------------------
TESTER COMMENTS
------------------------------
Additional comments from tester:
none provided
------------------------------
PROGRAM OUTPUT
------------------------------
Output from '/usr/bin/make test':
PERL_DL_NONLAZY=1 "/home/njh/perl5/perlbrew/perls/perl-5.26.3/bin/perl" "-MExtUtils::Command::MM" "-MTest::Harness" "-e" "undef *Test::Harness::Switches; test_harness(0, 'blib/lib', 'blib/arch')" t/*.t
t/01-bad-args.t ............. ok
t/02-parse.t ................ ok
t/01-coderefs.t ............. ok
t/02-random.t ............... ok
t/03-else_else_bug.t ........ ok
t/04-default_with_escape.t .. ok
t/04-default-escape.t ....... ok
t/03-associate.t ............ ok
t/04-no_taintmode.t ......... ok
t/04-escape.t ............... ok
t/04-type-source.t .......... ok
t/05-force_untaint.t ........ ok
t/05-nested_global.t ........ ok
t/06-file-cache-dir.t ....... ok
t/07-double-file-cache.t .... ok
t/09-caching-precluded.t .... ok
t/08-cache-debug.t .......... ok
t/10-param.t ................ ok
t/11-non-file-templates.t ... ok
t/12-open_mode.t ............ ok
t/12-query.t ................ ok
t/12-utf8.t ................. ok
t/13-loop-boolean.t ......... ok
t/13-loop-context.t ......... ok
t/13-loop-repeated.t ........ ok
t/15-comment.t .............. skipped: not implemented yet
t/14-includes.t ............. ok
t/author-pod-syntax.t ....... skipped: these tests are for testing by the author
t/16-config.t ............... ok
t/99-old-test-pl.t .......... ok
t/05-blind-cache.t .......... ok
All tests successful.
Files=31, Tests=608, 1 wallclock secs ( 0.11 usr 0.03 sys + 1.91 cusr 0.27 csys = 2.32 CPU)
Result: PASS
------------------------------
PREREQUISITES
------------------------------
Prerequisite modules loaded:
requires:
Module Need Have
------------------- ---- --------
Carp 0 1.42
CGI 0 4.51
Digest::MD5 0 2.55
File::Spec 0.82 3.67
Scalar::Util 0 1.46_02
build_requires:
Module Need Have
------------------- ---- --------
ExtUtils::MakeMaker 0 7.54
File::Temp 0 0.2311
Test::More 0 1.302141
Test::Pod 0 1.52
configure_requires:
Module Need Have
------------------- ---- --------
ExtUtils::MakeMaker 0 7.54
------------------------------
ENVIRONMENT AND OTHER CONTEXT
------------------------------
Environment variables:
HARNESS_OPTIONS = j4:c
LANG = en_GB.UTF-8
LANGUAGE = en_GB:en
LD_LIBRARY_PATH = /usr/local/lib::
NONINTERACTIVE_TESTING = 1
PATH = /home/njh/perl5/perlbrew/bin:/home/njh/perl5/perlbrew/perls/perl-5.26.3/bin:/home/njh/perl5/perlbrew/bin:/usr/local/bin:/usr/bin:/bin:/usr/games:/home/njh/bin:/sbin:/home/njh/go/bin
PERL5LIB =
PERL5OPT =
PERL5_CPANPLUS_IS_RUNNING = 3888089
PERL5_CPAN_IS_RUNNING = 3888089
PERLBREW_HOME = /home/njh/.perlbrew
PERLBREW_LIB =
PERLBREW_MANPATH = /home/njh/perl5/perlbrew/perls/perl-5.26.3/man
PERLBREW_PATH = /home/njh/perl5/perlbrew/bin:/home/njh/perl5/perlbrew/perls/perl-5.26.3/bin
PERLBREW_PERL = perl-5.26.3
PERLBREW_ROOT = /home/njh/perl5/perlbrew
PERLBREW_SHELLRC_VERSION = 0.86
PERLBREW_VERSION = 0.86
PERL_LOCAL_LIB_ROOT =
PERL_MM_USE_DEFAULT = 1
PERL_USE_UNSAFE_INC = 1
SHELL = /bin/bash
TEMP = /tmp/user/1000
TMPDIR = /tmp/user/1000
Perl special variables (and OS-specific diagnostics, for MSWin32):
$^X = /home/njh/perl5/perlbrew/perls/perl-5.26.3/bin/perl
$UID/$EUID = 1000 / 1000
$GID = 1000 4 24 25 29 30 44 46 108 1000
$EGID = 1000 4 24 25 29 30 44 46 108 1000
Perl module toolchain versions installed:
Module Have
------------------- ----------
CPAN 2.25
CPAN::Meta 2.150010
Cwd 3.67
ExtUtils::CBuilder 0.280225
ExtUtils::Command 7.54
ExtUtils::Install 2.06
ExtUtils::MakeMaker 7.54
ExtUtils::Manifest 1.70
ExtUtils::ParseXS 3.34
File::Spec 3.67
JSON 4.02
JSON::PP 2.27400_02
Module::Build 0.4231
Module::Signature n/a
Parse::CPAN::Meta 2.150010
Test::Harness 3.38
Test::More 1.302141
YAML 1.30
YAML::Syck 1.32
version 0.9917
--
Summary of my perl5 (revision 5 version 26 subversion 3) configuration:
Platform:
osname=linux
osvers=4.18.0-3-amd64
archname=x86_64-linux
uname='linux gateway 4.18.0-3-amd64 #1 smp debian 4.18.20-2 (2018-11-23) x86_64 gnulinux '
config_args='-de -Dprefix=/home/njh/perl5/perlbrew/perls/perl-5.26.3 -Aeval:scriptdir=/home/njh/perl5/perlbrew/perls/perl-5.26.3/bin'
hint=recommended
useposix=true
d_sigaction=define
useithreads=undef
usemultiplicity=undef
use64bitint=define
use64bitall=define
uselongdouble=undef
usemymalloc=n
default_inc_excludes_dot=define
bincompat5005=undef
Compiler:
cc='cc'
ccflags ='-fwrapv -fno-strict-aliasing -pipe -fstack-protector-strong -I/usr/local/include -D_LARGEFILE_SOURCE -D_FILE_OFFSET_BITS=64'
optimize='-O2'
cppflags='-fwrapv -fno-strict-aliasing -pipe -fstack-protector-strong -I/usr/local/include'
ccversion=''
gccversion='8.2.0'
gccosandvers=''
intsize=4
longsize=8
ptrsize=8
doublesize=8
byteorder=12345678
doublekind=3
d_longlong=define
longlongsize=8
d_longdbl=define
longdblsize=16
longdblkind=3
ivtype='long'
ivsize=8
nvtype='double'
nvsize=8
Off_t='off_t'
lseeksize=8
alignbytes=8
prototype=define
Linker and Libraries:
ld='cc'
ldflags =' -fstack-protector-strong -L/usr/local/lib'
libpth=/usr/local/lib /usr/lib/gcc/x86_64-linux-gnu/8/include-fixed /usr/include/x86_64-linux-gnu /usr/lib /lib/x86_64-linux-gnu /lib/../lib /usr/lib/x86_64-linux-gnu /usr/lib/../lib /lib
libs=-lpthread -lnsl -lgdbm -ldb -ldl -lm -lcrypt -lutil -lc
perllibs=-lpthread -lnsl -ldl -lm -lcrypt -lutil -lc
libc=libc-2.27.so
so=so
useshrplib=false
libperl=libperl.a
gnulibc_version='2.27'
Dynamic Linking:
dlsrc=dl_dlopen.xs
dlext=so
d_dlsymun=undef
ccdlflags='-Wl,-E'
cccdlflags='-fPIC'
lddlflags='-shared -O2 -L/usr/local/lib -fstack-protector-strong'
Characteristics of this binary (from libperl):
Compile-time options:
HAS_TIMES
PERLIO_LAYERS
PERL_COPY_ON_WRITE
PERL_DONT_CREATE_GVSV
PERL_MALLOC_WRAP
PERL_OP_PARENT
PERL_PRESERVE_IVUV
USE_64_BIT_ALL
USE_64_BIT_INT
USE_LARGE_FILES
USE_LOCALE
USE_LOCALE_COLLATE
USE_LOCALE_CTYPE
USE_LOCALE_NUMERIC
USE_LOCALE_TIME
USE_PERLIO
USE_PERL_ATOF
Locally applied patches:
Devel::PatchPerl 1.48
Built under linux
Compiled at Dec 12 2018 14:38:01
%ENV:
PERL5LIB=""
PERL5OPT=""
PERL5_CPANPLUS_IS_RUNNING="3888089"
PERL5_CPAN_IS_RUNNING="3888089"
PERLBREW_HOME="/home/njh/.perlbrew"
PERLBREW_LIB=""
PERLBREW_MANPATH="/home/njh/perl5/perlbrew/perls/perl-5.26.3/man"
PERLBREW_PATH="/home/njh/perl5/perlbrew/bin:/home/njh/perl5/perlbrew/perls/perl-5.26.3/bin"
PERLBREW_PERL="perl-5.26.3"
PERLBREW_ROOT="/home/njh/perl5/perlbrew"
PERLBREW_SHELLRC_VERSION="0.86"
PERLBREW_VERSION="0.86"
PERL_LOCAL_LIB_ROOT=""
PERL_MM_USE_DEFAULT="1"
PERL_USE_UNSAFE_INC="1"
@INC:
/home/njh/perl5/perlbrew/perls/perl-5.26.3/lib/site_perl/5.26.3/x86_64-linux
/home/njh/perl5/perlbrew/perls/perl-5.26.3/lib/site_perl/5.26.3
/home/njh/perl5/perlbrew/perls/perl-5.26.3/lib/5.26.3/x86_64-linux
/home/njh/perl5/perlbrew/perls/perl-5.26.3/lib/5.26.3
.