Report for Alt-Crypt-RSA-BigInt-0.01

Back
From: metabase:user:30f4dfbe-2aae-11df-837a-5e0a49663a4f
Subject: PASS Alt-Crypt-RSA-BigInt-0.01 v5.15.1 GNU/Linux
Date: 2012-12-29T10:16:05Z

This distribution has been tested as part of the CPAN Testers
project, supporting the Perl programming language.  See
http://wiki.cpantesters.org/ for more information or email
questions to cpan-testers-discuss@perl.org


--
Dear Dana Jacobsen,

This is a computer-generated report for Alt-Crypt-RSA-BigInt-0.01
on perl 5.15.1, created by CPAN-Reporter-1.2009.

Thank you for uploading your work to CPAN.  Congratulations!
All tests were successful.

Sections of this report:

    * Tester comments
    * Program output
    * Prerequisites
    * Environment and other context

------------------------------
TESTER COMMENTS
------------------------------

Additional comments from tester:

this report is from an automated smoke testing program
and was not reviewed by a human for accuracy

------------------------------
PROGRAM OUTPUT
------------------------------

Output from '/usr/bin/make test':

PERL_DL_NONLAZY=1 /home/njh/perl5/perlbrew/perls/perl-5.15.1/bin/perl5.15.1 "-MExtUtils::Command::MM" "-e" "test_harness(0, 'blib/lib', 'blib/arch')" t/*.t
t/00-errorhandler.t .. ok
Name "Moose::Object::DEMOLISH" used only once: possible typo at /home/njh/perl5/perlbrew/perls/perl-5.15.1/lib/site_perl/5.15.1/x86_64-linux/Moose/Object.pm line 86.
Name "Crypt::Random::Source::Weak::DEMOLISH" used only once: possible typo at /home/njh/perl5/perlbrew/perls/perl-5.15.1/lib/site_perl/5.15.1/x86_64-linux/Moose/Object.pm line 86.
Name "Crypt::Random::Source::Base::File::DEMOLISH" used only once: possible typo at /home/njh/perl5/perlbrew/perls/perl-5.15.1/lib/site_perl/5.15.1/x86_64-linux/Moose/Object.pm line 86.
Name "Crypt::Random::Source::Base::DEMOLISH" used only once: possible typo at /home/njh/perl5/perlbrew/perls/perl-5.15.1/lib/site_perl/5.15.1/x86_64-linux/Moose/Object.pm line 86.
Name "Crypt::Random::Source::Base::RandomDevice::DEMOLISH" used only once: possible typo at /home/njh/perl5/perlbrew/perls/perl-5.15.1/lib/site_perl/5.15.1/x86_64-linux/Moose/Object.pm line 86.
t/01-i2osp.t ......... ok
Name "Moose::Object::DEMOLISH" used only once: possible typo at /home/njh/perl5/perlbrew/perls/perl-5.15.1/lib/site_perl/5.15.1/x86_64-linux/Moose/Object.pm line 86.
Name "Crypt::Random::Source::Weak::DEMOLISH" used only once: possible typo at /home/njh/perl5/perlbrew/perls/perl-5.15.1/lib/site_perl/5.15.1/x86_64-linux/Moose/Object.pm line 86.
Name "Crypt::Random::Source::Base::File::DEMOLISH" used only once: possible typo at /home/njh/perl5/perlbrew/perls/perl-5.15.1/lib/site_perl/5.15.1/x86_64-linux/Moose/Object.pm line 86.
Name "Crypt::Random::Source::Base::DEMOLISH" used only once: possible typo at /home/njh/perl5/perlbrew/perls/perl-5.15.1/lib/site_perl/5.15.1/x86_64-linux/Moose/Object.pm line 86.
Name "Crypt::Random::Source::Base::RandomDevice::DEMOLISH" used only once: possible typo at /home/njh/perl5/perlbrew/perls/perl-5.15.1/lib/site_perl/5.15.1/x86_64-linux/Moose/Object.pm line 86.
t/02-os2ip.t ......... ok
Name "Moose::Object::DEMOLISH" used only once: possible typo at /home/njh/perl5/perlbrew/perls/perl-5.15.1/lib/site_perl/5.15.1/x86_64-linux/Moose/Object.pm line 86.
Name "Crypt::Random::Source::Weak::DEMOLISH" used only once: possible typo at /home/njh/perl5/perlbrew/perls/perl-5.15.1/lib/site_perl/5.15.1/x86_64-linux/Moose/Object.pm line 86.
Name "Crypt::Random::Source::Base::File::DEMOLISH" used only once: possible typo at /home/njh/perl5/perlbrew/perls/perl-5.15.1/lib/site_perl/5.15.1/x86_64-linux/Moose/Object.pm line 86.
Name "Crypt::Random::Source::Base::DEMOLISH" used only once: possible typo at /home/njh/perl5/perlbrew/perls/perl-5.15.1/lib/site_perl/5.15.1/x86_64-linux/Moose/Object.pm line 86.
Name "Crypt::Random::Source::Base::RandomDevice::DEMOLISH" used only once: possible typo at /home/njh/perl5/perlbrew/perls/perl-5.15.1/lib/site_perl/5.15.1/x86_64-linux/Moose/Object.pm line 86.
t/02a-h2osp.t ........ ok
Name "Moose::Object::DEMOLISH" used only once: possible typo at /home/njh/perl5/perlbrew/perls/perl-5.15.1/lib/site_perl/5.15.1/x86_64-linux/Moose/Object.pm line 86.
Name "Crypt::Random::Source::Weak::DEMOLISH" used only once: possible typo at /home/njh/perl5/perlbrew/perls/perl-5.15.1/lib/site_perl/5.15.1/x86_64-linux/Moose/Object.pm line 86.
Name "Crypt::Random::Source::Base::File::DEMOLISH" used only once: possible typo at /home/njh/perl5/perlbrew/perls/perl-5.15.1/lib/site_perl/5.15.1/x86_64-linux/Moose/Object.pm line 86.
Name "Crypt::Random::Source::Base::DEMOLISH" used only once: possible typo at /home/njh/perl5/perlbrew/perls/perl-5.15.1/lib/site_perl/5.15.1/x86_64-linux/Moose/Object.pm line 86.
Name "Crypt::Random::Source::Base::RandomDevice::DEMOLISH" used only once: possible typo at /home/njh/perl5/perlbrew/perls/perl-5.15.1/lib/site_perl/5.15.1/x86_64-linux/Moose/Object.pm line 86.
t/03-random_octet.t .. ok
Name "Moose::Object::DEMOLISH" used only once: possible typo at /home/njh/perl5/perlbrew/perls/perl-5.15.1/lib/site_perl/5.15.1/x86_64-linux/Moose/Object.pm line 86.
Name "Crypt::Random::Source::Weak::DEMOLISH" used only once: possible typo at /home/njh/perl5/perlbrew/perls/perl-5.15.1/lib/site_perl/5.15.1/x86_64-linux/Moose/Object.pm line 86.
Name "Crypt::Random::Source::Base::File::DEMOLISH" used only once: possible typo at /home/njh/perl5/perlbrew/perls/perl-5.15.1/lib/site_perl/5.15.1/x86_64-linux/Moose/Object.pm line 86.
Name "Crypt::Random::Source::Base::DEMOLISH" used only once: possible typo at /home/njh/perl5/perlbrew/perls/perl-5.15.1/lib/site_perl/5.15.1/x86_64-linux/Moose/Object.pm line 86.
Name "Crypt::Random::Source::Base::RandomDevice::DEMOLISH" used only once: possible typo at /home/njh/perl5/perlbrew/perls/perl-5.15.1/lib/site_perl/5.15.1/x86_64-linux/Moose/Object.pm line 86.
t/04-octet_xor.t ..... ok
Name "Moose::Object::DEMOLISH" used only once: possible typo at /home/njh/perl5/perlbrew/perls/perl-5.15.1/lib/site_perl/5.15.1/x86_64-linux/Moose/Object.pm line 86.
Name "Crypt::Random::Source::Weak::DEMOLISH" used only once: possible typo at /home/njh/perl5/perlbrew/perls/perl-5.15.1/lib/site_perl/5.15.1/x86_64-linux/Moose/Object.pm line 86.
Name "Crypt::Random::Source::Base::File::DEMOLISH" used only once: possible typo at /home/njh/perl5/perlbrew/perls/perl-5.15.1/lib/site_perl/5.15.1/x86_64-linux/Moose/Object.pm line 86.
Name "Crypt::Random::Source::Base::DEMOLISH" used only once: possible typo at /home/njh/perl5/perlbrew/perls/perl-5.15.1/lib/site_perl/5.15.1/x86_64-linux/Moose/Object.pm line 86.
Name "Crypt::Random::Source::Base::RandomDevice::DEMOLISH" used only once: possible typo at /home/njh/perl5/perlbrew/perls/perl-5.15.1/lib/site_perl/5.15.1/x86_64-linux/Moose/Object.pm line 86.
t/05-primitives.t .... ok
Name "Moose::Object::DEMOLISH" used only once: possible typo at /home/njh/perl5/perlbrew/perls/perl-5.15.1/lib/site_perl/5.15.1/x86_64-linux/Moose/Object.pm line 86.
Name "Crypt::Random::Source::Weak::DEMOLISH" used only once: possible typo at /home/njh/perl5/perlbrew/perls/perl-5.15.1/lib/site_perl/5.15.1/x86_64-linux/Moose/Object.pm line 86.
Name "Crypt::Random::Source::Base::File::DEMOLISH" used only once: possible typo at /home/njh/perl5/perlbrew/perls/perl-5.15.1/lib/site_perl/5.15.1/x86_64-linux/Moose/Object.pm line 86.
Name "Crypt::Random::Source::Base::DEMOLISH" used only once: possible typo at /home/njh/perl5/perlbrew/perls/perl-5.15.1/lib/site_perl/5.15.1/x86_64-linux/Moose/Object.pm line 86.
Name "Crypt::Random::Source::Base::RandomDevice::DEMOLISH" used only once: possible typo at /home/njh/perl5/perlbrew/perls/perl-5.15.1/lib/site_perl/5.15.1/x86_64-linux/Moose/Object.pm line 86.
t/06-oaep.t .......... ok
Name "Moose::Object::DEMOLISH" used only once: possible typo at /home/njh/perl5/perlbrew/perls/perl-5.15.1/lib/site_perl/5.15.1/x86_64-linux/Moose/Object.pm line 86.
Name "Crypt::Random::Source::Weak::DEMOLISH" used only once: possible typo at /home/njh/perl5/perlbrew/perls/perl-5.15.1/lib/site_perl/5.15.1/x86_64-linux/Moose/Object.pm line 86.
Name "Crypt::Random::Source::Base::File::DEMOLISH" used only once: possible typo at /home/njh/perl5/perlbrew/perls/perl-5.15.1/lib/site_perl/5.15.1/x86_64-linux/Moose/Object.pm line 86.
Name "Crypt::Random::Source::Base::DEMOLISH" used only once: possible typo at /home/njh/perl5/perlbrew/perls/perl-5.15.1/lib/site_perl/5.15.1/x86_64-linux/Moose/Object.pm line 86.
Name "Crypt::Random::Source::Base::RandomDevice::DEMOLISH" used only once: possible typo at /home/njh/perl5/perlbrew/perls/perl-5.15.1/lib/site_perl/5.15.1/x86_64-linux/Moose/Object.pm line 86.
t/07-pss.t ........... ok
t/08-secretkey.t ..... ok
t/09-publickey.t ..... ok
Name "Moose::Object::DEMOLISH" used only once: possible typo at /home/njh/perl5/perlbrew/perls/perl-5.15.1/lib/site_perl/5.15.1/x86_64-linux/Moose/Object.pm line 86.
Name "Crypt::Random::Source::Weak::DEMOLISH" used only once: possible typo at /home/njh/perl5/perlbrew/perls/perl-5.15.1/lib/site_perl/5.15.1/x86_64-linux/Moose/Object.pm line 86.
Name "Crypt::Random::Source::Base::File::DEMOLISH" used only once: possible typo at /home/njh/perl5/perlbrew/perls/perl-5.15.1/lib/site_perl/5.15.1/x86_64-linux/Moose/Object.pm line 86.
Name "Crypt::Random::Source::Base::DEMOLISH" used only once: possible typo at /home/njh/perl5/perlbrew/perls/perl-5.15.1/lib/site_perl/5.15.1/x86_64-linux/Moose/Object.pm line 86.
Name "Crypt::Random::Source::Base::RandomDevice::DEMOLISH" used only once: possible typo at /home/njh/perl5/perlbrew/perls/perl-5.15.1/lib/site_perl/5.15.1/x86_64-linux/Moose/Object.pm line 86.
t/10-keygen.t ........ ok
Name "Moose::Object::DEMOLISH" used only once: possible typo at /home/njh/perl5/perlbrew/perls/perl-5.15.1/lib/site_perl/5.15.1/x86_64-linux/Moose/Object.pm line 86.
Name "Crypt::Random::Source::Weak::DEMOLISH" used only once: possible typo at /home/njh/perl5/perlbrew/perls/perl-5.15.1/lib/site_perl/5.15.1/x86_64-linux/Moose/Object.pm line 86.
Name "Crypt::Random::Source::Base::File::DEMOLISH" used only once: possible typo at /home/njh/perl5/perlbrew/perls/perl-5.15.1/lib/site_perl/5.15.1/x86_64-linux/Moose/Object.pm line 86.
Name "Crypt::Random::Source::Base::DEMOLISH" used only once: possible typo at /home/njh/perl5/perlbrew/perls/perl-5.15.1/lib/site_perl/5.15.1/x86_64-linux/Moose/Object.pm line 86.
Name "Crypt::Random::Source::Base::RandomDevice::DEMOLISH" used only once: possible typo at /home/njh/perl5/perlbrew/perls/perl-5.15.1/lib/site_perl/5.15.1/x86_64-linux/Moose/Object.pm line 86.
t/11-wrapper.t ....... ok
Name "Moose::Object::DEMOLISH" used only once: possible typo at /home/njh/perl5/perlbrew/perls/perl-5.15.1/lib/site_perl/5.15.1/x86_64-linux/Moose/Object.pm line 86.
Name "Crypt::Random::Source::Weak::DEMOLISH" used only once: possible typo at /home/njh/perl5/perlbrew/perls/perl-5.15.1/lib/site_perl/5.15.1/x86_64-linux/Moose/Object.pm line 86.
Name "Crypt::Random::Source::Base::File::DEMOLISH" used only once: possible typo at /home/njh/perl5/perlbrew/perls/perl-5.15.1/lib/site_perl/5.15.1/x86_64-linux/Moose/Object.pm line 86.
Name "Crypt::Random::Source::Base::DEMOLISH" used only once: possible typo at /home/njh/perl5/perlbrew/perls/perl-5.15.1/lib/site_perl/5.15.1/x86_64-linux/Moose/Object.pm line 86.
Name "Crypt::Random::Source::Base::RandomDevice::DEMOLISH" used only once: possible typo at /home/njh/perl5/perlbrew/perls/perl-5.15.1/lib/site_perl/5.15.1/x86_64-linux/Moose/Object.pm line 86.
t/12-versioning.t .... ok
Name "Moose::Object::DEMOLISH" used only once: possible typo at /home/njh/perl5/perlbrew/perls/perl-5.15.1/lib/site_perl/5.15.1/x86_64-linux/Moose/Object.pm line 86.
Name "Crypt::Random::Source::Weak::DEMOLISH" used only once: possible typo at /home/njh/perl5/perlbrew/perls/perl-5.15.1/lib/site_perl/5.15.1/x86_64-linux/Moose/Object.pm line 86.
Name "Crypt::Random::Source::Base::File::DEMOLISH" used only once: possible typo at /home/njh/perl5/perlbrew/perls/perl-5.15.1/lib/site_perl/5.15.1/x86_64-linux/Moose/Object.pm line 86.
Name "Crypt::Random::Source::Base::DEMOLISH" used only once: possible typo at /home/njh/perl5/perlbrew/perls/perl-5.15.1/lib/site_perl/5.15.1/x86_64-linux/Moose/Object.pm line 86.
Name "Crypt::Random::Source::Base::RandomDevice::DEMOLISH" used only once: possible typo at /home/njh/perl5/perlbrew/perls/perl-5.15.1/lib/site_perl/5.15.1/x86_64-linux/Moose/Object.pm line 86.
t/13-es-pkcs1v15.t ... ok
Name "Moose::Object::DEMOLISH" used only once: possible typo at /home/njh/perl5/perlbrew/perls/perl-5.15.1/lib/site_perl/5.15.1/x86_64-linux/Moose/Object.pm line 86.
Name "Crypt::Random::Source::Weak::DEMOLISH" used only once: possible typo at /home/njh/perl5/perlbrew/perls/perl-5.15.1/lib/site_perl/5.15.1/x86_64-linux/Moose/Object.pm line 86.
Name "Crypt::Random::Source::Base::File::DEMOLISH" used only once: possible typo at /home/njh/perl5/perlbrew/perls/perl-5.15.1/lib/site_perl/5.15.1/x86_64-linux/Moose/Object.pm line 86.
Name "Crypt::Random::Source::Base::DEMOLISH" used only once: possible typo at /home/njh/perl5/perlbrew/perls/perl-5.15.1/lib/site_perl/5.15.1/x86_64-linux/Moose/Object.pm line 86.
Name "Crypt::Random::Source::Base::RandomDevice::DEMOLISH" used only once: possible typo at /home/njh/perl5/perlbrew/perls/perl-5.15.1/lib/site_perl/5.15.1/x86_64-linux/Moose/Object.pm line 86.
t/14-ss-pkcs1v15.t ... ok
Name "Moose::Object::DEMOLISH" used only once: possible typo at /home/njh/perl5/perlbrew/perls/perl-5.15.1/lib/site_perl/5.15.1/x86_64-linux/Moose/Object.pm line 86.
Name "Crypt::Random::Source::Weak::DEMOLISH" used only once: possible typo at /home/njh/perl5/perlbrew/perls/perl-5.15.1/lib/site_perl/5.15.1/x86_64-linux/Moose/Object.pm line 86.
Name "Crypt::Random::Source::Base::File::DEMOLISH" used only once: possible typo at /home/njh/perl5/perlbrew/perls/perl-5.15.1/lib/site_perl/5.15.1/x86_64-linux/Moose/Object.pm line 86.
Name "Crypt::Random::Source::Base::DEMOLISH" used only once: possible typo at /home/njh/perl5/perlbrew/perls/perl-5.15.1/lib/site_perl/5.15.1/x86_64-linux/Moose/Object.pm line 86.
Name "Crypt::Random::Source::Base::RandomDevice::DEMOLISH" used only once: possible typo at /home/njh/perl5/perlbrew/perls/perl-5.15.1/lib/site_perl/5.15.1/x86_64-linux/Moose/Object.pm line 86.
t/15-benchmark.t ..... ok
Name "Moose::Object::DEMOLISH" used only once: possible typo at /home/njh/perl5/perlbrew/perls/perl-5.15.1/lib/site_perl/5.15.1/x86_64-linux/Moose/Object.pm line 86.
Name "Crypt::Random::Source::Weak::DEMOLISH" used only once: possible typo at /home/njh/perl5/perlbrew/perls/perl-5.15.1/lib/site_perl/5.15.1/x86_64-linux/Moose/Object.pm line 86.
Name "Crypt::Random::Source::Base::File::DEMOLISH" used only once: possible typo at /home/njh/perl5/perlbrew/perls/perl-5.15.1/lib/site_perl/5.15.1/x86_64-linux/Moose/Object.pm line 86.
Name "Crypt::Random::Source::Base::DEMOLISH" used only once: possible typo at /home/njh/perl5/perlbrew/perls/perl-5.15.1/lib/site_perl/5.15.1/x86_64-linux/Moose/Object.pm line 86.
Name "Crypt::Random::Source::Base::RandomDevice::DEMOLISH" used only once: possible typo at /home/njh/perl5/perlbrew/perls/perl-5.15.1/lib/site_perl/5.15.1/x86_64-linux/Moose/Object.pm line 86.
t/16-serialize.t ..... ok
All tests successful.
Files=18, Tests=100, 885 wallclock secs ( 0.06 usr  0.02 sys + 882.08 cusr  0.30 csys = 882.46 CPU)
Result: PASS

------------------------------
PREREQUISITES
------------------------------

Prerequisite modules loaded:

requires:

    Module                 Need  Have    
    ---------------------- ----- --------
    Bytes::Random::Secure  0.12  0.12    
    Class::Loader          0     2.03    
    Convert::ASCII::Armour 0     1.4     
    Crypt::Blowfish        0     2.12    
    Crypt::CBC             0     2.32    
    Data::Buffer           0     0.04    
    Data::Dumper           0     2.136   
    Digest::MD2            0     2.03    
    Digest::MD5            0     2.52    
    Digest::SHA            0     5.72    
    Math::Prime::Util      0.17  0.17    
    perl                   5.008 5.015001
    Sort::Versions         0     1.5     
    Tie::EncryptedHash     0     1.8     

build_requires:

    Module                 Need  Have    
    ---------------------- ----- --------
    ExtUtils::MakeMaker    0     6.62    

configure_requires:

    Module                 Need  Have    
    ---------------------- ----- --------
    ExtUtils::MakeMaker    0     6.62    


------------------------------
ENVIRONMENT AND OTHER CONTEXT
------------------------------

Environment variables:

    AUTOMATED_TESTING = 1
    LANG = en_GB.UTF-8
    LANGUAGE = en_GB:en
    LD_LIBRARY_PATH = :/usr/local/lib:/usr/lib/qt-3.3/lib:/usr/X11R6/lib
    MANPATH_WITHOUT_PERLBREW = /usr/local/man:/usr/local/share/man:/usr/share/man:/usr/local/man:/home/njh/man:/usr/share/inn/man:/usr/share/perl5/man:/usr/share/tcl-8.0/man:/usr/share/tclX-8.0.4/man:/usr/share/tix-4.1/man:/usr/share/tk-8.0/man:/usr/server/doc:/usr/share/man:/opt/intel/cc/9.1.038/man
    PATH = /home/njh/perl5/perlbrew/bin:/home/njh/perl5/perlbrew/perls/perl-5.15.1/bin:/home/njh/perl5/perlbrew/bin:/usr/local/bin:/usr/bin:/bin:/usr/local/games:/usr/games:/home/njh/bin
    PATH_WITHOUT_PERLBREW = /usr/local/bin:/usr/bin:/bin:/usr/local/games:/usr/games:/home/njh/bin
    PERL5LIB = /home/njh/.cpan/build/Data-Buffer-0.04-ULMQmd/blib/arch:/home/njh/.cpan/build/Data-Buffer-0.04-ULMQmd/blib/lib:/home/njh/.cpan/build/Class-Loader-2.03-SXxeTR/blib/arch:/home/njh/.cpan/build/Class-Loader-2.03-SXxeTR/blib/lib:/home/njh/.cpan/build/Digest-MD2-2.03-Tj2Lrl/blib/arch:/home/njh/.cpan/build/Digest-MD2-2.03-Tj2Lrl/blib/lib:/home/njh/.cpan/build/Convert-ASCII-Armour-1.4-5O68QI/blib/arch:/home/njh/.cpan/build/Convert-ASCII-Armour-1.4-5O68QI/blib/lib:/home/njh/.cpan/build/Math-Prime-Util-0.17-EV9Lyw/blib/arch:/home/njh/.cpan/build/Math-Prime-Util-0.17-EV9Lyw/blib/lib:/home/njh/.cpan/build/Bytes-Random-Secure-0.12-HK0GJQ/blib/arch:/home/njh/.cpan/build/Bytes-Random-Secure-0.12-HK0GJQ/blib/lib:/home/njh/.cpan/build/Crypt-Random-Source-0.07-UX_9JB/blib/arch:/home/njh/.cpan/build/Crypt-Random-Source-0.07-UX_9JB/blib/lib:/home/njh/.cpan/build/Math-Random-ISAAC-1.004-A5BYqp/blib/arch:/home/njh/.cpan/build/Math-Random-ISAAC-1.004-A5BYqp/blib/lib:/home/njh/.cpan/build/Tie-EncryptedHash-1.24-pkX9DD/blib/arch:/home/njh/.cpan/build/Tie-EncryptedHash-1.24-pkX9DD/blib/lib:/home/njh/.cpan/build/Crypt-CBC-2.32-xiLref/blib/arch:/home/njh/.cpan/build/Crypt-CBC-2.32-xiLref/blib/lib:/home/njh/.cpan/build/Crypt-Blowfish-2.12-aAYFQZ/blib/arch:/home/njh/.cpan/build/Crypt-Blowfish-2.12-aAYFQZ/blib/lib:/home/njh/.cpan/build/Crypt-DES-2.05-gu58BE/blib/arch:/home/njh/.cpan/build/Crypt-DES-2.05-gu58BE/blib/lib
    PERL5OPT = 
    PERL5_CPANPLUS_IS_RUNNING = 4486
    PERL5_CPAN_IS_RUNNING = 4486
    PERL5_MINISMOKEBOX = 0.54
    PERLBREW_BASHRC_VERSION = 0.49
    PERLBREW_HOME = /home/njh/.perlbrew
    PERLBREW_LIB = 
    PERLBREW_MANPATH = /home/njh/perl5/perlbrew/perls/perl-5.15.1/man
    PERLBREW_PATH = /home/njh/perl5/perlbrew/bin:/home/njh/perl5/perlbrew/perls/perl-5.15.1/bin
    PERLBREW_PERL = perl-5.15.1
    PERLBREW_ROOT = /home/njh/perl5/perlbrew
    PERLBREW_VERSION = 0.49
    PERL_EXTUTILS_AUTOINSTALL = --defaultdeps
    PERL_LOCAL_LIB_ROOT = 
    PERL_MB_OPT = 
    PERL_MM_OPT = 
    PERL_MM_USE_DEFAULT = 1
    SHELL = /bin/bash
    TERM = linux

Perl special variables (and OS-specific diagnostics, for MSWin32):

    $^X = /home/njh/perl5/perlbrew/perls/perl-5.15.1/bin/perl5.15.1
    $UID/$EUID = 1000 / 1000
    $GID = 1000 24 25 29 30 44 46 108 112 1000
    $EGID = 1000 24 25 29 30 44 46 108 112 1000

Perl module toolchain versions installed:

    Module              Have    
    ------------------- --------
    CPAN                1.9800  
    CPAN::Meta          2.120921
    Cwd                 3.37    
    ExtUtils::CBuilder  0.280205
    ExtUtils::Command   1.17    
    ExtUtils::Install   1.56    
    ExtUtils::MakeMaker 6.62    
    ExtUtils::Manifest  1.61    
    ExtUtils::ParseXS   3.15    
    File::Spec          3.33    
    JSON                2.53    
    JSON::PP            2.27200 
    Module::Build       0.4003  
    Module::Signature   0.68    
    Parse::CPAN::Meta   1.4404  
    Test::Harness       3.25    
    Test::More          0.98    
    YAML                0.84    
    YAML::Syck          1.22    
    version             0.9901  


--

Summary of my perl5 (revision 5 version 15 subversion 1) configuration:
   
  Platform:
    osname=linux, osvers=3.2.0-2-amd64, archname=x86_64-linux
    uname='linux gateway 3.2.0-2-amd64 #1 smp sun apr 15 16:47:38 utc 2012 x86_64 gnulinux '
    config_args='-de -Dprefix=/home/njh/perl5/perlbrew/perls/perl-5.15.1 -Dusedevel -Accflags=-O2 -W -Wformat=2 -Wswitch -Wshadow -Wwrite-strings -Wuninitialized -Wall -pipe -mtune=native -march=native -fomit-frame-pointer -mfpmath=sse -pedantic -D_FORTIFY_SOURCE=2 -Wpointer-arith -Wstrict-prototypes -fstack-protector -Wstack-protector -Wextra -Wbad-function-cast -Wcast-align -Wcast-qual -Wdisabled-optimization -Wendif-labels -Wfloat-equal -Wformat-nonliteral -Winline -Wmissing-declarations -Wmissing-prototypes -Wnested-externs -Wpointer-arith -Wundef -Wformat-security'
    hint=recommended, useposix=true, d_sigaction=define
    useithreads=undef, usemultiplicity=undef
    useperlio=define, d_sfio=undef, uselargefiles=define, usesocks=undef
    use64bitint=define, use64bitall=define, uselongdouble=undef
    usemymalloc=n, bincompat5005=undef
  Compiler:
    cc='cc', ccflags ='-O2 -W -Wformat=2 -Wswitch -Wshadow -Wwrite-strings -Wuninitialized -Wall -pipe -mtune=native -march=native -fomit-frame-pointer -mfpmath=sse -pedantic -D_FORTIFY_SOURCE=2 -Wpointer-arith -Wstrict-prototypes -fstack-protector -Wstack-protector -Wextra -Wbad-function-cast -Wcast-align -Wcast-qual -Wdisabled-optimization -Wendif-labels -Wfloat-equal -Wformat-nonliteral -Winline -Wmissing-declarations -Wmissing-prototypes -Wnested-externs -Wpointer-arith -Wundef -Wformat-security -fno-strict-aliasing -I/usr/local/include -D_LARGEFILE_SOURCE -D_FILE_OFFSET_BITS=64',
    optimize='-O2',
    cppflags='-O2 -W -Wformat=2 -Wswitch -Wshadow -Wwrite-strings -Wuninitialized -Wall -pipe -mtune=native -march=native -fomit-frame-pointer -mfpmath=sse -pedantic -D_FORTIFY_SOURCE=2 -Wpointer-arith -Wstrict-prototypes -fstack-protector -Wstack-protector -Wextra -Wbad-function-cast -Wcast-align -Wcast-qual -Wdisabled-optimization -Wendif-labels -Wfloat-equal -Wformat-nonliteral -Winline -Wmissing-declarations -Wmissing-prototypes -Wnested-externs -Wpointer-arith -Wundef -Wformat-security -fno-strict-aliasing -I/usr/local/include'
    ccversion='', gccversion='4.6.3', gccosandvers=''
    intsize=4, longsize=8, ptrsize=8, doublesize=8, byteorder=12345678
    d_longlong=define, longlongsize=8, d_longdbl=define, longdblsize=16
    ivtype='long', ivsize=8, nvtype='double', nvsize=8, Off_t='off_t', lseeksize=8
    alignbytes=8, prototype=define
  Linker and Libraries:
    ld='cc', ldflags =' -fstack-protector -L/usr/local/lib'
    libpth=/usr/local/lib /lib/x86_64-linux-gnu /lib/../lib /usr/lib/x86_64-linux-gnu /usr/lib/../lib /lib /usr/lib
    libs=-lnsl -lgdbm -ldb -ldl -lm -lcrypt -lutil -lc -lgdbm_compat
    perllibs=-lnsl -ldl -lm -lcrypt -lutil -lc
    libc=, so=so, useshrplib=false, libperl=libperl.a
    gnulibc_version='2.13'
  Dynamic Linking:
    dlsrc=dl_dlopen.xs, dlext=so, d_dlsymun=undef, ccdlflags='-Wl,-E'
    cccdlflags='-fPIC', lddlflags='-shared -O2 -L/usr/local/lib -fstack-protector'


Characteristics of this binary (from libperl): 
  Compile-time options: HAS_TIMES PERLIO_LAYERS PERL_DONT_CREATE_GVSV
                        PERL_MALLOC_WRAP PERL_PRESERVE_IVUV PERL_USE_DEVEL
                        USE_64_BIT_ALL USE_64_BIT_INT USE_LARGE_FILES
                        USE_LOCALE USE_LOCALE_COLLATE USE_LOCALE_CTYPE
                        USE_LOCALE_NUMERIC USE_PERLIO USE_PERL_ATOF
  Built under linux
  Compiled at Apr 23 2012 10:02:48
  %ENV:
    PERL5LIB="/home/njh/.cpan/build/Data-Buffer-0.04-ULMQmd/blib/arch:/home/njh/.cpan/build/Data-Buffer-0.04-ULMQmd/blib/lib:/home/njh/.cpan/build/Class-Loader-2.03-SXxeTR/blib/arch:/home/njh/.cpan/build/Class-Loader-2.03-SXxeTR/blib/lib:/home/njh/.cpan/build/Digest-MD2-2.03-Tj2Lrl/blib/arch:/home/njh/.cpan/build/Digest-MD2-2.03-Tj2Lrl/blib/lib:/home/njh/.cpan/build/Convert-ASCII-Armour-1.4-5O68QI/blib/arch:/home/njh/.cpan/build/Convert-ASCII-Armour-1.4-5O68QI/blib/lib:/home/njh/.cpan/build/Math-Prime-Util-0.17-EV9Lyw/blib/arch:/home/njh/.cpan/build/Math-Prime-Util-0.17-EV9Lyw/blib/lib:/home/njh/.cpan/build/Bytes-Random-Secure-0.12-HK0GJQ/blib/arch:/home/njh/.cpan/build/Bytes-Random-Secure-0.12-HK0GJQ/blib/lib:/home/njh/.cpan/build/Crypt-Random-Source-0.07-UX_9JB/blib/arch:/home/njh/.cpan/build/Crypt-Random-Source-0.07-UX_9JB/blib/lib:/home/njh/.cpan/build/Math-Random-ISAAC-1.004-A5BYqp/blib/arch:/home/njh/.cpan/build/Math-Random-ISAAC-1.004-A5BYqp/blib/lib:/home/njh/.cpan/build/Tie-EncryptedHash-1.24-pkX9DD/blib/arch:/home/njh/.cpan/build/Tie-EncryptedHash-1.24-pkX9DD/blib/lib:/home/njh/.cpan/build/Crypt-CBC-2.32-xiLref/blib/arch:/home/njh/.cpan/build/Crypt-CBC-2.32-xiLref/blib/lib:/home/njh/.cpan/build/Crypt-Blowfish-2.12-aAYFQZ/blib/arch:/home/njh/.cpan/build/Crypt-Blowfish-2.12-aAYFQZ/blib/lib:/home/njh/.cpan/build/Crypt-DES-2.05-gu58BE/blib/arch:/home/njh/.cpan/build/Crypt-DES-2.05-gu58BE/blib/lib"
    PERL5OPT=""
    PERL5_CPANPLUS_IS_RUNNING="4486"
    PERL5_CPAN_IS_RUNNING="4486"
    PERL5_MINISMOKEBOX="0.54"
    PERLBREW_BASHRC_VERSION="0.49"
    PERLBREW_HOME="/home/njh/.perlbrew"
    PERLBREW_LIB=""
    PERLBREW_MANPATH="/home/njh/perl5/perlbrew/perls/perl-5.15.1/man"
    PERLBREW_PATH="/home/njh/perl5/perlbrew/bin:/home/njh/perl5/perlbrew/perls/perl-5.15.1/bin"
    PERLBREW_PERL="perl-5.15.1"
    PERLBREW_ROOT="/home/njh/perl5/perlbrew"
    PERLBREW_VERSION="0.49"
    PERL_EXTUTILS_AUTOINSTALL="--defaultdeps"
    PERL_LOCAL_LIB_ROOT=""
    PERL_MB_OPT=""
    PERL_MM_OPT=""
    PERL_MM_USE_DEFAULT="1"
  @INC:
    /home/njh/.cpan/build/Data-Buffer-0.04-ULMQmd/blib/arch
    /home/njh/.cpan/build/Data-Buffer-0.04-ULMQmd/blib/lib
    /home/njh/.cpan/build/Class-Loader-2.03-SXxeTR/blib/arch
    /home/njh/.cpan/build/Class-Loader-2.03-SXxeTR/blib/lib
    /home/njh/.cpan/build/Digest-MD2-2.03-Tj2Lrl/blib/arch
    /home/njh/.cpan/build/Digest-MD2-2.03-Tj2Lrl/blib/lib
    /home/njh/.cpan/build/Convert-ASCII-Armour-1.4-5O68QI/blib/arch
    /home/njh/.cpan/build/Convert-ASCII-Armour-1.4-5O68QI/blib/lib
    /home/njh/.cpan/build/Math-Prime-Util-0.17-EV9Lyw/blib/arch
    /home/njh/.cpan/build/Math-Prime-Util-0.17-EV9Lyw/blib/lib
    /home/njh/.cpan/build/Bytes-Random-Secure-0.12-HK0GJQ/blib/arch
    /home/njh/.cpan/build/Bytes-Random-Secure-0.12-HK0GJQ/blib/lib
    /home/njh/.cpan/build/Crypt-Random-Source-0.07-UX_9JB/blib/arch
    /home/njh/.cpan/build/Crypt-Random-Source-0.07-UX_9JB/blib/lib
    /home/njh/.cpan/build/Math-Random-ISAAC-1.004-A5BYqp/blib/arch
    /home/njh/.cpan/build/Math-Random-ISAAC-1.004-A5BYqp/blib/lib
    /home/njh/.cpan/build/Tie-EncryptedHash-1.24-pkX9DD/blib/arch
    /home/njh/.cpan/build/Tie-EncryptedHash-1.24-pkX9DD/blib/lib
    /home/njh/.cpan/build/Crypt-CBC-2.32-xiLref/blib/arch
    /home/njh/.cpan/build/Crypt-CBC-2.32-xiLref/blib/lib
    /home/njh/.cpan/build/Crypt-Blowfish-2.12-aAYFQZ/blib/arch
    /home/njh/.cpan/build/Crypt-Blowfish-2.12-aAYFQZ/blib/lib
    /home/njh/.cpan/build/Crypt-DES-2.05-gu58BE/blib/arch
    /home/njh/.cpan/build/Crypt-DES-2.05-gu58BE/blib/lib
    /home/njh/perl5/perlbrew/perls/perl-5.15.1/lib/site_perl/5.15.1/x86_64-linux
    /home/njh/perl5/perlbrew/perls/perl-5.15.1/lib/site_perl/5.15.1
    /home/njh/perl5/perlbrew/perls/perl-5.15.1/lib/5.15.1/x86_64-linux
    /home/njh/perl5/perlbrew/perls/perl-5.15.1/lib/5.15.1
    .