Net-HTTP-API v0.14 Perl 5 v5.31.4 x86_64-linux-ld

Status
Pass
From
Andreas J. König (ANDK)
Dist
Net-HTTP-API v0.14
Platform
Perl 5 v5.31.4 x86_64-linux-ld
Date
2019-09-14 14:55:55
ID
c13b42b8-d6ff-11e9-88a8-bf6a5ee73236
This distribution has been tested as part of the CPAN Testers
project, supporting the Perl programming language.  See
http://wiki.cpantesters.org/ for more information or email
questions to cpan-testers-discuss@perl.org


--
Dear Franck Cuny,

This is a computer-generated report for Net-HTTP-API-0.14
on perl 5.31.4, created by CPAN-Reporter-1.2018.

Thank you for uploading your work to CPAN.  Congratulations!
All tests were successful.

Sections of this report:

    * Tester comments
    * Program output
    * Prerequisites
    * Environment and other context

------------------------------
TESTER COMMENTS
------------------------------

Additional comments from tester:

this report is from an automated smoke testing program
and was not reviewed by a human for accuracy

------------------------------
PROGRAM OUTPUT
------------------------------

Output from '/usr/bin/make test':

PERL_DL_NONLAZY=1 "/tmp/basesmoker-reloperl-zYC6/bin/perl" "-MExtUtils::Command::MM" "-MTest::Harness" "-e" "undef *Test::Harness::Switches; test_harness(0, 'blib/lib', 'blib/arch')" t/*.t
Passing a list of values to enum is deprecated. Enum values should be wrapped in an arrayref. at /home/sand/src/perl/repoperls/installed-perls/host/k93msid/v5.31.3-139-g238965b4f5/ea6b/lib/site_perl/5.31.4/x86_64-linux-ld/Moose/Util/TypeConstraints.pm line 437.
	Moose::Util::TypeConstraints::enum("Method", "HEAD", "GET", "POST", "PUT", "DELETE") called at /home/sand/.cpan/privbuild/k93msid/Net-HTTP-API-0.14-4/blib/lib/Net/HTTP/API/Meta/Method.pm line 21
	require Net/HTTP/API/Meta/Method.pm called at /home/sand/.cpan/privbuild/k93msid/Net-HTTP-API-0.14-4/blib/lib/Net/HTTP/API/Meta/Method/APIMethod.pm line 10
	Net::HTTP::API::Meta::Method::APIMethod::BEGIN() called at /home/sand/.cpan/privbuild/k93msid/Net-HTTP-API-0.14-4/blib/lib/Net/HTTP/API/Meta/Method.pm line 0
	eval {...} called at /home/sand/.cpan/privbuild/k93msid/Net-HTTP-API-0.14-4/blib/lib/Net/HTTP/API/Meta/Method.pm line 0
	require Net/HTTP/API/Meta/Method/APIMethod.pm called at /home/sand/src/perl/repoperls/installed-perls/host/k93msid/v5.31.3-139-g238965b4f5/ea6b/lib/site_perl/5.31.4/Module/Runtime.pm line 314
	Module::Runtime::require_module("Net::HTTP::API::Meta::Method::APIMethod") called at /home/sand/src/perl/repoperls/installed-perls/host/k93msid/v5.31.3-139-g238965b4f5/ea6b/lib/site_perl/5.31.4/Module/Runtime.pm line 391
	eval {...} called at /home/sand/src/perl/repoperls/installed-perls/host/k93msid/v5.31.3-139-g238965b4f5/ea6b/lib/site_perl/5.31.4/Module/Runtime.pm line 391
	Module::Runtime::use_package_optimistically("Net::HTTP::API::Meta::Method::APIMethod") called at /home/sand/src/perl/repoperls/installed-perls/host/k93msid/v5.31.3-139-g238965b4f5/ea6b/lib/site_perl/5.31.4/x86_64-linux-ld/Moose/Util.pm line 351
	Moose::Util::_load_user_class("Net::HTTP::API::Meta::Method::APIMethod", undef) called at /home/sand/src/perl/repoperls/installed-perls/host/k93msid/v5.31.3-139-g238965b4f5/ea6b/lib/site_perl/5.31.4/x86_64-linux-ld/Moose/Util.pm line 146
	Moose::Util::_apply_all_roles(Moose::Meta::Role=HASH(0x55c4f705dbd8), undef, "Net::HTTP::API::Meta::Method::APIMethod", "Net::HTTP::API::Meta::Method::APIDeclare") called at /home/sand/src/perl/repoperls/installed-perls/host/k93msid/v5.31.3-139-g238965b4f5/ea6b/lib/site_perl/5.31.4/x86_64-linux-ld/Moose/Util.pm line 113
	Moose::Util::apply_all_roles(Moose::Meta::Role=HASH(0x55c4f705dbd8), "Net::HTTP::API::Meta::Method::APIMethod", "Net::HTTP::API::Meta::Method::APIDeclare") called at /home/sand/src/perl/repoperls/installed-perls/host/k93msid/v5.31.3-139-g238965b4f5/ea6b/lib/site_perl/5.31.4/x86_64-linux-ld/Moose/Role.pm line 25
	Moose::Role::with(Moose::Meta::Role=HASH(0x55c4f705dbd8), "Net::HTTP::API::Meta::Method::APIMethod", "Net::HTTP::API::Meta::Method::APIDeclare") called at /home/sand/src/perl/repoperls/installed-perls/host/k93msid/v5.31.3-139-g238965b4f5/ea6b/lib/site_perl/5.31.4/x86_64-linux-ld/Moose/Exporter.pm line 419
	Moose::Role::with("Net::HTTP::API::Meta::Method::APIMethod", "Net::HTTP::API::Meta::Method::APIDeclare") called at /home/sand/.cpan/privbuild/k93msid/Net-HTTP-API-0.14-4/blib/lib/Net/HTTP/API/Meta/Class.pm line 10
	require Net/HTTP/API/Meta/Class.pm called at /home/sand/src/perl/repoperls/installed-perls/host/k93msid/v5.31.3-139-g238965b4f5/ea6b/lib/site_perl/5.31.4/Module/Runtime.pm line 314
	Module::Runtime::require_module("Net::HTTP::API::Meta::Class") called at /home/sand/src/perl/repoperls/installed-perls/host/k93msid/v5.31.3-139-g238965b4f5/ea6b/lib/site_perl/5.31.4/Module/Runtime.pm line 391
	eval {...} called at /home/sand/src/perl/repoperls/installed-perls/host/k93msid/v5.31.3-139-g238965b4f5/ea6b/lib/site_perl/5.31.4/Module/Runtime.pm line 391
	Module::Runtime::use_package_optimistically("Net::HTTP::API::Meta::Class") called at /home/sand/src/perl/repoperls/installed-perls/host/k93msid/v5.31.3-139-g238965b4f5/ea6b/lib/site_perl/5.31.4/x86_64-linux-ld/Moose/Util.pm line 351
	Moose::Util::_load_user_class("Net::HTTP::API::Meta::Class", undef) called at /home/sand/src/perl/repoperls/installed-perls/host/k93msid/v5.31.3-139-g238965b4f5/ea6b/lib/site_perl/5.31.4/x86_64-linux-ld/Moose/Util.pm line 146
	Moose::Util::_apply_all_roles(Moose::Meta::Class=HASH(0x55c4f7028770), undef, "Net::HTTP::API::Meta::Class") called at /home/sand/src/perl/repoperls/installed-perls/host/k93msid/v5.31.3-139-g238965b4f5/ea6b/lib/site_perl/5.31.4/x86_64-linux-ld/Moose/Util.pm line 113
	Moose::Util::apply_all_roles(Moose::Meta::Class=HASH(0x55c4f7028770), "Net::HTTP::API::Meta::Class") called at /home/sand/src/perl/repoperls/installed-perls/host/k93msid/v5.31.3-139-g238965b4f5/ea6b/lib/site_perl/5.31.4/x86_64-linux-ld/Moose/Meta/Class.pm line 88
	Moose::Meta::Class::create("Moose::Meta::Class", "Moose::Meta::Class::__ANON__::SERIAL::1", "roles", ARRAY(0x55c4f7020898), "superclasses", ARRAY(0x55c4f701f0a0), "weaken", "") called at /home/sand/src/perl/repoperls/installed-perls/host/k93msid/v5.31.3-139-g238965b4f5/ea6b/lib/site_perl/5.31.4/x86_64-linux-ld/Class/MOP/Package.pm line 120
	Class::MOP::Package::create_anon("Moose::Meta::Class", "superclasses", ARRAY(0x55c4f701f0a0), "roles", ARRAY(0x55c4f7020898), "cache", 1) called at /home/sand/src/perl/repoperls/installed-perls/host/k93msid/v5.31.3-139-g238965b4f5/ea6b/lib/site_perl/5.31.4/x86_64-linux-ld/Class/MOP/Class.pm line 472
	Class::MOP::Class::create_anon_class("Moose::Meta::Class", "superclasses", ARRAY(0x55c4f701f0a0), "roles", ARRAY(0x55c4f7020898), "cache", 1) called at /home/sand/src/perl/repoperls/installed-perls/host/k93msid/v5.31.3-139-g238965b4f5/ea6b/lib/site_perl/5.31.4/x86_64-linux-ld/Moose/Util/MetaRole.pm line 108
	Moose::Util::MetaRole::_make_new_class("Moose::Meta::Class", ARRAY(0x55c4f7020898)) called at /home/sand/src/perl/repoperls/installed-perls/host/k93msid/v5.31.3-139-g238965b4f5/ea6b/lib/site_perl/5.31.4/x86_64-linux-ld/Moose/Util/MetaRole.pm line 53
	Moose::Util::MetaRole::_make_new_metaclass(Moose::Meta::Class=HASH(0x55c4f6fe2f78), HASH(0x55c4f702efc0), "class") called at /home/sand/src/perl/repoperls/installed-perls/host/k93msid/v5.31.3-139-g238965b4f5/ea6b/lib/site_perl/5.31.4/x86_64-linux-ld/Moose/Util/MetaRole.pm line 21
	Moose::Util::MetaRole::apply_metaroles("for", "main", "class_metaroles", HASH(0x55c4f702efc0)) called at /home/sand/.cpan/privbuild/k93msid/Net-HTTP-API-0.14-4/blib/lib/Net/HTTP/API.pm line 34
	Net::HTTP::API::init_meta("Net::HTTP::API", "for_class", "MooseX::Types::Moose", "metaclass", undef, "meta_name", "meta") called at /home/sand/src/perl/repoperls/installed-perls/host/k93msid/v5.31.3-139-g238965b4f5/ea6b/lib/site_perl/5.31.4/x86_64-linux-ld/Moose/Exporter.pm line 484
	Net::HTTP::API::import("Net::HTTP::API") called at t/00_compile.t line 4
	main::BEGIN() called at /home/sand/.cpan/privbuild/k93msid/Net-HTTP-API-0.14-4/blib/lib/Net/HTTP/API/Meta/Method.pm line 0
	eval {...} called at /home/sand/.cpan/privbuild/k93msid/Net-HTTP-API-0.14-4/blib/lib/Net/HTTP/API/Meta/Method.pm line 0
	eval 'package main;
BEGIN { ${^WARNING_BITS} = $args[-1] if defined $args[-1] }
#line 4 t/00_compile.t
use Net::HTTP::API @{$args[0]};
1;
' called at /home/sand/src/perl/repoperls/installed-perls/host/k93msid/v5.31.3-139-g238965b4f5/ea6b/lib/site_perl/5.31.4/Test/More.pm line 1034
	Test::More::_eval("package main;\x{a}BEGIN { \${^WARNING_BITS} = \$args[-1] if defined"..., ARRAY(0x55c4f6391160), "UUUUUUUUUUUUUUUUUUU") called at /home/sand/src/perl/repoperls/installed-perls/host/k93msid/v5.31.3-139-g238965b4f5/ea6b/lib/site_perl/5.31.4/Test/More.pm line 1009
	Test::More::use_ok("Net::HTTP::API") called at t/00_compile.t line 4
	main::BEGIN() called at /home/sand/.cpan/privbuild/k93msid/Net-HTTP-API-0.14-4/blib/lib/Net/HTTP/API/Meta/Method.pm line 0
	eval {...} called at /home/sand/.cpan/privbuild/k93msid/Net-HTTP-API-0.14-4/blib/lib/Net/HTTP/API/Meta/Method.pm line 0
Passing a list of values to enum is deprecated. Enum values should be wrapped in an arrayref. at /home/sand/src/perl/repoperls/installed-perls/host/k93msid/v5.31.3-139-g238965b4f5/ea6b/lib/site_perl/5.31.4/x86_64-linux-ld/Moose/Util/TypeConstraints.pm line 437.
	Moose::Util::TypeConstraints::enum("FormatMode", "content-type", "append") called at /home/sand/.cpan/privbuild/k93msid/Net-HTTP-API-0.14-4/blib/lib/Net/HTTP/API/Role/Format.pm line 23
	require Net/HTTP/API/Role/Format.pm called at /home/sand/src/perl/repoperls/installed-perls/host/k93msid/v5.31.3-139-g238965b4f5/ea6b/lib/site_perl/5.31.4/Module/Runtime.pm line 314
	Module::Runtime::require_module("Net::HTTP::API::Role::Format") called at /home/sand/src/perl/repoperls/installed-perls/host/k93msid/v5.31.3-139-g238965b4f5/ea6b/lib/site_perl/5.31.4/Module/Runtime.pm line 391
	eval {...} called at /home/sand/src/perl/repoperls/installed-perls/host/k93msid/v5.31.3-139-g238965b4f5/ea6b/lib/site_perl/5.31.4/Module/Runtime.pm line 391
	Module::Runtime::use_package_optimistically("Net::HTTP::API::Role::Format") called at /home/sand/src/perl/repoperls/installed-perls/host/k93msid/v5.31.3-139-g238965b4f5/ea6b/lib/site_perl/5.31.4/x86_64-linux-ld/Moose/Util.pm line 351
	Moose::Util::_load_user_class("Net::HTTP::API::Role::Format", undef) called at /home/sand/src/perl/repoperls/installed-perls/host/k93msid/v5.31.3-139-g238965b4f5/ea6b/lib/site_perl/5.31.4/x86_64-linux-ld/Moose/Util.pm line 146
	Moose::Util::_apply_all_roles(Moose::Meta::Class=HASH(0x55c4f73c6230), undef, "Net::HTTP::API::Role::UserAgent", "Net::HTTP::API::Role::Format", "Net::HTTP::API::Role::Authentication", "Net::HTTP::API::Role::Serialization", "Net::HTTP::API::Role::Request") called at /home/sand/src/perl/repoperls/installed-perls/host/k93msid/v5.31.3-139-g238965b4f5/ea6b/lib/site_perl/5.31.4/x86_64-linux-ld/Moose/Util.pm line 113
	Moose::Util::apply_all_roles(Moose::Meta::Class=HASH(0x55c4f73c6230), "Net::HTTP::API::Role::UserAgent", "Net::HTTP::API::Role::Format", "Net::HTTP::API::Role::Authentication", "Net::HTTP::API::Role::Serialization", "Net::HTTP::API::Role::Request") called at /home/sand/src/perl/repoperls/installed-perls/host/k93msid/v5.31.3-139-g238965b4f5/ea6b/lib/site_perl/5.31.4/x86_64-linux-ld/Moose/Meta/Class.pm line 88
	Moose::Meta::Class::create("Moose::Meta::Class", "Moose::Meta::Class::__ANON__::SERIAL::10", "superclasses", ARRAY(0x55c4f745acb0), "weaken", "", "roles", ARRAY(0x55c4f7020d30)) called at /home/sand/src/perl/repoperls/installed-perls/host/k93msid/v5.31.3-139-g238965b4f5/ea6b/lib/site_perl/5.31.4/x86_64-linux-ld/Class/MOP/Package.pm line 120
	Class::MOP::Package::create_anon("Moose::Meta::Class", "superclasses", ARRAY(0x55c4f745acb0), "roles", ARRAY(0x55c4f7020d30), "cache", 1) called at /home/sand/src/perl/repoperls/installed-perls/host/k93msid/v5.31.3-139-g238965b4f5/ea6b/lib/site_perl/5.31.4/x86_64-linux-ld/Class/MOP/Class.pm line 472
	Class::MOP::Class::create_anon_class("Moose::Meta::Class", "superclasses", ARRAY(0x55c4f745acb0), "roles", ARRAY(0x55c4f7020d30), "cache", 1) called at /home/sand/src/perl/repoperls/installed-perls/host/k93msid/v5.31.3-139-g238965b4f5/ea6b/lib/site_perl/5.31.4/x86_64-linux-ld/Moose/Util/MetaRole.pm line 108
	Moose::Util::MetaRole::_make_new_class("main", ARRAY(0x55c4f7020d30), ARRAY(0x55c4f745acb0)) called at /home/sand/src/perl/repoperls/installed-perls/host/k93msid/v5.31.3-139-g238965b4f5/ea6b/lib/site_perl/5.31.4/x86_64-linux-ld/Moose/Util/MetaRole.pm line 88
	Moose::Util::MetaRole::apply_base_class_roles("for", "main", "roles", ARRAY(0x55c4f7020d30)) called at /home/sand/.cpan/privbuild/k93msid/Net-HTTP-API-0.14-4/blib/lib/Net/HTTP/API.pm line 41
	Net::HTTP::API::init_meta("Net::HTTP::API", "for_class", "Net::HTTP::API::Role::Format", "metaclass", undef, "meta_name", "meta") called at /home/sand/src/perl/repoperls/installed-perls/host/k93msid/v5.31.3-139-g238965b4f5/ea6b/lib/site_perl/5.31.4/x86_64-linux-ld/Moose/Exporter.pm line 484
	Net::HTTP::API::import("Net::HTTP::API") called at t/00_compile.t line 4
	main::BEGIN() called at /home/sand/.cpan/privbuild/k93msid/Net-HTTP-API-0.14-4/blib/lib/Net/HTTP/API/Role/Format.pm line 0
	eval {...} called at /home/sand/.cpan/privbuild/k93msid/Net-HTTP-API-0.14-4/blib/lib/Net/HTTP/API/Role/Format.pm line 0
	eval 'package main;
BEGIN { ${^WARNING_BITS} = $args[-1] if defined $args[-1] }
#line 4 t/00_compile.t
use Net::HTTP::API @{$args[0]};
1;
' called at /home/sand/src/perl/repoperls/installed-perls/host/k93msid/v5.31.3-139-g238965b4f5/ea6b/lib/site_perl/5.31.4/Test/More.pm line 1034
	Test::More::_eval("package main;\x{a}BEGIN { \${^WARNING_BITS} = \$args[-1] if defined"..., ARRAY(0x55c4f6391160), "UUUUUUUUUUUUUUUUUUU") called at /home/sand/src/perl/repoperls/installed-perls/host/k93msid/v5.31.3-139-g238965b4f5/ea6b/lib/site_perl/5.31.4/Test/More.pm line 1009
	Test::More::use_ok("Net::HTTP::API") called at t/00_compile.t line 4
	main::BEGIN() called at /home/sand/.cpan/privbuild/k93msid/Net-HTTP-API-0.14-4/blib/lib/Net/HTTP/API/Role/Format.pm line 0
	eval {...} called at /home/sand/.cpan/privbuild/k93msid/Net-HTTP-API-0.14-4/blib/lib/Net/HTTP/API/Role/Format.pm line 0
t/00_compile.t ............ ok
Passing a list of values to enum is deprecated. Enum values should be wrapped in an arrayref. at /home/sand/src/perl/repoperls/installed-perls/host/k93msid/v5.31.3-139-g238965b4f5/ea6b/lib/site_perl/5.31.4/x86_64-linux-ld/Moose/Util/TypeConstraints.pm line 437.
	Moose::Util::TypeConstraints::enum("Method", "HEAD", "GET", "POST", "PUT", "DELETE") called at /home/sand/.cpan/privbuild/k93msid/Net-HTTP-API-0.14-4/blib/lib/Net/HTTP/API/Meta/Method.pm line 21
	require Net/HTTP/API/Meta/Method.pm called at /home/sand/.cpan/privbuild/k93msid/Net-HTTP-API-0.14-4/blib/lib/Net/HTTP/API/Meta/Method/APIMethod.pm line 10
	Net::HTTP::API::Meta::Method::APIMethod::BEGIN() called at /home/sand/.cpan/privbuild/k93msid/Net-HTTP-API-0.14-4/blib/lib/Net/HTTP/API/Meta/Method.pm line 0
	eval {...} called at /home/sand/.cpan/privbuild/k93msid/Net-HTTP-API-0.14-4/blib/lib/Net/HTTP/API/Meta/Method.pm line 0
	require Net/HTTP/API/Meta/Method/APIMethod.pm called at /home/sand/src/perl/repoperls/installed-perls/host/k93msid/v5.31.3-139-g238965b4f5/ea6b/lib/site_perl/5.31.4/Module/Runtime.pm line 314
	Module::Runtime::require_module("Net::HTTP::API::Meta::Method::APIMethod") called at /home/sand/src/perl/repoperls/installed-perls/host/k93msid/v5.31.3-139-g238965b4f5/ea6b/lib/site_perl/5.31.4/Module/Runtime.pm line 391
	eval {...} called at /home/sand/src/perl/repoperls/installed-perls/host/k93msid/v5.31.3-139-g238965b4f5/ea6b/lib/site_perl/5.31.4/Module/Runtime.pm line 391
	Module::Runtime::use_package_optimistically("Net::HTTP::API::Meta::Method::APIMethod") called at /home/sand/src/perl/repoperls/installed-perls/host/k93msid/v5.31.3-139-g238965b4f5/ea6b/lib/site_perl/5.31.4/x86_64-linux-ld/Moose/Util.pm line 351
	Moose::Util::_load_user_class("Net::HTTP::API::Meta::Method::APIMethod", undef) called at /home/sand/src/perl/repoperls/installed-perls/host/k93msid/v5.31.3-139-g238965b4f5/ea6b/lib/site_perl/5.31.4/x86_64-linux-ld/Moose/Util.pm line 146
	Moose::Util::_apply_all_roles(Moose::Meta::Role=HASH(0x559129658408), undef, "Net::HTTP::API::Meta::Method::APIMethod", "Net::HTTP::API::Meta::Method::APIDeclare") called at /home/sand/src/perl/repoperls/installed-perls/host/k93msid/v5.31.3-139-g238965b4f5/ea6b/lib/site_perl/5.31.4/x86_64-linux-ld/Moose/Util.pm line 113
	Moose::Util::apply_all_roles(Moose::Meta::Role=HASH(0x559129658408), "Net::HTTP::API::Meta::Method::APIMethod", "Net::HTTP::API::Meta::Method::APIDeclare") called at /home/sand/src/perl/repoperls/installed-perls/host/k93msid/v5.31.3-139-g238965b4f5/ea6b/lib/site_perl/5.31.4/x86_64-linux-ld/Moose/Role.pm line 25
	Moose::Role::with(Moose::Meta::Role=HASH(0x559129658408), "Net::HTTP::API::Meta::Method::APIMethod", "Net::HTTP::API::Meta::Method::APIDeclare") called at /home/sand/src/perl/repoperls/installed-perls/host/k93msid/v5.31.3-139-g238965b4f5/ea6b/lib/site_perl/5.31.4/x86_64-linux-ld/Moose/Exporter.pm line 419
	Moose::Role::with("Net::HTTP::API::Meta::Method::APIMethod", "Net::HTTP::API::Meta::Method::APIDeclare") called at /home/sand/.cpan/privbuild/k93msid/Net-HTTP-API-0.14-4/blib/lib/Net/HTTP/API/Meta/Class.pm line 10
	require Net/HTTP/API/Meta/Class.pm called at /home/sand/src/perl/repoperls/installed-perls/host/k93msid/v5.31.3-139-g238965b4f5/ea6b/lib/site_perl/5.31.4/Module/Runtime.pm line 314
	Module::Runtime::require_module("Net::HTTP::API::Meta::Class") called at /home/sand/src/perl/repoperls/installed-perls/host/k93msid/v5.31.3-139-g238965b4f5/ea6b/lib/site_perl/5.31.4/Module/Runtime.pm line 391
	eval {...} called at /home/sand/src/perl/repoperls/installed-perls/host/k93msid/v5.31.3-139-g238965b4f5/ea6b/lib/site_perl/5.31.4/Module/Runtime.pm line 391
	Module::Runtime::use_package_optimistically("Net::HTTP::API::Meta::Class") called at /home/sand/src/perl/repoperls/installed-perls/host/k93msid/v5.31.3-139-g238965b4f5/ea6b/lib/site_perl/5.31.4/x86_64-linux-ld/Moose/Util.pm line 351
	Moose::Util::_load_user_class("Net::HTTP::API::Meta::Class", undef) called at /home/sand/src/perl/repoperls/installed-perls/host/k93msid/v5.31.3-139-g238965b4f5/ea6b/lib/site_perl/5.31.4/x86_64-linux-ld/Moose/Util.pm line 146
	Moose::Util::_apply_all_roles(Moose::Meta::Class=HASH(0x5591289f0840), undef, "Net::HTTP::API::Meta::Class") called at /home/sand/src/perl/repoperls/installed-perls/host/k93msid/v5.31.3-139-g238965b4f5/ea6b/lib/site_perl/5.31.4/x86_64-linux-ld/Moose/Util.pm line 113
	Moose::Util::apply_all_roles(Moose::Meta::Class=HASH(0x5591289f0840), "Net::HTTP::API::Meta::Class") called at /home/sand/src/perl/repoperls/installed-perls/host/k93msid/v5.31.3-139-g238965b4f5/ea6b/lib/site_perl/5.31.4/x86_64-linux-ld/Moose/Meta/Class.pm line 88
	Moose::Meta::Class::create("Moose::Meta::Class", "Moose::Meta::Class::__ANON__::SERIAL::1", "weaken", "", "superclasses", ARRAY(0x5591289f03c0), "roles", ARRAY(0x5591289eaa88)) called at /home/sand/src/perl/repoperls/installed-perls/host/k93msid/v5.31.3-139-g238965b4f5/ea6b/lib/site_perl/5.31.4/x86_64-linux-ld/Class/MOP/Package.pm line 120
	Class::MOP::Package::create_anon("Moose::Meta::Class", "superclasses", ARRAY(0x5591289f03c0), "roles", ARRAY(0x5591289eaa88), "cache", 1) called at /home/sand/src/perl/repoperls/installed-perls/host/k93msid/v5.31.3-139-g238965b4f5/ea6b/lib/site_perl/5.31.4/x86_64-linux-ld/Class/MOP/Class.pm line 472
	Class::MOP::Class::create_anon_class("Moose::Meta::Class", "superclasses", ARRAY(0x5591289f03c0), "roles", ARRAY(0x5591289eaa88), "cache", 1) called at /home/sand/src/perl/repoperls/installed-perls/host/k93msid/v5.31.3-139-g238965b4f5/ea6b/lib/site_perl/5.31.4/x86_64-linux-ld/Moose/Util/MetaRole.pm line 108
	Moose::Util::MetaRole::_make_new_class("Moose::Meta::Class", ARRAY(0x5591289eaa88)) called at /home/sand/src/perl/repoperls/installed-perls/host/k93msid/v5.31.3-139-g238965b4f5/ea6b/lib/site_perl/5.31.4/x86_64-linux-ld/Moose/Util/MetaRole.pm line 53
	Moose::Util::MetaRole::_make_new_metaclass(Moose::Meta::Class=HASH(0x5591289efe68), HASH(0x5591289eaa10), "class") called at /home/sand/src/perl/repoperls/installed-perls/host/k93msid/v5.31.3-139-g238965b4f5/ea6b/lib/site_perl/5.31.4/x86_64-linux-ld/Moose/Util/MetaRole.pm line 21
	Moose::Util::MetaRole::apply_metaroles("for", "TestAPI", "class_metaroles", HASH(0x5591289eaa10)) called at /home/sand/.cpan/privbuild/k93msid/Net-HTTP-API-0.14-4/blib/lib/Net/HTTP/API.pm line 34
	Net::HTTP::API::init_meta("Net::HTTP::API", "for_class", "MooseX::Types::Moose", "metaclass", undef, "meta_name", "meta") called at /home/sand/src/perl/repoperls/installed-perls/host/k93msid/v5.31.3-139-g238965b4f5/ea6b/lib/site_perl/5.31.4/x86_64-linux-ld/Moose/Exporter.pm line 484
	Net::HTTP::API::import("Net::HTTP::API") called at t/lib/TestAPI.pm line 2
	TestAPI::BEGIN() called at /home/sand/.cpan/privbuild/k93msid/Net-HTTP-API-0.14-4/blib/lib/Net/HTTP/API/Meta/Method.pm line 0
	eval {...} called at /home/sand/.cpan/privbuild/k93msid/Net-HTTP-API-0.14-4/blib/lib/Net/HTTP/API/Meta/Method.pm line 0
	require TestAPI.pm called at t/01_basic.t line 9
	main::BEGIN() called at /home/sand/.cpan/privbuild/k93msid/Net-HTTP-API-0.14-4/blib/lib/Net/HTTP/API/Meta/Method.pm line 0
	eval {...} called at /home/sand/.cpan/privbuild/k93msid/Net-HTTP-API-0.14-4/blib/lib/Net/HTTP/API/Meta/Method.pm line 0
Passing a list of values to enum is deprecated. Enum values should be wrapped in an arrayref. at /home/sand/src/perl/repoperls/installed-perls/host/k93msid/v5.31.3-139-g238965b4f5/ea6b/lib/site_perl/5.31.4/x86_64-linux-ld/Moose/Util/TypeConstraints.pm line 437.
	Moose::Util::TypeConstraints::enum("FormatMode", "content-type", "append") called at /home/sand/.cpan/privbuild/k93msid/Net-HTTP-API-0.14-4/blib/lib/Net/HTTP/API/Role/Format.pm line 23
	require Net/HTTP/API/Role/Format.pm called at /home/sand/src/perl/repoperls/installed-perls/host/k93msid/v5.31.3-139-g238965b4f5/ea6b/lib/site_perl/5.31.4/Module/Runtime.pm line 314
	Module::Runtime::require_module("Net::HTTP::API::Role::Format") called at /home/sand/src/perl/repoperls/installed-perls/host/k93msid/v5.31.3-139-g238965b4f5/ea6b/lib/site_perl/5.31.4/Module/Runtime.pm line 391
	eval {...} called at /home/sand/src/perl/repoperls/installed-perls/host/k93msid/v5.31.3-139-g238965b4f5/ea6b/lib/site_perl/5.31.4/Module/Runtime.pm line 391
	Module::Runtime::use_package_optimistically("Net::HTTP::API::Role::Format") called at /home/sand/src/perl/repoperls/installed-perls/host/k93msid/v5.31.3-139-g238965b4f5/ea6b/lib/site_perl/5.31.4/x86_64-linux-ld/Moose/Util.pm line 351
	Moose::Util::_load_user_class("Net::HTTP::API::Role::Format", undef) called at /home/sand/src/perl/repoperls/installed-perls/host/k93msid/v5.31.3-139-g238965b4f5/ea6b/lib/site_perl/5.31.4/x86_64-linux-ld/Moose/Util.pm line 146
	Moose::Util::_apply_all_roles(Moose::Meta::Class=HASH(0x5591289f0390), undef, "Net::HTTP::API::Role::UserAgent", "Net::HTTP::API::Role::Format", "Net::HTTP::API::Role::Authentication", "Net::HTTP::API::Role::Serialization", "Net::HTTP::API::Role::Request") called at /home/sand/src/perl/repoperls/installed-perls/host/k93msid/v5.31.3-139-g238965b4f5/ea6b/lib/site_perl/5.31.4/x86_64-linux-ld/Moose/Util.pm line 113
	Moose::Util::apply_all_roles(Moose::Meta::Class=HASH(0x5591289f0390), "Net::HTTP::API::Role::UserAgent", "Net::HTTP::API::Role::Format", "Net::HTTP::API::Role::Authentication", "Net::HTTP::API::Role::Serialization", "Net::HTTP::API::Role::Request") called at /home/sand/src/perl/repoperls/installed-perls/host/k93msid/v5.31.3-139-g238965b4f5/ea6b/lib/site_perl/5.31.4/x86_64-linux-ld/Moose/Meta/Class.pm line 88
	Moose::Meta::Class::create("Moose::Meta::Class", "Moose::Meta::Class::__ANON__::SERIAL::10", "roles", ARRAY(0x559129623e80), "superclasses", ARRAY(0x559129a2cae0), "weaken", "") called at /home/sand/src/perl/repoperls/installed-perls/host/k93msid/v5.31.3-139-g238965b4f5/ea6b/lib/site_perl/5.31.4/x86_64-linux-ld/Class/MOP/Package.pm line 120
	Class::MOP::Package::create_anon("Moose::Meta::Class", "superclasses", ARRAY(0x559129a2cae0), "roles", ARRAY(0x559129623e80), "cache", 1) called at /home/sand/src/perl/repoperls/installed-perls/host/k93msid/v5.31.3-139-g238965b4f5/ea6b/lib/site_perl/5.31.4/x86_64-linux-ld/Class/MOP/Class.pm line 472
	Class::MOP::Class::create_anon_class("Moose::Meta::Class", "superclasses", ARRAY(0x559129a2cae0), "roles", ARRAY(0x559129623e80), "cache", 1) called at /home/sand/src/perl/repoperls/installed-perls/host/k93msid/v5.31.3-139-g238965b4f5/ea6b/lib/site_perl/5.31.4/x86_64-linux-ld/Moose/Util/MetaRole.pm line 108
	Moose::Util::MetaRole::_make_new_class("TestAPI", ARRAY(0x559129623e80), ARRAY(0x559129a2cae0)) called at /home/sand/src/perl/repoperls/installed-perls/host/k93msid/v5.31.3-139-g238965b4f5/ea6b/lib/site_perl/5.31.4/x86_64-linux-ld/Moose/Util/MetaRole.pm line 88
	Moose::Util::MetaRole::apply_base_class_roles("for", "TestAPI", "roles", ARRAY(0x559129623e80)) called at /home/sand/.cpan/privbuild/k93msid/Net-HTTP-API-0.14-4/blib/lib/Net/HTTP/API.pm line 41
	Net::HTTP::API::init_meta("Net::HTTP::API", "for_class", "Net::HTTP::API::Role::Format", "metaclass", undef, "meta_name", "meta") called at /home/sand/src/perl/repoperls/installed-perls/host/k93msid/v5.31.3-139-g238965b4f5/ea6b/lib/site_perl/5.31.4/x86_64-linux-ld/Moose/Exporter.pm line 484
	Net::HTTP::API::import("Net::HTTP::API") called at t/lib/TestAPI.pm line 2
	TestAPI::BEGIN() called at /home/sand/.cpan/privbuild/k93msid/Net-HTTP-API-0.14-4/blib/lib/Net/HTTP/API/Role/Format.pm line 0
	eval {...} called at /home/sand/.cpan/privbuild/k93msid/Net-HTTP-API-0.14-4/blib/lib/Net/HTTP/API/Role/Format.pm line 0
	require TestAPI.pm called at t/01_basic.t line 9
	main::BEGIN() called at /home/sand/.cpan/privbuild/k93msid/Net-HTTP-API-0.14-4/blib/lib/Net/HTTP/API/Role/Format.pm line 0
	eval {...} called at /home/sand/.cpan/privbuild/k93msid/Net-HTTP-API-0.14-4/blib/lib/Net/HTTP/API/Role/Format.pm line 0
Class::MOP::load_class is deprecated at /home/sand/src/perl/repoperls/installed-perls/host/k93msid/v5.31.3-139-g238965b4f5/ea6b/lib/site_perl/5.31.4/x86_64-linux-ld/Class/MOP.pm line 69.
	Class::MOP::load_class("Net::HTTP::API::Parser::JSON") called at /home/sand/.cpan/privbuild/k93msid/Net-HTTP-API-0.14-4/blib/lib/Net/HTTP/API/Role/Serialization.pm line 74
	Net::HTTP::API::Role::Serialization::_load_serializer(TestAPI=HASH(0x559128303c40), "json") called at /home/sand/.cpan/privbuild/k93msid/Net-HTTP-API-0.14-4/blib/lib/Net/HTTP/API/Role/Serialization.pm line 53
	Net::HTTP::API::Role::Serialization::deserialize(TestAPI=HASH(0x559128303c40), "[{\"name\":\"eris\"}]", ARRAY(0x559129d46fa8)) called at /home/sand/.cpan/privbuild/k93msid/Net-HTTP-API-0.14-4/blib/lib/Net/HTTP/API/Role/Serialization.pm line 37
	Net::HTTP::API::Role::Serialization::get_content(TestAPI=HASH(0x559128303c40), HTTP::Response=HASH(0x55912a4a0238)) called at /home/sand/.cpan/privbuild/k93msid/Net-HTTP-API-0.14-4/blib/lib/Net/HTTP/API/Meta/Method.pm line 134
	TestAPI::users(TestAPI=HASH(0x559128303c40)) called at /home/sand/src/perl/repoperls/installed-perls/host/k93msid/v5.31.3-139-g238965b4f5/ea6b/lib/site_perl/5.31.4/x86_64-linux-ld/Class/MOP/Method/Wrapped.pm line 44
	TestAPI::_wrapped_users(TestAPI=HASH(0x559128303c40)) called at /home/sand/src/perl/repoperls/installed-perls/host/k93msid/v5.31.3-139-g238965b4f5/ea6b/lib/site_perl/5.31.4/x86_64-linux-ld/Class/MOP/Method/Wrapped.pm line 95
	TestAPI::users(TestAPI=HASH(0x559128303c40)) called at t/01_basic.t line 29
t/01_basic.t .............. ok
Passing a list of values to enum is deprecated. Enum values should be wrapped in an arrayref. at /home/sand/src/perl/repoperls/installed-perls/host/k93msid/v5.31.3-139-g238965b4f5/ea6b/lib/site_perl/5.31.4/x86_64-linux-ld/Moose/Util/TypeConstraints.pm line 437.
	Moose::Util::TypeConstraints::enum("Method", "HEAD", "GET", "POST", "PUT", "DELETE") called at /home/sand/.cpan/privbuild/k93msid/Net-HTTP-API-0.14-4/blib/lib/Net/HTTP/API/Meta/Method.pm line 21
	require Net/HTTP/API/Meta/Method.pm called at /home/sand/.cpan/privbuild/k93msid/Net-HTTP-API-0.14-4/blib/lib/Net/HTTP/API/Meta/Method/APIMethod.pm line 10
	Net::HTTP::API::Meta::Method::APIMethod::BEGIN() called at /home/sand/.cpan/privbuild/k93msid/Net-HTTP-API-0.14-4/blib/lib/Net/HTTP/API/Meta/Method.pm line 0
	eval {...} called at /home/sand/.cpan/privbuild/k93msid/Net-HTTP-API-0.14-4/blib/lib/Net/HTTP/API/Meta/Method.pm line 0
	require Net/HTTP/API/Meta/Method/APIMethod.pm called at /home/sand/src/perl/repoperls/installed-perls/host/k93msid/v5.31.3-139-g238965b4f5/ea6b/lib/site_perl/5.31.4/Module/Runtime.pm line 314
	Module::Runtime::require_module("Net::HTTP::API::Meta::Method::APIMethod") called at /home/sand/src/perl/repoperls/installed-perls/host/k93msid/v5.31.3-139-g238965b4f5/ea6b/lib/site_perl/5.31.4/Module/Runtime.pm line 391
	eval {...} called at /home/sand/src/perl/repoperls/installed-perls/host/k93msid/v5.31.3-139-g238965b4f5/ea6b/lib/site_perl/5.31.4/Module/Runtime.pm line 391
	Module::Runtime::use_package_optimistically("Net::HTTP::API::Meta::Method::APIMethod") called at /home/sand/src/perl/repoperls/installed-perls/host/k93msid/v5.31.3-139-g238965b4f5/ea6b/lib/site_perl/5.31.4/x86_64-linux-ld/Moose/Util.pm line 351
	Moose::Util::_load_user_class("Net::HTTP::API::Meta::Method::APIMethod", undef) called at /home/sand/src/perl/repoperls/installed-perls/host/k93msid/v5.31.3-139-g238965b4f5/ea6b/lib/site_perl/5.31.4/x86_64-linux-ld/Moose/Util.pm line 146
	Moose::Util::_apply_all_roles(Moose::Meta::Role=HASH(0x55a1d87f6db0), undef, "Net::HTTP::API::Meta::Method::APIMethod", "Net::HTTP::API::Meta::Method::APIDeclare") called at /home/sand/src/perl/repoperls/installed-perls/host/k93msid/v5.31.3-139-g238965b4f5/ea6b/lib/site_perl/5.31.4/x86_64-linux-ld/Moose/Util.pm line 113
	Moose::Util::apply_all_roles(Moose::Meta::Role=HASH(0x55a1d87f6db0), "Net::HTTP::API::Meta::Method::APIMethod", "Net::HTTP::API::Meta::Method::APIDeclare") called at /home/sand/src/perl/repoperls/installed-perls/host/k93msid/v5.31.3-139-g238965b4f5/ea6b/lib/site_perl/5.31.4/x86_64-linux-ld/Moose/Role.pm line 25
	Moose::Role::with(Moose::Meta::Role=HASH(0x55a1d87f6db0), "Net::HTTP::API::Meta::Method::APIMethod", "Net::HTTP::API::Meta::Method::APIDeclare") called at /home/sand/src/perl/repoperls/installed-perls/host/k93msid/v5.31.3-139-g238965b4f5/ea6b/lib/site_perl/5.31.4/x86_64-linux-ld/Moose/Exporter.pm line 419
	Moose::Role::with("Net::HTTP::API::Meta::Method::APIMethod", "Net::HTTP::API::Meta::Method::APIDeclare") called at /home/sand/.cpan/privbuild/k93msid/Net-HTTP-API-0.14-4/blib/lib/Net/HTTP/API/Meta/Class.pm line 10
	require Net/HTTP/API/Meta/Class.pm called at /home/sand/src/perl/repoperls/installed-perls/host/k93msid/v5.31.3-139-g238965b4f5/ea6b/lib/site_perl/5.31.4/Module/Runtime.pm line 314
	Module::Runtime::require_module("Net::HTTP::API::Meta::Class") called at /home/sand/src/perl/repoperls/installed-perls/host/k93msid/v5.31.3-139-g238965b4f5/ea6b/lib/site_perl/5.31.4/Module/Runtime.pm line 391
	eval {...} called at /home/sand/src/perl/repoperls/installed-perls/host/k93msid/v5.31.3-139-g238965b4f5/ea6b/lib/site_perl/5.31.4/Module/Runtime.pm line 391
	Module::Runtime::use_package_optimistically("Net::HTTP::API::Meta::Class") called at /home/sand/src/perl/repoperls/installed-perls/host/k93msid/v5.31.3-139-g238965b4f5/ea6b/lib/site_perl/5.31.4/x86_64-linux-ld/Moose/Util.pm line 351
	Moose::Util::_load_user_class("Net::HTTP::API::Meta::Class", undef) called at /home/sand/src/perl/repoperls/installed-perls/host/k93msid/v5.31.3-139-g238965b4f5/ea6b/lib/site_perl/5.31.4/x86_64-linux-ld/Moose/Util.pm line 146
	Moose::Util::_apply_all_roles(Moose::Meta::Class=HASH(0x55a1d7b24358), undef, "Net::HTTP::API::Meta::Class") called at /home/sand/src/perl/repoperls/installed-perls/host/k93msid/v5.31.3-139-g238965b4f5/ea6b/lib/site_perl/5.31.4/x86_64-linux-ld/Moose/Util.pm line 113
	Moose::Util::apply_all_roles(Moose::Meta::Class=HASH(0x55a1d7b24358), "Net::HTTP::API::Meta::Class") called at /home/sand/src/perl/repoperls/installed-perls/host/k93msid/v5.31.3-139-g238965b4f5/ea6b/lib/site_perl/5.31.4/x86_64-linux-ld/Moose/Meta/Class.pm line 88
	Moose::Meta::Class::create("Moose::Meta::Class", "Moose::Meta::Class::__ANON__::SERIAL::1", "roles", ARRAY(0x55a1d866ea30), "weaken", "", "superclasses", ARRAY(0x55a1d87ccac0)) called at /home/sand/src/perl/repoperls/installed-perls/host/k93msid/v5.31.3-139-g238965b4f5/ea6b/lib/site_perl/5.31.4/x86_64-linux-ld/Class/MOP/Package.pm line 120
	Class::MOP::Package::create_anon("Moose::Meta::Class", "superclasses", ARRAY(0x55a1d87ccac0), "roles", ARRAY(0x55a1d866ea30), "cache", 1) called at /home/sand/src/perl/repoperls/installed-perls/host/k93msid/v5.31.3-139-g238965b4f5/ea6b/lib/site_perl/5.31.4/x86_64-linux-ld/Class/MOP/Class.pm line 472
	Class::MOP::Class::create_anon_class("Moose::Meta::Class", "superclasses", ARRAY(0x55a1d87ccac0), "roles", ARRAY(0x55a1d866ea30), "cache", 1) called at /home/sand/src/perl/repoperls/installed-perls/host/k93msid/v5.31.3-139-g238965b4f5/ea6b/lib/site_perl/5.31.4/x86_64-linux-ld/Moose/Util/MetaRole.pm line 108
	Moose::Util::MetaRole::_make_new_class("Moose::Meta::Class", ARRAY(0x55a1d866ea30)) called at /home/sand/src/perl/repoperls/installed-perls/host/k93msid/v5.31.3-139-g238965b4f5/ea6b/lib/site_perl/5.31.4/x86_64-linux-ld/Moose/Util/MetaRole.pm line 53
	Moose::Util::MetaRole::_make_new_metaclass(Moose::Meta::Class=HASH(0x55a1d87cc550), HASH(0x55a1d87bce68), "class") called at /home/sand/src/perl/repoperls/installed-perls/host/k93msid/v5.31.3-139-g238965b4f5/ea6b/lib/site_perl/5.31.4/x86_64-linux-ld/Moose/Util/MetaRole.pm line 21
	Moose::Util::MetaRole::apply_metaroles("for", "test::api::missing_api_base_url", "class_metaroles", HASH(0x55a1d87bce68)) called at /home/sand/.cpan/privbuild/k93msid/Net-HTTP-API-0.14-4/blib/lib/Net/HTTP/API.pm line 34
	Net::HTTP::API::init_meta("Net::HTTP::API", "for_class", "MooseX::Types::Moose", "metaclass", undef, "meta_name", "meta") called at /home/sand/src/perl/repoperls/installed-perls/host/k93msid/v5.31.3-139-g238965b4f5/ea6b/lib/site_perl/5.31.4/x86_64-linux-ld/Moose/Exporter.pm line 484
	Net::HTTP::API::import("Net::HTTP::API") called at t/02_error.t line 7
	test::api::missing_api_base_url::BEGIN() called at /home/sand/.cpan/privbuild/k93msid/Net-HTTP-API-0.14-4/blib/lib/Net/HTTP/API/Meta/Method.pm line 0
	eval {...} called at /home/sand/.cpan/privbuild/k93msid/Net-HTTP-API-0.14-4/blib/lib/Net/HTTP/API/Meta/Method.pm line 0
Passing a list of values to enum is deprecated. Enum values should be wrapped in an arrayref. at /home/sand/src/perl/repoperls/installed-perls/host/k93msid/v5.31.3-139-g238965b4f5/ea6b/lib/site_perl/5.31.4/x86_64-linux-ld/Moose/Util/TypeConstraints.pm line 437.
	Moose::Util::TypeConstraints::enum("FormatMode", "content-type", "append") called at /home/sand/.cpan/privbuild/k93msid/Net-HTTP-API-0.14-4/blib/lib/Net/HTTP/API/Role/Format.pm line 23
	require Net/HTTP/API/Role/Format.pm called at /home/sand/src/perl/repoperls/installed-perls/host/k93msid/v5.31.3-139-g238965b4f5/ea6b/lib/site_perl/5.31.4/Module/Runtime.pm line 314
	Module::Runtime::require_module("Net::HTTP::API::Role::Format") called at /home/sand/src/perl/repoperls/installed-perls/host/k93msid/v5.31.3-139-g238965b4f5/ea6b/lib/site_perl/5.31.4/Module/Runtime.pm line 391
	eval {...} called at /home/sand/src/perl/repoperls/installed-perls/host/k93msid/v5.31.3-139-g238965b4f5/ea6b/lib/site_perl/5.31.4/Module/Runtime.pm line 391
	Module::Runtime::use_package_optimistically("Net::HTTP::API::Role::Format") called at /home/sand/src/perl/repoperls/installed-perls/host/k93msid/v5.31.3-139-g238965b4f5/ea6b/lib/site_perl/5.31.4/x86_64-linux-ld/Moose/Util.pm line 351
	Moose::Util::_load_user_class("Net::HTTP::API::Role::Format", undef) called at /home/sand/src/perl/repoperls/installed-perls/host/k93msid/v5.31.3-139-g238965b4f5/ea6b/lib/site_perl/5.31.4/x86_64-linux-ld/Moose/Util.pm line 146
	Moose::Util::_apply_all_roles(Moose::Meta::Class=HASH(0x55a1d7b243a0), undef, "Net::HTTP::API::Role::UserAgent", "Net::HTTP::API::Role::Format", "Net::HTTP::API::Role::Authentication", "Net::HTTP::API::Role::Serialization", "Net::HTTP::API::Role::Request") called at /home/sand/src/perl/repoperls/installed-perls/host/k93msid/v5.31.3-139-g238965b4f5/ea6b/lib/site_perl/5.31.4/x86_64-linux-ld/Moose/Util.pm line 113
	Moose::Util::apply_all_roles(Moose::Meta::Class=HASH(0x55a1d7b243a0), "Net::HTTP::API::Role::UserAgent", "Net::HTTP::API::Role::Format", "Net::HTTP::API::Role::Authentication", "Net::HTTP::API::Role::Serialization", "Net::HTTP::API::Role::Request") called at /home/sand/src/perl/repoperls/installed-perls/host/k93msid/v5.31.3-139-g238965b4f5/ea6b/lib/site_perl/5.31.4/x86_64-linux-ld/Moose/Meta/Class.pm line 88
	Moose::Meta::Class::create("Moose::Meta::Class", "Moose::Meta::Class::__ANON__::SERIAL::10", "superclasses", ARRAY(0x55a1d8bd6350), "roles", ARRAY(0x55a1d87bceb0), "weaken", "") called at /home/sand/src/perl/repoperls/installed-perls/host/k93msid/v5.31.3-139-g238965b4f5/ea6b/lib/site_perl/5.31.4/x86_64-linux-ld/Class/MOP/Package.pm line 120
	Class::MOP::Package::create_anon("Moose::Meta::Class", "superclasses", ARRAY(0x55a1d8bd6350), "roles", ARRAY(0x55a1d87bceb0), "cache", 1) called at /home/sand/src/perl/repoperls/installed-perls/host/k93msid/v5.31.3-139-g238965b4f5/ea6b/lib/site_perl/5.31.4/x86_64-linux-ld/Class/MOP/Class.pm line 472
	Class::MOP::Class::create_anon_class("Moose::Meta::Class", "superclasses", ARRAY(0x55a1d8bd6350), "roles", ARRAY(0x55a1d87bceb0), "cache", 1) called at /home/sand/src/perl/repoperls/installed-perls/host/k93msid/v5.31.3-139-g238965b4f5/ea6b/lib/site_perl/5.31.4/x86_64-linux-ld/Moose/Util/MetaRole.pm line 108
	Moose::Util::MetaRole::_make_new_class("test::api::missing_api_base_url", ARRAY(0x55a1d87bceb0), ARRAY(0x55a1d8bd6350)) called at /home/sand/src/perl/repoperls/installed-perls/host/k93msid/v5.31.3-139-g238965b4f5/ea6b/lib/site_perl/5.31.4/x86_64-linux-ld/Moose/Util/MetaRole.pm line 88
	Moose::Util::MetaRole::apply_base_class_roles("for", "test::api::missing_api_base_url", "roles", ARRAY(0x55a1d87bceb0)) called at /home/sand/.cpan/privbuild/k93msid/Net-HTTP-API-0.14-4/blib/lib/Net/HTTP/API.pm line 41
	Net::HTTP::API::init_meta("Net::HTTP::API", "for_class", "Net::HTTP::API::Role::Format", "metaclass", undef, "meta_name", "meta") called at /home/sand/src/perl/repoperls/installed-perls/host/k93msid/v5.31.3-139-g238965b4f5/ea6b/lib/site_perl/5.31.4/x86_64-linux-ld/Moose/Exporter.pm line 484
	Net::HTTP::API::import("Net::HTTP::API") called at t/02_error.t line 7
	test::api::missing_api_base_url::BEGIN() called at /home/sand/.cpan/privbuild/k93msid/Net-HTTP-API-0.14-4/blib/lib/Net/HTTP/API/Role/Format.pm line 0
	eval {...} called at /home/sand/.cpan/privbuild/k93msid/Net-HTTP-API-0.14-4/blib/lib/Net/HTTP/API/Role/Format.pm line 0
t/02_error.t .............. ok
t/03_serialization.t ...... ok
Passing a list of values to enum is deprecated. Enum values should be wrapped in an arrayref. at /home/sand/src/perl/repoperls/installed-perls/host/k93msid/v5.31.3-139-g238965b4f5/ea6b/lib/site_perl/5.31.4/x86_64-linux-ld/Moose/Util/TypeConstraints.pm line 437.
	Moose::Util::TypeConstraints::enum("Method", "HEAD", "GET", "POST", "PUT", "DELETE") called at /home/sand/.cpan/privbuild/k93msid/Net-HTTP-API-0.14-4/blib/lib/Net/HTTP/API/Meta/Method.pm line 21
	require Net/HTTP/API/Meta/Method.pm called at t/04_apimethod.t line 5
	main::BEGIN() called at /home/sand/.cpan/privbuild/k93msid/Net-HTTP-API-0.14-4/blib/lib/Net/HTTP/API/Meta/Method.pm line 0
	eval {...} called at /home/sand/.cpan/privbuild/k93msid/Net-HTTP-API-0.14-4/blib/lib/Net/HTTP/API/Meta/Method.pm line 0
t/04_apimethod.t .......... ok
Passing a list of values to enum is deprecated. Enum values should be wrapped in an arrayref. at /home/sand/src/perl/repoperls/installed-perls/host/k93msid/v5.31.3-139-g238965b4f5/ea6b/lib/site_perl/5.31.4/x86_64-linux-ld/Moose/Util/TypeConstraints.pm line 437.
	Moose::Util::TypeConstraints::enum("Method", "HEAD", "GET", "POST", "PUT", "DELETE") called at /home/sand/.cpan/privbuild/k93msid/Net-HTTP-API-0.14-4/blib/lib/Net/HTTP/API/Meta/Method.pm line 21
	require Net/HTTP/API/Meta/Method.pm called at /home/sand/.cpan/privbuild/k93msid/Net-HTTP-API-0.14-4/blib/lib/Net/HTTP/API/Meta/Method/APIMethod.pm line 10
	Net::HTTP::API::Meta::Method::APIMethod::BEGIN() called at /home/sand/.cpan/privbuild/k93msid/Net-HTTP-API-0.14-4/blib/lib/Net/HTTP/API/Meta/Method.pm line 0
	eval {...} called at /home/sand/.cpan/privbuild/k93msid/Net-HTTP-API-0.14-4/blib/lib/Net/HTTP/API/Meta/Method.pm line 0
	require Net/HTTP/API/Meta/Method/APIMethod.pm called at /home/sand/src/perl/repoperls/installed-perls/host/k93msid/v5.31.3-139-g238965b4f5/ea6b/lib/site_perl/5.31.4/Module/Runtime.pm line 314
	Module::Runtime::require_module("Net::HTTP::API::Meta::Method::APIMethod") called at /home/sand/src/perl/repoperls/installed-perls/host/k93msid/v5.31.3-139-g238965b4f5/ea6b/lib/site_perl/5.31.4/Module/Runtime.pm line 391
	eval {...} called at /home/sand/src/perl/repoperls/installed-perls/host/k93msid/v5.31.3-139-g238965b4f5/ea6b/lib/site_perl/5.31.4/Module/Runtime.pm line 391
	Module::Runtime::use_package_optimistically("Net::HTTP::API::Meta::Method::APIMethod") called at /home/sand/src/perl/repoperls/installed-perls/host/k93msid/v5.31.3-139-g238965b4f5/ea6b/lib/site_perl/5.31.4/x86_64-linux-ld/Moose/Util.pm line 351
	Moose::Util::_load_user_class("Net::HTTP::API::Meta::Method::APIMethod", undef) called at /home/sand/src/perl/repoperls/installed-perls/host/k93msid/v5.31.3-139-g238965b4f5/ea6b/lib/site_perl/5.31.4/x86_64-linux-ld/Moose/Util.pm line 146
	Moose::Util::_apply_all_roles(Moose::Meta::Role=HASH(0x55cbc9a072e0), undef, "Net::HTTP::API::Meta::Method::APIMethod", "Net::HTTP::API::Meta::Method::APIDeclare") called at /home/sand/src/perl/repoperls/installed-perls/host/k93msid/v5.31.3-139-g238965b4f5/ea6b/lib/site_perl/5.31.4/x86_64-linux-ld/Moose/Util.pm line 113
	Moose::Util::apply_all_roles(Moose::Meta::Role=HASH(0x55cbc9a072e0), "Net::HTTP::API::Meta::Method::APIMethod", "Net::HTTP::API::Meta::Method::APIDeclare") called at /home/sand/src/perl/repoperls/installed-perls/host/k93msid/v5.31.3-139-g238965b4f5/ea6b/lib/site_perl/5.31.4/x86_64-linux-ld/Moose/Role.pm line 25
	Moose::Role::with(Moose::Meta::Role=HASH(0x55cbc9a072e0), "Net::HTTP::API::Meta::Method::APIMethod", "Net::HTTP::API::Meta::Method::APIDeclare") called at /home/sand/src/perl/repoperls/installed-perls/host/k93msid/v5.31.3-139-g238965b4f5/ea6b/lib/site_perl/5.31.4/x86_64-linux-ld/Moose/Exporter.pm line 419
	Moose::Role::with("Net::HTTP::API::Meta::Method::APIMethod", "Net::HTTP::API::Meta::Method::APIDeclare") called at /home/sand/.cpan/privbuild/k93msid/Net-HTTP-API-0.14-4/blib/lib/Net/HTTP/API/Meta/Class.pm line 10
	require Net/HTTP/API/Meta/Class.pm called at /home/sand/src/perl/repoperls/installed-perls/host/k93msid/v5.31.3-139-g238965b4f5/ea6b/lib/site_perl/5.31.4/Module/Runtime.pm line 314
	Module::Runtime::require_module("Net::HTTP::API::Meta::Class") called at /home/sand/src/perl/repoperls/installed-perls/host/k93msid/v5.31.3-139-g238965b4f5/ea6b/lib/site_perl/5.31.4/Module/Runtime.pm line 391
	eval {...} called at /home/sand/src/perl/repoperls/installed-perls/host/k93msid/v5.31.3-139-g238965b4f5/ea6b/lib/site_perl/5.31.4/Module/Runtime.pm line 391
	Module::Runtime::use_package_optimistically("Net::HTTP::API::Meta::Class") called at /home/sand/src/perl/repoperls/installed-perls/host/k93msid/v5.31.3-139-g238965b4f5/ea6b/lib/site_perl/5.31.4/x86_64-linux-ld/Moose/Util.pm line 351
	Moose::Util::_load_user_class("Net::HTTP::API::Meta::Class", undef) called at /home/sand/src/perl/repoperls/installed-perls/host/k93msid/v5.31.3-139-g238965b4f5/ea6b/lib/site_perl/5.31.4/x86_64-linux-ld/Moose/Util.pm line 146
	Moose::Util::_apply_all_roles(Moose::Meta::Class=HASH(0x55cbc8d7fef8), undef, "Net::HTTP::API::Meta::Class") called at /home/sand/src/perl/repoperls/installed-perls/host/k93msid/v5.31.3-139-g238965b4f5/ea6b/lib/site_perl/5.31.4/x86_64-linux-ld/Moose/Util.pm line 113
	Moose::Util::apply_all_roles(Moose::Meta::Class=HASH(0x55cbc8d7fef8), "Net::HTTP::API::Meta::Class") called at /home/sand/src/perl/repoperls/installed-perls/host/k93msid/v5.31.3-139-g238965b4f5/ea6b/lib/site_perl/5.31.4/x86_64-linux-ld/Moose/Meta/Class.pm line 88
	Moose::Meta::Class::create("Moose::Meta::Class", "Moose::Meta::Class::__ANON__::SERIAL::1", "superclasses", ARRAY(0x55cbc99db390), "roles", ARRAY(0x55cbc876af70), "weaken", "") called at /home/sand/src/perl/repoperls/installed-perls/host/k93msid/v5.31.3-139-g238965b4f5/ea6b/lib/site_perl/5.31.4/x86_64-linux-ld/Class/MOP/Package.pm line 120
	Class::MOP::Package::create_anon("Moose::Meta::Class", "superclasses", ARRAY(0x55cbc99db390), "roles", ARRAY(0x55cbc876af70), "cache", 1) called at /home/sand/src/perl/repoperls/installed-perls/host/k93msid/v5.31.3-139-g238965b4f5/ea6b/lib/site_perl/5.31.4/x86_64-linux-ld/Class/MOP/Class.pm line 472
	Class::MOP::Class::create_anon_class("Moose::Meta::Class", "superclasses", ARRAY(0x55cbc99db390), "roles", ARRAY(0x55cbc876af70), "cache", 1) called at /home/sand/src/perl/repoperls/installed-perls/host/k93msid/v5.31.3-139-g238965b4f5/ea6b/lib/site_perl/5.31.4/x86_64-linux-ld/Moose/Util/MetaRole.pm line 108
	Moose::Util::MetaRole::_make_new_class("Moose::Meta::Class", ARRAY(0x55cbc876af70)) called at /home/sand/src/perl/repoperls/installed-perls/host/k93msid/v5.31.3-139-g238965b4f5/ea6b/lib/site_perl/5.31.4/x86_64-linux-ld/Moose/Util/MetaRole.pm line 53
	Moose::Util::MetaRole::_make_new_metaclass(Moose::Meta::Class=HASH(0x55cbc99dae08), HASH(0x55cbc99cb1c0), "class") called at /home/sand/src/perl/repoperls/installed-perls/host/k93msid/v5.31.3-139-g238965b4f5/ea6b/lib/site_perl/5.31.4/x86_64-linux-ld/Moose/Util/MetaRole.pm line 21
	Moose::Util::MetaRole::apply_metaroles("for", "test::auth", "class_metaroles", HASH(0x55cbc99cb1c0)) called at /home/sand/.cpan/privbuild/k93msid/Net-HTTP-API-0.14-4/blib/lib/Net/HTTP/API.pm line 34
	Net::HTTP::API::init_meta("Net::HTTP::API", "for_class", "MooseX::Types::Moose", "metaclass", undef, "meta_name", "meta") called at /home/sand/src/perl/repoperls/installed-perls/host/k93msid/v5.31.3-139-g238965b4f5/ea6b/lib/site_perl/5.31.4/x86_64-linux-ld/Moose/Exporter.pm line 484
	Net::HTTP::API::import("Net::HTTP::API") called at t/05_authentication.t line 6
	test::auth::BEGIN() called at /home/sand/.cpan/privbuild/k93msid/Net-HTTP-API-0.14-4/blib/lib/Net/HTTP/API/Meta/Method.pm line 0
	eval {...} called at /home/sand/.cpan/privbuild/k93msid/Net-HTTP-API-0.14-4/blib/lib/Net/HTTP/API/Meta/Method.pm line 0
Passing a list of values to enum is deprecated. Enum values should be wrapped in an arrayref. at /home/sand/src/perl/repoperls/installed-perls/host/k93msid/v5.31.3-139-g238965b4f5/ea6b/lib/site_perl/5.31.4/x86_64-linux-ld/Moose/Util/TypeConstraints.pm line 437.
	Moose::Util::TypeConstraints::enum("FormatMode", "content-type", "append") called at /home/sand/.cpan/privbuild/k93msid/Net-HTTP-API-0.14-4/blib/lib/Net/HTTP/API/Role/Format.pm line 23
	require Net/HTTP/API/Role/Format.pm called at /home/sand/src/perl/repoperls/installed-perls/host/k93msid/v5.31.3-139-g238965b4f5/ea6b/lib/site_perl/5.31.4/Module/Runtime.pm line 314
	Module::Runtime::require_module("Net::HTTP::API::Role::Format") called at /home/sand/src/perl/repoperls/installed-perls/host/k93msid/v5.31.3-139-g238965b4f5/ea6b/lib/site_perl/5.31.4/Module/Runtime.pm line 391
	eval {...} called at /home/sand/src/perl/repoperls/installed-perls/host/k93msid/v5.31.3-139-g238965b4f5/ea6b/lib/site_perl/5.31.4/Module/Runtime.pm line 391
	Module::Runtime::use_package_optimistically("Net::HTTP::API::Role::Format") called at /home/sand/src/perl/repoperls/installed-perls/host/k93msid/v5.31.3-139-g238965b4f5/ea6b/lib/site_perl/5.31.4/x86_64-linux-ld/Moose/Util.pm line 351
	Moose::Util::_load_user_class("Net::HTTP::API::Role::Format", undef) called at /home/sand/src/perl/repoperls/installed-perls/host/k93msid/v5.31.3-139-g238965b4f5/ea6b/lib/site_perl/5.31.4/x86_64-linux-ld/Moose/Util.pm line 146
	Moose::Util::_apply_all_roles(Moose::Meta::Class=HASH(0x55cbc9d6f518), undef, "Net::HTTP::API::Role::UserAgent", "Net::HTTP::API::Role::Format", "Net::HTTP::API::Role::Authentication", "Net::HTTP::API::Role::Serialization", "Net::HTTP::API::Role::Request") called at /home/sand/src/perl/repoperls/installed-perls/host/k93msid/v5.31.3-139-g238965b4f5/ea6b/lib/site_perl/5.31.4/x86_64-linux-ld/Moose/Util.pm line 113
	Moose::Util::apply_all_roles(Moose::Meta::Class=HASH(0x55cbc9d6f518), "Net::HTTP::API::Role::UserAgent", "Net::HTTP::API::Role::Format", "Net::HTTP::API::Role::Authentication", "Net::HTTP::API::Role::Serialization", "Net::HTTP::API::Role::Request") called at /home/sand/src/perl/repoperls/installed-perls/host/k93msid/v5.31.3-139-g238965b4f5/ea6b/lib/site_perl/5.31.4/x86_64-linux-ld/Moose/Meta/Class.pm line 88
	Moose::Meta::Class::create("Moose::Meta::Class", "Moose::Meta::Class::__ANON__::SERIAL::10", "weaken", "", "superclasses", ARRAY(0x55cbc9dff900), "roles", ARRAY(0x55cbc99d35e0)) called at /home/sand/src/perl/repoperls/installed-perls/host/k93msid/v5.31.3-139-g238965b4f5/ea6b/lib/site_perl/5.31.4/x86_64-linux-ld/Class/MOP/Package.pm line 120
	Class::MOP::Package::create_anon("Moose::Meta::Class", "superclasses", ARRAY(0x55cbc9dff900), "roles", ARRAY(0x55cbc99d35e0), "cache", 1) called at /home/sand/src/perl/repoperls/installed-perls/host/k93msid/v5.31.3-139-g238965b4f5/ea6b/lib/site_perl/5.31.4/x86_64-linux-ld/Class/MOP/Class.pm line 472
	Class::MOP::Class::create_anon_class("Moose::Meta::Class", "superclasses", ARRAY(0x55cbc9dff900), "roles", ARRAY(0x55cbc99d35e0), "cache", 1) called at /home/sand/src/perl/repoperls/installed-perls/host/k93msid/v5.31.3-139-g238965b4f5/ea6b/lib/site_perl/5.31.4/x86_64-linux-ld/Moose/Util/MetaRole.pm line 108
	Moose::Util::MetaRole::_make_new_class("test::auth", ARRAY(0x55cbc99d35e0), ARRAY(0x55cbc9dff900)) called at /home/sand/src/perl/repoperls/installed-perls/host/k93msid/v5.31.3-139-g238965b4f5/ea6b/lib/site_perl/5.31.4/x86_64-linux-ld/Moose/Util/MetaRole.pm line 88
	Moose::Util::MetaRole::apply_base_class_roles("for", "test::auth", "roles", ARRAY(0x55cbc99d35e0)) called at /home/sand/.cpan/privbuild/k93msid/Net-HTTP-API-0.14-4/blib/lib/Net/HTTP/API.pm line 41
	Net::HTTP::API::init_meta("Net::HTTP::API", "for_class", "Net::HTTP::API::Role::Format", "metaclass", undef, "meta_name", "meta") called at /home/sand/src/perl/repoperls/installed-perls/host/k93msid/v5.31.3-139-g238965b4f5/ea6b/lib/site_perl/5.31.4/x86_64-linux-ld/Moose/Exporter.pm line 484
	Net::HTTP::API::import("Net::HTTP::API") called at t/05_authentication.t line 6
	test::auth::BEGIN() called at /home/sand/.cpan/privbuild/k93msid/Net-HTTP-API-0.14-4/blib/lib/Net/HTTP/API/Role/Format.pm line 0
	eval {...} called at /home/sand/.cpan/privbuild/k93msid/Net-HTTP-API-0.14-4/blib/lib/Net/HTTP/API/Role/Format.pm line 0
Class::MOP::load_class is deprecated at /home/sand/src/perl/repoperls/installed-perls/host/k93msid/v5.31.3-139-g238965b4f5/ea6b/lib/site_perl/5.31.4/x86_64-linux-ld/Class/MOP.pm line 69.
	Class::MOP::load_class("Net::HTTP::API::Parser::JSON") called at /home/sand/.cpan/privbuild/k93msid/Net-HTTP-API-0.14-4/blib/lib/Net/HTTP/API/Role/Serialization.pm line 74
	Net::HTTP::API::Role::Serialization::_load_serializer(test::auth=HASH(0x55cbc8715198), "json") called at /home/sand/.cpan/privbuild/k93msid/Net-HTTP-API-0.14-4/blib/lib/Net/HTTP/API/Role/Serialization.pm line 53
	Net::HTTP::API::Role::Serialization::deserialize(test::auth=HASH(0x55cbc8715198), "[{\"name\":\"eris\"}]", ARRAY(0x55cbca118848)) called at /home/sand/.cpan/privbuild/k93msid/Net-HTTP-API-0.14-4/blib/lib/Net/HTTP/API/Role/Serialization.pm line 37
	Net::HTTP::API::Role::Serialization::get_content(test::auth=HASH(0x55cbc8715198), HTTP::Response=HASH(0x55cbca8625a0)) called at /home/sand/.cpan/privbuild/k93msid/Net-HTTP-API-0.14-4/blib/lib/Net/HTTP/API/Meta/Method.pm line 134
	test::auth::user(test::auth=HASH(0x55cbc8715198)) called at /home/sand/src/perl/repoperls/installed-perls/host/k93msid/v5.31.3-139-g238965b4f5/ea6b/lib/site_perl/5.31.4/x86_64-linux-ld/Class/MOP/Method/Wrapped.pm line 44
	test::auth::_wrapped_user(test::auth=HASH(0x55cbc8715198)) called at /home/sand/src/perl/repoperls/installed-perls/host/k93msid/v5.31.3-139-g238965b4f5/ea6b/lib/site_perl/5.31.4/x86_64-linux-ld/Class/MOP/Method/Wrapped.pm line 95
	test::auth::user(test::auth=HASH(0x55cbc8715198)) called at t/05_authentication.t line 51
t/05_authentication.t ..... ok
t/release-eol.t ........... skipped: these tests are for release candidate testing
t/release-no-tabs.t ....... skipped: these tests are for release candidate testing
t/release-pod-coverage.t .. skipped: these tests are for release candidate testing
t/release-pod-syntax.t .... skipped: these tests are for release candidate testing
All tests successful.
Files=10, Tests=42,  3 wallclock secs ( 0.02 usr  0.07 sys +  2.17 cusr  0.33 csys =  2.59 CPU)
Result: PASS

------------------------------
PREREQUISITES
------------------------------

Prerequisite modules loaded:

requires:

    Module                       Need Have    
    ---------------------------- ---- --------
    HTTP::Request                0    6.18    
    JSON                         0    4.02    
    LWP::UserAgent               0    6.39    
    Moose                        0    2.2011  
    Moose::Exporter              0    2.2011  
    Moose::Meta::Method          0    2.2011  
    Moose::Role                  0    2.2011  
    Moose::Util::MetaRole        0    2.2011  
    Moose::Util::TypeConstraints 0    2.2011  
    MooseX::Types::Moose         0    0.50    
    MooseX::Types::URI           0    0.08    
    overload                     0    1.31    
    Try::Tiny                    0    0.30    
    XML::Simple                  0    2.25    
    YAML::Syck                   0    1.31    

build_requires:

    Module                       Need Have    
    ---------------------------- ---- --------
    HTTP::Response               0    6.18    
    Test::Exception              0    0.43    
    Test::More                   0    1.302168

configure_requires:

    Module                       Need Have    
    ---------------------------- ---- --------
    ExtUtils::MakeMaker          6.31 7.38    


------------------------------
ENVIRONMENT AND OTHER CONTEXT
------------------------------

Environment variables:

    AUTOMATED_TESTING = 1
    LANG = en_US.UTF-8
    PATH = /home/sand/bin:/usr/local/bin:/usr/bin:/bin:/usr/games:/usr/local/perl/bin:/usr/X11/bin:/sbin:/usr/sbin
    PERL5LIB = 
    PERL5OPT = 
    PERL5_CPANPLUS_IS_RUNNING = 24528
    PERL5_CPAN_IS_RUNNING = 24528
    PERL_CANARY_STABILITY_NOPROMPT = 1
    PERL_MM_USE_DEFAULT = 1
    PERL_USE_UNSAFE_INC = 1
    SHELL = /usr/bin/zsh
    TERM = screen

Perl special variables (and OS-specific diagnostics, for MSWin32):

    $^X = /tmp/basesmoker-reloperl-zYC6/bin/perl
    $UID/$EUID = 1005 / 1005
    $GID = 1005 1005
    $EGID = 1005 1005

Perl module toolchain versions installed:

    Module              Have    
    ------------------- --------
    CPAN                2.27    
    CPAN::Meta          2.150010
    Cwd                 3.78    
    ExtUtils::CBuilder  0.280232
    ExtUtils::Command   7.38    
    ExtUtils::Install   2.14    
    ExtUtils::MakeMaker 7.38    
    ExtUtils::Manifest  1.72    
    ExtUtils::ParseXS   3.40    
    File::Spec          3.78    
    JSON                4.02    
    JSON::PP            4.04    
    Module::Build       0.4229  
    Module::Signature   0.83    
    Parse::CPAN::Meta   2.150010
    Test::Harness       3.42    
    Test::More          1.302168
    YAML                1.29    
    YAML::Syck          1.31    
    version             0.9924  


--

Summary of my perl5 (revision 5 version 31 subversion 4) configuration:
  Commit id: 238965b4f5bba9e8e2693c09675ca8a1a49a4ec7
  Platform:
    osname=linux
    osvers=4.18.0-2-amd64
    archname=x86_64-linux-ld
    uname='linux k93msid 4.18.0-2-amd64 #1 smp debian 4.18.10-2 (2018-10-07) x86_64 gnulinux '
    config_args='-Dprefix=/home/sand/src/perl/repoperls/installed-perls/host/k93msid/v5.31.3-139-g238965b4f5/ea6b -Dmyhostname=k93msid -Dinstallusrbinperl=n -Uversiononly -Dusedevel -des -Ui_db -Dlibswanted=cl pthread socket inet nsl gdbm dbm malloc dl ld sun m crypt sec util c cposix posix ucb BSD gdbm_compat -Uuseithreads -Duselongdouble -DEBUGGING=none'
    hint=recommended
    useposix=true
    d_sigaction=define
    useithreads=undef
    usemultiplicity=undef
    use64bitint=define
    use64bitall=define
    uselongdouble=define
    usemymalloc=n
    default_inc_excludes_dot=define
    bincompat5005=undef
  Compiler:
    cc='cc'
    ccflags ='-fwrapv -fno-strict-aliasing -pipe -fstack-protector-strong -I/usr/local/include -D_LARGEFILE_SOURCE -D_FILE_OFFSET_BITS=64 -D_FORTIFY_SOURCE=2'
    optimize='-O2'
    cppflags='-fwrapv -fno-strict-aliasing -pipe -fstack-protector-strong -I/usr/local/include'
    ccversion=''
    gccversion='8.2.0'
    gccosandvers=''
    intsize=4
    longsize=8
    ptrsize=8
    doublesize=8
    byteorder=12345678
    doublekind=3
    d_longlong=define
    longlongsize=8
    d_longdbl=define
    longdblsize=16
    longdblkind=3
    ivtype='long'
    ivsize=8
    nvtype='long double'
    nvsize=16
    Off_t='off_t'
    lseeksize=8
    alignbytes=16
    prototype=define
  Linker and Libraries:
    ld='cc'
    ldflags =' -fstack-protector-strong -L/usr/local/lib'
    libpth=/usr/local/lib /usr/lib/gcc/x86_64-linux-gnu/8/include-fixed /usr/include/x86_64-linux-gnu /usr/lib /lib/x86_64-linux-gnu /lib/../lib /usr/lib/x86_64-linux-gnu /usr/lib/../lib /lib
    libs=-lpthread -lnsl -ldl -lm -lcrypt -lutil -lc
    perllibs=-lpthread -lnsl -ldl -lm -lcrypt -lutil -lc
    libc=libc-2.27.so
    so=so
    useshrplib=false
    libperl=libperl.a
    gnulibc_version='2.27'
  Dynamic Linking:
    dlsrc=dl_dlopen.xs
    dlext=so
    d_dlsymun=undef
    ccdlflags='-Wl,-E'
    cccdlflags='-fPIC'
    lddlflags='-shared -O2 -L/usr/local/lib -fstack-protector-strong'


Characteristics of this binary (from libperl): 
  Compile-time options:
    HAS_TIMES
    PERLIO_LAYERS
    PERL_COPY_ON_WRITE
    PERL_DONT_CREATE_GVSV
    PERL_MALLOC_WRAP
    PERL_OP_PARENT
    PERL_PRESERVE_IVUV
    PERL_USE_DEVEL
    USE_64_BIT_ALL
    USE_64_BIT_INT
    USE_LARGE_FILES
    USE_LOCALE
    USE_LOCALE_COLLATE
    USE_LOCALE_CTYPE
    USE_LOCALE_NUMERIC
    USE_LOCALE_TIME
    USE_LONG_DOUBLE
    USE_PERLIO
    USE_PERL_ATOF
  Built under linux
  Compiled at Sep 13 2019 04:13:02
  %ENV:
    PERL5LIB=""
    PERL5OPT=""
    PERL5_CPANPLUS_IS_RUNNING="24528"
    PERL5_CPAN_IS_RUNNING="24528"
    PERL_CANARY_STABILITY_NOPROMPT="1"
    PERL_MM_USE_DEFAULT="1"
    PERL_USE_UNSAFE_INC="1"
  @INC:
    /home/sand/src/perl/repoperls/installed-perls/host/k93msid/v5.31.3-139-g238965b4f5/ea6b/lib/site_perl/5.31.4/x86_64-linux-ld
    /home/sand/src/perl/repoperls/installed-perls/host/k93msid/v5.31.3-139-g238965b4f5/ea6b/lib/site_perl/5.31.4
    /home/sand/src/perl/repoperls/installed-perls/host/k93msid/v5.31.3-139-g238965b4f5/ea6b/lib/5.31.4/x86_64-linux-ld
    /home/sand/src/perl/repoperls/installed-perls/host/k93msid/v5.31.3-139-g238965b4f5/ea6b/lib/5.31.4
    .