XML-Filter-Sort v1.01 Perl 5 v5.20.2 x86_64-linux

Status
Pass
From
Andreas J. König (ANDK)
Dist
XML-Filter-Sort v1.01
Platform
Perl 5 v5.20.2 x86_64-linux
Date
2017-12-17 02:05:28
ID
c11da360-e2ce-11e7-85cc-d9311b9bfa2c
This distribution has been tested as part of the CPAN Testers
project, supporting the Perl programming language.  See
http://wiki.cpantesters.org/ for more information or email
questions to cpan-testers-discuss@perl.org


--
Dear Grant McLean,

This is a computer-generated report for XML-Filter-Sort-1.01
on perl 5.20.2, created by CPAN-Reporter-1.2018.

Thank you for uploading your work to CPAN.  Congratulations!
All tests were successful.

Sections of this report:

    * Tester comments
    * Program output
    * Prerequisites
    * Environment and other context

------------------------------
TESTER COMMENTS
------------------------------

Additional comments from tester:

this report is from an automated smoke testing program
and was not reviewed by a human for accuracy

------------------------------
PROGRAM OUTPUT
------------------------------

Output from '/usr/bin/make test':

PERL_DL_NONLAZY=1 "/home/sand/src/perl/repoperls/installed-perls/host/k93msid/v5.20.2/d2d1/bin/perl" "-MExtUtils::Command::MM" "-MTest::Harness" "-e" "undef *Test::Harness::Switches; test_harness(0, 'blib/lib', 'blib/arch')" t/*.t

Package                        Version
 perl                           5.20.2
 XML::SAX                       0.99
 XML::SAX::Writer               0.57
 XML::SAX::Machines             Not Installed
 XML::NamespaceSupport          1.12
 XML::LibXML::SAX::Parser       2.0129
 XML::LibXML::SAX               2.0129
 XML::SAX::Expat                0.51 (default parser)
t/0_config.t ....... ok
t/1_buffer.t ....... ok
t/2_buffermgr.t .... ok
t/3_sort.t ......... ok
t/4_workout.t ...... skipped: XML::SAX::Machines not installed
t/5_diskbuffer.t ... skipped: XML::SAX::Machines not installed
t/6_diskworkout.t .. skipped: XML::SAX::Machines not installed
All tests successful.
Files=7, Tests=40,  2 wallclock secs ( 0.03 usr  0.04 sys +  0.74 cusr  0.21 csys =  1.02 CPU)
Result: PASS

------------------------------
PREREQUISITES
------------------------------

Prerequisite modules loaded:

requires:

    Module              Need Have    
    ------------------- ---- --------
    Test::Simple        0.41 1.302120
    XML::SAX            0    0.99    
    XML::SAX::Writer    0    0.57    

build_requires:

    Module              Need Have    
    ------------------- ---- --------
    ExtUtils::MakeMaker 0    7.30    


------------------------------
ENVIRONMENT AND OTHER CONTEXT
------------------------------

Environment variables:

    AUTOMATED_TESTING = 1
    LANG = en_US.UTF-8
    PATH = /home/sand/bin:/usr/local/bin:/usr/bin:/bin:/usr/games:/usr/local/perl/bin:/usr/X11/bin:/sbin:/usr/sbin
    PERL5LIB = /tmp/loop_over_bdir-20154-HpqMHq/XML-SAX-Writer-0.57-0/blib/arch:/tmp/loop_over_bdir-20154-HpqMHq/XML-SAX-Writer-0.57-0/blib/lib:/tmp/loop_over_bdir-20154-HpqMHq/XML-Filter-BufferText-1.01-0/blib/arch:/tmp/loop_over_bdir-20154-HpqMHq/XML-Filter-BufferText-1.01-0/blib/lib
    PERL5OPT = 
    PERL5_CPANPLUS_IS_RUNNING = 20205
    PERL5_CPAN_IS_RUNNING = 20205
    PERL5_CPAN_IS_RUNNING_IN_RECURSION = 22402,20205
    PERL_CANARY_STABILITY_NOPROMPT = 1
    PERL_MM_USE_DEFAULT = 1
    PERL_USE_UNSAFE_INC = 1
    SHELL = /usr/bin/zsh
    TERM = screen

Perl special variables (and OS-specific diagnostics, for MSWin32):

    $^X = /home/sand/src/perl/repoperls/installed-perls/host/k93msid/v5.20.2/d2d1/bin/perl
    $UID/$EUID = 1005 / 1005
    $GID = 1005 1005
    $EGID = 1005 1005

Perl module toolchain versions installed:

    Module              Have    
    ------------------- --------
    CPAN                2.20    
    CPAN::Meta          2.150010
    Cwd                 3.62    
    ExtUtils::CBuilder  0.280229
    ExtUtils::Command   7.30    
    ExtUtils::Install   2.06    
    ExtUtils::MakeMaker 7.30    
    ExtUtils::Manifest  1.70    
    ExtUtils::ParseXS   3.35    
    File::Spec          3.62    
    JSON                2.97000 
    JSON::PP            2.95    
    Module::Build       0.4224  
    Module::Signature   0.81    
    Parse::CPAN::Meta   2.150010
    Test::Harness       3.39    
    Test::More          1.302120
    YAML                1.23_003
    YAML::Syck          1.30    
    version             0.9918  


--

Summary of my perl5 (revision 5 version 20 subversion 2) configuration:
  Derived from: c05ce579b6dae0f955ff8922469d49f95f4bf6fd
  Platform:
    osname=linux, osvers=4.12.0-2-amd64, archname=x86_64-linux
    uname='linux k93msid 4.12.0-2-amd64 #1 smp debian 4.12.13-1 (2017-09-19) x86_64 gnulinux '
    config_args='-Dprefix=/home/sand/src/perl/repoperls/installed-perls/host/k93msid/v5.20.2/d2d1 -Dmyhostname=k93msid -Dinstallusrbinperl=n -Uversiononly -Dusedevel -des -Ui_db -Dlibswanted=cl pthread socket inet nsl gdbm dbm malloc dl ld sun m crypt sec util c cposix posix ucb BSD gdbm_compat -Uuseithreads -Uuselongdouble -DDEBUGGING=both'
    hint=recommended, useposix=true, d_sigaction=define
    useithreads=undef, usemultiplicity=undef
    use64bitint=define, use64bitall=define, uselongdouble=undef
    usemymalloc=n, bincompat5005=undef
  Compiler:
    cc='cc', ccflags ='-fwrapv -DDEBUGGING -fno-strict-aliasing -pipe -fstack-protector -I/usr/local/include -D_LARGEFILE_SOURCE -D_FILE_OFFSET_BITS=64',
    optimize='-O2 -g',
    cppflags='-fwrapv -DDEBUGGING -fno-strict-aliasing -pipe -fstack-protector -I/usr/local/include'
    ccversion='', gccversion='7.2.0', gccosandvers=''
    intsize=4, longsize=8, ptrsize=8, doublesize=8, byteorder=12345678
    d_longlong=define, longlongsize=8, d_longdbl=define, longdblsize=16
    ivtype='long', ivsize=8, nvtype='double', nvsize=8, Off_t='off_t', lseeksize=8
    alignbytes=8, prototype=define
  Linker and Libraries:
    ld='cc', ldflags =' -fstack-protector -L/usr/local/lib'
    libpth=/usr/local/lib /usr/lib/gcc/x86_64-linux-gnu/7/include-fixed /usr/include/x86_64-linux-gnu /usr/lib /lib/x86_64-linux-gnu /lib/../lib /usr/lib/x86_64-linux-gnu /usr/lib/../lib /lib
    libs=-lpthread -lnsl -ldl -lm -lcrypt -lutil -lc
    perllibs=-lpthread -lnsl -ldl -lm -lcrypt -lutil -lc
    libc=libc-2.24.so, so=so, useshrplib=false, libperl=libperl.a
    gnulibc_version='2.24'
  Dynamic Linking:
    dlsrc=dl_dlopen.xs, dlext=so, d_dlsymun=undef, ccdlflags='-Wl,-E'
    cccdlflags='-fPIC', lddlflags='-shared -O2 -g -L/usr/local/lib -fstack-protector'


Characteristics of this binary (from libperl): 
  Compile-time options: DEBUGGING HAS_TIMES PERLIO_LAYERS
                        PERL_DONT_CREATE_GVSV
                        PERL_HASH_FUNC_ONE_AT_A_TIME_HARD PERL_MALLOC_WRAP
                        PERL_NEW_COPY_ON_WRITE PERL_PRESERVE_IVUV
                        PERL_USE_DEVEL USE_64_BIT_ALL USE_64_BIT_INT
                        USE_LARGE_FILES USE_LOCALE USE_LOCALE_COLLATE
                        USE_LOCALE_CTYPE USE_LOCALE_NUMERIC USE_PERLIO
                        USE_PERL_ATOF
  Locally applied patches:
	uncommitted-changes
  Built under linux
  Compiled at Oct  4 2017 05:18:23
  %ENV:
    PERL5LIB="/tmp/loop_over_bdir-20154-HpqMHq/XML-SAX-Writer-0.57-0/blib/arch:/tmp/loop_over_bdir-20154-HpqMHq/XML-SAX-Writer-0.57-0/blib/lib:/tmp/loop_over_bdir-20154-HpqMHq/XML-Filter-BufferText-1.01-0/blib/arch:/tmp/loop_over_bdir-20154-HpqMHq/XML-Filter-BufferText-1.01-0/blib/lib"
    PERL5OPT=""
    PERL5_CPANPLUS_IS_RUNNING="20205"
    PERL5_CPAN_IS_RUNNING="20205"
    PERL5_CPAN_IS_RUNNING_IN_RECURSION="22402,20205"
    PERL_CANARY_STABILITY_NOPROMPT="1"
    PERL_MM_USE_DEFAULT="1"
    PERL_USE_UNSAFE_INC="1"
  @INC:
    /tmp/loop_over_bdir-20154-HpqMHq/XML-SAX-Writer-0.57-0/blib/arch
    /tmp/loop_over_bdir-20154-HpqMHq/XML-SAX-Writer-0.57-0/blib/lib
    /tmp/loop_over_bdir-20154-HpqMHq/XML-Filter-BufferText-1.01-0/blib/arch
    /tmp/loop_over_bdir-20154-HpqMHq/XML-Filter-BufferText-1.01-0/blib/lib
    /home/sand/src/perl/repoperls/installed-perls/host/k93msid/v5.20.2/d2d1/lib/site_perl/5.20.2/x86_64-linux
    /home/sand/src/perl/repoperls/installed-perls/host/k93msid/v5.20.2/d2d1/lib/site_perl/5.20.2
    /home/sand/src/perl/repoperls/installed-perls/host/k93msid/v5.20.2/d2d1/lib/5.20.2/x86_64-linux
    /home/sand/src/perl/repoperls/installed-perls/host/k93msid/v5.20.2/d2d1/lib/5.20.2
    .