AnyEvent-Filesys-Notify v1.23 Perl 5 v5.29.6 x86_64-linux

Status
Pass
From
Slaven Rezić (SREZIC)
Dist
AnyEvent-Filesys-Notify v1.23
Platform
Perl 5 v5.29.6 x86_64-linux
Date
2018-12-23 10:01:44
ID
c0e61a2c-0699-11e9-967c-c2f6aa1bf479
This distribution has been tested as part of the CPAN Testers
project, supporting the Perl programming language.  See
http://wiki.cpantesters.org/ for more information or email
questions to cpan-testers-discuss@perl.org


--
Dear Mark Grimes,

This is a computer-generated report for AnyEvent-Filesys-Notify-1.23
on perl 5.29.6, created by CPAN-Reporter-1.2018.

Thank you for uploading your work to CPAN.  Congratulations!
All tests were successful.

Sections of this report:

    * Tester comments
    * Program output
    * Prerequisites
    * Environment and other context

------------------------------
TESTER COMMENTS
------------------------------

Additional comments from tester:

none provided

------------------------------
PROGRAM OUTPUT
------------------------------

Output from './Build test':

t/00-load.t ................ ok
t/10-plugins.t ............. ok
t/11-plugin-default.t ...... ok
t/20-scan_fs.t ............. ok
t/21-scan_fs_links.t ....... ok
# This might take a few seconds to run...
t/30-event.t ............... ok
# This might take a few seconds to run...
t/31-notify-fallback.t ..... ok
# This might take a few seconds to run...
t/32-specify-backend.t ..... ok
t/33-specify-kqueue.t ...... skipped: Test only on Mac with IO::KQueue
# This might take a few seconds to run...
t/34-parse_events.t ........ ok
# This might take a few seconds to run...
t/35-skip_subdirs.t ........ ok
t/40-bugs.t ................ ok
t/41-bug-modified-in-cb.t .. ok
# This might take a few seconds to run...
t/42-inotify-race.t ........ ok
All tests successful.
Files=14, Tests=108, 28 wallclock secs ( 0.03 usr  0.08 sys +  1.88 cusr  0.30 csys =  2.29 CPU)
Result: PASS

------------------------------
PREREQUISITES
------------------------------

Prerequisite modules loaded:

requires:

    Module                       Need     Have    
    ---------------------------- -------- --------
    AnyEvent                     7.05     7.14    
    Carp                         1.20     1.50    
    Cwd                          3.40     3.76    
    Linux::Inotify2              1.22     2.1     
    Moo                          1.003001 2.003004
    MooX::late                   0.014    0.015   
    MooX::Types::MooseLike::Base 0.25     0.29    
    namespace::autoclean         0.24     0.28    
    Path::Iterator::Rule         1.005    1.014   
    perl                         5.006    5.029006
    Try::Tiny                    0.18     0.30    

build_requires:

    Module                       Need     Have    
    ---------------------------- -------- --------
    autodie                      0        2.29    
    Data::Dump                   0        1.23    
    Exporter                     0        5.73    
    File::Basename               0        2.85    
    File::Find                   0        1.35    
    File::Path                   0        2.16    
    File::Spec                   0        3.76    
    File::Temp                   0        0.2308  
    Test::Exception              0        0.43    
    Test::More                   0.87     1.302141
    Test::Without::Module        0        0.20    

configure_requires:

    Module                       Need     Have    
    ---------------------------- -------- --------
    Module::Build                0.4004   0.4224  


------------------------------
ENVIRONMENT AND OTHER CONTEXT
------------------------------

Environment variables:

    LANG = C
    PATH = /usr/local/bin:/usr/bin:/bin:/usr/local/sbin:/usr/sbin:/sbin:/home/cpansand/bin/linux-gnu:/home/cpansand/bin/sh:/home/cpansand/bin:/usr/games:/home/cpansand/devel:/home/eserte/src/srezic-misc/scripts
    PERL5LIB = 
    PERL5OPT = 
    PERL5_CPANPLUS_IS_RUNNING = 31385
    PERL5_CPAN_IS_RUNNING = 31385
    PERL5_CPAN_IS_RUNNING_IN_RECURSION = 22141,31385
    PERLDOC = -MPod::Perldoc::ToTextOverstrike
    PERL_BATCH = yes
    PERL_CANARY_STABILITY_NOPROMPT = 1
    PERL_CPAN_REPORTER_CONFIG = /var/tmp/cpansmoker-1023/2018122307/cpanreporter_000_config.ini
    PERL_EXTUTILS_AUTOINSTALL = --defaultdeps
    PERL_USE_UNSAFE_INC = 1
    PISTACHIO_PERL_MANAGER = 1
    SHELL = /bin/zsh
    TERM = screen
    TMPDIR = /var/tmp/cpansmoker-1023/2018122307

Perl special variables (and OS-specific diagnostics, for MSWin32):

    $^X = /bbbike/perl-5.29.6/bin/perl5.29.6
    $UID/$EUID = 1023 / 1023
    $GID = 1023 1023
    $EGID = 1023 1023

Perl module toolchain versions installed:

    Module              Have    
    ------------------- --------
    CPAN                2.21    
    CPAN::Meta          2.150010
    Cwd                 3.76    
    ExtUtils::CBuilder  0.280230
    ExtUtils::Command   7.34    
    ExtUtils::Install   2.14    
    ExtUtils::MakeMaker 7.34    
    ExtUtils::Manifest  1.71    
    ExtUtils::ParseXS   3.40    
    File::Spec          3.76    
    JSON                n/a     
    JSON::PP            2.97001 
    Module::Build       0.4224  
    Module::Signature   n/a     
    Parse::CPAN::Meta   2.150010
    Test::Harness       3.42    
    Test::More          1.302141
    YAML                1.27    
    YAML::Syck          1.31    
    version             0.9924  


--

Summary of my perl5 (revision 5 version 29 subversion 6) configuration:
   
  Platform:
    osname=linux
    osvers=4.9.0-0.bpo.8-amd64
    archname=x86_64-linux
    uname='linux eserte 4.9.0-0.bpo.8-amd64 #1 smp debian 4.9.110-3+deb9u5~deb8u1 (2018-10-03) x86_64 gnulinux '
    config_args='-ds -e -Dprefix=/opt/perl-5.29.6 -Dusedevel -Dusemallocwrap=no -Dcf_email=srezic@cpan.org'
    hint=recommended
    useposix=true
    d_sigaction=define
    useithreads=undef
    usemultiplicity=undef
    use64bitint=define
    use64bitall=define
    uselongdouble=undef
    usemymalloc=n
    default_inc_excludes_dot=define
    bincompat5005=undef
  Compiler:
    cc='cc'
    ccflags ='-fwrapv -fno-strict-aliasing -pipe -fstack-protector-strong -I/usr/local/include -D_LARGEFILE_SOURCE -D_FILE_OFFSET_BITS=64 -D_FORTIFY_SOURCE=2'
    optimize='-O2'
    cppflags='-fwrapv -fno-strict-aliasing -pipe -fstack-protector-strong -I/usr/local/include'
    ccversion=''
    gccversion='4.9.2'
    gccosandvers=''
    intsize=4
    longsize=8
    ptrsize=8
    doublesize=8
    byteorder=12345678
    doublekind=3
    d_longlong=define
    longlongsize=8
    d_longdbl=define
    longdblsize=16
    longdblkind=3
    ivtype='long'
    ivsize=8
    nvtype='double'
    nvsize=8
    Off_t='off_t'
    lseeksize=8
    alignbytes=8
    prototype=define
  Linker and Libraries:
    ld='cc'
    ldflags =' -fstack-protector-strong -L/usr/local/lib'
    libpth=/usr/local/lib /usr/lib/gcc/x86_64-linux-gnu/4.9/include-fixed /usr/include/x86_64-linux-gnu /usr/lib /lib/x86_64-linux-gnu /lib/../lib /usr/lib/x86_64-linux-gnu /usr/lib/../lib /lib
    libs=-lpthread -lnsl -lgdbm -ldb -ldl -lm -lcrypt -lutil -lc -lgdbm_compat
    perllibs=-lpthread -lnsl -ldl -lm -lcrypt -lutil -lc
    libc=libc-2.19.so
    so=so
    useshrplib=false
    libperl=libperl.a
    gnulibc_version='2.19'
  Dynamic Linking:
    dlsrc=dl_dlopen.xs
    dlext=so
    d_dlsymun=undef
    ccdlflags='-Wl,-E'
    cccdlflags='-fPIC'
    lddlflags='-shared -O2 -L/usr/local/lib -fstack-protector-strong'


Characteristics of this binary (from libperl): 
  Compile-time options:
    HAS_TIMES
    PERLIO_LAYERS
    PERL_COPY_ON_WRITE
    PERL_DONT_CREATE_GVSV
    PERL_OP_PARENT
    PERL_PRESERVE_IVUV
    PERL_USE_DEVEL
    USE_64_BIT_ALL
    USE_64_BIT_INT
    USE_LARGE_FILES
    USE_LOCALE
    USE_LOCALE_COLLATE
    USE_LOCALE_CTYPE
    USE_LOCALE_NUMERIC
    USE_LOCALE_TIME
    USE_PERLIO
    USE_PERL_ATOF
  Built under linux
  Compiled at Dec 22 2018 20:41:18
  %ENV:
    PERL5LIB=""
    PERL5OPT=""
    PERL5_CPANPLUS_IS_RUNNING="31385"
    PERL5_CPAN_IS_RUNNING="31385"
    PERL5_CPAN_IS_RUNNING_IN_RECURSION="22141,31385"
    PERLDOC="-MPod::Perldoc::ToTextOverstrike"
    PERL_BATCH="yes"
    PERL_CANARY_STABILITY_NOPROMPT="1"
    PERL_CPAN_REPORTER_CONFIG="/var/tmp/cpansmoker-1023/2018122307/cpanreporter_000_config.ini"
    PERL_EXTUTILS_AUTOINSTALL="--defaultdeps"
    PERL_USE_UNSAFE_INC="1"
  @INC:
    /opt/perl-5.29.6/lib/site_perl/5.29.6/x86_64-linux
    /opt/perl-5.29.6/lib/site_perl/5.29.6
    /opt/perl-5.29.6/lib/5.29.6/x86_64-linux
    /opt/perl-5.29.6/lib/5.29.6
    .