Statistics-Running v0.13 Perl 5 v5.29.6 i86pc-solaris-multi
- Status
- Pass
- From
- Nigel Horne
- Dist
-
Statistics-Running v0.13
- Platform
- Perl 5 v5.29.6 i86pc-solaris-multi
- Date
- 2019-02-16 21:42:26
- ID
- c0a7d88c-3233-11e9-a8f3-dcd6b2c52b32
This distribution has been tested as part of the CPAN Testers
project, supporting the Perl programming language. See
http://wiki.cpantesters.org/ for more information or email
questions to cpan-testers-discuss@perl.org
--
Dear Andreas Hadjiprocopis,
This is a computer-generated report for Statistics-Running-0.13
on perl 5.29.6, created by CPAN-Reporter-1.2018.
Thank you for uploading your work to CPAN. Congratulations!
All tests were successful.
Sections of this report:
* Tester comments
* Program output
* Prerequisites
* Environment and other context
------------------------------
TESTER COMMENTS
------------------------------
Additional comments from tester:
this report is from an automated smoke testing program
and was not reviewed by a human for accuracy
------------------------------
PROGRAM OUTPUT
------------------------------
Output from '/usr/bin/make test':
PERL_DL_NONLAZY=1 "/export/home/njh/perl5/perlbrew/perls/perl-5.29.6-multi/bin/perl5.29.6" "-MExtUtils::Command::MM" "-MTest::Harness" "-e" "undef *Test::Harness::Switches; test_harness(0, 'blib/lib', 'blib/arch')" t/*.t
# Testing Statistics::Running 0.13, Perl 5.029006, /export/home/njh/perl5/perlbrew/perls/perl-5.29.6-multi/bin/perl5.29.6
t/00-load.t ............... ok
t/01-Running-General.t .... ok
t/02-Running-Histogram.t .. ok
t/manifest.t .............. skipped: Author tests not required for installation
t/pod-coverage.t .......... skipped: Author tests not required for installation
t/pod.t ................... skipped: Author tests not required for installation
All tests successful.
Files=6, Tests=29, 1 wallclock secs ( 0.05 usr 0.03 sys + 0.59 cusr 0.21 csys = 0.88 CPU)
Result: PASS
------------------------------
PREREQUISITES
------------------------------
Prerequisite modules loaded:
requires:
Module Need Have
--------------------- ----- --------
perl 5.006 5.029006
Statistics::Histogram 0.1 0.1
Try::Tiny 0.20 0.30
build_requires:
Module Need Have
--------------------- ----- --------
Test::Harness 0 3.42
Test::More 0 1.302141
configure_requires:
Module Need Have
--------------------- ----- --------
ExtUtils::MakeMaker 0 7.34
------------------------------
ENVIRONMENT AND OTHER CONTEXT
------------------------------
Environment variables:
AUTOMATED_TESTING = 1
NONINTERACTIVE_TESTING = 1
PATH = /export/home/njh/perl5/perlbrew/bin:/export/home/njh/perl5/perlbrew/perls/perl-5.29.6-multi/bin:/export/home/njh/src/njh/smoker/bin:/usr/bin
PERL5LIB = /export/home/njh/.cpan/build/Statistics-Histogram-0.2-3/blib/arch:/export/home/njh/.cpan/build/Statistics-Histogram-0.2-3/blib/lib:/export/home/njh/.cpan/build/Statistics-Descriptive-3.0702-3/blib/arch:/export/home/njh/.cpan/build/Statistics-Descriptive-3.0702-3/blib/lib:/export/home/njh/.cpan/build/List-MoreUtils-0.428-2/blib/arch:/export/home/njh/.cpan/build/List-MoreUtils-0.428-2/blib/lib:/export/home/njh/.cpan/build/Test-LeakTrace-0.16-2/blib/arch:/export/home/njh/.cpan/build/Test-LeakTrace-0.16-2/blib/lib:/export/home/njh/.cpan/build/List-MoreUtils-XS-0.428-2/blib/arch:/export/home/njh/.cpan/build/List-MoreUtils-XS-0.428-2/blib/lib:/export/home/njh/.cpan/build/Exporter-Tiny-1.002001-3/blib/arch:/export/home/njh/.cpan/build/Exporter-Tiny-1.002001-3/blib/lib
PERL5OPT =
PERL5_CPANPLUS_IS_RUNNING = 3151
PERL5_CPAN_IS_RUNNING = 3151
PERLBREW_HOME = /export/home/njh/.perlbrew
PERLBREW_MANPATH = /export/home/njh/perl5/perlbrew/perls/perl-5.29.6-multi/man
PERLBREW_PATH = /export/home/njh/perl5/perlbrew/bin:/export/home/njh/perl5/perlbrew/perls/perl-5.29.6-multi/bin
PERLBREW_PERL = perl-5.29.6-multi
PERLBREW_ROOT = /export/home/njh/perl5/perlbrew
PERLBREW_SHELLRC_VERSION = 0.84
PERLBREW_VERSION = 0.84
PERL_MM_USE_DEFAULT = 1
PERL_USE_UNSAFE_INC = 1
SHELL = /usr/bin/sh
TERM = dumb
TMPDIR = /tmp/testwrapper.3138
Perl special variables (and OS-specific diagnostics, for MSWin32):
$^X = /export/home/njh/perl5/perlbrew/perls/perl-5.29.6-multi/bin/perl5.29.6
$UID/$EUID = 101 / 101
$GID = 10 10
$EGID = 10 10
Perl module toolchain versions installed:
Module Have
------------------- --------
CPAN 2.22
CPAN::Meta 2.150010
Cwd 3.76
ExtUtils::CBuilder 0.280230
ExtUtils::Command 7.34
ExtUtils::Install 2.14
ExtUtils::MakeMaker 7.34
ExtUtils::Manifest 1.71
ExtUtils::ParseXS 3.40
File::Spec 3.76
JSON 4.01
JSON::PP 2.97001
Module::Build 0.4224
Module::Signature n/a
Parse::CPAN::Meta 2.150010
Test::Harness 3.42
Test::More 1.302141
YAML 1.27
YAML::Syck 1.31
version 0.9924
--
Summary of my perl5 (revision 5 version 29 subversion 6) configuration:
Platform:
osname=solaris
osvers=2.11
archname=i86pc-solaris-multi
uname='sunos vultr1.bandsman.co.uk 5.11 illumos-7d1eae8c55 i86pc i386 i86pc '
config_args='-de -Dprefix=/export/home/njh/perl5/perlbrew/perls/perl-5.29.6-multi -Dusedevel -Dusemultiplicity -Dusedevel -Accflags=-O2 -xstrconst -D__EXTENSIONS__ -Aeval:scriptdir=/export/home/njh/perl5/perlbrew/perls/perl-5.29.6-multi/bin'
hint=recommended
useposix=true
d_sigaction=define
useithreads=undef
usemultiplicity=define
use64bitint=undef
use64bitall=undef
uselongdouble=undef
usemymalloc=n
default_inc_excludes_dot=define
bincompat5005=undef
Compiler:
cc='/opt/SUNWspro/bin/cc'
ccflags ='-O2 -xstrconst -D__EXTENSIONS__ -I/usr/gnu/include -D_LARGEFILE_SOURCE -D_FILE_OFFSET_BITS=64 -DPERL_USE_SAFE_PUTENV'
optimize='-O'
cppflags='-O2 -xstrconst -D__EXTENSIONS__ -I/usr/gnu/include'
ccversion='Sun C 5.10 SunOS_i386 2009/06/03'
gccversion=''
gccosandvers=''
intsize=4
longsize=4
ptrsize=4
doublesize=8
byteorder=1234
doublekind=3
d_longlong=define
longlongsize=8
d_longdbl=define
longdblsize=12
longdblkind=3
ivtype='long'
ivsize=4
nvtype='double'
nvsize=8
Off_t='off_t'
lseeksize=8
alignbytes=4
prototype=define
Linker and Libraries:
ld='/opt/SUNWspro/bin/cc'
ldflags =' -L/usr/lib -L/usr/ccs/lib -L/opt/sunstudio12.1/prod/lib -L/lib -L/usr/gnu/lib '
libpth=/usr/lib /usr/ccs/lib /opt/sunstudio12.1/prod/lib /lib /usr/gnu/lib
libs=-lpthread -lsocket -lnsl -lgdbm -ldb -ldl -lm -lc
perllibs=-lpthread -lsocket -lnsl -ldl -lm -lc
libc=/lib/libc.so
so=so
useshrplib=true
libperl=libperl.so
gnulibc_version=''
Dynamic Linking:
dlsrc=dl_dlopen.xs
dlext=so
d_dlsymun=undef
ccdlflags=' -R /export/home/njh/perl5/perlbrew/perls/perl-5.29.6-multi/lib/5.29.6/i86pc-solaris-multi/CORE'
cccdlflags='-KPIC'
lddlflags='-G -L/usr/lib -L/usr/ccs/lib -L/opt/sunstudio12.1/prod/lib -L/lib -L/usr/gnu/lib'
Characteristics of this binary (from libperl):
Compile-time options:
HAS_TIMES
MULTIPLICITY
PERLIO_LAYERS
PERL_COPY_ON_WRITE
PERL_DONT_CREATE_GVSV
PERL_IMPLICIT_CONTEXT
PERL_MALLOC_WRAP
PERL_OP_PARENT
PERL_PRESERVE_IVUV
PERL_USE_DEVEL
PERL_USE_SAFE_PUTENV
USE_LARGE_FILES
USE_LOCALE
USE_LOCALE_COLLATE
USE_LOCALE_CTYPE
USE_LOCALE_NUMERIC
USE_LOCALE_TIME
USE_PERLIO
USE_PERL_ATOF
Locally applied patches:
Devel::PatchPerl 1.52
Built under solaris
Compiled at Jan 20 2019 09:39:28
%ENV:
PERL5LIB="/export/home/njh/.cpan/build/Statistics-Histogram-0.2-3/blib/arch:/export/home/njh/.cpan/build/Statistics-Histogram-0.2-3/blib/lib:/export/home/njh/.cpan/build/Statistics-Descriptive-3.0702-3/blib/arch:/export/home/njh/.cpan/build/Statistics-Descriptive-3.0702-3/blib/lib:/export/home/njh/.cpan/build/List-MoreUtils-0.428-2/blib/arch:/export/home/njh/.cpan/build/List-MoreUtils-0.428-2/blib/lib:/export/home/njh/.cpan/build/Test-LeakTrace-0.16-2/blib/arch:/export/home/njh/.cpan/build/Test-LeakTrace-0.16-2/blib/lib:/export/home/njh/.cpan/build/List-MoreUtils-XS-0.428-2/blib/arch:/export/home/njh/.cpan/build/List-MoreUtils-XS-0.428-2/blib/lib:/export/home/njh/.cpan/build/Exporter-Tiny-1.002001-3/blib/arch:/export/home/njh/.cpan/build/Exporter-Tiny-1.002001-3/blib/lib"
PERL5OPT=""
PERL5_CPANPLUS_IS_RUNNING="3151"
PERL5_CPAN_IS_RUNNING="3151"
PERLBREW_HOME="/export/home/njh/.perlbrew"
PERLBREW_MANPATH="/export/home/njh/perl5/perlbrew/perls/perl-5.29.6-multi/man"
PERLBREW_PATH="/export/home/njh/perl5/perlbrew/bin:/export/home/njh/perl5/perlbrew/perls/perl-5.29.6-multi/bin"
PERLBREW_PERL="perl-5.29.6-multi"
PERLBREW_ROOT="/export/home/njh/perl5/perlbrew"
PERLBREW_SHELLRC_VERSION="0.84"
PERLBREW_VERSION="0.84"
PERL_MM_USE_DEFAULT="1"
PERL_USE_UNSAFE_INC="1"
@INC:
/export/home/njh/.cpan/build/Statistics-Histogram-0.2-3/blib/arch
/export/home/njh/.cpan/build/Statistics-Histogram-0.2-3/blib/lib
/export/home/njh/.cpan/build/Statistics-Descriptive-3.0702-3/blib/arch
/export/home/njh/.cpan/build/Statistics-Descriptive-3.0702-3/blib/lib
/export/home/njh/.cpan/build/List-MoreUtils-0.428-2/blib/arch
/export/home/njh/.cpan/build/List-MoreUtils-0.428-2/blib/lib
/export/home/njh/.cpan/build/Test-LeakTrace-0.16-2/blib/arch
/export/home/njh/.cpan/build/Test-LeakTrace-0.16-2/blib/lib
/export/home/njh/.cpan/build/List-MoreUtils-XS-0.428-2/blib/arch
/export/home/njh/.cpan/build/List-MoreUtils-XS-0.428-2/blib/lib
/export/home/njh/.cpan/build/Exporter-Tiny-1.002001-3/blib/arch
/export/home/njh/.cpan/build/Exporter-Tiny-1.002001-3/blib/lib
/export/home/njh/perl5/perlbrew/perls/perl-5.29.6-multi/lib/site_perl/5.29.6/i86pc-solaris-multi
/export/home/njh/perl5/perlbrew/perls/perl-5.29.6-multi/lib/site_perl/5.29.6
/export/home/njh/perl5/perlbrew/perls/perl-5.29.6-multi/lib/5.29.6/i86pc-solaris-multi
/export/home/njh/perl5/perlbrew/perls/perl-5.29.6-multi/lib/5.29.6
.