Monitoring-Plugin v0.40 Perl 5 v5.36.0 x86_64-linux
- Status
- Pass
- From
- Dist
-
Monitoring-Plugin v0.40
- Platform
- Perl 5 v5.36.0 x86_64-linux
- Date
- 2022-07-10 11:59:29
- ID
- c093d9e6-0047-11ed-a6e2-05a099b6be1c
This distribution has been tested as part of the CPAN Testers
project, supporting the Perl programming language. See
http://wiki.cpantesters.org/ for more information or email
questions to cpan-testers-discuss@perl.org
--
Dear Sven Nierlein,
This is a computer-generated report for Monitoring-Plugin-0.40
on perl 5.36.0, created by CPAN-Reporter-1.2018.
Thank you for uploading your work to CPAN. Congratulations!
All tests were successful.
Sections of this report:
* Tester comments
* Program output
* Prerequisites
* Environment and other context
------------------------------
TESTER COMMENTS
------------------------------
Additional comments from tester:
none provided
------------------------------
PROGRAM OUTPUT
------------------------------
Output from '/usr/bin/make test':
PERL_DL_NONLAZY=1 "/usr/local/bin/perl" "-MExtUtils::Command::MM" "-MTest::Harness" "-e" "undef *Test::Harness::Switches; test_harness(0, 'inc', 'blib/lib', 'blib/arch')" t/*.t
t/check_stuff.t ....................... ok
t/Monitoring-Plugin-01.t .............. ok
t/Monitoring-Plugin-02.t .............. ok
t/Monitoring-Plugin-03.t .............. ok
t/Monitoring-Plugin-04.t .............. ok
t/Monitoring-Plugin-05.t .............. ok
t/Monitoring-Plugin-Functions-01.t .... ok
t/Monitoring-Plugin-Functions-02.t .... ok
t/Monitoring-Plugin-Functions-03.t .... ok
t/Monitoring-Plugin-Functions-04.t .... ok
t/Monitoring-Plugin-Getopt-01.t ....... ok
t/Monitoring-Plugin-Getopt-02.t ....... ok
t/Monitoring-Plugin-Getopt-03.t ....... ok
t/Monitoring-Plugin-Getopt-04.t ....... ok
t/Monitoring-Plugin-Performance-02.t .. ok
t/Monitoring-Plugin-Performance.t ..... ok
t/Monitoring-Plugin-Range.t ........... ok
t/Monitoring-Plugin-Threshold.t ....... ok
All tests successful.
Files=18, Tests=1002, 9 wallclock secs ( 0.27 usr 0.07 sys + 7.60 cusr 0.73 csys = 8.67 CPU)
Result: PASS
------------------------------
PREREQUISITES
------------------------------
Prerequisite modules loaded:
requires:
Module Need Have
------------------- ----- --------
Carp 0 1.52
Class::Accessor 0 0.51
Config::Tiny 0 2.28
File::Basename 0 2.85
File::Spec 0 3.84
IO::File 0 1.48
Math::Calc::Units 0 1.07
Params::Validate 0 1.30
perl 5.006 5.036000
build_requires:
Module Need Have
------------------- ----- --------
ExtUtils::MakeMaker 6.59 7.64
Test::More 0.62 1.302190
configure_requires:
Module Need Have
------------------- ----- --------
ExtUtils::MakeMaker 6.59 7.64
------------------------------
ENVIRONMENT AND OTHER CONTEXT
------------------------------
Environment variables:
LANG = en_US.utf8
LANGUAGE = en_US.utf8
LC_ALL = en_US.utf8
LC_COLLATE = en_US.utf8
LC_CTYPE = en_US.utf8
LC_NUMERIC = en_US.utf8
PATH = /usr/local/sbin:/usr/local/bin:/usr/sbin:/usr/bin:/sbin:/bin
PERL5LIB =
PERL5OPT =
PERL5_CPANPLUS_IS_RUNNING = 95811
PERL5_CPAN_IS_RUNNING = 95811
PERL_USE_UNSAFE_INC = 1
SHELL = /bin/bash
TERM = screen
Perl special variables (and OS-specific diagnostics, for MSWin32):
$^X = /usr/local/bin/perl
$UID/$EUID = 0 / 0
$GID = 0 0
$EGID = 0 0
Perl module toolchain versions installed:
Module Have
------------------- --------
CPAN 2.34
CPAN::Meta 2.150010
Cwd 3.84
ExtUtils::CBuilder 0.280236
ExtUtils::Command 7.64
ExtUtils::Install 2.20
ExtUtils::MakeMaker 7.64
ExtUtils::Manifest 1.73
ExtUtils::ParseXS 3.45
File::Spec 3.84
JSON 4.06
JSON::PP 4.09
Module::Build 0.4231
Module::Signature 0.88
Parse::CPAN::Meta 2.150010
Test::Harness 3.44
Test::More 1.302190
YAML 1.30
YAML::Syck 1.34
version 0.9929
--
Summary of my perl5 (revision 5 version 36 subversion 0) configuration:
Platform:
osname=linux
osvers=5.18.1.20220604
archname=x86_64-linux
uname='linux brieneno.rolandvanipenburg.nl 5.18.1.20220604 #1 smp preempt_dynamic sat jun 4 23:11:53 cest 2022 x86_64 gnulinux '
config_args='-des -Dinc_version_list=none'
hint=recommended
useposix=true
d_sigaction=define
useithreads=undef
usemultiplicity=undef
use64bitint=define
use64bitall=define
uselongdouble=undef
usemymalloc=n
default_inc_excludes_dot=define
Compiler:
cc='cc'
ccflags ='-fwrapv -fno-strict-aliasing -pipe -fstack-protector-strong -I/usr/local/include -D_LARGEFILE_SOURCE -D_FILE_OFFSET_BITS=64 -D_FORTIFY_SOURCE=2'
optimize='-O2'
cppflags='-fwrapv -fno-strict-aliasing -pipe -fstack-protector-strong -I/usr/local/include'
ccversion=''
gccversion='10.2.1 20210110'
gccosandvers=''
intsize=4
longsize=8
ptrsize=8
doublesize=8
byteorder=12345678
doublekind=3
d_longlong=define
longlongsize=8
d_longdbl=define
longdblsize=16
longdblkind=3
ivtype='long'
ivsize=8
nvtype='double'
nvsize=8
Off_t='off_t'
lseeksize=8
alignbytes=8
prototype=define
Linker and Libraries:
ld='cc'
ldflags =' -fstack-protector-strong -L/usr/local/lib'
libpth=/usr/local/lib /usr/lib/x86_64-linux-gnu /usr/lib /usr/lib64 /usr/local/lib64
libs=-lpthread -lnsl -ldb -ldl -lm -lcrypt -lutil -lc
perllibs=-lpthread -lnsl -ldl -lm -lcrypt -lutil -lc
libc=libc-2.31.so
so=so
useshrplib=false
libperl=libperl.a
gnulibc_version='2.31'
Dynamic Linking:
dlsrc=dl_dlopen.xs
dlext=so
d_dlsymun=undef
ccdlflags='-Wl,-E'
cccdlflags='-fPIC'
lddlflags='-shared -O2 -L/usr/local/lib -fstack-protector-strong'
Characteristics of this binary (from libperl):
Compile-time options:
HAS_TIMES
PERLIO_LAYERS
PERL_COPY_ON_WRITE
PERL_DONT_CREATE_GVSV
PERL_MALLOC_WRAP
PERL_OP_PARENT
PERL_PRESERVE_IVUV
USE_64_BIT_ALL
USE_64_BIT_INT
USE_LARGE_FILES
USE_LOCALE
USE_LOCALE_COLLATE
USE_LOCALE_CTYPE
USE_LOCALE_NUMERIC
USE_LOCALE_TIME
USE_PERLIO
USE_PERL_ATOF
Built under linux
Compiled at Jun 6 2022 08:29:23
%ENV:
PERL5LIB=""
PERL5OPT=""
PERL5_CPANPLUS_IS_RUNNING="95811"
PERL5_CPAN_IS_RUNNING="95811"
PERL_USE_UNSAFE_INC="1"
@INC:
/usr/local/lib/perl5/site_perl/5.36.0/x86_64-linux
/usr/local/lib/perl5/site_perl/5.36.0
/usr/local/lib/perl5/5.36.0/x86_64-linux
/usr/local/lib/perl5/5.36.0
.