WebService-SendBird v0.002 Perl 5 v5.41.10 x86_64-linux-thread-multi

Status
Pass
From
Andreas J. König (ANDK)
Dist
WebService-SendBird v0.002
Platform
Perl 5 v5.41.10 x86_64-linux-thread-multi
Date
2025-04-15 17:33:32
ID
c08e4c70-1a1f-11f0-8e1e-f625c59be9e9
This distribution has been tested as part of the CPAN Testers
project, supporting the Perl programming language.  See
http://wiki.cpantesters.org/ for more information or email
questions to cpan-testers-discuss@perl.org


--
Dear Deriv Services Ltd.,

This is a computer-generated report for WebService-SendBird-0.002
on perl 5.41.10, created by CPAN-Reporter-1.2020.

Thank you for uploading your work to CPAN.  Congratulations!
All tests were successful.

Sections of this report:

    * Tester comments
    * Program output
    * Prerequisites
    * Environment and other context

------------------------------
TESTER COMMENTS
------------------------------

Additional comments from tester:

this report is from an automated smoke testing program
and was not reviewed by a human for accuracy

------------------------------
PROGRAM OUTPUT
------------------------------

Output from '/usr/bin/make test':

PERL_DL_NONLAZY=1 "/tmp/basesmoker-reloperl-Cyl8/bin/perl" "-MExtUtils::Command::MM" "-MTest::Harness" "-e" "undef *Test::Harness::Switches; test_harness(0, 'blib/lib', 'blib/arch')" t/*.t
t/00-check-deps.t .......... ok
t/00-compile.t ............. ok
# 
# Versions for all modules listed in MYMETA.json (including optional ones):
# 
# === Configure Requires ===
# 
#     Module              Want Have
#     ------------------- ---- ----
#     ExtUtils::MakeMaker 7.64 7.72
# 
# === Build Requires ===
# 
#     Module              Want Have
#     ------------------- ---- ----
#     ExtUtils::MakeMaker  any 7.72
# 
# === Test Requires ===
# 
#     Module                     Want       Have
#     ------------------------- ----- ----------
#     ExtUtils::MakeMaker         any       7.72
#     File::Spec                  any       3.93
#     IO::Handle                  any       1.55
#     IPC::Open3                  any       1.24
#     Test::CheckDeps           0.010      0.010
#     Test::Fatal                 any      0.017
#     Test::MockObject            any 1.20200122
#     Test::MockObject::Extends   any 1.20200122
#     Test::More                 0.94   1.302209
# 
# === Test Recommends ===
# 
#     Module         Want     Have
#     ---------- -------- --------
#     CPAN::Meta 2.120900 2.150010
# 
# === Runtime Requires ===
# 
#     Module          Want     Have
#     --------------- ---- --------
#     Carp             any     1.54
#     JSON::MaybeXS    any 1.004008
#     JSON::PP         any     4.16
#     Mojo::URL        any    undef
#     Mojo::UserAgent  any    undef
#     constant         any     1.33
#     strict           any     1.13
#     warnings         any     1.74
# 
t/00-report-prereqs.t ...... ok
Un-mocked method 'is_error()' called at /tmp/loop_over_bdir-2864982-bUcvM6/WebService-SendBird-0.002-0/blib/lib/WebService/SendBird.pm line 175.
Un-mocked method 'is_error()' called at /tmp/loop_over_bdir-2864982-bUcvM6/WebService-SendBird-0.002-0/blib/lib/WebService/SendBird.pm line 175.
Use of uninitialized value in concatenation (.) or string at t/01_sendbird_apiclient.t line 344.
freeze in mock request is 
freeze in mock request is 1
freeze in mock request is 0
t/01_sendbird_apiclient.t .. ok
All tests successful.
Files=4, Tests=32,  1 wallclock secs ( 0.03 usr  0.02 sys +  1.48 cusr  0.17 csys =  1.70 CPU)
Result: PASS

------------------------------
PREREQUISITES
------------------------------

Prerequisite modules loaded:

requires:

    Module                    Need  Have      
    ------------------------- ----- ----------
    Carp                      0     1.54      
    constant                  0     1.33      
    JSON::MaybeXS             0     1.004008  
    JSON::PP                  0     4.16      
    Mojo::URL                 0     0         
    Mojo::UserAgent           0     0         
    perl                      5.006 5.041010  
    strict                    0     1.13      
    warnings                  0     1.74      

build_requires:

    Module                    Need  Have      
    ------------------------- ----- ----------
    ExtUtils::MakeMaker       0     7.72      
    File::Spec                0     3.93      
    IO::Handle                0     1.55      
    IPC::Open3                0     1.24      
    Test::CheckDeps           0.010 0.010     
    Test::Fatal               0     0.017     
    Test::MockObject          0     1.20200122
    Test::MockObject::Extends 0     1.20200122
    Test::More                0.94  1.302209  

configure_requires:

    Module                    Need  Have      
    ------------------------- ----- ----------
    ExtUtils::MakeMaker       7.64  7.72      


------------------------------
ENVIRONMENT AND OTHER CONTEXT
------------------------------

Environment variables:

    AUTOMATED_TESTING = 1
    LANG = en_US.UTF-8
    PATH = /home/sand/bin:/usr/local/bin:/usr/local/sbin:/usr/sbin:/usr/bin:/sbin:/bin:/usr/games:/usr/local/games:/snap/bin:/usr/local/perl/bin:/usr/X11/bin
    PERL5LIB = /tmp/loop_over_bdir-2864982-bUcvM6/Lingua-BioYaTeA-0.11-0/blib/arch:/tmp/loop_over_bdir-2864982-bUcvM6/Lingua-BioYaTeA-0.11-0/blib/lib:/tmp/loop_over_bdir-2864982-bUcvM6/Lingua-YaTeA-0.626-0/blib/arch:/tmp/loop_over_bdir-2864982-bUcvM6/Lingua-YaTeA-0.626-0/blib/lib:/tmp/loop_over_bdir-2864982-bUcvM6/DBIx-Migration-Directories-0.12-0/blib/arch:/tmp/loop_over_bdir-2864982-bUcvM6/DBIx-Migration-Directories-0.12-0/blib/lib
    PERL5OPT = 
    PERL5_CPANPLUS_IS_RUNNING = 2864990
    PERL5_CPAN_IS_RUNNING = 2864990
    PERL_CANARY_STABILITY_NOPROMPT = 1
    PERL_MM_USE_DEFAULT = 1
    PERL_USE_UNSAFE_INC = 1
    SHELL = /usr/bin/zsh
    TERM = screen

Perl special variables (and OS-specific diagnostics, for MSWin32):

    $^X = /tmp/basesmoker-reloperl-Cyl8/bin/perl
    $UID/$EUID = 1005 / 1005
    $GID = 1005 1005
    $EGID = 1005 1005

Perl module toolchain versions installed:

    Module              Have    
    ------------------- --------
    CPAN                2.38    
    CPAN::Meta          2.150010
    Cwd                 3.92    
    ExtUtils::CBuilder  0.280240
    ExtUtils::Command   7.72    
    ExtUtils::Install   2.22    
    ExtUtils::MakeMaker 7.72    
    ExtUtils::Manifest  1.75    
    ExtUtils::ParseXS   3.57    
    File::Spec          3.93    
    JSON                4.10    
    JSON::PP            4.16    
    Module::Build       0.4234  
    Module::Signature   0.89    
    Parse::CPAN::Meta   2.150010
    Test2               1.302209
    Test::Harness       3.50    
    Test::More          1.302209
    YAML                1.31    
    YAML::Syck          1.34    
    version             0.9933  


--

Summary of my perl5 (revision 5 version 41 subversion 10) configuration:
  Commit id: 6a1cf63fc3f0e8d25b8f3837f9ca46b3bbc65885
  Platform:
    osname=linux
    osvers=5.4.0-208-generic
    archname=x86_64-linux-thread-multi
    uname='linux k93focal 5.4.0-208-generic #228-ubuntu smp fri feb 7 19:41:33 utc 2025 x86_64 x86_64 x86_64 gnulinux '
    config_args='-Dprefix=/home/sand/src/perl/repoperls/installed-perls/host/k93focal/v5.41.10/d119 -Dmyhostname=k93focal -Dinstallusrbinperl=n -Uversiononly -Dusedevel -des -Ui_db -Dlibswanted=cl pthread socket inet nsl gdbm dbm malloc dl ld sun m crypt sec util c cposix posix ucb BSD gdbm_compat -Duseithreads -Uuselongdouble -DEBUGGING=both'
    hint=recommended
    useposix=true
    d_sigaction=define
    useithreads=define
    usemultiplicity=define
    use64bitint=define
    use64bitall=define
    uselongdouble=undef
    usemymalloc=n
    default_inc_excludes_dot=define
  Compiler:
    cc='cc'
    ccflags ='-D_REENTRANT -D_GNU_SOURCE -fwrapv -DDEBUGGING -fno-strict-aliasing -pipe -fstack-protector-strong -I/usr/local/include -D_LARGEFILE_SOURCE -D_FILE_OFFSET_BITS=64'
    optimize='-O2 -g'
    cppflags='-D_REENTRANT -D_GNU_SOURCE -fwrapv -DDEBUGGING -fno-strict-aliasing -pipe -fstack-protector-strong -I/usr/local/include'
    ccversion=''
    gccversion='9.4.0'
    gccosandvers=''
    intsize=4
    longsize=8
    ptrsize=8
    doublesize=8
    byteorder=12345678
    doublekind=3
    d_longlong=define
    longlongsize=8
    d_longdbl=define
    longdblsize=16
    longdblkind=3
    ivtype='long'
    ivsize=8
    nvtype='double'
    nvsize=8
    Off_t='off_t'
    lseeksize=8
    alignbytes=8
    prototype=define
  Linker and Libraries:
    ld='cc'
    ldflags =' -fstack-protector-strong -L/usr/local/lib'
    libpth=/usr/local/lib /usr/lib/x86_64-linux-gnu /usr/lib /usr/lib64
    libs=-lpthread -lnsl -ldl -lm -lcrypt -lutil -lc
    perllibs=-lpthread -lnsl -ldl -lm -lcrypt -lutil -lc
    libc=libc-2.31.so
    so=so
    useshrplib=false
    libperl=libperl.a
    gnulibc_version='2.31'
  Dynamic Linking:
    dlsrc=dl_dlopen.xs
    dlext=so
    d_dlsymun=undef
    ccdlflags='-Wl,-E'
    cccdlflags='-fPIC'
    lddlflags='-shared -O2 -g -L/usr/local/lib -fstack-protector-strong'


Characteristics of this binary (from libperl): 
  Compile-time options:
    DEBUGGING
    HAS_LONG_DOUBLE
    HAS_STRTOLD
    HAS_TIMES
    MULTIPLICITY
    PERLIO_LAYERS
    PERL_COPY_ON_WRITE
    PERL_DONT_CREATE_GVSV
    PERL_HASH_FUNC_SIPHASH13
    PERL_HASH_USE_SBOX32
    PERL_MALLOC_WRAP
    PERL_OP_PARENT
    PERL_PRESERVE_IVUV
    PERL_TRACK_MEMPOOL
    PERL_USE_DEVEL
    PERL_USE_SAFE_PUTENV
    USE_64_BIT_ALL
    USE_64_BIT_INT
    USE_ITHREADS
    USE_LARGE_FILES
    USE_LOCALE
    USE_LOCALE_COLLATE
    USE_LOCALE_CTYPE
    USE_LOCALE_NUMERIC
    USE_LOCALE_TIME
    USE_PERLIO
    USE_PERL_ATOF
    USE_REENTRANT_API
    USE_THREAD_SAFE_LOCALE
  Built under linux
  Compiled at Mar 25 2025 16:21:46
  %ENV:
    PERL5LIB="/tmp/loop_over_bdir-2864982-bUcvM6/Lingua-BioYaTeA-0.11-0/blib/arch:/tmp/loop_over_bdir-2864982-bUcvM6/Lingua-BioYaTeA-0.11-0/blib/lib:/tmp/loop_over_bdir-2864982-bUcvM6/Lingua-YaTeA-0.626-0/blib/arch:/tmp/loop_over_bdir-2864982-bUcvM6/Lingua-YaTeA-0.626-0/blib/lib:/tmp/loop_over_bdir-2864982-bUcvM6/DBIx-Migration-Directories-0.12-0/blib/arch:/tmp/loop_over_bdir-2864982-bUcvM6/DBIx-Migration-Directories-0.12-0/blib/lib"
    PERL5OPT=""
    PERL5_CPANPLUS_IS_RUNNING="2864990"
    PERL5_CPAN_IS_RUNNING="2864990"
    PERL_CANARY_STABILITY_NOPROMPT="1"
    PERL_MM_USE_DEFAULT="1"
    PERL_USE_UNSAFE_INC="1"
  @INC:
    /tmp/loop_over_bdir-2864982-bUcvM6/Lingua-BioYaTeA-0.11-0/blib/arch
    /tmp/loop_over_bdir-2864982-bUcvM6/Lingua-BioYaTeA-0.11-0/blib/lib
    /tmp/loop_over_bdir-2864982-bUcvM6/Lingua-YaTeA-0.626-0/blib/arch
    /tmp/loop_over_bdir-2864982-bUcvM6/Lingua-YaTeA-0.626-0/blib/lib
    /tmp/loop_over_bdir-2864982-bUcvM6/DBIx-Migration-Directories-0.12-0/blib/arch
    /tmp/loop_over_bdir-2864982-bUcvM6/DBIx-Migration-Directories-0.12-0/blib/lib
    /home/sand/src/perl/repoperls/installed-perls/host/k93focal/v5.41.10/d119/lib/site_perl/5.41.10/x86_64-linux-thread-multi
    /home/sand/src/perl/repoperls/installed-perls/host/k93focal/v5.41.10/d119/lib/site_perl/5.41.10
    /home/sand/src/perl/repoperls/installed-perls/host/k93focal/v5.41.10/d119/lib/5.41.10/x86_64-linux-thread-multi
    /home/sand/src/perl/repoperls/installed-perls/host/k93focal/v5.41.10/d119/lib/5.41.10
    .