Regexp-Grammars v1.058 Perl 5 v5.36.0 x86_64-linux
- Status
- Pass
- From
- Slaven Rezić
- Dist
-
Regexp-Grammars v1.058
- Platform
- Perl 5 v5.36.0 x86_64-linux
- Date
- 2022-09-21 16:45:08
- ID
- c05fb97c-39cc-11ed-b8f5-3c4b6e8775ea
This distribution has been tested as part of the CPAN Testers
project, supporting the Perl programming language. See
http://wiki.cpantesters.org/ for more information or email
questions to cpan-testers-discuss@perl.org
--
Dear Damian Conway,
This is a computer-generated report for Regexp-Grammars-1.058
on perl 5.36.0, created by CPAN-Reporter-1.2018.
Thank you for uploading your work to CPAN. Congratulations!
All tests were successful.
Sections of this report:
* Tester comments
* Program output
* Prerequisites
* Environment and other context
------------------------------
TESTER COMMENTS
------------------------------
Additional comments from tester:
none provided
------------------------------
PROGRAM OUTPUT
------------------------------
Output from './Build test':
# Testing Regexp::Grammars 1.058
t/00.load.t ............................ ok
t/alias_literal.t ...................... ok
t/aliased_subpatterns.t ................ ok
t/arg.t ................................ ok
t/autoflatten.t ........................ ok
t/backref.t ............................ ok
t/backref_ARG.t ........................ ok
t/charnames.t .......................... ok
t/charset.t ............................ ok
t/class_accessor.t ..................... ok
t/clear_actions.t ...................... ok
t/comment.t ............................ ok
t/data_structure.t ..................... ok
t/error.t .............................. ok
t/error_non_backtracking.t ............. ok
t/error_non_hash_based.t ............... ok
t/error_translate.t .................... ok
t/fatal.t .............................. ok
t/fwdref.t ............................. ok
t/grammar.t ............................ ok
t/grammar_autospace.t .................. ok
t/grammar_polymorphism.t ............... ok
t/hash.t ............................... ok
t/hash_redef.t ......................... ok
t/hash_redef_local.t ................... ok
t/inline_computation.t ................. ok
t/inline_computation_handler.t ......... ok
t/inline_computation_obj_handler.t ..... ok
t/local_ws.t ........................... ok
t/lookaheads.t ......................... ok
t/matchline.t .......................... ok
t/matchpos.t ........................... ok
t/minimize_bug.t ....................... ok
t/missing_slash_x.t .................... ok
t/moose.t .............................. ok
t/neg_lookahead.t ...................... ok
t/new.t ................................ ok
t/new_init.t ........................... ok
t/new_init_autoload.t .................. ok
t/new_init_limited_autoload.t .......... ok
t/new_init_limited_autoload_warn.t ..... ok
t/no_context.t ......................... ok
t/no_context_counterlocal.t ............ ok
t/no_context_local.t ................... ok
t/no_context_named_capture.t ........... ok
t/non_backtracking.t ................... ok
t/obj_rename.t ......................... ok
t/one_liner.t .......................... ok
t/pod.t ................................ ok
t/pseudovars.t ......................... ok
t/repop_ws.t ........................... ok
t/seplist.t ............................ ok
t/seplist_countedhash_0.t .............. ok
t/seplist_countedhash_0_.t ............. ok
t/seplist_countedhash_0_1.t ............ ok
t/seplist_countedhash_0_N.t ............ ok
t/seplist_countedhash_1.t .............. ok
t/seplist_countedhash_1_.t ............. ok
t/seplist_countedhash_1_N.t ............ ok
t/seplist_countedhash_M_.t ............. ok
t/seplist_countedhash_M_N.t ............ ok
t/seplist_countedhash_N.t .............. ok
warn | Non-backtracking subrule call <[item=Value]>++
| at t/seplist_greediness.t line 45
| may not revert correctly during backtracking.
| (If grammar does not work, try <[item=Value]>+ instead)
|
t/seplist_greediness.t ................. ok
t/seplist_plushash.t ................... ok
t/seplist_questionmark.t ............... ok
t/seplist_rawhash.t .................... ok
t/seplist_starhash.t ................... ok
t/seplist_trailing__countedhash_0.t .... ok
t/seplist_trailing__countedhash_0_.t ... ok
t/seplist_trailing__countedhash_0_1.t .. ok
t/seplist_trailing__countedhash_0_N.t .. ok
t/seplist_trailing__countedhash_1.t .... ok
t/seplist_trailing__countedhash_1_.t ... ok
t/seplist_trailing__countedhash_1_N.t .. ok
t/seplist_trailing__countedhash_M_.t ... ok
t/seplist_trailing__countedhash_M_N.t .. ok
t/seplist_trailing__countedhash_N.t .... ok
warn | Non-backtracking subrule call <[item=Value]>++
| at t/seplist_trailing__greediness.t line 45
| may not revert correctly during backtracking.
| (If grammar does not work, try <[item=Value]>+ instead)
|
t/seplist_trailing__greediness.t ....... ok
t/seplist_trailing__plushash.t ......... ok
t/seplist_trailing__questionmark.t ..... ok
t/seplist_trailing__rawhash.t .......... ok
t/seplist_trailing__starhash.t ......... ok
t/top_is_token.t ....................... ok
t/ws_redefine.t ........................ ok
All tests successful.
Files=84, Tests=1411, 8 wallclock secs ( 0.29 usr 0.11 sys + 6.47 cusr 0.93 csys = 7.80 CPU)
Result: PASS
------------------------------
PREREQUISITES
------------------------------
Prerequisite modules loaded:
requires:
Module Need Have
------------------- ------- --------
perl v5.10.0 5.036000
Test::More 0 1.302190
version 0 0.9929
configure_requires:
Module Need Have
------------------- ------- --------
ExtUtils::MakeMaker 0 7.64
------------------------------
ENVIRONMENT AND OTHER CONTEXT
------------------------------
Environment variables:
LANG = en_US.UTF-8
PATH = /usr/local/bin:/usr/bin:/bin:/usr/local/sbin:/usr/sbin:/sbin:/home/cpansand/bin/linux-gnu:/home/cpansand/bin/sh:/home/cpansand/bin:/usr/games:/home/cpansand/devel:/home/eserte/src/srezic-misc/scripts
PERL5LIB =
PERL5OPT =
PERL5_CPANPLUS_IS_RUNNING = 23431
PERL5_CPAN_IS_RUNNING = 23431
PERL5_CPAN_IS_RUNNING_IN_RECURSION = 23387,23431
PERLDOC = -MPod::Perldoc::ToTextOverstrike
PERL_BATCH = yes
PERL_CANARY_STABILITY_NOPROMPT = 1
PERL_CPAN_REPORTER_CONFIG = /var/tmp/cpansmoker-1023/2022092116/cpanreporter_000_config.ini
PERL_EXTUTILS_AUTOINSTALL = --defaultdeps
PERL_USE_UNSAFE_INC = 1
SHELL = /usr/bin/zsh
TERM = screen
TMPDIR = /var/tmp/cpansmoker-1023/2022092116
Perl special variables (and OS-specific diagnostics, for MSWin32):
$^X = /opt/perl-5.36.0/bin/perl
$UID/$EUID = 1023 / 1023
$GID = 1023 1023
$EGID = 1023 1023
Perl module toolchain versions installed:
Module Have
------------------- --------
CPAN 2.33
CPAN::Meta 2.150010
Cwd 3.84
ExtUtils::CBuilder 0.280236
ExtUtils::Command 7.64
ExtUtils::Install 2.20
ExtUtils::MakeMaker 7.64
ExtUtils::Manifest 1.73
ExtUtils::ParseXS 3.45
File::Spec 3.84
JSON 4.09
JSON::PP 4.07
Module::Build 0.4231
Module::Signature 0.88
Parse::CPAN::Meta 2.150010
Test::Harness 3.44
Test::More 1.302190
YAML 1.30
YAML::Syck 1.34
version 0.9929
--
Summary of my perl5 (revision 5 version 36 subversion 0) configuration:
Platform:
osname=linux
osvers=3.10.0-1160.76.1.el7.x86_64
archname=x86_64-linux
uname='linux cloud3.bbbike.org 3.10.0-1160.76.1.el7.x86_64 #1 smp wed aug 10 16:21:17 utc 2022 x86_64 x86_64 x86_64 gnulinux '
config_args='-ds -e -Dprefix=/opt/perl-5.36.0 -Dcf_email=srezic@cpan.org'
hint=recommended
useposix=true
d_sigaction=define
useithreads=undef
usemultiplicity=undef
use64bitint=define
use64bitall=define
uselongdouble=undef
usemymalloc=n
default_inc_excludes_dot=define
Compiler:
cc='cc'
ccflags ='-std=gnu99 -fwrapv -fno-strict-aliasing -pipe -fstack-protector-strong -I/usr/local/include -D_LARGEFILE_SOURCE -D_FILE_OFFSET_BITS=64 -D_FORTIFY_SOURCE=2'
optimize='-O2'
cppflags='-std=gnu99 -fwrapv -fno-strict-aliasing -pipe -fstack-protector-strong -I/usr/local/include'
ccversion=''
gccversion='4.8.5 20150623 (Red Hat 4.8.5-44)'
gccosandvers=''
intsize=4
longsize=8
ptrsize=8
doublesize=8
byteorder=12345678
doublekind=3
d_longlong=define
longlongsize=8
d_longdbl=define
longdblsize=16
longdblkind=3
ivtype='long'
ivsize=8
nvtype='double'
nvsize=8
Off_t='off_t'
lseeksize=8
alignbytes=8
prototype=define
Linker and Libraries:
ld='cc'
ldflags =' -fstack-protector-strong -L/usr/local/lib'
libpth=/usr/local/lib /usr/lib /usr/lib64 /usr/local/lib64
libs=-lpthread -lnsl -lgdbm -ldb -ldl -lm -lcrypt -lutil -lc -lgdbm_compat
perllibs=-lpthread -lnsl -ldl -lm -lcrypt -lutil -lc
libc=libc-2.17.so
so=so
useshrplib=false
libperl=libperl.a
gnulibc_version='2.17'
Dynamic Linking:
dlsrc=dl_dlopen.xs
dlext=so
d_dlsymun=undef
ccdlflags='-Wl,-E'
cccdlflags='-fPIC'
lddlflags='-shared -O2 -L/usr/local/lib -fstack-protector-strong'
Characteristics of this binary (from libperl):
Compile-time options:
HAS_TIMES
PERLIO_LAYERS
PERL_COPY_ON_WRITE
PERL_DONT_CREATE_GVSV
PERL_MALLOC_WRAP
PERL_OP_PARENT
PERL_PRESERVE_IVUV
USE_64_BIT_ALL
USE_64_BIT_INT
USE_LARGE_FILES
USE_LOCALE
USE_LOCALE_COLLATE
USE_LOCALE_CTYPE
USE_LOCALE_NUMERIC
USE_LOCALE_TIME
USE_PERLIO
USE_PERL_ATOF
Built under linux
Compiled at Sep 20 2022 21:40:31
%ENV:
PERL5LIB=""
PERL5OPT=""
PERL5_CPANPLUS_IS_RUNNING="23431"
PERL5_CPAN_IS_RUNNING="23431"
PERL5_CPAN_IS_RUNNING_IN_RECURSION="23387,23431"
PERLDOC="-MPod::Perldoc::ToTextOverstrike"
PERL_BATCH="yes"
PERL_CANARY_STABILITY_NOPROMPT="1"
PERL_CPAN_REPORTER_CONFIG="/var/tmp/cpansmoker-1023/2022092116/cpanreporter_000_config.ini"
PERL_EXTUTILS_AUTOINSTALL="--defaultdeps"
PERL_USE_UNSAFE_INC="1"
@INC:
/opt/perl-5.36.0/lib/site_perl/5.36.0/x86_64-linux
/opt/perl-5.36.0/lib/site_perl/5.36.0
/opt/perl-5.36.0/lib/5.36.0/x86_64-linux
/opt/perl-5.36.0/lib/5.36.0
.