Data-Serializer v0.65 Perl 5 v5.24.1 x86_64-linux

Status
Pass
From
Andreas J. König (ANDK)
Dist
Data-Serializer v0.65
Platform
Perl 5 v5.24.1 x86_64-linux
Date
2022-03-29 03:03:04
ID
c05d7f90-af0c-11ec-894c-5b4c7589a58b
This distribution has been tested as part of the CPAN Testers
project, supporting the Perl programming language.  See
http://wiki.cpantesters.org/ for more information or email
questions to cpan-testers-discuss@perl.org


--
Dear Neil A. Neely,

This is a computer-generated report for Data-Serializer-0.65
on perl 5.24.1, created by CPAN-Reporter-1.2018.

Thank you for uploading your work to CPAN.  Congratulations!
All tests were successful.

Sections of this report:

    * Tester comments
    * Program output
    * Prerequisites
    * Environment and other context

------------------------------
TESTER COMMENTS
------------------------------

Additional comments from tester:

this report is from an automated smoke testing program
and was not reviewed by a human for accuracy

------------------------------
PROGRAM OUTPUT
------------------------------

Output from '/usr/bin/make test':

/home/sand/src/perl/repoperls/installed-perls/host/k93msid/v5.24.1/da1c/bin/perl Build --makefile_env_macros 1 test
t/00-01-Signature.t ........... skipped: (no reason given)
t/00-02-Kwalitee.t ............ skipped: Test::Kwalitee not installed; skipping
t/01-01-Data-Dumper.t ......... ok
t/01-02-Data-Denter.t ......... skipped: Data::Denter not installed
t/01-03-Storable.t ............ ok
t/01-04-FreezeThaw.t .......... skipped: FreezeThaw not installed
t/01-05-Config-General.t ...... skipped: Config::General not installed
t/01-06-YAML.t ................ ok
t/01-07-XML-Dumper.t .......... skipped: XML::Dumper not installed
t/01-08-PHP-Serialization.t ... skipped: PHP::Serialization not installed
t/01-09-XML-Simple.t .......... skipped: XML::Simple not installed
t/01-10-Data-Taxi.t ........... skipped: Data::Taxi not installed
t/01-11-YAML-Syck.t ........... ok
t/01-12-JSON.t ................ ok
t/01-13-JSON-Syck.t ........... ok
t/01-14-Bencode.t ............. skipped: Bencode not installed
t/01-15-Convert-Bencode.t ..... skipped: Convert::Bencode not installed
t/01-16-Convert-Bencode_XS.t .. skipped: Convert::Bencode_XS not installed
t/02-01-Orig-Raw.t ............ ok
t/02-02-Fast-Raw.t ............ ok
t/03-Non-Portable.t ........... ok
t/04-01-Compress-Zlib.t ....... ok
t/04-02-Compress-PPMd.t ....... skipped: compressppmd not installed
WARNING: The key derivation method "opensslv1" is deprecated. Using -pbkdf=>'pbkdf2' would be better.
Pass -nodeprecate=>1 to inhibit this message.
 at /tmp/loop_over_bdir-2096-t4V_ID/Data-Serializer-0.65-0/blib/lib/Data/Serializer.pm line 293.
WARNING: The key derivation method "opensslv1" is deprecated. Using -pbkdf=>'pbkdf2' would be better.
Pass -nodeprecate=>1 to inhibit this message.
 at /tmp/loop_over_bdir-2096-t4V_ID/Data-Serializer-0.65-0/blib/lib/Data/Serializer.pm line 293.
WARNING: The key derivation method "opensslv1" is deprecated. Using -pbkdf=>'pbkdf2' would be better.
Pass -nodeprecate=>1 to inhibit this message.
 at /tmp/loop_over_bdir-2096-t4V_ID/Data-Serializer-0.65-0/blib/lib/Data/Serializer.pm line 293.
WARNING: The key derivation method "opensslv1" is deprecated. Using -pbkdf=>'pbkdf2' would be better.
Pass -nodeprecate=>1 to inhibit this message.
 at /tmp/loop_over_bdir-2096-t4V_ID/Data-Serializer-0.65-0/blib/lib/Data/Serializer.pm line 293.
WARNING: The key derivation method "opensslv1" is deprecated. Using -pbkdf=>'pbkdf2' would be better.
Pass -nodeprecate=>1 to inhibit this message.
 at /tmp/loop_over_bdir-2096-t4V_ID/Data-Serializer-0.65-0/blib/lib/Data/Serializer.pm line 293.
WARNING: The key derivation method "opensslv1" is deprecated. Using -pbkdf=>'pbkdf2' would be better.
Pass -nodeprecate=>1 to inhibit this message.
 at /tmp/loop_over_bdir-2096-t4V_ID/Data-Serializer-0.65-0/blib/lib/Data/Serializer.pm line 293.
WARNING: The key derivation method "opensslv1" is deprecated. Using -pbkdf=>'pbkdf2' would be better.
Pass -nodeprecate=>1 to inhibit this message.
 at /tmp/loop_over_bdir-2096-t4V_ID/Data-Serializer-0.65-0/blib/lib/Data/Serializer.pm line 293.
WARNING: The key derivation method "opensslv1" is deprecated. Using -pbkdf=>'pbkdf2' would be better.
Pass -nodeprecate=>1 to inhibit this message.
 at /tmp/loop_over_bdir-2096-t4V_ID/Data-Serializer-0.65-0/blib/lib/Data/Serializer.pm line 293.
WARNING: The key derivation method "opensslv1" is deprecated. Using -pbkdf=>'pbkdf2' would be better.
Pass -nodeprecate=>1 to inhibit this message.
 at /tmp/loop_over_bdir-2096-t4V_ID/Data-Serializer-0.65-0/blib/lib/Data/Serializer.pm line 293.
WARNING: The key derivation method "opensslv1" is deprecated. Using -pbkdf=>'pbkdf2' would be better.
Pass -nodeprecate=>1 to inhibit this message.
 at /tmp/loop_over_bdir-2096-t4V_ID/Data-Serializer-0.65-0/blib/lib/Data/Serializer.pm line 293.
WARNING: The key derivation method "opensslv1" is deprecated. Using -pbkdf=>'pbkdf2' would be better.
Pass -nodeprecate=>1 to inhibit this message.
 at /tmp/loop_over_bdir-2096-t4V_ID/Data-Serializer-0.65-0/blib/lib/Data/Serializer.pm line 293.
WARNING: The key derivation method "opensslv1" is deprecated. Using -pbkdf=>'pbkdf2' would be better.
Pass -nodeprecate=>1 to inhibit this message.
 at /tmp/loop_over_bdir-2096-t4V_ID/Data-Serializer-0.65-0/blib/lib/Data/Serializer.pm line 293.
WARNING: The key derivation method "opensslv1" is deprecated. Using -pbkdf=>'pbkdf2' would be better.
Pass -nodeprecate=>1 to inhibit this message.
 at /tmp/loop_over_bdir-2096-t4V_ID/Data-Serializer-0.65-0/blib/lib/Data/Serializer.pm line 293.
WARNING: The key derivation method "opensslv1" is deprecated. Using -pbkdf=>'pbkdf2' would be better.
Pass -nodeprecate=>1 to inhibit this message.
 at /tmp/loop_over_bdir-2096-t4V_ID/Data-Serializer-0.65-0/blib/lib/Data/Serializer.pm line 293.
WARNING: The key derivation method "opensslv1" is deprecated. Using -pbkdf=>'pbkdf2' would be better.
Pass -nodeprecate=>1 to inhibit this message.
 at /tmp/loop_over_bdir-2096-t4V_ID/Data-Serializer-0.65-0/blib/lib/Data/Serializer.pm line 293.
WARNING: The key derivation method "opensslv1" is deprecated. Using -pbkdf=>'pbkdf2' would be better.
Pass -nodeprecate=>1 to inhibit this message.
 at /tmp/loop_over_bdir-2096-t4V_ID/Data-Serializer-0.65-0/blib/lib/Data/Serializer.pm line 293.
WARNING: The key derivation method "opensslv1" is deprecated. Using -pbkdf=>'pbkdf2' would be better.
Pass -nodeprecate=>1 to inhibit this message.
 at /tmp/loop_over_bdir-2096-t4V_ID/Data-Serializer-0.65-0/blib/lib/Data/Serializer.pm line 293.
WARNING: The key derivation method "opensslv1" is deprecated. Using -pbkdf=>'pbkdf2' would be better.
Pass -nodeprecate=>1 to inhibit this message.
 at /tmp/loop_over_bdir-2096-t4V_ID/Data-Serializer-0.65-0/blib/lib/Data/Serializer.pm line 293.
WARNING: The key derivation method "opensslv1" is deprecated. Using -pbkdf=>'pbkdf2' would be better.
Pass -nodeprecate=>1 to inhibit this message.
 at /tmp/loop_over_bdir-2096-t4V_ID/Data-Serializer-0.65-0/blib/lib/Data/Serializer.pm line 293.
WARNING: The key derivation method "opensslv1" is deprecated. Using -pbkdf=>'pbkdf2' would be better.
Pass -nodeprecate=>1 to inhibit this message.
 at /tmp/loop_over_bdir-2096-t4V_ID/Data-Serializer-0.65-0/blib/lib/Data/Serializer.pm line 293.
WARNING: The key derivation method "opensslv1" is deprecated. Using -pbkdf=>'pbkdf2' would be better.
Pass -nodeprecate=>1 to inhibit this message.
 at /tmp/loop_over_bdir-2096-t4V_ID/Data-Serializer-0.65-0/blib/lib/Data/Serializer.pm line 293.
WARNING: The key derivation method "opensslv1" is deprecated. Using -pbkdf=>'pbkdf2' would be better.
Pass -nodeprecate=>1 to inhibit this message.
 at /tmp/loop_over_bdir-2096-t4V_ID/Data-Serializer-0.65-0/blib/lib/Data/Serializer.pm line 293.
WARNING: The key derivation method "opensslv1" is deprecated. Using -pbkdf=>'pbkdf2' would be better.
Pass -nodeprecate=>1 to inhibit this message.
 at /tmp/loop_over_bdir-2096-t4V_ID/Data-Serializer-0.65-0/blib/lib/Data/Serializer.pm line 293.
WARNING: The key derivation method "opensslv1" is deprecated. Using -pbkdf=>'pbkdf2' would be better.
Pass -nodeprecate=>1 to inhibit this message.
 at /tmp/loop_over_bdir-2096-t4V_ID/Data-Serializer-0.65-0/blib/lib/Data/Serializer.pm line 293.
WARNING: The key derivation method "opensslv1" is deprecated. Using -pbkdf=>'pbkdf2' would be better.
Pass -nodeprecate=>1 to inhibit this message.
 at /tmp/loop_over_bdir-2096-t4V_ID/Data-Serializer-0.65-0/blib/lib/Data/Serializer.pm line 293.
WARNING: The key derivation method "opensslv1" is deprecated. Using -pbkdf=>'pbkdf2' would be better.
Pass -nodeprecate=>1 to inhibit this message.
 at /tmp/loop_over_bdir-2096-t4V_ID/Data-Serializer-0.65-0/blib/lib/Data/Serializer.pm line 293.
WARNING: The key derivation method "opensslv1" is deprecated. Using -pbkdf=>'pbkdf2' would be better.
Pass -nodeprecate=>1 to inhibit this message.
 at /tmp/loop_over_bdir-2096-t4V_ID/Data-Serializer-0.65-0/blib/lib/Data/Serializer.pm line 293.
WARNING: The key derivation method "opensslv1" is deprecated. Using -pbkdf=>'pbkdf2' would be better.
Pass -nodeprecate=>1 to inhibit this message.
 at /tmp/loop_over_bdir-2096-t4V_ID/Data-Serializer-0.65-0/blib/lib/Data/Serializer.pm line 293.
WARNING: The key derivation method "opensslv1" is deprecated. Using -pbkdf=>'pbkdf2' would be better.
Pass -nodeprecate=>1 to inhibit this message.
 at /tmp/loop_over_bdir-2096-t4V_ID/Data-Serializer-0.65-0/blib/lib/Data/Serializer.pm line 293.
WARNING: The key derivation method "opensslv1" is deprecated. Using -pbkdf=>'pbkdf2' would be better.
Pass -nodeprecate=>1 to inhibit this message.
 at /tmp/loop_over_bdir-2096-t4V_ID/Data-Serializer-0.65-0/blib/lib/Data/Serializer.pm line 293.
WARNING: The key derivation method "opensslv1" is deprecated. Using -pbkdf=>'pbkdf2' would be better.
Pass -nodeprecate=>1 to inhibit this message.
 at /tmp/loop_over_bdir-2096-t4V_ID/Data-Serializer-0.65-0/blib/lib/Data/Serializer.pm line 293.
WARNING: The key derivation method "opensslv1" is deprecated. Using -pbkdf=>'pbkdf2' would be better.
Pass -nodeprecate=>1 to inhibit this message.
 at /tmp/loop_over_bdir-2096-t4V_ID/Data-Serializer-0.65-0/blib/lib/Data/Serializer.pm line 293.
WARNING: The key derivation method "opensslv1" is deprecated. Using -pbkdf=>'pbkdf2' would be better.
Pass -nodeprecate=>1 to inhibit this message.
 at /tmp/loop_over_bdir-2096-t4V_ID/Data-Serializer-0.65-0/blib/lib/Data/Serializer.pm line 293.
WARNING: The key derivation method "opensslv1" is deprecated. Using -pbkdf=>'pbkdf2' would be better.
Pass -nodeprecate=>1 to inhibit this message.
 at /tmp/loop_over_bdir-2096-t4V_ID/Data-Serializer-0.65-0/blib/lib/Data/Serializer.pm line 293.
WARNING: The key derivation method "opensslv1" is deprecated. Using -pbkdf=>'pbkdf2' would be better.
Pass -nodeprecate=>1 to inhibit this message.
 at /tmp/loop_over_bdir-2096-t4V_ID/Data-Serializer-0.65-0/blib/lib/Data/Serializer.pm line 293.
WARNING: The key derivation method "opensslv1" is deprecated. Using -pbkdf=>'pbkdf2' would be better.
Pass -nodeprecate=>1 to inhibit this message.
 at /tmp/loop_over_bdir-2096-t4V_ID/Data-Serializer-0.65-0/blib/lib/Data/Serializer.pm line 293.
WARNING: The key derivation method "opensslv1" is deprecated. Using -pbkdf=>'pbkdf2' would be better.
Pass -nodeprecate=>1 to inhibit this message.
 at /tmp/loop_over_bdir-2096-t4V_ID/Data-Serializer-0.65-0/blib/lib/Data/Serializer.pm line 293.
WARNING: The key derivation method "opensslv1" is deprecated. Using -pbkdf=>'pbkdf2' would be better.
Pass -nodeprecate=>1 to inhibit this message.
 at /tmp/loop_over_bdir-2096-t4V_ID/Data-Serializer-0.65-0/blib/lib/Data/Serializer.pm line 293.
WARNING: The key derivation method "opensslv1" is deprecated. Using -pbkdf=>'pbkdf2' would be better.
Pass -nodeprecate=>1 to inhibit this message.
 at /tmp/loop_over_bdir-2096-t4V_ID/Data-Serializer-0.65-0/blib/lib/Data/Serializer.pm line 293.
WARNING: The key derivation method "opensslv1" is deprecated. Using -pbkdf=>'pbkdf2' would be better.
Pass -nodeprecate=>1 to inhibit this message.
 at /tmp/loop_over_bdir-2096-t4V_ID/Data-Serializer-0.65-0/blib/lib/Data/Serializer.pm line 293.
WARNING: The key derivation method "opensslv1" is deprecated. Using -pbkdf=>'pbkdf2' would be better.
Pass -nodeprecate=>1 to inhibit this message.
 at /tmp/loop_over_bdir-2096-t4V_ID/Data-Serializer-0.65-0/blib/lib/Data/Serializer.pm line 293.
WARNING: The key derivation method "opensslv1" is deprecated. Using -pbkdf=>'pbkdf2' would be better.
Pass -nodeprecate=>1 to inhibit this message.
 at /tmp/loop_over_bdir-2096-t4V_ID/Data-Serializer-0.65-0/blib/lib/Data/Serializer.pm line 293.
WARNING: The key derivation method "opensslv1" is deprecated. Using -pbkdf=>'pbkdf2' would be better.
Pass -nodeprecate=>1 to inhibit this message.
 at /tmp/loop_over_bdir-2096-t4V_ID/Data-Serializer-0.65-0/blib/lib/Data/Serializer.pm line 293.
WARNING: The key derivation method "opensslv1" is deprecated. Using -pbkdf=>'pbkdf2' would be better.
Pass -nodeprecate=>1 to inhibit this message.
 at /tmp/loop_over_bdir-2096-t4V_ID/Data-Serializer-0.65-0/blib/lib/Data/Serializer.pm line 293.
WARNING: The key derivation method "opensslv1" is deprecated. Using -pbkdf=>'pbkdf2' would be better.
Pass -nodeprecate=>1 to inhibit this message.
 at /tmp/loop_over_bdir-2096-t4V_ID/Data-Serializer-0.65-0/blib/lib/Data/Serializer.pm line 293.
WARNING: The key derivation method "opensslv1" is deprecated. Using -pbkdf=>'pbkdf2' would be better.
Pass -nodeprecate=>1 to inhibit this message.
 at /tmp/loop_over_bdir-2096-t4V_ID/Data-Serializer-0.65-0/blib/lib/Data/Serializer.pm line 293.
WARNING: The key derivation method "opensslv1" is deprecated. Using -pbkdf=>'pbkdf2' would be better.
Pass -nodeprecate=>1 to inhibit this message.
 at /tmp/loop_over_bdir-2096-t4V_ID/Data-Serializer-0.65-0/blib/lib/Data/Serializer.pm line 293.
WARNING: The key derivation method "opensslv1" is deprecated. Using -pbkdf=>'pbkdf2' would be better.
Pass -nodeprecate=>1 to inhibit this message.
 at /tmp/loop_over_bdir-2096-t4V_ID/Data-Serializer-0.65-0/blib/lib/Data/Serializer.pm line 293.
WARNING: The key derivation method "opensslv1" is deprecated. Using -pbkdf=>'pbkdf2' would be better.
Pass -nodeprecate=>1 to inhibit this message.
 at /tmp/loop_over_bdir-2096-t4V_ID/Data-Serializer-0.65-0/blib/lib/Data/Serializer.pm line 293.
WARNING: The key derivation method "opensslv1" is deprecated. Using -pbkdf=>'pbkdf2' would be better.
Pass -nodeprecate=>1 to inhibit this message.
 at /tmp/loop_over_bdir-2096-t4V_ID/Data-Serializer-0.65-0/blib/lib/Data/Serializer.pm line 293.
WARNING: The key derivation method "opensslv1" is deprecated. Using -pbkdf=>'pbkdf2' would be better.
Pass -nodeprecate=>1 to inhibit this message.
 at /tmp/loop_over_bdir-2096-t4V_ID/Data-Serializer-0.65-0/blib/lib/Data/Serializer.pm line 293.
WARNING: The key derivation method "opensslv1" is deprecated. Using -pbkdf=>'pbkdf2' would be better.
Pass -nodeprecate=>1 to inhibit this message.
 at /tmp/loop_over_bdir-2096-t4V_ID/Data-Serializer-0.65-0/blib/lib/Data/Serializer.pm line 293.
t/05-Encryption.t ............. ok
t/06-B64-Encoding.t ........... ok
WARNING: The key derivation method "opensslv1" is deprecated. Using -pbkdf=>'pbkdf2' would be better.
Pass -nodeprecate=>1 to inhibit this message.
 at /tmp/loop_over_bdir-2096-t4V_ID/Data-Serializer-0.65-0/blib/lib/Data/Serializer.pm line 293.
WARNING: The key derivation method "opensslv1" is deprecated. Using -pbkdf=>'pbkdf2' would be better.
Pass -nodeprecate=>1 to inhibit this message.
 at /tmp/loop_over_bdir-2096-t4V_ID/Data-Serializer-0.65-0/blib/lib/Data/Serializer.pm line 293.
WARNING: The key derivation method "opensslv1" is deprecated. Using -pbkdf=>'pbkdf2' would be better.
Pass -nodeprecate=>1 to inhibit this message.
 at /tmp/loop_over_bdir-2096-t4V_ID/Data-Serializer-0.65-0/blib/lib/Data/Serializer.pm line 293.
WARNING: The key derivation method "opensslv1" is deprecated. Using -pbkdf=>'pbkdf2' would be better.
Pass -nodeprecate=>1 to inhibit this message.
 at /tmp/loop_over_bdir-2096-t4V_ID/Data-Serializer-0.65-0/blib/lib/Data/Serializer.pm line 293.
WARNING: The key derivation method "opensslv1" is deprecated. Using -pbkdf=>'pbkdf2' would be better.
Pass -nodeprecate=>1 to inhibit this message.
 at /tmp/loop_over_bdir-2096-t4V_ID/Data-Serializer-0.65-0/blib/lib/Data/Serializer.pm line 293.
WARNING: The key derivation method "opensslv1" is deprecated. Using -pbkdf=>'pbkdf2' would be better.
Pass -nodeprecate=>1 to inhibit this message.
 at /tmp/loop_over_bdir-2096-t4V_ID/Data-Serializer-0.65-0/blib/lib/Data/Serializer.pm line 293.
WARNING: The key derivation method "opensslv1" is deprecated. Using -pbkdf=>'pbkdf2' would be better.
Pass -nodeprecate=>1 to inhibit this message.
 at /tmp/loop_over_bdir-2096-t4V_ID/Data-Serializer-0.65-0/blib/lib/Data/Serializer.pm line 293.
WARNING: The key derivation method "opensslv1" is deprecated. Using -pbkdf=>'pbkdf2' would be better.
Pass -nodeprecate=>1 to inhibit this message.
 at /tmp/loop_over_bdir-2096-t4V_ID/Data-Serializer-0.65-0/blib/lib/Data/Serializer.pm line 293.
WARNING: The key derivation method "opensslv1" is deprecated. Using -pbkdf=>'pbkdf2' would be better.
Pass -nodeprecate=>1 to inhibit this message.
 at /tmp/loop_over_bdir-2096-t4V_ID/Data-Serializer-0.65-0/blib/lib/Data/Serializer.pm line 293.
WARNING: The key derivation method "opensslv1" is deprecated. Using -pbkdf=>'pbkdf2' would be better.
Pass -nodeprecate=>1 to inhibit this message.
 at /tmp/loop_over_bdir-2096-t4V_ID/Data-Serializer-0.65-0/blib/lib/Data/Serializer.pm line 293.
WARNING: The key derivation method "opensslv1" is deprecated. Using -pbkdf=>'pbkdf2' would be better.
Pass -nodeprecate=>1 to inhibit this message.
 at /tmp/loop_over_bdir-2096-t4V_ID/Data-Serializer-0.65-0/blib/lib/Data/Serializer.pm line 293.
WARNING: The key derivation method "opensslv1" is deprecated. Using -pbkdf=>'pbkdf2' would be better.
Pass -nodeprecate=>1 to inhibit this message.
 at /tmp/loop_over_bdir-2096-t4V_ID/Data-Serializer-0.65-0/blib/lib/Data/Serializer.pm line 293.
WARNING: The key derivation method "opensslv1" is deprecated. Using -pbkdf=>'pbkdf2' would be better.
Pass -nodeprecate=>1 to inhibit this message.
 at /tmp/loop_over_bdir-2096-t4V_ID/Data-Serializer-0.65-0/blib/lib/Data/Serializer.pm line 293.
WARNING: The key derivation method "opensslv1" is deprecated. Using -pbkdf=>'pbkdf2' would be better.
Pass -nodeprecate=>1 to inhibit this message.
 at /tmp/loop_over_bdir-2096-t4V_ID/Data-Serializer-0.65-0/blib/lib/Data/Serializer.pm line 293.
WARNING: The key derivation method "opensslv1" is deprecated. Using -pbkdf=>'pbkdf2' would be better.
Pass -nodeprecate=>1 to inhibit this message.
 at /tmp/loop_over_bdir-2096-t4V_ID/Data-Serializer-0.65-0/blib/lib/Data/Serializer.pm line 293.
WARNING: The key derivation method "opensslv1" is deprecated. Using -pbkdf=>'pbkdf2' would be better.
Pass -nodeprecate=>1 to inhibit this message.
 at /tmp/loop_over_bdir-2096-t4V_ID/Data-Serializer-0.65-0/blib/lib/Data/Serializer.pm line 293.
WARNING: The key derivation method "opensslv1" is deprecated. Using -pbkdf=>'pbkdf2' would be better.
Pass -nodeprecate=>1 to inhibit this message.
 at /tmp/loop_over_bdir-2096-t4V_ID/Data-Serializer-0.65-0/blib/lib/Data/Serializer.pm line 293.
WARNING: The key derivation method "opensslv1" is deprecated. Using -pbkdf=>'pbkdf2' would be better.
Pass -nodeprecate=>1 to inhibit this message.
 at /tmp/loop_over_bdir-2096-t4V_ID/Data-Serializer-0.65-0/blib/lib/Data/Serializer.pm line 293.
WARNING: The key derivation method "opensslv1" is deprecated. Using -pbkdf=>'pbkdf2' would be better.
Pass -nodeprecate=>1 to inhibit this message.
 at /tmp/loop_over_bdir-2096-t4V_ID/Data-Serializer-0.65-0/blib/lib/Data/Serializer.pm line 293.
WARNING: The key derivation method "opensslv1" is deprecated. Using -pbkdf=>'pbkdf2' would be better.
Pass -nodeprecate=>1 to inhibit this message.
 at /tmp/loop_over_bdir-2096-t4V_ID/Data-Serializer-0.65-0/blib/lib/Data/Serializer.pm line 293.
WARNING: The key derivation method "opensslv1" is deprecated. Using -pbkdf=>'pbkdf2' would be better.
Pass -nodeprecate=>1 to inhibit this message.
 at /tmp/loop_over_bdir-2096-t4V_ID/Data-Serializer-0.65-0/blib/lib/Data/Serializer.pm line 293.
WARNING: The key derivation method "opensslv1" is deprecated. Using -pbkdf=>'pbkdf2' would be better.
Pass -nodeprecate=>1 to inhibit this message.
 at /tmp/loop_over_bdir-2096-t4V_ID/Data-Serializer-0.65-0/blib/lib/Data/Serializer.pm line 293.
WARNING: The key derivation method "opensslv1" is deprecated. Using -pbkdf=>'pbkdf2' would be better.
Pass -nodeprecate=>1 to inhibit this message.
 at /tmp/loop_over_bdir-2096-t4V_ID/Data-Serializer-0.65-0/blib/lib/Data/Serializer.pm line 293.
WARNING: The key derivation method "opensslv1" is deprecated. Using -pbkdf=>'pbkdf2' would be better.
Pass -nodeprecate=>1 to inhibit this message.
 at /tmp/loop_over_bdir-2096-t4V_ID/Data-Serializer-0.65-0/blib/lib/Data/Serializer.pm line 293.
WARNING: The key derivation method "opensslv1" is deprecated. Using -pbkdf=>'pbkdf2' would be better.
Pass -nodeprecate=>1 to inhibit this message.
 at /tmp/loop_over_bdir-2096-t4V_ID/Data-Serializer-0.65-0/blib/lib/Data/Serializer.pm line 293.
WARNING: The key derivation method "opensslv1" is deprecated. Using -pbkdf=>'pbkdf2' would be better.
Pass -nodeprecate=>1 to inhibit this message.
 at /tmp/loop_over_bdir-2096-t4V_ID/Data-Serializer-0.65-0/blib/lib/Data/Serializer.pm line 293.
WARNING: The key derivation method "opensslv1" is deprecated. Using -pbkdf=>'pbkdf2' would be better.
Pass -nodeprecate=>1 to inhibit this message.
 at /tmp/loop_over_bdir-2096-t4V_ID/Data-Serializer-0.65-0/blib/lib/Data/Serializer.pm line 293.
WARNING: The key derivation method "opensslv1" is deprecated. Using -pbkdf=>'pbkdf2' would be better.
Pass -nodeprecate=>1 to inhibit this message.
 at /tmp/loop_over_bdir-2096-t4V_ID/Data-Serializer-0.65-0/blib/lib/Data/Serializer.pm line 293.
WARNING: The key derivation method "opensslv1" is deprecated. Using -pbkdf=>'pbkdf2' would be better.
Pass -nodeprecate=>1 to inhibit this message.
 at /tmp/loop_over_bdir-2096-t4V_ID/Data-Serializer-0.65-0/blib/lib/Data/Serializer.pm line 293.
WARNING: The key derivation method "opensslv1" is deprecated. Using -pbkdf=>'pbkdf2' would be better.
Pass -nodeprecate=>1 to inhibit this message.
 at /tmp/loop_over_bdir-2096-t4V_ID/Data-Serializer-0.65-0/blib/lib/Data/Serializer.pm line 293.
WARNING: The key derivation method "opensslv1" is deprecated. Using -pbkdf=>'pbkdf2' would be better.
Pass -nodeprecate=>1 to inhibit this message.
 at /tmp/loop_over_bdir-2096-t4V_ID/Data-Serializer-0.65-0/blib/lib/Data/Serializer.pm line 293.
WARNING: The key derivation method "opensslv1" is deprecated. Using -pbkdf=>'pbkdf2' would be better.
Pass -nodeprecate=>1 to inhibit this message.
 at /tmp/loop_over_bdir-2096-t4V_ID/Data-Serializer-0.65-0/blib/lib/Data/Serializer.pm line 293.
WARNING: The key derivation method "opensslv1" is deprecated. Using -pbkdf=>'pbkdf2' would be better.
Pass -nodeprecate=>1 to inhibit this message.
 at /tmp/loop_over_bdir-2096-t4V_ID/Data-Serializer-0.65-0/blib/lib/Data/Serializer.pm line 293.
WARNING: The key derivation method "opensslv1" is deprecated. Using -pbkdf=>'pbkdf2' would be better.
Pass -nodeprecate=>1 to inhibit this message.
 at /tmp/loop_over_bdir-2096-t4V_ID/Data-Serializer-0.65-0/blib/lib/Data/Serializer.pm line 293.
WARNING: The key derivation method "opensslv1" is deprecated. Using -pbkdf=>'pbkdf2' would be better.
Pass -nodeprecate=>1 to inhibit this message.
 at /tmp/loop_over_bdir-2096-t4V_ID/Data-Serializer-0.65-0/blib/lib/Data/Serializer.pm line 293.
WARNING: The key derivation method "opensslv1" is deprecated. Using -pbkdf=>'pbkdf2' would be better.
Pass -nodeprecate=>1 to inhibit this message.
 at /tmp/loop_over_bdir-2096-t4V_ID/Data-Serializer-0.65-0/blib/lib/Data/Serializer.pm line 293.
WARNING: The key derivation method "opensslv1" is deprecated. Using -pbkdf=>'pbkdf2' would be better.
Pass -nodeprecate=>1 to inhibit this message.
 at /tmp/loop_over_bdir-2096-t4V_ID/Data-Serializer-0.65-0/blib/lib/Data/Serializer.pm line 293.
WARNING: The key derivation method "opensslv1" is deprecated. Using -pbkdf=>'pbkdf2' would be better.
Pass -nodeprecate=>1 to inhibit this message.
 at /tmp/loop_over_bdir-2096-t4V_ID/Data-Serializer-0.65-0/blib/lib/Data/Serializer.pm line 293.
WARNING: The key derivation method "opensslv1" is deprecated. Using -pbkdf=>'pbkdf2' would be better.
Pass -nodeprecate=>1 to inhibit this message.
 at /tmp/loop_over_bdir-2096-t4V_ID/Data-Serializer-0.65-0/blib/lib/Data/Serializer.pm line 293.
WARNING: The key derivation method "opensslv1" is deprecated. Using -pbkdf=>'pbkdf2' would be better.
Pass -nodeprecate=>1 to inhibit this message.
 at /tmp/loop_over_bdir-2096-t4V_ID/Data-Serializer-0.65-0/blib/lib/Data/Serializer.pm line 293.
WARNING: The key derivation method "opensslv1" is deprecated. Using -pbkdf=>'pbkdf2' would be better.
Pass -nodeprecate=>1 to inhibit this message.
 at /tmp/loop_over_bdir-2096-t4V_ID/Data-Serializer-0.65-0/blib/lib/Data/Serializer.pm line 293.
WARNING: The key derivation method "opensslv1" is deprecated. Using -pbkdf=>'pbkdf2' would be better.
Pass -nodeprecate=>1 to inhibit this message.
 at /tmp/loop_over_bdir-2096-t4V_ID/Data-Serializer-0.65-0/blib/lib/Data/Serializer.pm line 293.
WARNING: The key derivation method "opensslv1" is deprecated. Using -pbkdf=>'pbkdf2' would be better.
Pass -nodeprecate=>1 to inhibit this message.
 at /tmp/loop_over_bdir-2096-t4V_ID/Data-Serializer-0.65-0/blib/lib/Data/Serializer.pm line 293.
WARNING: The key derivation method "opensslv1" is deprecated. Using -pbkdf=>'pbkdf2' would be better.
Pass -nodeprecate=>1 to inhibit this message.
 at /tmp/loop_over_bdir-2096-t4V_ID/Data-Serializer-0.65-0/blib/lib/Data/Serializer.pm line 293.
WARNING: The key derivation method "opensslv1" is deprecated. Using -pbkdf=>'pbkdf2' would be better.
Pass -nodeprecate=>1 to inhibit this message.
 at /tmp/loop_over_bdir-2096-t4V_ID/Data-Serializer-0.65-0/blib/lib/Data/Serializer.pm line 293.
WARNING: The key derivation method "opensslv1" is deprecated. Using -pbkdf=>'pbkdf2' would be better.
Pass -nodeprecate=>1 to inhibit this message.
 at /tmp/loop_over_bdir-2096-t4V_ID/Data-Serializer-0.65-0/blib/lib/Data/Serializer.pm line 293.
WARNING: The key derivation method "opensslv1" is deprecated. Using -pbkdf=>'pbkdf2' would be better.
Pass -nodeprecate=>1 to inhibit this message.
 at /tmp/loop_over_bdir-2096-t4V_ID/Data-Serializer-0.65-0/blib/lib/Data/Serializer.pm line 293.
WARNING: The key derivation method "opensslv1" is deprecated. Using -pbkdf=>'pbkdf2' would be better.
Pass -nodeprecate=>1 to inhibit this message.
 at /tmp/loop_over_bdir-2096-t4V_ID/Data-Serializer-0.65-0/blib/lib/Data/Serializer.pm line 293.
WARNING: The key derivation method "opensslv1" is deprecated. Using -pbkdf=>'pbkdf2' would be better.
Pass -nodeprecate=>1 to inhibit this message.
 at /tmp/loop_over_bdir-2096-t4V_ID/Data-Serializer-0.65-0/blib/lib/Data/Serializer.pm line 293.
WARNING: The key derivation method "opensslv1" is deprecated. Using -pbkdf=>'pbkdf2' would be better.
Pass -nodeprecate=>1 to inhibit this message.
 at /tmp/loop_over_bdir-2096-t4V_ID/Data-Serializer-0.65-0/blib/lib/Data/Serializer.pm line 293.
WARNING: The key derivation method "opensslv1" is deprecated. Using -pbkdf=>'pbkdf2' would be better.
Pass -nodeprecate=>1 to inhibit this message.
 at /tmp/loop_over_bdir-2096-t4V_ID/Data-Serializer-0.65-0/blib/lib/Data/Serializer.pm line 293.
WARNING: The key derivation method "opensslv1" is deprecated. Using -pbkdf=>'pbkdf2' would be better.
Pass -nodeprecate=>1 to inhibit this message.
 at /tmp/loop_over_bdir-2096-t4V_ID/Data-Serializer-0.65-0/blib/lib/Data/Serializer.pm line 293.
t/07-01-MD5-Digest.t .......... ok
WARNING: The key derivation method "opensslv1" is deprecated. Using -pbkdf=>'pbkdf2' would be better.
Pass -nodeprecate=>1 to inhibit this message.
 at /tmp/loop_over_bdir-2096-t4V_ID/Data-Serializer-0.65-0/blib/lib/Data/Serializer.pm line 293.
WARNING: The key derivation method "opensslv1" is deprecated. Using -pbkdf=>'pbkdf2' would be better.
Pass -nodeprecate=>1 to inhibit this message.
 at /tmp/loop_over_bdir-2096-t4V_ID/Data-Serializer-0.65-0/blib/lib/Data/Serializer.pm line 293.
WARNING: The key derivation method "opensslv1" is deprecated. Using -pbkdf=>'pbkdf2' would be better.
Pass -nodeprecate=>1 to inhibit this message.
 at /tmp/loop_over_bdir-2096-t4V_ID/Data-Serializer-0.65-0/blib/lib/Data/Serializer.pm line 293.
WARNING: The key derivation method "opensslv1" is deprecated. Using -pbkdf=>'pbkdf2' would be better.
Pass -nodeprecate=>1 to inhibit this message.
 at /tmp/loop_over_bdir-2096-t4V_ID/Data-Serializer-0.65-0/blib/lib/Data/Serializer.pm line 293.
WARNING: The key derivation method "opensslv1" is deprecated. Using -pbkdf=>'pbkdf2' would be better.
Pass -nodeprecate=>1 to inhibit this message.
 at /tmp/loop_over_bdir-2096-t4V_ID/Data-Serializer-0.65-0/blib/lib/Data/Serializer.pm line 293.
WARNING: The key derivation method "opensslv1" is deprecated. Using -pbkdf=>'pbkdf2' would be better.
Pass -nodeprecate=>1 to inhibit this message.
 at /tmp/loop_over_bdir-2096-t4V_ID/Data-Serializer-0.65-0/blib/lib/Data/Serializer.pm line 293.
WARNING: The key derivation method "opensslv1" is deprecated. Using -pbkdf=>'pbkdf2' would be better.
Pass -nodeprecate=>1 to inhibit this message.
 at /tmp/loop_over_bdir-2096-t4V_ID/Data-Serializer-0.65-0/blib/lib/Data/Serializer.pm line 293.
WARNING: The key derivation method "opensslv1" is deprecated. Using -pbkdf=>'pbkdf2' would be better.
Pass -nodeprecate=>1 to inhibit this message.
 at /tmp/loop_over_bdir-2096-t4V_ID/Data-Serializer-0.65-0/blib/lib/Data/Serializer.pm line 293.
WARNING: The key derivation method "opensslv1" is deprecated. Using -pbkdf=>'pbkdf2' would be better.
Pass -nodeprecate=>1 to inhibit this message.
 at /tmp/loop_over_bdir-2096-t4V_ID/Data-Serializer-0.65-0/blib/lib/Data/Serializer.pm line 293.
WARNING: The key derivation method "opensslv1" is deprecated. Using -pbkdf=>'pbkdf2' would be better.
Pass -nodeprecate=>1 to inhibit this message.
 at /tmp/loop_over_bdir-2096-t4V_ID/Data-Serializer-0.65-0/blib/lib/Data/Serializer.pm line 293.
WARNING: The key derivation method "opensslv1" is deprecated. Using -pbkdf=>'pbkdf2' would be better.
Pass -nodeprecate=>1 to inhibit this message.
 at /tmp/loop_over_bdir-2096-t4V_ID/Data-Serializer-0.65-0/blib/lib/Data/Serializer.pm line 293.
WARNING: The key derivation method "opensslv1" is deprecated. Using -pbkdf=>'pbkdf2' would be better.
Pass -nodeprecate=>1 to inhibit this message.
 at /tmp/loop_over_bdir-2096-t4V_ID/Data-Serializer-0.65-0/blib/lib/Data/Serializer.pm line 293.
WARNING: The key derivation method "opensslv1" is deprecated. Using -pbkdf=>'pbkdf2' would be better.
Pass -nodeprecate=>1 to inhibit this message.
 at /tmp/loop_over_bdir-2096-t4V_ID/Data-Serializer-0.65-0/blib/lib/Data/Serializer.pm line 293.
WARNING: The key derivation method "opensslv1" is deprecated. Using -pbkdf=>'pbkdf2' would be better.
Pass -nodeprecate=>1 to inhibit this message.
 at /tmp/loop_over_bdir-2096-t4V_ID/Data-Serializer-0.65-0/blib/lib/Data/Serializer.pm line 293.
WARNING: The key derivation method "opensslv1" is deprecated. Using -pbkdf=>'pbkdf2' would be better.
Pass -nodeprecate=>1 to inhibit this message.
 at /tmp/loop_over_bdir-2096-t4V_ID/Data-Serializer-0.65-0/blib/lib/Data/Serializer.pm line 293.
WARNING: The key derivation method "opensslv1" is deprecated. Using -pbkdf=>'pbkdf2' would be better.
Pass -nodeprecate=>1 to inhibit this message.
 at /tmp/loop_over_bdir-2096-t4V_ID/Data-Serializer-0.65-0/blib/lib/Data/Serializer.pm line 293.
WARNING: The key derivation method "opensslv1" is deprecated. Using -pbkdf=>'pbkdf2' would be better.
Pass -nodeprecate=>1 to inhibit this message.
 at /tmp/loop_over_bdir-2096-t4V_ID/Data-Serializer-0.65-0/blib/lib/Data/Serializer.pm line 293.
WARNING: The key derivation method "opensslv1" is deprecated. Using -pbkdf=>'pbkdf2' would be better.
Pass -nodeprecate=>1 to inhibit this message.
 at /tmp/loop_over_bdir-2096-t4V_ID/Data-Serializer-0.65-0/blib/lib/Data/Serializer.pm line 293.
WARNING: The key derivation method "opensslv1" is deprecated. Using -pbkdf=>'pbkdf2' would be better.
Pass -nodeprecate=>1 to inhibit this message.
 at /tmp/loop_over_bdir-2096-t4V_ID/Data-Serializer-0.65-0/blib/lib/Data/Serializer.pm line 293.
WARNING: The key derivation method "opensslv1" is deprecated. Using -pbkdf=>'pbkdf2' would be better.
Pass -nodeprecate=>1 to inhibit this message.
 at /tmp/loop_over_bdir-2096-t4V_ID/Data-Serializer-0.65-0/blib/lib/Data/Serializer.pm line 293.
WARNING: The key derivation method "opensslv1" is deprecated. Using -pbkdf=>'pbkdf2' would be better.
Pass -nodeprecate=>1 to inhibit this message.
 at /tmp/loop_over_bdir-2096-t4V_ID/Data-Serializer-0.65-0/blib/lib/Data/Serializer.pm line 293.
WARNING: The key derivation method "opensslv1" is deprecated. Using -pbkdf=>'pbkdf2' would be better.
Pass -nodeprecate=>1 to inhibit this message.
 at /tmp/loop_over_bdir-2096-t4V_ID/Data-Serializer-0.65-0/blib/lib/Data/Serializer.pm line 293.
WARNING: The key derivation method "opensslv1" is deprecated. Using -pbkdf=>'pbkdf2' would be better.
Pass -nodeprecate=>1 to inhibit this message.
 at /tmp/loop_over_bdir-2096-t4V_ID/Data-Serializer-0.65-0/blib/lib/Data/Serializer.pm line 293.
WARNING: The key derivation method "opensslv1" is deprecated. Using -pbkdf=>'pbkdf2' would be better.
Pass -nodeprecate=>1 to inhibit this message.
 at /tmp/loop_over_bdir-2096-t4V_ID/Data-Serializer-0.65-0/blib/lib/Data/Serializer.pm line 293.
WARNING: The key derivation method "opensslv1" is deprecated. Using -pbkdf=>'pbkdf2' would be better.
Pass -nodeprecate=>1 to inhibit this message.
 at /tmp/loop_over_bdir-2096-t4V_ID/Data-Serializer-0.65-0/blib/lib/Data/Serializer.pm line 293.
WARNING: The key derivation method "opensslv1" is deprecated. Using -pbkdf=>'pbkdf2' would be better.
Pass -nodeprecate=>1 to inhibit this message.
 at /tmp/loop_over_bdir-2096-t4V_ID/Data-Serializer-0.65-0/blib/lib/Data/Serializer.pm line 293.
WARNING: The key derivation method "opensslv1" is deprecated. Using -pbkdf=>'pbkdf2' would be better.
Pass -nodeprecate=>1 to inhibit this message.
 at /tmp/loop_over_bdir-2096-t4V_ID/Data-Serializer-0.65-0/blib/lib/Data/Serializer.pm line 293.
WARNING: The key derivation method "opensslv1" is deprecated. Using -pbkdf=>'pbkdf2' would be better.
Pass -nodeprecate=>1 to inhibit this message.
 at /tmp/loop_over_bdir-2096-t4V_ID/Data-Serializer-0.65-0/blib/lib/Data/Serializer.pm line 293.
WARNING: The key derivation method "opensslv1" is deprecated. Using -pbkdf=>'pbkdf2' would be better.
Pass -nodeprecate=>1 to inhibit this message.
 at /tmp/loop_over_bdir-2096-t4V_ID/Data-Serializer-0.65-0/blib/lib/Data/Serializer.pm line 293.
WARNING: The key derivation method "opensslv1" is deprecated. Using -pbkdf=>'pbkdf2' would be better.
Pass -nodeprecate=>1 to inhibit this message.
 at /tmp/loop_over_bdir-2096-t4V_ID/Data-Serializer-0.65-0/blib/lib/Data/Serializer.pm line 293.
WARNING: The key derivation method "opensslv1" is deprecated. Using -pbkdf=>'pbkdf2' would be better.
Pass -nodeprecate=>1 to inhibit this message.
 at /tmp/loop_over_bdir-2096-t4V_ID/Data-Serializer-0.65-0/blib/lib/Data/Serializer.pm line 293.
WARNING: The key derivation method "opensslv1" is deprecated. Using -pbkdf=>'pbkdf2' would be better.
Pass -nodeprecate=>1 to inhibit this message.
 at /tmp/loop_over_bdir-2096-t4V_ID/Data-Serializer-0.65-0/blib/lib/Data/Serializer.pm line 293.
WARNING: The key derivation method "opensslv1" is deprecated. Using -pbkdf=>'pbkdf2' would be better.
Pass -nodeprecate=>1 to inhibit this message.
 at /tmp/loop_over_bdir-2096-t4V_ID/Data-Serializer-0.65-0/blib/lib/Data/Serializer.pm line 293.
WARNING: The key derivation method "opensslv1" is deprecated. Using -pbkdf=>'pbkdf2' would be better.
Pass -nodeprecate=>1 to inhibit this message.
 at /tmp/loop_over_bdir-2096-t4V_ID/Data-Serializer-0.65-0/blib/lib/Data/Serializer.pm line 293.
WARNING: The key derivation method "opensslv1" is deprecated. Using -pbkdf=>'pbkdf2' would be better.
Pass -nodeprecate=>1 to inhibit this message.
 at /tmp/loop_over_bdir-2096-t4V_ID/Data-Serializer-0.65-0/blib/lib/Data/Serializer.pm line 293.
WARNING: The key derivation method "opensslv1" is deprecated. Using -pbkdf=>'pbkdf2' would be better.
Pass -nodeprecate=>1 to inhibit this message.
 at /tmp/loop_over_bdir-2096-t4V_ID/Data-Serializer-0.65-0/blib/lib/Data/Serializer.pm line 293.
WARNING: The key derivation method "opensslv1" is deprecated. Using -pbkdf=>'pbkdf2' would be better.
Pass -nodeprecate=>1 to inhibit this message.
 at /tmp/loop_over_bdir-2096-t4V_ID/Data-Serializer-0.65-0/blib/lib/Data/Serializer.pm line 293.
WARNING: The key derivation method "opensslv1" is deprecated. Using -pbkdf=>'pbkdf2' would be better.
Pass -nodeprecate=>1 to inhibit this message.
 at /tmp/loop_over_bdir-2096-t4V_ID/Data-Serializer-0.65-0/blib/lib/Data/Serializer.pm line 293.
WARNING: The key derivation method "opensslv1" is deprecated. Using -pbkdf=>'pbkdf2' would be better.
Pass -nodeprecate=>1 to inhibit this message.
 at /tmp/loop_over_bdir-2096-t4V_ID/Data-Serializer-0.65-0/blib/lib/Data/Serializer.pm line 293.
WARNING: The key derivation method "opensslv1" is deprecated. Using -pbkdf=>'pbkdf2' would be better.
Pass -nodeprecate=>1 to inhibit this message.
 at /tmp/loop_over_bdir-2096-t4V_ID/Data-Serializer-0.65-0/blib/lib/Data/Serializer.pm line 293.
WARNING: The key derivation method "opensslv1" is deprecated. Using -pbkdf=>'pbkdf2' would be better.
Pass -nodeprecate=>1 to inhibit this message.
 at /tmp/loop_over_bdir-2096-t4V_ID/Data-Serializer-0.65-0/blib/lib/Data/Serializer.pm line 293.
WARNING: The key derivation method "opensslv1" is deprecated. Using -pbkdf=>'pbkdf2' would be better.
Pass -nodeprecate=>1 to inhibit this message.
 at /tmp/loop_over_bdir-2096-t4V_ID/Data-Serializer-0.65-0/blib/lib/Data/Serializer.pm line 293.
WARNING: The key derivation method "opensslv1" is deprecated. Using -pbkdf=>'pbkdf2' would be better.
Pass -nodeprecate=>1 to inhibit this message.
 at /tmp/loop_over_bdir-2096-t4V_ID/Data-Serializer-0.65-0/blib/lib/Data/Serializer.pm line 293.
WARNING: The key derivation method "opensslv1" is deprecated. Using -pbkdf=>'pbkdf2' would be better.
Pass -nodeprecate=>1 to inhibit this message.
 at /tmp/loop_over_bdir-2096-t4V_ID/Data-Serializer-0.65-0/blib/lib/Data/Serializer.pm line 293.
WARNING: The key derivation method "opensslv1" is deprecated. Using -pbkdf=>'pbkdf2' would be better.
Pass -nodeprecate=>1 to inhibit this message.
 at /tmp/loop_over_bdir-2096-t4V_ID/Data-Serializer-0.65-0/blib/lib/Data/Serializer.pm line 293.
WARNING: The key derivation method "opensslv1" is deprecated. Using -pbkdf=>'pbkdf2' would be better.
Pass -nodeprecate=>1 to inhibit this message.
 at /tmp/loop_over_bdir-2096-t4V_ID/Data-Serializer-0.65-0/blib/lib/Data/Serializer.pm line 293.
WARNING: The key derivation method "opensslv1" is deprecated. Using -pbkdf=>'pbkdf2' would be better.
Pass -nodeprecate=>1 to inhibit this message.
 at /tmp/loop_over_bdir-2096-t4V_ID/Data-Serializer-0.65-0/blib/lib/Data/Serializer.pm line 293.
WARNING: The key derivation method "opensslv1" is deprecated. Using -pbkdf=>'pbkdf2' would be better.
Pass -nodeprecate=>1 to inhibit this message.
 at /tmp/loop_over_bdir-2096-t4V_ID/Data-Serializer-0.65-0/blib/lib/Data/Serializer.pm line 293.
WARNING: The key derivation method "opensslv1" is deprecated. Using -pbkdf=>'pbkdf2' would be better.
Pass -nodeprecate=>1 to inhibit this message.
 at /tmp/loop_over_bdir-2096-t4V_ID/Data-Serializer-0.65-0/blib/lib/Data/Serializer.pm line 293.
WARNING: The key derivation method "opensslv1" is deprecated. Using -pbkdf=>'pbkdf2' would be better.
Pass -nodeprecate=>1 to inhibit this message.
 at /tmp/loop_over_bdir-2096-t4V_ID/Data-Serializer-0.65-0/blib/lib/Data/Serializer.pm line 293.
WARNING: The key derivation method "opensslv1" is deprecated. Using -pbkdf=>'pbkdf2' would be better.
Pass -nodeprecate=>1 to inhibit this message.
 at /tmp/loop_over_bdir-2096-t4V_ID/Data-Serializer-0.65-0/blib/lib/Data/Serializer.pm line 293.
WARNING: The key derivation method "opensslv1" is deprecated. Using -pbkdf=>'pbkdf2' would be better.
Pass -nodeprecate=>1 to inhibit this message.
 at /tmp/loop_over_bdir-2096-t4V_ID/Data-Serializer-0.65-0/blib/lib/Data/Serializer.pm line 293.
t/07-02-SHA1-Digest.t ......... ok
WARNING: The key derivation method "opensslv1" is deprecated. Using -pbkdf=>'pbkdf2' would be better.
Pass -nodeprecate=>1 to inhibit this message.
 at /tmp/loop_over_bdir-2096-t4V_ID/Data-Serializer-0.65-0/blib/lib/Data/Serializer.pm line 293.
WARNING: The key derivation method "opensslv1" is deprecated. Using -pbkdf=>'pbkdf2' would be better.
Pass -nodeprecate=>1 to inhibit this message.
 at /tmp/loop_over_bdir-2096-t4V_ID/Data-Serializer-0.65-0/blib/lib/Data/Serializer.pm line 293.
WARNING: The key derivation method "opensslv1" is deprecated. Using -pbkdf=>'pbkdf2' would be better.
Pass -nodeprecate=>1 to inhibit this message.
 at /tmp/loop_over_bdir-2096-t4V_ID/Data-Serializer-0.65-0/blib/lib/Data/Serializer.pm line 293.
WARNING: The key derivation method "opensslv1" is deprecated. Using -pbkdf=>'pbkdf2' would be better.
Pass -nodeprecate=>1 to inhibit this message.
 at /tmp/loop_over_bdir-2096-t4V_ID/Data-Serializer-0.65-0/blib/lib/Data/Serializer.pm line 293.
WARNING: The key derivation method "opensslv1" is deprecated. Using -pbkdf=>'pbkdf2' would be better.
Pass -nodeprecate=>1 to inhibit this message.
 at /tmp/loop_over_bdir-2096-t4V_ID/Data-Serializer-0.65-0/blib/lib/Data/Serializer.pm line 293.
WARNING: The key derivation method "opensslv1" is deprecated. Using -pbkdf=>'pbkdf2' would be better.
Pass -nodeprecate=>1 to inhibit this message.
 at /tmp/loop_over_bdir-2096-t4V_ID/Data-Serializer-0.65-0/blib/lib/Data/Serializer.pm line 293.
WARNING: The key derivation method "opensslv1" is deprecated. Using -pbkdf=>'pbkdf2' would be better.
Pass -nodeprecate=>1 to inhibit this message.
 at /tmp/loop_over_bdir-2096-t4V_ID/Data-Serializer-0.65-0/blib/lib/Data/Serializer.pm line 293.
WARNING: The key derivation method "opensslv1" is deprecated. Using -pbkdf=>'pbkdf2' would be better.
Pass -nodeprecate=>1 to inhibit this message.
 at /tmp/loop_over_bdir-2096-t4V_ID/Data-Serializer-0.65-0/blib/lib/Data/Serializer.pm line 293.
WARNING: The key derivation method "opensslv1" is deprecated. Using -pbkdf=>'pbkdf2' would be better.
Pass -nodeprecate=>1 to inhibit this message.
 at /tmp/loop_over_bdir-2096-t4V_ID/Data-Serializer-0.65-0/blib/lib/Data/Serializer.pm line 293.
WARNING: The key derivation method "opensslv1" is deprecated. Using -pbkdf=>'pbkdf2' would be better.
Pass -nodeprecate=>1 to inhibit this message.
 at /tmp/loop_over_bdir-2096-t4V_ID/Data-Serializer-0.65-0/blib/lib/Data/Serializer.pm line 293.
WARNING: The key derivation method "opensslv1" is deprecated. Using -pbkdf=>'pbkdf2' would be better.
Pass -nodeprecate=>1 to inhibit this message.
 at /tmp/loop_over_bdir-2096-t4V_ID/Data-Serializer-0.65-0/blib/lib/Data/Serializer.pm line 293.
WARNING: The key derivation method "opensslv1" is deprecated. Using -pbkdf=>'pbkdf2' would be better.
Pass -nodeprecate=>1 to inhibit this message.
 at /tmp/loop_over_bdir-2096-t4V_ID/Data-Serializer-0.65-0/blib/lib/Data/Serializer.pm line 293.
WARNING: The key derivation method "opensslv1" is deprecated. Using -pbkdf=>'pbkdf2' would be better.
Pass -nodeprecate=>1 to inhibit this message.
 at /tmp/loop_over_bdir-2096-t4V_ID/Data-Serializer-0.65-0/blib/lib/Data/Serializer.pm line 293.
WARNING: The key derivation method "opensslv1" is deprecated. Using -pbkdf=>'pbkdf2' would be better.
Pass -nodeprecate=>1 to inhibit this message.
 at /tmp/loop_over_bdir-2096-t4V_ID/Data-Serializer-0.65-0/blib/lib/Data/Serializer.pm line 293.
WARNING: The key derivation method "opensslv1" is deprecated. Using -pbkdf=>'pbkdf2' would be better.
Pass -nodeprecate=>1 to inhibit this message.
 at /tmp/loop_over_bdir-2096-t4V_ID/Data-Serializer-0.65-0/blib/lib/Data/Serializer.pm line 293.
WARNING: The key derivation method "opensslv1" is deprecated. Using -pbkdf=>'pbkdf2' would be better.
Pass -nodeprecate=>1 to inhibit this message.
 at /tmp/loop_over_bdir-2096-t4V_ID/Data-Serializer-0.65-0/blib/lib/Data/Serializer.pm line 293.
WARNING: The key derivation method "opensslv1" is deprecated. Using -pbkdf=>'pbkdf2' would be better.
Pass -nodeprecate=>1 to inhibit this message.
 at /tmp/loop_over_bdir-2096-t4V_ID/Data-Serializer-0.65-0/blib/lib/Data/Serializer.pm line 293.
WARNING: The key derivation method "opensslv1" is deprecated. Using -pbkdf=>'pbkdf2' would be better.
Pass -nodeprecate=>1 to inhibit this message.
 at /tmp/loop_over_bdir-2096-t4V_ID/Data-Serializer-0.65-0/blib/lib/Data/Serializer.pm line 293.
WARNING: The key derivation method "opensslv1" is deprecated. Using -pbkdf=>'pbkdf2' would be better.
Pass -nodeprecate=>1 to inhibit this message.
 at /tmp/loop_over_bdir-2096-t4V_ID/Data-Serializer-0.65-0/blib/lib/Data/Serializer.pm line 293.
WARNING: The key derivation method "opensslv1" is deprecated. Using -pbkdf=>'pbkdf2' would be better.
Pass -nodeprecate=>1 to inhibit this message.
 at /tmp/loop_over_bdir-2096-t4V_ID/Data-Serializer-0.65-0/blib/lib/Data/Serializer.pm line 293.
WARNING: The key derivation method "opensslv1" is deprecated. Using -pbkdf=>'pbkdf2' would be better.
Pass -nodeprecate=>1 to inhibit this message.
 at /tmp/loop_over_bdir-2096-t4V_ID/Data-Serializer-0.65-0/blib/lib/Data/Serializer.pm line 293.
WARNING: The key derivation method "opensslv1" is deprecated. Using -pbkdf=>'pbkdf2' would be better.
Pass -nodeprecate=>1 to inhibit this message.
 at /tmp/loop_over_bdir-2096-t4V_ID/Data-Serializer-0.65-0/blib/lib/Data/Serializer.pm line 293.
WARNING: The key derivation method "opensslv1" is deprecated. Using -pbkdf=>'pbkdf2' would be better.
Pass -nodeprecate=>1 to inhibit this message.
 at /tmp/loop_over_bdir-2096-t4V_ID/Data-Serializer-0.65-0/blib/lib/Data/Serializer.pm line 293.
WARNING: The key derivation method "opensslv1" is deprecated. Using -pbkdf=>'pbkdf2' would be better.
Pass -nodeprecate=>1 to inhibit this message.
 at /tmp/loop_over_bdir-2096-t4V_ID/Data-Serializer-0.65-0/blib/lib/Data/Serializer.pm line 293.
WARNING: The key derivation method "opensslv1" is deprecated. Using -pbkdf=>'pbkdf2' would be better.
Pass -nodeprecate=>1 to inhibit this message.
 at /tmp/loop_over_bdir-2096-t4V_ID/Data-Serializer-0.65-0/blib/lib/Data/Serializer.pm line 293.
WARNING: The key derivation method "opensslv1" is deprecated. Using -pbkdf=>'pbkdf2' would be better.
Pass -nodeprecate=>1 to inhibit this message.
 at /tmp/loop_over_bdir-2096-t4V_ID/Data-Serializer-0.65-0/blib/lib/Data/Serializer.pm line 293.
WARNING: The key derivation method "opensslv1" is deprecated. Using -pbkdf=>'pbkdf2' would be better.
Pass -nodeprecate=>1 to inhibit this message.
 at /tmp/loop_over_bdir-2096-t4V_ID/Data-Serializer-0.65-0/blib/lib/Data/Serializer.pm line 293.
WARNING: The key derivation method "opensslv1" is deprecated. Using -pbkdf=>'pbkdf2' would be better.
Pass -nodeprecate=>1 to inhibit this message.
 at /tmp/loop_over_bdir-2096-t4V_ID/Data-Serializer-0.65-0/blib/lib/Data/Serializer.pm line 293.
WARNING: The key derivation method "opensslv1" is deprecated. Using -pbkdf=>'pbkdf2' would be better.
Pass -nodeprecate=>1 to inhibit this message.
 at /tmp/loop_over_bdir-2096-t4V_ID/Data-Serializer-0.65-0/blib/lib/Data/Serializer.pm line 293.
WARNING: The key derivation method "opensslv1" is deprecated. Using -pbkdf=>'pbkdf2' would be better.
Pass -nodeprecate=>1 to inhibit this message.
 at /tmp/loop_over_bdir-2096-t4V_ID/Data-Serializer-0.65-0/blib/lib/Data/Serializer.pm line 293.
WARNING: The key derivation method "opensslv1" is deprecated. Using -pbkdf=>'pbkdf2' would be better.
Pass -nodeprecate=>1 to inhibit this message.
 at /tmp/loop_over_bdir-2096-t4V_ID/Data-Serializer-0.65-0/blib/lib/Data/Serializer.pm line 293.
WARNING: The key derivation method "opensslv1" is deprecated. Using -pbkdf=>'pbkdf2' would be better.
Pass -nodeprecate=>1 to inhibit this message.
 at /tmp/loop_over_bdir-2096-t4V_ID/Data-Serializer-0.65-0/blib/lib/Data/Serializer.pm line 293.
WARNING: The key derivation method "opensslv1" is deprecated. Using -pbkdf=>'pbkdf2' would be better.
Pass -nodeprecate=>1 to inhibit this message.
 at /tmp/loop_over_bdir-2096-t4V_ID/Data-Serializer-0.65-0/blib/lib/Data/Serializer.pm line 293.
WARNING: The key derivation method "opensslv1" is deprecated. Using -pbkdf=>'pbkdf2' would be better.
Pass -nodeprecate=>1 to inhibit this message.
 at /tmp/loop_over_bdir-2096-t4V_ID/Data-Serializer-0.65-0/blib/lib/Data/Serializer.pm line 293.
WARNING: The key derivation method "opensslv1" is deprecated. Using -pbkdf=>'pbkdf2' would be better.
Pass -nodeprecate=>1 to inhibit this message.
 at /tmp/loop_over_bdir-2096-t4V_ID/Data-Serializer-0.65-0/blib/lib/Data/Serializer.pm line 293.
WARNING: The key derivation method "opensslv1" is deprecated. Using -pbkdf=>'pbkdf2' would be better.
Pass -nodeprecate=>1 to inhibit this message.
 at /tmp/loop_over_bdir-2096-t4V_ID/Data-Serializer-0.65-0/blib/lib/Data/Serializer.pm line 293.
WARNING: The key derivation method "opensslv1" is deprecated. Using -pbkdf=>'pbkdf2' would be better.
Pass -nodeprecate=>1 to inhibit this message.
 at /tmp/loop_over_bdir-2096-t4V_ID/Data-Serializer-0.65-0/blib/lib/Data/Serializer.pm line 293.
WARNING: The key derivation method "opensslv1" is deprecated. Using -pbkdf=>'pbkdf2' would be better.
Pass -nodeprecate=>1 to inhibit this message.
 at /tmp/loop_over_bdir-2096-t4V_ID/Data-Serializer-0.65-0/blib/lib/Data/Serializer.pm line 293.
WARNING: The key derivation method "opensslv1" is deprecated. Using -pbkdf=>'pbkdf2' would be better.
Pass -nodeprecate=>1 to inhibit this message.
 at /tmp/loop_over_bdir-2096-t4V_ID/Data-Serializer-0.65-0/blib/lib/Data/Serializer.pm line 293.
WARNING: The key derivation method "opensslv1" is deprecated. Using -pbkdf=>'pbkdf2' would be better.
Pass -nodeprecate=>1 to inhibit this message.
 at /tmp/loop_over_bdir-2096-t4V_ID/Data-Serializer-0.65-0/blib/lib/Data/Serializer.pm line 293.
WARNING: The key derivation method "opensslv1" is deprecated. Using -pbkdf=>'pbkdf2' would be better.
Pass -nodeprecate=>1 to inhibit this message.
 at /tmp/loop_over_bdir-2096-t4V_ID/Data-Serializer-0.65-0/blib/lib/Data/Serializer.pm line 293.
WARNING: The key derivation method "opensslv1" is deprecated. Using -pbkdf=>'pbkdf2' would be better.
Pass -nodeprecate=>1 to inhibit this message.
 at /tmp/loop_over_bdir-2096-t4V_ID/Data-Serializer-0.65-0/blib/lib/Data/Serializer.pm line 293.
WARNING: The key derivation method "opensslv1" is deprecated. Using -pbkdf=>'pbkdf2' would be better.
Pass -nodeprecate=>1 to inhibit this message.
 at /tmp/loop_over_bdir-2096-t4V_ID/Data-Serializer-0.65-0/blib/lib/Data/Serializer.pm line 293.
WARNING: The key derivation method "opensslv1" is deprecated. Using -pbkdf=>'pbkdf2' would be better.
Pass -nodeprecate=>1 to inhibit this message.
 at /tmp/loop_over_bdir-2096-t4V_ID/Data-Serializer-0.65-0/blib/lib/Data/Serializer.pm line 293.
WARNING: The key derivation method "opensslv1" is deprecated. Using -pbkdf=>'pbkdf2' would be better.
Pass -nodeprecate=>1 to inhibit this message.
 at /tmp/loop_over_bdir-2096-t4V_ID/Data-Serializer-0.65-0/blib/lib/Data/Serializer.pm line 293.
WARNING: The key derivation method "opensslv1" is deprecated. Using -pbkdf=>'pbkdf2' would be better.
Pass -nodeprecate=>1 to inhibit this message.
 at /tmp/loop_over_bdir-2096-t4V_ID/Data-Serializer-0.65-0/blib/lib/Data/Serializer.pm line 293.
WARNING: The key derivation method "opensslv1" is deprecated. Using -pbkdf=>'pbkdf2' would be better.
Pass -nodeprecate=>1 to inhibit this message.
 at /tmp/loop_over_bdir-2096-t4V_ID/Data-Serializer-0.65-0/blib/lib/Data/Serializer.pm line 293.
WARNING: The key derivation method "opensslv1" is deprecated. Using -pbkdf=>'pbkdf2' would be better.
Pass -nodeprecate=>1 to inhibit this message.
 at /tmp/loop_over_bdir-2096-t4V_ID/Data-Serializer-0.65-0/blib/lib/Data/Serializer.pm line 293.
WARNING: The key derivation method "opensslv1" is deprecated. Using -pbkdf=>'pbkdf2' would be better.
Pass -nodeprecate=>1 to inhibit this message.
 at /tmp/loop_over_bdir-2096-t4V_ID/Data-Serializer-0.65-0/blib/lib/Data/Serializer.pm line 293.
WARNING: The key derivation method "opensslv1" is deprecated. Using -pbkdf=>'pbkdf2' would be better.
Pass -nodeprecate=>1 to inhibit this message.
 at /tmp/loop_over_bdir-2096-t4V_ID/Data-Serializer-0.65-0/blib/lib/Data/Serializer.pm line 293.
WARNING: The key derivation method "opensslv1" is deprecated. Using -pbkdf=>'pbkdf2' would be better.
Pass -nodeprecate=>1 to inhibit this message.
 at /tmp/loop_over_bdir-2096-t4V_ID/Data-Serializer-0.65-0/blib/lib/Data/Serializer.pm line 293.
WARNING: The key derivation method "opensslv1" is deprecated. Using -pbkdf=>'pbkdf2' would be better.
Pass -nodeprecate=>1 to inhibit this message.
 at /tmp/loop_over_bdir-2096-t4V_ID/Data-Serializer-0.65-0/blib/lib/Data/Serializer.pm line 293.
t/07-03-SHA-256-Digest.t ...... ok
t/08-Store-Retrieve.t ......... ok
WARNING: The key derivation method "opensslv1" is deprecated. Using -pbkdf=>'pbkdf2' would be better.
Pass -nodeprecate=>1 to inhibit this message.
 at /tmp/loop_over_bdir-2096-t4V_ID/Data-Serializer-0.65-0/blib/lib/Data/Serializer.pm line 293.
WARNING: The key derivation method "opensslv1" is deprecated. Using -pbkdf=>'pbkdf2' would be better.
Pass -nodeprecate=>1 to inhibit this message.
 at /tmp/loop_over_bdir-2096-t4V_ID/Data-Serializer-0.65-0/blib/lib/Data/Serializer.pm line 293.
WARNING: The key derivation method "opensslv1" is deprecated. Using -pbkdf=>'pbkdf2' would be better.
Pass -nodeprecate=>1 to inhibit this message.
 at /tmp/loop_over_bdir-2096-t4V_ID/Data-Serializer-0.65-0/blib/lib/Data/Serializer.pm line 293.
WARNING: The key derivation method "opensslv1" is deprecated. Using -pbkdf=>'pbkdf2' would be better.
Pass -nodeprecate=>1 to inhibit this message.
 at /tmp/loop_over_bdir-2096-t4V_ID/Data-Serializer-0.65-0/blib/lib/Data/Serializer.pm line 293.
WARNING: The key derivation method "opensslv1" is deprecated. Using -pbkdf=>'pbkdf2' would be better.
Pass -nodeprecate=>1 to inhibit this message.
 at /tmp/loop_over_bdir-2096-t4V_ID/Data-Serializer-0.65-0/blib/lib/Data/Serializer.pm line 293.
WARNING: The key derivation method "opensslv1" is deprecated. Using -pbkdf=>'pbkdf2' would be better.
Pass -nodeprecate=>1 to inhibit this message.
 at /tmp/loop_over_bdir-2096-t4V_ID/Data-Serializer-0.65-0/blib/lib/Data/Serializer.pm line 293.
WARNING: The key derivation method "opensslv1" is deprecated. Using -pbkdf=>'pbkdf2' would be better.
Pass -nodeprecate=>1 to inhibit this message.
 at /tmp/loop_over_bdir-2096-t4V_ID/Data-Serializer-0.65-0/blib/lib/Data/Serializer.pm line 293.
WARNING: The key derivation method "opensslv1" is deprecated. Using -pbkdf=>'pbkdf2' would be better.
Pass -nodeprecate=>1 to inhibit this message.
 at /tmp/loop_over_bdir-2096-t4V_ID/Data-Serializer-0.65-0/blib/lib/Data/Serializer.pm line 293.
WARNING: The key derivation method "opensslv1" is deprecated. Using -pbkdf=>'pbkdf2' would be better.
Pass -nodeprecate=>1 to inhibit this message.
 at /tmp/loop_over_bdir-2096-t4V_ID/Data-Serializer-0.65-0/blib/lib/Data/Serializer.pm line 293.
WARNING: The key derivation method "opensslv1" is deprecated. Using -pbkdf=>'pbkdf2' would be better.
Pass -nodeprecate=>1 to inhibit this message.
 at /tmp/loop_over_bdir-2096-t4V_ID/Data-Serializer-0.65-0/blib/lib/Data/Serializer.pm line 293.
WARNING: The key derivation method "opensslv1" is deprecated. Using -pbkdf=>'pbkdf2' would be better.
Pass -nodeprecate=>1 to inhibit this message.
 at /tmp/loop_over_bdir-2096-t4V_ID/Data-Serializer-0.65-0/blib/lib/Data/Serializer.pm line 293.
WARNING: The key derivation method "opensslv1" is deprecated. Using -pbkdf=>'pbkdf2' would be better.
Pass -nodeprecate=>1 to inhibit this message.
 at /tmp/loop_over_bdir-2096-t4V_ID/Data-Serializer-0.65-0/blib/lib/Data/Serializer.pm line 293.
WARNING: The key derivation method "opensslv1" is deprecated. Using -pbkdf=>'pbkdf2' would be better.
Pass -nodeprecate=>1 to inhibit this message.
 at /tmp/loop_over_bdir-2096-t4V_ID/Data-Serializer-0.65-0/blib/lib/Data/Serializer.pm line 293.
WARNING: The key derivation method "opensslv1" is deprecated. Using -pbkdf=>'pbkdf2' would be better.
Pass -nodeprecate=>1 to inhibit this message.
 at /tmp/loop_over_bdir-2096-t4V_ID/Data-Serializer-0.65-0/blib/lib/Data/Serializer.pm line 293.
WARNING: The key derivation method "opensslv1" is deprecated. Using -pbkdf=>'pbkdf2' would be better.
Pass -nodeprecate=>1 to inhibit this message.
 at /tmp/loop_over_bdir-2096-t4V_ID/Data-Serializer-0.65-0/blib/lib/Data/Serializer.pm line 293.
WARNING: The key derivation method "opensslv1" is deprecated. Using -pbkdf=>'pbkdf2' would be better.
Pass -nodeprecate=>1 to inhibit this message.
 at /tmp/loop_over_bdir-2096-t4V_ID/Data-Serializer-0.65-0/blib/lib/Data/Serializer.pm line 293.
WARNING: The key derivation method "opensslv1" is deprecated. Using -pbkdf=>'pbkdf2' would be better.
Pass -nodeprecate=>1 to inhibit this message.
 at /tmp/loop_over_bdir-2096-t4V_ID/Data-Serializer-0.65-0/blib/lib/Data/Serializer.pm line 293.
WARNING: The key derivation method "opensslv1" is deprecated. Using -pbkdf=>'pbkdf2' would be better.
Pass -nodeprecate=>1 to inhibit this message.
 at /tmp/loop_over_bdir-2096-t4V_ID/Data-Serializer-0.65-0/blib/lib/Data/Serializer.pm line 293.
WARNING: The key derivation method "opensslv1" is deprecated. Using -pbkdf=>'pbkdf2' would be better.
Pass -nodeprecate=>1 to inhibit this message.
 at /tmp/loop_over_bdir-2096-t4V_ID/Data-Serializer-0.65-0/blib/lib/Data/Serializer.pm line 293.
WARNING: The key derivation method "opensslv1" is deprecated. Using -pbkdf=>'pbkdf2' would be better.
Pass -nodeprecate=>1 to inhibit this message.
 at /tmp/loop_over_bdir-2096-t4V_ID/Data-Serializer-0.65-0/blib/lib/Data/Serializer.pm line 293.
WARNING: The key derivation method "opensslv1" is deprecated. Using -pbkdf=>'pbkdf2' would be better.
Pass -nodeprecate=>1 to inhibit this message.
 at /tmp/loop_over_bdir-2096-t4V_ID/Data-Serializer-0.65-0/blib/lib/Data/Serializer.pm line 293.
WARNING: The key derivation method "opensslv1" is deprecated. Using -pbkdf=>'pbkdf2' would be better.
Pass -nodeprecate=>1 to inhibit this message.
 at /tmp/loop_over_bdir-2096-t4V_ID/Data-Serializer-0.65-0/blib/lib/Data/Serializer.pm line 293.
WARNING: The key derivation method "opensslv1" is deprecated. Using -pbkdf=>'pbkdf2' would be better.
Pass -nodeprecate=>1 to inhibit this message.
 at /tmp/loop_over_bdir-2096-t4V_ID/Data-Serializer-0.65-0/blib/lib/Data/Serializer.pm line 293.
WARNING: The key derivation method "opensslv1" is deprecated. Using -pbkdf=>'pbkdf2' would be better.
Pass -nodeprecate=>1 to inhibit this message.
 at /tmp/loop_over_bdir-2096-t4V_ID/Data-Serializer-0.65-0/blib/lib/Data/Serializer.pm line 293.
WARNING: The key derivation method "opensslv1" is deprecated. Using -pbkdf=>'pbkdf2' would be better.
Pass -nodeprecate=>1 to inhibit this message.
 at /tmp/loop_over_bdir-2096-t4V_ID/Data-Serializer-0.65-0/blib/lib/Data/Serializer.pm line 293.
WARNING: The key derivation method "opensslv1" is deprecated. Using -pbkdf=>'pbkdf2' would be better.
Pass -nodeprecate=>1 to inhibit this message.
 at /tmp/loop_over_bdir-2096-t4V_ID/Data-Serializer-0.65-0/blib/lib/Data/Serializer.pm line 293.
WARNING: The key derivation method "opensslv1" is deprecated. Using -pbkdf=>'pbkdf2' would be better.
Pass -nodeprecate=>1 to inhibit this message.
 at /tmp/loop_over_bdir-2096-t4V_ID/Data-Serializer-0.65-0/blib/lib/Data/Serializer.pm line 293.
WARNING: The key derivation method "opensslv1" is deprecated. Using -pbkdf=>'pbkdf2' would be better.
Pass -nodeprecate=>1 to inhibit this message.
 at /tmp/loop_over_bdir-2096-t4V_ID/Data-Serializer-0.65-0/blib/lib/Data/Serializer.pm line 293.
WARNING: The key derivation method "opensslv1" is deprecated. Using -pbkdf=>'pbkdf2' would be better.
Pass -nodeprecate=>1 to inhibit this message.
 at /tmp/loop_over_bdir-2096-t4V_ID/Data-Serializer-0.65-0/blib/lib/Data/Serializer.pm line 293.
WARNING: The key derivation method "opensslv1" is deprecated. Using -pbkdf=>'pbkdf2' would be better.
Pass -nodeprecate=>1 to inhibit this message.
 at /tmp/loop_over_bdir-2096-t4V_ID/Data-Serializer-0.65-0/blib/lib/Data/Serializer.pm line 293.
WARNING: The key derivation method "opensslv1" is deprecated. Using -pbkdf=>'pbkdf2' would be better.
Pass -nodeprecate=>1 to inhibit this message.
 at /tmp/loop_over_bdir-2096-t4V_ID/Data-Serializer-0.65-0/blib/lib/Data/Serializer.pm line 293.
WARNING: The key derivation method "opensslv1" is deprecated. Using -pbkdf=>'pbkdf2' would be better.
Pass -nodeprecate=>1 to inhibit this message.
 at /tmp/loop_over_bdir-2096-t4V_ID/Data-Serializer-0.65-0/blib/lib/Data/Serializer.pm line 293.
WARNING: The key derivation method "opensslv1" is deprecated. Using -pbkdf=>'pbkdf2' would be better.
Pass -nodeprecate=>1 to inhibit this message.
 at /tmp/loop_over_bdir-2096-t4V_ID/Data-Serializer-0.65-0/blib/lib/Data/Serializer.pm line 293.
WARNING: The key derivation method "opensslv1" is deprecated. Using -pbkdf=>'pbkdf2' would be better.
Pass -nodeprecate=>1 to inhibit this message.
 at /tmp/loop_over_bdir-2096-t4V_ID/Data-Serializer-0.65-0/blib/lib/Data/Serializer.pm line 293.
WARNING: The key derivation method "opensslv1" is deprecated. Using -pbkdf=>'pbkdf2' would be better.
Pass -nodeprecate=>1 to inhibit this message.
 at /tmp/loop_over_bdir-2096-t4V_ID/Data-Serializer-0.65-0/blib/lib/Data/Serializer.pm line 293.
WARNING: The key derivation method "opensslv1" is deprecated. Using -pbkdf=>'pbkdf2' would be better.
Pass -nodeprecate=>1 to inhibit this message.
 at /tmp/loop_over_bdir-2096-t4V_ID/Data-Serializer-0.65-0/blib/lib/Data/Serializer.pm line 293.
WARNING: The key derivation method "opensslv1" is deprecated. Using -pbkdf=>'pbkdf2' would be better.
Pass -nodeprecate=>1 to inhibit this message.
 at /tmp/loop_over_bdir-2096-t4V_ID/Data-Serializer-0.65-0/blib/lib/Data/Serializer.pm line 293.
WARNING: The key derivation method "opensslv1" is deprecated. Using -pbkdf=>'pbkdf2' would be better.
Pass -nodeprecate=>1 to inhibit this message.
 at /tmp/loop_over_bdir-2096-t4V_ID/Data-Serializer-0.65-0/blib/lib/Data/Serializer.pm line 293.
WARNING: The key derivation method "opensslv1" is deprecated. Using -pbkdf=>'pbkdf2' would be better.
Pass -nodeprecate=>1 to inhibit this message.
 at /tmp/loop_over_bdir-2096-t4V_ID/Data-Serializer-0.65-0/blib/lib/Data/Serializer.pm line 293.
WARNING: The key derivation method "opensslv1" is deprecated. Using -pbkdf=>'pbkdf2' would be better.
Pass -nodeprecate=>1 to inhibit this message.
 at /tmp/loop_over_bdir-2096-t4V_ID/Data-Serializer-0.65-0/blib/lib/Data/Serializer.pm line 293.
WARNING: The key derivation method "opensslv1" is deprecated. Using -pbkdf=>'pbkdf2' would be better.
Pass -nodeprecate=>1 to inhibit this message.
 at /tmp/loop_over_bdir-2096-t4V_ID/Data-Serializer-0.65-0/blib/lib/Data/Serializer.pm line 293.
WARNING: The key derivation method "opensslv1" is deprecated. Using -pbkdf=>'pbkdf2' would be better.
Pass -nodeprecate=>1 to inhibit this message.
 at /tmp/loop_over_bdir-2096-t4V_ID/Data-Serializer-0.65-0/blib/lib/Data/Serializer.pm line 293.
WARNING: The key derivation method "opensslv1" is deprecated. Using -pbkdf=>'pbkdf2' would be better.
Pass -nodeprecate=>1 to inhibit this message.
 at /tmp/loop_over_bdir-2096-t4V_ID/Data-Serializer-0.65-0/blib/lib/Data/Serializer.pm line 293.
WARNING: The key derivation method "opensslv1" is deprecated. Using -pbkdf=>'pbkdf2' would be better.
Pass -nodeprecate=>1 to inhibit this message.
 at /tmp/loop_over_bdir-2096-t4V_ID/Data-Serializer-0.65-0/blib/lib/Data/Serializer.pm line 293.
WARNING: The key derivation method "opensslv1" is deprecated. Using -pbkdf=>'pbkdf2' would be better.
Pass -nodeprecate=>1 to inhibit this message.
 at /tmp/loop_over_bdir-2096-t4V_ID/Data-Serializer-0.65-0/blib/lib/Data/Serializer.pm line 293.
WARNING: The key derivation method "opensslv1" is deprecated. Using -pbkdf=>'pbkdf2' would be better.
Pass -nodeprecate=>1 to inhibit this message.
 at /tmp/loop_over_bdir-2096-t4V_ID/Data-Serializer-0.65-0/blib/lib/Data/Serializer.pm line 293.
WARNING: The key derivation method "opensslv1" is deprecated. Using -pbkdf=>'pbkdf2' would be better.
Pass -nodeprecate=>1 to inhibit this message.
 at /tmp/loop_over_bdir-2096-t4V_ID/Data-Serializer-0.65-0/blib/lib/Data/Serializer.pm line 293.
WARNING: The key derivation method "opensslv1" is deprecated. Using -pbkdf=>'pbkdf2' would be better.
Pass -nodeprecate=>1 to inhibit this message.
 at /tmp/loop_over_bdir-2096-t4V_ID/Data-Serializer-0.65-0/blib/lib/Data/Serializer.pm line 293.
WARNING: The key derivation method "opensslv1" is deprecated. Using -pbkdf=>'pbkdf2' would be better.
Pass -nodeprecate=>1 to inhibit this message.
 at /tmp/loop_over_bdir-2096-t4V_ID/Data-Serializer-0.65-0/blib/lib/Data/Serializer.pm line 293.
WARNING: The key derivation method "opensslv1" is deprecated. Using -pbkdf=>'pbkdf2' would be better.
Pass -nodeprecate=>1 to inhibit this message.
 at /tmp/loop_over_bdir-2096-t4V_ID/Data-Serializer-0.65-0/blib/lib/Data/Serializer.pm line 293.
WARNING: The key derivation method "opensslv1" is deprecated. Using -pbkdf=>'pbkdf2' would be better.
Pass -nodeprecate=>1 to inhibit this message.
 at /tmp/loop_over_bdir-2096-t4V_ID/Data-Serializer-0.65-0/blib/lib/Data/Serializer.pm line 293.
WARNING: The key derivation method "opensslv1" is deprecated. Using -pbkdf=>'pbkdf2' would be better.
Pass -nodeprecate=>1 to inhibit this message.
 at /tmp/loop_over_bdir-2096-t4V_ID/Data-Serializer-0.65-0/blib/lib/Data/Serializer.pm line 293.
WARNING: The key derivation method "opensslv1" is deprecated. Using -pbkdf=>'pbkdf2' would be better.
Pass -nodeprecate=>1 to inhibit this message.
 at /tmp/loop_over_bdir-2096-t4V_ID/Data-Serializer-0.65-0/blib/lib/Data/Serializer.pm line 293.
WARNING: The key derivation method "opensslv1" is deprecated. Using -pbkdf=>'pbkdf2' would be better.
Pass -nodeprecate=>1 to inhibit this message.
 at /tmp/loop_over_bdir-2096-t4V_ID/Data-Serializer-0.65-0/blib/lib/Data/Serializer.pm line 293.
WARNING: The key derivation method "opensslv1" is deprecated. Using -pbkdf=>'pbkdf2' would be better.
Pass -nodeprecate=>1 to inhibit this message.
 at /tmp/loop_over_bdir-2096-t4V_ID/Data-Serializer-0.65-0/blib/lib/Data/Serializer.pm line 293.
WARNING: The key derivation method "opensslv1" is deprecated. Using -pbkdf=>'pbkdf2' would be better.
Pass -nodeprecate=>1 to inhibit this message.
 at /tmp/loop_over_bdir-2096-t4V_ID/Data-Serializer-0.65-0/blib/lib/Data/Serializer.pm line 293.
WARNING: The key derivation method "opensslv1" is deprecated. Using -pbkdf=>'pbkdf2' would be better.
Pass -nodeprecate=>1 to inhibit this message.
 at /tmp/loop_over_bdir-2096-t4V_ID/Data-Serializer-0.65-0/blib/lib/Data/Serializer.pm line 293.
WARNING: The key derivation method "opensslv1" is deprecated. Using -pbkdf=>'pbkdf2' would be better.
Pass -nodeprecate=>1 to inhibit this message.
 at /tmp/loop_over_bdir-2096-t4V_ID/Data-Serializer-0.65-0/blib/lib/Data/Serializer.pm line 293.
WARNING: The key derivation method "opensslv1" is deprecated. Using -pbkdf=>'pbkdf2' would be better.
Pass -nodeprecate=>1 to inhibit this message.
 at /tmp/loop_over_bdir-2096-t4V_ID/Data-Serializer-0.65-0/blib/lib/Data/Serializer.pm line 293.
WARNING: The key derivation method "opensslv1" is deprecated. Using -pbkdf=>'pbkdf2' would be better.
Pass -nodeprecate=>1 to inhibit this message.
 at /tmp/loop_over_bdir-2096-t4V_ID/Data-Serializer-0.65-0/blib/lib/Data/Serializer.pm line 293.
WARNING: The key derivation method "opensslv1" is deprecated. Using -pbkdf=>'pbkdf2' would be better.
Pass -nodeprecate=>1 to inhibit this message.
 at /tmp/loop_over_bdir-2096-t4V_ID/Data-Serializer-0.65-0/blib/lib/Data/Serializer.pm line 293.
WARNING: The key derivation method "opensslv1" is deprecated. Using -pbkdf=>'pbkdf2' would be better.
Pass -nodeprecate=>1 to inhibit this message.
 at /tmp/loop_over_bdir-2096-t4V_ID/Data-Serializer-0.65-0/blib/lib/Data/Serializer.pm line 293.
WARNING: The key derivation method "opensslv1" is deprecated. Using -pbkdf=>'pbkdf2' would be better.
Pass -nodeprecate=>1 to inhibit this message.
 at /tmp/loop_over_bdir-2096-t4V_ID/Data-Serializer-0.65-0/blib/lib/Data/Serializer.pm line 293.
WARNING: The key derivation method "opensslv1" is deprecated. Using -pbkdf=>'pbkdf2' would be better.
Pass -nodeprecate=>1 to inhibit this message.
 at /tmp/loop_over_bdir-2096-t4V_ID/Data-Serializer-0.65-0/blib/lib/Data/Serializer.pm line 293.
WARNING: The key derivation method "opensslv1" is deprecated. Using -pbkdf=>'pbkdf2' would be better.
Pass -nodeprecate=>1 to inhibit this message.
 at /tmp/loop_over_bdir-2096-t4V_ID/Data-Serializer-0.65-0/blib/lib/Data/Serializer.pm line 293.
WARNING: The key derivation method "opensslv1" is deprecated. Using -pbkdf=>'pbkdf2' would be better.
Pass -nodeprecate=>1 to inhibit this message.
 at /tmp/loop_over_bdir-2096-t4V_ID/Data-Serializer-0.65-0/blib/lib/Data/Serializer.pm line 293.
WARNING: The key derivation method "opensslv1" is deprecated. Using -pbkdf=>'pbkdf2' would be better.
Pass -nodeprecate=>1 to inhibit this message.
 at /tmp/loop_over_bdir-2096-t4V_ID/Data-Serializer-0.65-0/blib/lib/Data/Serializer.pm line 293.
WARNING: The key derivation method "opensslv1" is deprecated. Using -pbkdf=>'pbkdf2' would be better.
Pass -nodeprecate=>1 to inhibit this message.
 at /tmp/loop_over_bdir-2096-t4V_ID/Data-Serializer-0.65-0/blib/lib/Data/Serializer.pm line 293.
WARNING: The key derivation method "opensslv1" is deprecated. Using -pbkdf=>'pbkdf2' would be better.
Pass -nodeprecate=>1 to inhibit this message.
 at /tmp/loop_over_bdir-2096-t4V_ID/Data-Serializer-0.65-0/blib/lib/Data/Serializer.pm line 293.
WARNING: The key derivation method "opensslv1" is deprecated. Using -pbkdf=>'pbkdf2' would be better.
Pass -nodeprecate=>1 to inhibit this message.
 at /tmp/loop_over_bdir-2096-t4V_ID/Data-Serializer-0.65-0/blib/lib/Data/Serializer.pm line 293.
WARNING: The key derivation method "opensslv1" is deprecated. Using -pbkdf=>'pbkdf2' would be better.
Pass -nodeprecate=>1 to inhibit this message.
 at /tmp/loop_over_bdir-2096-t4V_ID/Data-Serializer-0.65-0/blib/lib/Data/Serializer.pm line 293.
WARNING: The key derivation method "opensslv1" is deprecated. Using -pbkdf=>'pbkdf2' would be better.
Pass -nodeprecate=>1 to inhibit this message.
 at /tmp/loop_over_bdir-2096-t4V_ID/Data-Serializer-0.65-0/blib/lib/Data/Serializer.pm line 293.
WARNING: The key derivation method "opensslv1" is deprecated. Using -pbkdf=>'pbkdf2' would be better.
Pass -nodeprecate=>1 to inhibit this message.
 at /tmp/loop_over_bdir-2096-t4V_ID/Data-Serializer-0.65-0/blib/lib/Data/Serializer.pm line 293.
WARNING: The key derivation method "opensslv1" is deprecated. Using -pbkdf=>'pbkdf2' would be better.
Pass -nodeprecate=>1 to inhibit this message.
 at /tmp/loop_over_bdir-2096-t4V_ID/Data-Serializer-0.65-0/blib/lib/Data/Serializer.pm line 293.
WARNING: The key derivation method "opensslv1" is deprecated. Using -pbkdf=>'pbkdf2' would be better.
Pass -nodeprecate=>1 to inhibit this message.
 at /tmp/loop_over_bdir-2096-t4V_ID/Data-Serializer-0.65-0/blib/lib/Data/Serializer.pm line 293.
WARNING: The key derivation method "opensslv1" is deprecated. Using -pbkdf=>'pbkdf2' would be better.
Pass -nodeprecate=>1 to inhibit this message.
 at /tmp/loop_over_bdir-2096-t4V_ID/Data-Serializer-0.65-0/blib/lib/Data/Serializer.pm line 293.
WARNING: The key derivation method "opensslv1" is deprecated. Using -pbkdf=>'pbkdf2' would be better.
Pass -nodeprecate=>1 to inhibit this message.
 at /tmp/loop_over_bdir-2096-t4V_ID/Data-Serializer-0.65-0/blib/lib/Data/Serializer.pm line 293.
WARNING: The key derivation method "opensslv1" is deprecated. Using -pbkdf=>'pbkdf2' would be better.
Pass -nodeprecate=>1 to inhibit this message.
 at /tmp/loop_over_bdir-2096-t4V_ID/Data-Serializer-0.65-0/blib/lib/Data/Serializer.pm line 293.
WARNING: The key derivation method "opensslv1" is deprecated. Using -pbkdf=>'pbkdf2' would be better.
Pass -nodeprecate=>1 to inhibit this message.
 at /tmp/loop_over_bdir-2096-t4V_ID/Data-Serializer-0.65-0/blib/lib/Data/Serializer.pm line 293.
WARNING: The key derivation method "opensslv1" is deprecated. Using -pbkdf=>'pbkdf2' would be better.
Pass -nodeprecate=>1 to inhibit this message.
 at /tmp/loop_over_bdir-2096-t4V_ID/Data-Serializer-0.65-0/blib/lib/Data/Serializer.pm line 293.
WARNING: The key derivation method "opensslv1" is deprecated. Using -pbkdf=>'pbkdf2' would be better.
Pass -nodeprecate=>1 to inhibit this message.
 at /tmp/loop_over_bdir-2096-t4V_ID/Data-Serializer-0.65-0/blib/lib/Data/Serializer.pm line 293.
WARNING: The key derivation method "opensslv1" is deprecated. Using -pbkdf=>'pbkdf2' would be better.
Pass -nodeprecate=>1 to inhibit this message.
 at /tmp/loop_over_bdir-2096-t4V_ID/Data-Serializer-0.65-0/blib/lib/Data/Serializer.pm line 293.
WARNING: The key derivation method "opensslv1" is deprecated. Using -pbkdf=>'pbkdf2' would be better.
Pass -nodeprecate=>1 to inhibit this message.
 at /tmp/loop_over_bdir-2096-t4V_ID/Data-Serializer-0.65-0/blib/lib/Data/Serializer.pm line 293.
WARNING: The key derivation method "opensslv1" is deprecated. Using -pbkdf=>'pbkdf2' would be better.
Pass -nodeprecate=>1 to inhibit this message.
 at /tmp/loop_over_bdir-2096-t4V_ID/Data-Serializer-0.65-0/blib/lib/Data/Serializer.pm line 293.
WARNING: The key derivation method "opensslv1" is deprecated. Using -pbkdf=>'pbkdf2' would be better.
Pass -nodeprecate=>1 to inhibit this message.
 at /tmp/loop_over_bdir-2096-t4V_ID/Data-Serializer-0.65-0/blib/lib/Data/Serializer.pm line 293.
WARNING: The key derivation method "opensslv1" is deprecated. Using -pbkdf=>'pbkdf2' would be better.
Pass -nodeprecate=>1 to inhibit this message.
 at /tmp/loop_over_bdir-2096-t4V_ID/Data-Serializer-0.65-0/blib/lib/Data/Serializer.pm line 293.
WARNING: The key derivation method "opensslv1" is deprecated. Using -pbkdf=>'pbkdf2' would be better.
Pass -nodeprecate=>1 to inhibit this message.
 at /tmp/loop_over_bdir-2096-t4V_ID/Data-Serializer-0.65-0/blib/lib/Data/Serializer.pm line 293.
WARNING: The key derivation method "opensslv1" is deprecated. Using -pbkdf=>'pbkdf2' would be better.
Pass -nodeprecate=>1 to inhibit this message.
 at /tmp/loop_over_bdir-2096-t4V_ID/Data-Serializer-0.65-0/blib/lib/Data/Serializer.pm line 293.
WARNING: The key derivation method "opensslv1" is deprecated. Using -pbkdf=>'pbkdf2' would be better.
Pass -nodeprecate=>1 to inhibit this message.
 at /tmp/loop_over_bdir-2096-t4V_ID/Data-Serializer-0.65-0/blib/lib/Data/Serializer.pm line 293.
WARNING: The key derivation method "opensslv1" is deprecated. Using -pbkdf=>'pbkdf2' would be better.
Pass -nodeprecate=>1 to inhibit this message.
 at /tmp/loop_over_bdir-2096-t4V_ID/Data-Serializer-0.65-0/blib/lib/Data/Serializer.pm line 293.
WARNING: The key derivation method "opensslv1" is deprecated. Using -pbkdf=>'pbkdf2' would be better.
Pass -nodeprecate=>1 to inhibit this message.
 at /tmp/loop_over_bdir-2096-t4V_ID/Data-Serializer-0.65-0/blib/lib/Data/Serializer.pm line 293.
WARNING: The key derivation method "opensslv1" is deprecated. Using -pbkdf=>'pbkdf2' would be better.
Pass -nodeprecate=>1 to inhibit this message.
 at /tmp/loop_over_bdir-2096-t4V_ID/Data-Serializer-0.65-0/blib/lib/Data/Serializer.pm line 293.
WARNING: The key derivation method "opensslv1" is deprecated. Using -pbkdf=>'pbkdf2' would be better.
Pass -nodeprecate=>1 to inhibit this message.
 at /tmp/loop_over_bdir-2096-t4V_ID/Data-Serializer-0.65-0/blib/lib/Data/Serializer.pm line 293.
WARNING: The key derivation method "opensslv1" is deprecated. Using -pbkdf=>'pbkdf2' would be better.
Pass -nodeprecate=>1 to inhibit this message.
 at /tmp/loop_over_bdir-2096-t4V_ID/Data-Serializer-0.65-0/blib/lib/Data/Serializer.pm line 293.
WARNING: The key derivation method "opensslv1" is deprecated. Using -pbkdf=>'pbkdf2' would be better.
Pass -nodeprecate=>1 to inhibit this message.
 at /tmp/loop_over_bdir-2096-t4V_ID/Data-Serializer-0.65-0/blib/lib/Data/Serializer.pm line 293.
WARNING: The key derivation method "opensslv1" is deprecated. Using -pbkdf=>'pbkdf2' would be better.
Pass -nodeprecate=>1 to inhibit this message.
 at /tmp/loop_over_bdir-2096-t4V_ID/Data-Serializer-0.65-0/blib/lib/Data/Serializer.pm line 293.
WARNING: The key derivation method "opensslv1" is deprecated. Using -pbkdf=>'pbkdf2' would be better.
Pass -nodeprecate=>1 to inhibit this message.
 at /tmp/loop_over_bdir-2096-t4V_ID/Data-Serializer-0.65-0/blib/lib/Data/Serializer.pm line 293.
WARNING: The key derivation method "opensslv1" is deprecated. Using -pbkdf=>'pbkdf2' would be better.
Pass -nodeprecate=>1 to inhibit this message.
 at /tmp/loop_over_bdir-2096-t4V_ID/Data-Serializer-0.65-0/blib/lib/Data/Serializer.pm line 293.
WARNING: The key derivation method "opensslv1" is deprecated. Using -pbkdf=>'pbkdf2' would be better.
Pass -nodeprecate=>1 to inhibit this message.
 at /tmp/loop_over_bdir-2096-t4V_ID/Data-Serializer-0.65-0/blib/lib/Data/Serializer.pm line 293.
WARNING: The key derivation method "opensslv1" is deprecated. Using -pbkdf=>'pbkdf2' would be better.
Pass -nodeprecate=>1 to inhibit this message.
 at /tmp/loop_over_bdir-2096-t4V_ID/Data-Serializer-0.65-0/blib/lib/Data/Serializer.pm line 293.
WARNING: The key derivation method "opensslv1" is deprecated. Using -pbkdf=>'pbkdf2' would be better.
Pass -nodeprecate=>1 to inhibit this message.
 at /tmp/loop_over_bdir-2096-t4V_ID/Data-Serializer-0.65-0/blib/lib/Data/Serializer.pm line 293.
WARNING: The key derivation method "opensslv1" is deprecated. Using -pbkdf=>'pbkdf2' would be better.
Pass -nodeprecate=>1 to inhibit this message.
 at /tmp/loop_over_bdir-2096-t4V_ID/Data-Serializer-0.65-0/blib/lib/Data/Serializer.pm line 293.
WARNING: The key derivation method "opensslv1" is deprecated. Using -pbkdf=>'pbkdf2' would be better.
Pass -nodeprecate=>1 to inhibit this message.
 at /tmp/loop_over_bdir-2096-t4V_ID/Data-Serializer-0.65-0/blib/lib/Data/Serializer.pm line 293.
WARNING: The key derivation method "opensslv1" is deprecated. Using -pbkdf=>'pbkdf2' would be better.
Pass -nodeprecate=>1 to inhibit this message.
 at /tmp/loop_over_bdir-2096-t4V_ID/Data-Serializer-0.65-0/blib/lib/Data/Serializer.pm line 293.
WARNING: The key derivation method "opensslv1" is deprecated. Using -pbkdf=>'pbkdf2' would be better.
Pass -nodeprecate=>1 to inhibit this message.
 at /tmp/loop_over_bdir-2096-t4V_ID/Data-Serializer-0.65-0/blib/lib/Data/Serializer.pm line 293.
WARNING: The key derivation method "opensslv1" is deprecated. Using -pbkdf=>'pbkdf2' would be better.
Pass -nodeprecate=>1 to inhibit this message.
 at /tmp/loop_over_bdir-2096-t4V_ID/Data-Serializer-0.65-0/blib/lib/Data/Serializer.pm line 293.
WARNING: The key derivation method "opensslv1" is deprecated. Using -pbkdf=>'pbkdf2' would be better.
Pass -nodeprecate=>1 to inhibit this message.
 at /tmp/loop_over_bdir-2096-t4V_ID/Data-Serializer-0.65-0/blib/lib/Data/Serializer.pm line 293.
WARNING: The key derivation method "opensslv1" is deprecated. Using -pbkdf=>'pbkdf2' would be better.
Pass -nodeprecate=>1 to inhibit this message.
 at /tmp/loop_over_bdir-2096-t4V_ID/Data-Serializer-0.65-0/blib/lib/Data/Serializer.pm line 293.
WARNING: The key derivation method "opensslv1" is deprecated. Using -pbkdf=>'pbkdf2' would be better.
Pass -nodeprecate=>1 to inhibit this message.
 at /tmp/loop_over_bdir-2096-t4V_ID/Data-Serializer-0.65-0/blib/lib/Data/Serializer.pm line 293.
WARNING: The key derivation method "opensslv1" is deprecated. Using -pbkdf=>'pbkdf2' would be better.
Pass -nodeprecate=>1 to inhibit this message.
 at /tmp/loop_over_bdir-2096-t4V_ID/Data-Serializer-0.65-0/blib/lib/Data/Serializer.pm line 293.
WARNING: The key derivation method "opensslv1" is deprecated. Using -pbkdf=>'pbkdf2' would be better.
Pass -nodeprecate=>1 to inhibit this message.
 at /tmp/loop_over_bdir-2096-t4V_ID/Data-Serializer-0.65-0/blib/lib/Data/Serializer.pm line 293.
WARNING: The key derivation method "opensslv1" is deprecated. Using -pbkdf=>'pbkdf2' would be better.
Pass -nodeprecate=>1 to inhibit this message.
 at /tmp/loop_over_bdir-2096-t4V_ID/Data-Serializer-0.65-0/blib/lib/Data/Serializer.pm line 293.
WARNING: The key derivation method "opensslv1" is deprecated. Using -pbkdf=>'pbkdf2' would be better.
Pass -nodeprecate=>1 to inhibit this message.
 at /tmp/loop_over_bdir-2096-t4V_ID/Data-Serializer-0.65-0/blib/lib/Data/Serializer.pm line 293.
WARNING: The key derivation method "opensslv1" is deprecated. Using -pbkdf=>'pbkdf2' would be better.
Pass -nodeprecate=>1 to inhibit this message.
 at /tmp/loop_over_bdir-2096-t4V_ID/Data-Serializer-0.65-0/blib/lib/Data/Serializer.pm line 293.
WARNING: The key derivation method "opensslv1" is deprecated. Using -pbkdf=>'pbkdf2' would be better.
Pass -nodeprecate=>1 to inhibit this message.
 at /tmp/loop_over_bdir-2096-t4V_ID/Data-Serializer-0.65-0/blib/lib/Data/Serializer.pm line 293.
WARNING: The key derivation method "opensslv1" is deprecated. Using -pbkdf=>'pbkdf2' would be better.
Pass -nodeprecate=>1 to inhibit this message.
 at /tmp/loop_over_bdir-2096-t4V_ID/Data-Serializer-0.65-0/blib/lib/Data/Serializer.pm line 293.
WARNING: The key derivation method "opensslv1" is deprecated. Using -pbkdf=>'pbkdf2' would be better.
Pass -nodeprecate=>1 to inhibit this message.
 at /tmp/loop_over_bdir-2096-t4V_ID/Data-Serializer-0.65-0/blib/lib/Data/Serializer.pm line 293.
WARNING: The key derivation method "opensslv1" is deprecated. Using -pbkdf=>'pbkdf2' would be better.
Pass -nodeprecate=>1 to inhibit this message.
 at /tmp/loop_over_bdir-2096-t4V_ID/Data-Serializer-0.65-0/blib/lib/Data/Serializer.pm line 293.
WARNING: The key derivation method "opensslv1" is deprecated. Using -pbkdf=>'pbkdf2' would be better.
Pass -nodeprecate=>1 to inhibit this message.
 at /tmp/loop_over_bdir-2096-t4V_ID/Data-Serializer-0.65-0/blib/lib/Data/Serializer.pm line 293.
WARNING: The key derivation method "opensslv1" is deprecated. Using -pbkdf=>'pbkdf2' would be better.
Pass -nodeprecate=>1 to inhibit this message.
 at /tmp/loop_over_bdir-2096-t4V_ID/Data-Serializer-0.65-0/blib/lib/Data/Serializer.pm line 293.
WARNING: The key derivation method "opensslv1" is deprecated. Using -pbkdf=>'pbkdf2' would be better.
Pass -nodeprecate=>1 to inhibit this message.
 at /tmp/loop_over_bdir-2096-t4V_ID/Data-Serializer-0.65-0/blib/lib/Data/Serializer.pm line 293.
WARNING: The key derivation method "opensslv1" is deprecated. Using -pbkdf=>'pbkdf2' would be better.
Pass -nodeprecate=>1 to inhibit this message.
 at /tmp/loop_over_bdir-2096-t4V_ID/Data-Serializer-0.65-0/blib/lib/Data/Serializer.pm line 293.
WARNING: The key derivation method "opensslv1" is deprecated. Using -pbkdf=>'pbkdf2' would be better.
Pass -nodeprecate=>1 to inhibit this message.
 at /tmp/loop_over_bdir-2096-t4V_ID/Data-Serializer-0.65-0/blib/lib/Data/Serializer.pm line 293.
WARNING: The key derivation method "opensslv1" is deprecated. Using -pbkdf=>'pbkdf2' would be better.
Pass -nodeprecate=>1 to inhibit this message.
 at /tmp/loop_over_bdir-2096-t4V_ID/Data-Serializer-0.65-0/blib/lib/Data/Serializer.pm line 293.
WARNING: The key derivation method "opensslv1" is deprecated. Using -pbkdf=>'pbkdf2' would be better.
Pass -nodeprecate=>1 to inhibit this message.
 at /tmp/loop_over_bdir-2096-t4V_ID/Data-Serializer-0.65-0/blib/lib/Data/Serializer.pm line 293.
WARNING: The key derivation method "opensslv1" is deprecated. Using -pbkdf=>'pbkdf2' would be better.
Pass -nodeprecate=>1 to inhibit this message.
 at /tmp/loop_over_bdir-2096-t4V_ID/Data-Serializer-0.65-0/blib/lib/Data/Serializer.pm line 293.
WARNING: The key derivation method "opensslv1" is deprecated. Using -pbkdf=>'pbkdf2' would be better.
Pass -nodeprecate=>1 to inhibit this message.
 at /tmp/loop_over_bdir-2096-t4V_ID/Data-Serializer-0.65-0/blib/lib/Data/Serializer.pm line 293.
WARNING: The key derivation method "opensslv1" is deprecated. Using -pbkdf=>'pbkdf2' would be better.
Pass -nodeprecate=>1 to inhibit this message.
 at /tmp/loop_over_bdir-2096-t4V_ID/Data-Serializer-0.65-0/blib/lib/Data/Serializer.pm line 293.
WARNING: The key derivation method "opensslv1" is deprecated. Using -pbkdf=>'pbkdf2' would be better.
Pass -nodeprecate=>1 to inhibit this message.
 at /tmp/loop_over_bdir-2096-t4V_ID/Data-Serializer-0.65-0/blib/lib/Data/Serializer.pm line 293.
WARNING: The key derivation method "opensslv1" is deprecated. Using -pbkdf=>'pbkdf2' would be better.
Pass -nodeprecate=>1 to inhibit this message.
 at /tmp/loop_over_bdir-2096-t4V_ID/Data-Serializer-0.65-0/blib/lib/Data/Serializer.pm line 293.
WARNING: The key derivation method "opensslv1" is deprecated. Using -pbkdf=>'pbkdf2' would be better.
Pass -nodeprecate=>1 to inhibit this message.
 at /tmp/loop_over_bdir-2096-t4V_ID/Data-Serializer-0.65-0/blib/lib/Data/Serializer.pm line 293.
WARNING: The key derivation method "opensslv1" is deprecated. Using -pbkdf=>'pbkdf2' would be better.
Pass -nodeprecate=>1 to inhibit this message.
 at /tmp/loop_over_bdir-2096-t4V_ID/Data-Serializer-0.65-0/blib/lib/Data/Serializer.pm line 293.
WARNING: The key derivation method "opensslv1" is deprecated. Using -pbkdf=>'pbkdf2' would be better.
Pass -nodeprecate=>1 to inhibit this message.
 at /tmp/loop_over_bdir-2096-t4V_ID/Data-Serializer-0.65-0/blib/lib/Data/Serializer.pm line 293.
WARNING: The key derivation method "opensslv1" is deprecated. Using -pbkdf=>'pbkdf2' would be better.
Pass -nodeprecate=>1 to inhibit this message.
 at /tmp/loop_over_bdir-2096-t4V_ID/Data-Serializer-0.65-0/blib/lib/Data/Serializer.pm line 293.
WARNING: The key derivation method "opensslv1" is deprecated. Using -pbkdf=>'pbkdf2' would be better.
Pass -nodeprecate=>1 to inhibit this message.
 at /tmp/loop_over_bdir-2096-t4V_ID/Data-Serializer-0.65-0/blib/lib/Data/Serializer.pm line 293.
WARNING: The key derivation method "opensslv1" is deprecated. Using -pbkdf=>'pbkdf2' would be better.
Pass -nodeprecate=>1 to inhibit this message.
 at /tmp/loop_over_bdir-2096-t4V_ID/Data-Serializer-0.65-0/blib/lib/Data/Serializer.pm line 293.
WARNING: The key derivation method "opensslv1" is deprecated. Using -pbkdf=>'pbkdf2' would be better.
Pass -nodeprecate=>1 to inhibit this message.
 at /tmp/loop_over_bdir-2096-t4V_ID/Data-Serializer-0.65-0/blib/lib/Data/Serializer.pm line 293.
WARNING: The key derivation method "opensslv1" is deprecated. Using -pbkdf=>'pbkdf2' would be better.
Pass -nodeprecate=>1 to inhibit this message.
 at /tmp/loop_over_bdir-2096-t4V_ID/Data-Serializer-0.65-0/blib/lib/Data/Serializer.pm line 293.
WARNING: The key derivation method "opensslv1" is deprecated. Using -pbkdf=>'pbkdf2' would be better.
Pass -nodeprecate=>1 to inhibit this message.
 at /tmp/loop_over_bdir-2096-t4V_ID/Data-Serializer-0.65-0/blib/lib/Data/Serializer.pm line 293.
WARNING: The key derivation method "opensslv1" is deprecated. Using -pbkdf=>'pbkdf2' would be better.
Pass -nodeprecate=>1 to inhibit this message.
 at /tmp/loop_over_bdir-2096-t4V_ID/Data-Serializer-0.65-0/blib/lib/Data/Serializer.pm line 293.
WARNING: The key derivation method "opensslv1" is deprecated. Using -pbkdf=>'pbkdf2' would be better.
Pass -nodeprecate=>1 to inhibit this message.
 at /tmp/loop_over_bdir-2096-t4V_ID/Data-Serializer-0.65-0/blib/lib/Data/Serializer.pm line 293.
WARNING: The key derivation method "opensslv1" is deprecated. Using -pbkdf=>'pbkdf2' would be better.
Pass -nodeprecate=>1 to inhibit this message.
 at /tmp/loop_over_bdir-2096-t4V_ID/Data-Serializer-0.65-0/blib/lib/Data/Serializer.pm line 293.
WARNING: The key derivation method "opensslv1" is deprecated. Using -pbkdf=>'pbkdf2' would be better.
Pass -nodeprecate=>1 to inhibit this message.
 at /tmp/loop_over_bdir-2096-t4V_ID/Data-Serializer-0.65-0/blib/lib/Data/Serializer.pm line 293.
WARNING: The key derivation method "opensslv1" is deprecated. Using -pbkdf=>'pbkdf2' would be better.
Pass -nodeprecate=>1 to inhibit this message.
 at /tmp/loop_over_bdir-2096-t4V_ID/Data-Serializer-0.65-0/blib/lib/Data/Serializer.pm line 293.
WARNING: The key derivation method "opensslv1" is deprecated. Using -pbkdf=>'pbkdf2' would be better.
Pass -nodeprecate=>1 to inhibit this message.
 at /tmp/loop_over_bdir-2096-t4V_ID/Data-Serializer-0.65-0/blib/lib/Data/Serializer.pm line 293.
WARNING: The key derivation method "opensslv1" is deprecated. Using -pbkdf=>'pbkdf2' would be better.
Pass -nodeprecate=>1 to inhibit this message.
 at /tmp/loop_over_bdir-2096-t4V_ID/Data-Serializer-0.65-0/blib/lib/Data/Serializer.pm line 293.
WARNING: The key derivation method "opensslv1" is deprecated. Using -pbkdf=>'pbkdf2' would be better.
Pass -nodeprecate=>1 to inhibit this message.
 at /tmp/loop_over_bdir-2096-t4V_ID/Data-Serializer-0.65-0/blib/lib/Data/Serializer.pm line 293.
WARNING: The key derivation method "opensslv1" is deprecated. Using -pbkdf=>'pbkdf2' would be better.
Pass -nodeprecate=>1 to inhibit this message.
 at /tmp/loop_over_bdir-2096-t4V_ID/Data-Serializer-0.65-0/blib/lib/Data/Serializer.pm line 293.
WARNING: The key derivation method "opensslv1" is deprecated. Using -pbkdf=>'pbkdf2' would be better.
Pass -nodeprecate=>1 to inhibit this message.
 at /tmp/loop_over_bdir-2096-t4V_ID/Data-Serializer-0.65-0/blib/lib/Data/Serializer.pm line 293.
WARNING: The key derivation method "opensslv1" is deprecated. Using -pbkdf=>'pbkdf2' would be better.
Pass -nodeprecate=>1 to inhibit this message.
 at /tmp/loop_over_bdir-2096-t4V_ID/Data-Serializer-0.65-0/blib/lib/Data/Serializer.pm line 293.
WARNING: The key derivation method "opensslv1" is deprecated. Using -pbkdf=>'pbkdf2' would be better.
Pass -nodeprecate=>1 to inhibit this message.
 at /tmp/loop_over_bdir-2096-t4V_ID/Data-Serializer-0.65-0/blib/lib/Data/Serializer.pm line 293.
WARNING: The key derivation method "opensslv1" is deprecated. Using -pbkdf=>'pbkdf2' would be better.
Pass -nodeprecate=>1 to inhibit this message.
 at /tmp/loop_over_bdir-2096-t4V_ID/Data-Serializer-0.65-0/blib/lib/Data/Serializer.pm line 293.
WARNING: The key derivation method "opensslv1" is deprecated. Using -pbkdf=>'pbkdf2' would be better.
Pass -nodeprecate=>1 to inhibit this message.
 at /tmp/loop_over_bdir-2096-t4V_ID/Data-Serializer-0.65-0/blib/lib/Data/Serializer.pm line 293.
WARNING: The key derivation method "opensslv1" is deprecated. Using -pbkdf=>'pbkdf2' would be better.
Pass -nodeprecate=>1 to inhibit this message.
 at /tmp/loop_over_bdir-2096-t4V_ID/Data-Serializer-0.65-0/blib/lib/Data/Serializer.pm line 293.
WARNING: The key derivation method "opensslv1" is deprecated. Using -pbkdf=>'pbkdf2' would be better.
Pass -nodeprecate=>1 to inhibit this message.
 at /tmp/loop_over_bdir-2096-t4V_ID/Data-Serializer-0.65-0/blib/lib/Data/Serializer.pm line 293.
WARNING: The key derivation method "opensslv1" is deprecated. Using -pbkdf=>'pbkdf2' would be better.
Pass -nodeprecate=>1 to inhibit this message.
 at /tmp/loop_over_bdir-2096-t4V_ID/Data-Serializer-0.65-0/blib/lib/Data/Serializer.pm line 293.
WARNING: The key derivation method "opensslv1" is deprecated. Using -pbkdf=>'pbkdf2' would be better.
Pass -nodeprecate=>1 to inhibit this message.
 at /tmp/loop_over_bdir-2096-t4V_ID/Data-Serializer-0.65-0/blib/lib/Data/Serializer.pm line 293.
WARNING: The key derivation method "opensslv1" is deprecated. Using -pbkdf=>'pbkdf2' would be better.
Pass -nodeprecate=>1 to inhibit this message.
 at /tmp/loop_over_bdir-2096-t4V_ID/Data-Serializer-0.65-0/blib/lib/Data/Serializer.pm line 293.
WARNING: The key derivation method "opensslv1" is deprecated. Using -pbkdf=>'pbkdf2' would be better.
Pass -nodeprecate=>1 to inhibit this message.
 at /tmp/loop_over_bdir-2096-t4V_ID/Data-Serializer-0.65-0/blib/lib/Data/Serializer.pm line 293.
WARNING: The key derivation method "opensslv1" is deprecated. Using -pbkdf=>'pbkdf2' would be better.
Pass -nodeprecate=>1 to inhibit this message.
 at /tmp/loop_over_bdir-2096-t4V_ID/Data-Serializer-0.65-0/blib/lib/Data/Serializer.pm line 293.
WARNING: The key derivation method "opensslv1" is deprecated. Using -pbkdf=>'pbkdf2' would be better.
Pass -nodeprecate=>1 to inhibit this message.
 at /tmp/loop_over_bdir-2096-t4V_ID/Data-Serializer-0.65-0/blib/lib/Data/Serializer.pm line 293.
WARNING: The key derivation method "opensslv1" is deprecated. Using -pbkdf=>'pbkdf2' would be better.
Pass -nodeprecate=>1 to inhibit this message.
 at /tmp/loop_over_bdir-2096-t4V_ID/Data-Serializer-0.65-0/blib/lib/Data/Serializer.pm line 293.
WARNING: The key derivation method "opensslv1" is deprecated. Using -pbkdf=>'pbkdf2' would be better.
Pass -nodeprecate=>1 to inhibit this message.
 at /tmp/loop_over_bdir-2096-t4V_ID/Data-Serializer-0.65-0/blib/lib/Data/Serializer.pm line 293.
WARNING: The key derivation method "opensslv1" is deprecated. Using -pbkdf=>'pbkdf2' would be better.
Pass -nodeprecate=>1 to inhibit this message.
 at /tmp/loop_over_bdir-2096-t4V_ID/Data-Serializer-0.65-0/blib/lib/Data/Serializer.pm line 293.
WARNING: The key derivation method "opensslv1" is deprecated. Using -pbkdf=>'pbkdf2' would be better.
Pass -nodeprecate=>1 to inhibit this message.
 at /tmp/loop_over_bdir-2096-t4V_ID/Data-Serializer-0.65-0/blib/lib/Data/Serializer.pm line 293.
WARNING: The key derivation method "opensslv1" is deprecated. Using -pbkdf=>'pbkdf2' would be better.
Pass -nodeprecate=>1 to inhibit this message.
 at /tmp/loop_over_bdir-2096-t4V_ID/Data-Serializer-0.65-0/blib/lib/Data/Serializer.pm line 293.
WARNING: The key derivation method "opensslv1" is deprecated. Using -pbkdf=>'pbkdf2' would be better.
Pass -nodeprecate=>1 to inhibit this message.
 at /tmp/loop_over_bdir-2096-t4V_ID/Data-Serializer-0.65-0/blib/lib/Data/Serializer.pm line 293.
WARNING: The key derivation method "opensslv1" is deprecated. Using -pbkdf=>'pbkdf2' would be better.
Pass -nodeprecate=>1 to inhibit this message.
 at /tmp/loop_over_bdir-2096-t4V_ID/Data-Serializer-0.65-0/blib/lib/Data/Serializer.pm line 293.
WARNING: The key derivation method "opensslv1" is deprecated. Using -pbkdf=>'pbkdf2' would be better.
Pass -nodeprecate=>1 to inhibit this message.
 at /tmp/loop_over_bdir-2096-t4V_ID/Data-Serializer-0.65-0/blib/lib/Data/Serializer.pm line 293.
WARNING: The key derivation method "opensslv1" is deprecated. Using -pbkdf=>'pbkdf2' would be better.
Pass -nodeprecate=>1 to inhibit this message.
 at /tmp/loop_over_bdir-2096-t4V_ID/Data-Serializer-0.65-0/blib/lib/Data/Serializer.pm line 293.
WARNING: The key derivation method "opensslv1" is deprecated. Using -pbkdf=>'pbkdf2' would be better.
Pass -nodeprecate=>1 to inhibit this message.
 at /tmp/loop_over_bdir-2096-t4V_ID/Data-Serializer-0.65-0/blib/lib/Data/Serializer.pm line 293.
WARNING: The key derivation method "opensslv1" is deprecated. Using -pbkdf=>'pbkdf2' would be better.
Pass -nodeprecate=>1 to inhibit this message.
 at /tmp/loop_over_bdir-2096-t4V_ID/Data-Serializer-0.65-0/blib/lib/Data/Serializer.pm line 293.
WARNING: The key derivation method "opensslv1" is deprecated. Using -pbkdf=>'pbkdf2' would be better.
Pass -nodeprecate=>1 to inhibit this message.
 at /tmp/loop_over_bdir-2096-t4V_ID/Data-Serializer-0.65-0/blib/lib/Data/Serializer.pm line 293.
WARNING: The key derivation method "opensslv1" is deprecated. Using -pbkdf=>'pbkdf2' would be better.
Pass -nodeprecate=>1 to inhibit this message.
 at /tmp/loop_over_bdir-2096-t4V_ID/Data-Serializer-0.65-0/blib/lib/Data/Serializer.pm line 293.
WARNING: The key derivation method "opensslv1" is deprecated. Using -pbkdf=>'pbkdf2' would be better.
Pass -nodeprecate=>1 to inhibit this message.
 at /tmp/loop_over_bdir-2096-t4V_ID/Data-Serializer-0.65-0/blib/lib/Data/Serializer.pm line 293.
WARNING: The key derivation method "opensslv1" is deprecated. Using -pbkdf=>'pbkdf2' would be better.
Pass -nodeprecate=>1 to inhibit this message.
 at /tmp/loop_over_bdir-2096-t4V_ID/Data-Serializer-0.65-0/blib/lib/Data/Serializer.pm line 293.
WARNING: The key derivation method "opensslv1" is deprecated. Using -pbkdf=>'pbkdf2' would be better.
Pass -nodeprecate=>1 to inhibit this message.
 at /tmp/loop_over_bdir-2096-t4V_ID/Data-Serializer-0.65-0/blib/lib/Data/Serializer.pm line 293.
WARNING: The key derivation method "opensslv1" is deprecated. Using -pbkdf=>'pbkdf2' would be better.
Pass -nodeprecate=>1 to inhibit this message.
 at /tmp/loop_over_bdir-2096-t4V_ID/Data-Serializer-0.65-0/blib/lib/Data/Serializer.pm line 293.
WARNING: The key derivation method "opensslv1" is deprecated. Using -pbkdf=>'pbkdf2' would be better.
Pass -nodeprecate=>1 to inhibit this message.
 at /tmp/loop_over_bdir-2096-t4V_ID/Data-Serializer-0.65-0/blib/lib/Data/Serializer.pm line 293.
WARNING: The key derivation method "opensslv1" is deprecated. Using -pbkdf=>'pbkdf2' would be better.
Pass -nodeprecate=>1 to inhibit this message.
 at /tmp/loop_over_bdir-2096-t4V_ID/Data-Serializer-0.65-0/blib/lib/Data/Serializer.pm line 293.
WARNING: The key derivation method "opensslv1" is deprecated. Using -pbkdf=>'pbkdf2' would be better.
Pass -nodeprecate=>1 to inhibit this message.
 at /tmp/loop_over_bdir-2096-t4V_ID/Data-Serializer-0.65-0/blib/lib/Data/Serializer.pm line 293.
WARNING: The key derivation method "opensslv1" is deprecated. Using -pbkdf=>'pbkdf2' would be better.
Pass -nodeprecate=>1 to inhibit this message.
 at /tmp/loop_over_bdir-2096-t4V_ID/Data-Serializer-0.65-0/blib/lib/Data/Serializer.pm line 293.
WARNING: The key derivation method "opensslv1" is deprecated. Using -pbkdf=>'pbkdf2' would be better.
Pass -nodeprecate=>1 to inhibit this message.
 at /tmp/loop_over_bdir-2096-t4V_ID/Data-Serializer-0.65-0/blib/lib/Data/Serializer.pm line 293.
WARNING: The key derivation method "opensslv1" is deprecated. Using -pbkdf=>'pbkdf2' would be better.
Pass -nodeprecate=>1 to inhibit this message.
 at /tmp/loop_over_bdir-2096-t4V_ID/Data-Serializer-0.65-0/blib/lib/Data/Serializer.pm line 293.
WARNING: The key derivation method "opensslv1" is deprecated. Using -pbkdf=>'pbkdf2' would be better.
Pass -nodeprecate=>1 to inhibit this message.
 at /tmp/loop_over_bdir-2096-t4V_ID/Data-Serializer-0.65-0/blib/lib/Data/Serializer.pm line 293.
WARNING: The key derivation method "opensslv1" is deprecated. Using -pbkdf=>'pbkdf2' would be better.
Pass -nodeprecate=>1 to inhibit this message.
 at /tmp/loop_over_bdir-2096-t4V_ID/Data-Serializer-0.65-0/blib/lib/Data/Serializer.pm line 293.
WARNING: The key derivation method "opensslv1" is deprecated. Using -pbkdf=>'pbkdf2' would be better.
Pass -nodeprecate=>1 to inhibit this message.
 at /tmp/loop_over_bdir-2096-t4V_ID/Data-Serializer-0.65-0/blib/lib/Data/Serializer.pm line 293.
WARNING: The key derivation method "opensslv1" is deprecated. Using -pbkdf=>'pbkdf2' would be better.
Pass -nodeprecate=>1 to inhibit this message.
 at /tmp/loop_over_bdir-2096-t4V_ID/Data-Serializer-0.65-0/blib/lib/Data/Serializer.pm line 293.
WARNING: The key derivation method "opensslv1" is deprecated. Using -pbkdf=>'pbkdf2' would be better.
Pass -nodeprecate=>1 to inhibit this message.
 at /tmp/loop_over_bdir-2096-t4V_ID/Data-Serializer-0.65-0/blib/lib/Data/Serializer.pm line 293.
WARNING: The key derivation method "opensslv1" is deprecated. Using -pbkdf=>'pbkdf2' would be better.
Pass -nodeprecate=>1 to inhibit this message.
 at /tmp/loop_over_bdir-2096-t4V_ID/Data-Serializer-0.65-0/blib/lib/Data/Serializer.pm line 293.
WARNING: The key derivation method "opensslv1" is deprecated. Using -pbkdf=>'pbkdf2' would be better.
Pass -nodeprecate=>1 to inhibit this message.
 at /tmp/loop_over_bdir-2096-t4V_ID/Data-Serializer-0.65-0/blib/lib/Data/Serializer.pm line 293.
WARNING: The key derivation method "opensslv1" is deprecated. Using -pbkdf=>'pbkdf2' would be better.
Pass -nodeprecate=>1 to inhibit this message.
 at /tmp/loop_over_bdir-2096-t4V_ID/Data-Serializer-0.65-0/blib/lib/Data/Serializer.pm line 293.
WARNING: The key derivation method "opensslv1" is deprecated. Using -pbkdf=>'pbkdf2' would be better.
Pass -nodeprecate=>1 to inhibit this message.
 at /tmp/loop_over_bdir-2096-t4V_ID/Data-Serializer-0.65-0/blib/lib/Data/Serializer.pm line 293.
WARNING: The key derivation method "opensslv1" is deprecated. Using -pbkdf=>'pbkdf2' would be better.
Pass -nodeprecate=>1 to inhibit this message.
 at /tmp/loop_over_bdir-2096-t4V_ID/Data-Serializer-0.65-0/blib/lib/Data/Serializer.pm line 293.
WARNING: The key derivation method "opensslv1" is deprecated. Using -pbkdf=>'pbkdf2' would be better.
Pass -nodeprecate=>1 to inhibit this message.
 at /tmp/loop_over_bdir-2096-t4V_ID/Data-Serializer-0.65-0/blib/lib/Data/Serializer.pm line 293.
WARNING: The key derivation method "opensslv1" is deprecated. Using -pbkdf=>'pbkdf2' would be better.
Pass -nodeprecate=>1 to inhibit this message.
 at /tmp/loop_over_bdir-2096-t4V_ID/Data-Serializer-0.65-0/blib/lib/Data/Serializer.pm line 293.
WARNING: The key derivation method "opensslv1" is deprecated. Using -pbkdf=>'pbkdf2' would be better.
Pass -nodeprecate=>1 to inhibit this message.
 at /tmp/loop_over_bdir-2096-t4V_ID/Data-Serializer-0.65-0/blib/lib/Data/Serializer.pm line 293.
WARNING: The key derivation method "opensslv1" is deprecated. Using -pbkdf=>'pbkdf2' would be better.
Pass -nodeprecate=>1 to inhibit this message.
 at /tmp/loop_over_bdir-2096-t4V_ID/Data-Serializer-0.65-0/blib/lib/Data/Serializer.pm line 293.
WARNING: The key derivation method "opensslv1" is deprecated. Using -pbkdf=>'pbkdf2' would be better.
Pass -nodeprecate=>1 to inhibit this message.
 at /tmp/loop_over_bdir-2096-t4V_ID/Data-Serializer-0.65-0/blib/lib/Data/Serializer.pm line 293.
WARNING: The key derivation method "opensslv1" is deprecated. Using -pbkdf=>'pbkdf2' would be better.
Pass -nodeprecate=>1 to inhibit this message.
 at /tmp/loop_over_bdir-2096-t4V_ID/Data-Serializer-0.65-0/blib/lib/Data/Serializer.pm line 293.
WARNING: The key derivation method "opensslv1" is deprecated. Using -pbkdf=>'pbkdf2' would be better.
Pass -nodeprecate=>1 to inhibit this message.
 at /tmp/loop_over_bdir-2096-t4V_ID/Data-Serializer-0.65-0/blib/lib/Data/Serializer.pm line 293.
WARNING: The key derivation method "opensslv1" is deprecated. Using -pbkdf=>'pbkdf2' would be better.
Pass -nodeprecate=>1 to inhibit this message.
 at /tmp/loop_over_bdir-2096-t4V_ID/Data-Serializer-0.65-0/blib/lib/Data/Serializer.pm line 293.
WARNING: The key derivation method "opensslv1" is deprecated. Using -pbkdf=>'pbkdf2' would be better.
Pass -nodeprecate=>1 to inhibit this message.
 at /tmp/loop_over_bdir-2096-t4V_ID/Data-Serializer-0.65-0/blib/lib/Data/Serializer.pm line 293.
WARNING: The key derivation method "opensslv1" is deprecated. Using -pbkdf=>'pbkdf2' would be better.
Pass -nodeprecate=>1 to inhibit this message.
 at /tmp/loop_over_bdir-2096-t4V_ID/Data-Serializer-0.65-0/blib/lib/Data/Serializer.pm line 293.
WARNING: The key derivation method "opensslv1" is deprecated. Using -pbkdf=>'pbkdf2' would be better.
Pass -nodeprecate=>1 to inhibit this message.
 at /tmp/loop_over_bdir-2096-t4V_ID/Data-Serializer-0.65-0/blib/lib/Data/Serializer.pm line 293.
WARNING: The key derivation method "opensslv1" is deprecated. Using -pbkdf=>'pbkdf2' would be better.
Pass -nodeprecate=>1 to inhibit this message.
 at /tmp/loop_over_bdir-2096-t4V_ID/Data-Serializer-0.65-0/blib/lib/Data/Serializer.pm line 293.
WARNING: The key derivation method "opensslv1" is deprecated. Using -pbkdf=>'pbkdf2' would be better.
Pass -nodeprecate=>1 to inhibit this message.
 at /tmp/loop_over_bdir-2096-t4V_ID/Data-Serializer-0.65-0/blib/lib/Data/Serializer.pm line 293.
WARNING: The key derivation method "opensslv1" is deprecated. Using -pbkdf=>'pbkdf2' would be better.
Pass -nodeprecate=>1 to inhibit this message.
 at /tmp/loop_over_bdir-2096-t4V_ID/Data-Serializer-0.65-0/blib/lib/Data/Serializer.pm line 293.
WARNING: The key derivation method "opensslv1" is deprecated. Using -pbkdf=>'pbkdf2' would be better.
Pass -nodeprecate=>1 to inhibit this message.
 at /tmp/loop_over_bdir-2096-t4V_ID/Data-Serializer-0.65-0/blib/lib/Data/Serializer.pm line 293.
WARNING: The key derivation method "opensslv1" is deprecated. Using -pbkdf=>'pbkdf2' would be better.
Pass -nodeprecate=>1 to inhibit this message.
 at /tmp/loop_over_bdir-2096-t4V_ID/Data-Serializer-0.65-0/blib/lib/Data/Serializer.pm line 293.
WARNING: The key derivation method "opensslv1" is deprecated. Using -pbkdf=>'pbkdf2' would be better.
Pass -nodeprecate=>1 to inhibit this message.
 at /tmp/loop_over_bdir-2096-t4V_ID/Data-Serializer-0.65-0/blib/lib/Data/Serializer.pm line 293.
WARNING: The key derivation method "opensslv1" is deprecated. Using -pbkdf=>'pbkdf2' would be better.
Pass -nodeprecate=>1 to inhibit this message.
 at /tmp/loop_over_bdir-2096-t4V_ID/Data-Serializer-0.65-0/blib/lib/Data/Serializer.pm line 293.
WARNING: The key derivation method "opensslv1" is deprecated. Using -pbkdf=>'pbkdf2' would be better.
Pass -nodeprecate=>1 to inhibit this message.
 at /tmp/loop_over_bdir-2096-t4V_ID/Data-Serializer-0.65-0/blib/lib/Data/Serializer.pm line 293.
WARNING: The key derivation method "opensslv1" is deprecated. Using -pbkdf=>'pbkdf2' would be better.
Pass -nodeprecate=>1 to inhibit this message.
 at /tmp/loop_over_bdir-2096-t4V_ID/Data-Serializer-0.65-0/blib/lib/Data/Serializer.pm line 293.
WARNING: The key derivation method "opensslv1" is deprecated. Using -pbkdf=>'pbkdf2' would be better.
Pass -nodeprecate=>1 to inhibit this message.
 at /tmp/loop_over_bdir-2096-t4V_ID/Data-Serializer-0.65-0/blib/lib/Data/Serializer.pm line 293.
WARNING: The key derivation method "opensslv1" is deprecated. Using -pbkdf=>'pbkdf2' would be better.
Pass -nodeprecate=>1 to inhibit this message.
 at /tmp/loop_over_bdir-2096-t4V_ID/Data-Serializer-0.65-0/blib/lib/Data/Serializer.pm line 293.
WARNING: The key derivation method "opensslv1" is deprecated. Using -pbkdf=>'pbkdf2' would be better.
Pass -nodeprecate=>1 to inhibit this message.
 at /tmp/loop_over_bdir-2096-t4V_ID/Data-Serializer-0.65-0/blib/lib/Data/Serializer.pm line 293.
WARNING: The key derivation method "opensslv1" is deprecated. Using -pbkdf=>'pbkdf2' would be better.
Pass -nodeprecate=>1 to inhibit this message.
 at /tmp/loop_over_bdir-2096-t4V_ID/Data-Serializer-0.65-0/blib/lib/Data/Serializer.pm line 293.
WARNING: The key derivation method "opensslv1" is deprecated. Using -pbkdf=>'pbkdf2' would be better.
Pass -nodeprecate=>1 to inhibit this message.
 at /tmp/loop_over_bdir-2096-t4V_ID/Data-Serializer-0.65-0/blib/lib/Data/Serializer.pm line 293.
WARNING: The key derivation method "opensslv1" is deprecated. Using -pbkdf=>'pbkdf2' would be better.
Pass -nodeprecate=>1 to inhibit this message.
 at /tmp/loop_over_bdir-2096-t4V_ID/Data-Serializer-0.65-0/blib/lib/Data/Serializer.pm line 293.
WARNING: The key derivation method "opensslv1" is deprecated. Using -pbkdf=>'pbkdf2' would be better.
Pass -nodeprecate=>1 to inhibit this message.
 at /tmp/loop_over_bdir-2096-t4V_ID/Data-Serializer-0.65-0/blib/lib/Data/Serializer.pm line 293.
WARNING: The key derivation method "opensslv1" is deprecated. Using -pbkdf=>'pbkdf2' would be better.
Pass -nodeprecate=>1 to inhibit this message.
 at /tmp/loop_over_bdir-2096-t4V_ID/Data-Serializer-0.65-0/blib/lib/Data/Serializer.pm line 293.
WARNING: The key derivation method "opensslv1" is deprecated. Using -pbkdf=>'pbkdf2' would be better.
Pass -nodeprecate=>1 to inhibit this message.
 at /tmp/loop_over_bdir-2096-t4V_ID/Data-Serializer-0.65-0/blib/lib/Data/Serializer.pm line 293.
WARNING: The key derivation method "opensslv1" is deprecated. Using -pbkdf=>'pbkdf2' would be better.
Pass -nodeprecate=>1 to inhibit this message.
 at /tmp/loop_over_bdir-2096-t4V_ID/Data-Serializer-0.65-0/blib/lib/Data/Serializer.pm line 293.
WARNING: The key derivation method "opensslv1" is deprecated. Using -pbkdf=>'pbkdf2' would be better.
Pass -nodeprecate=>1 to inhibit this message.
 at /tmp/loop_over_bdir-2096-t4V_ID/Data-Serializer-0.65-0/blib/lib/Data/Serializer.pm line 293.
WARNING: The key derivation method "opensslv1" is deprecated. Using -pbkdf=>'pbkdf2' would be better.
Pass -nodeprecate=>1 to inhibit this message.
 at /tmp/loop_over_bdir-2096-t4V_ID/Data-Serializer-0.65-0/blib/lib/Data/Serializer.pm line 293.
WARNING: The key derivation method "opensslv1" is deprecated. Using -pbkdf=>'pbkdf2' would be better.
Pass -nodeprecate=>1 to inhibit this message.
 at /tmp/loop_over_bdir-2096-t4V_ID/Data-Serializer-0.65-0/blib/lib/Data/Serializer.pm line 293.
WARNING: The key derivation method "opensslv1" is deprecated. Using -pbkdf=>'pbkdf2' would be better.
Pass -nodeprecate=>1 to inhibit this message.
 at /tmp/loop_over_bdir-2096-t4V_ID/Data-Serializer-0.65-0/blib/lib/Data/Serializer.pm line 293.
WARNING: The key derivation method "opensslv1" is deprecated. Using -pbkdf=>'pbkdf2' would be better.
Pass -nodeprecate=>1 to inhibit this message.
 at /tmp/loop_over_bdir-2096-t4V_ID/Data-Serializer-0.65-0/blib/lib/Data/Serializer.pm line 293.
WARNING: The key derivation method "opensslv1" is deprecated. Using -pbkdf=>'pbkdf2' would be better.
Pass -nodeprecate=>1 to inhibit this message.
 at /tmp/loop_over_bdir-2096-t4V_ID/Data-Serializer-0.65-0/blib/lib/Data/Serializer.pm line 293.
WARNING: The key derivation method "opensslv1" is deprecated. Using -pbkdf=>'pbkdf2' would be better.
Pass -nodeprecate=>1 to inhibit this message.
 at /tmp/loop_over_bdir-2096-t4V_ID/Data-Serializer-0.65-0/blib/lib/Data/Serializer.pm line 293.
WARNING: The key derivation method "opensslv1" is deprecated. Using -pbkdf=>'pbkdf2' would be better.
Pass -nodeprecate=>1 to inhibit this message.
 at /tmp/loop_over_bdir-2096-t4V_ID/Data-Serializer-0.65-0/blib/lib/Data/Serializer.pm line 293.
WARNING: The key derivation method "opensslv1" is deprecated. Using -pbkdf=>'pbkdf2' would be better.
Pass -nodeprecate=>1 to inhibit this message.
 at /tmp/loop_over_bdir-2096-t4V_ID/Data-Serializer-0.65-0/blib/lib/Data/Serializer.pm line 293.
WARNING: The key derivation method "opensslv1" is deprecated. Using -pbkdf=>'pbkdf2' would be better.
Pass -nodeprecate=>1 to inhibit this message.
 at /tmp/loop_over_bdir-2096-t4V_ID/Data-Serializer-0.65-0/blib/lib/Data/Serializer.pm line 293.
WARNING: The key derivation method "opensslv1" is deprecated. Using -pbkdf=>'pbkdf2' would be better.
Pass -nodeprecate=>1 to inhibit this message.
 at /tmp/loop_over_bdir-2096-t4V_ID/Data-Serializer-0.65-0/blib/lib/Data/Serializer.pm line 293.
WARNING: The key derivation method "opensslv1" is deprecated. Using -pbkdf=>'pbkdf2' would be better.
Pass -nodeprecate=>1 to inhibit this message.
 at /tmp/loop_over_bdir-2096-t4V_ID/Data-Serializer-0.65-0/blib/lib/Data/Serializer.pm line 293.
WARNING: The key derivation method "opensslv1" is deprecated. Using -pbkdf=>'pbkdf2' would be better.
Pass -nodeprecate=>1 to inhibit this message.
 at /tmp/loop_over_bdir-2096-t4V_ID/Data-Serializer-0.65-0/blib/lib/Data/Serializer.pm line 293.
WARNING: The key derivation method "opensslv1" is deprecated. Using -pbkdf=>'pbkdf2' would be better.
Pass -nodeprecate=>1 to inhibit this message.
 at /tmp/loop_over_bdir-2096-t4V_ID/Data-Serializer-0.65-0/blib/lib/Data/Serializer.pm line 293.
WARNING: The key derivation method "opensslv1" is deprecated. Using -pbkdf=>'pbkdf2' would be better.
Pass -nodeprecate=>1 to inhibit this message.
 at /tmp/loop_over_bdir-2096-t4V_ID/Data-Serializer-0.65-0/blib/lib/Data/Serializer.pm line 293.
WARNING: The key derivation method "opensslv1" is deprecated. Using -pbkdf=>'pbkdf2' would be better.
Pass -nodeprecate=>1 to inhibit this message.
 at /tmp/loop_over_bdir-2096-t4V_ID/Data-Serializer-0.65-0/blib/lib/Data/Serializer.pm line 293.
WARNING: The key derivation method "opensslv1" is deprecated. Using -pbkdf=>'pbkdf2' would be better.
Pass -nodeprecate=>1 to inhibit this message.
 at /tmp/loop_over_bdir-2096-t4V_ID/Data-Serializer-0.65-0/blib/lib/Data/Serializer.pm line 293.
WARNING: The key derivation method "opensslv1" is deprecated. Using -pbkdf=>'pbkdf2' would be better.
Pass -nodeprecate=>1 to inhibit this message.
 at /tmp/loop_over_bdir-2096-t4V_ID/Data-Serializer-0.65-0/blib/lib/Data/Serializer.pm line 293.
WARNING: The key derivation method "opensslv1" is deprecated. Using -pbkdf=>'pbkdf2' would be better.
Pass -nodeprecate=>1 to inhibit this message.
 at /tmp/loop_over_bdir-2096-t4V_ID/Data-Serializer-0.65-0/blib/lib/Data/Serializer.pm line 293.
WARNING: The key derivation method "opensslv1" is deprecated. Using -pbkdf=>'pbkdf2' would be better.
Pass -nodeprecate=>1 to inhibit this message.
 at /tmp/loop_over_bdir-2096-t4V_ID/Data-Serializer-0.65-0/blib/lib/Data/Serializer.pm line 293.
WARNING: The key derivation method "opensslv1" is deprecated. Using -pbkdf=>'pbkdf2' would be better.
Pass -nodeprecate=>1 to inhibit this message.
 at /tmp/loop_over_bdir-2096-t4V_ID/Data-Serializer-0.65-0/blib/lib/Data/Serializer.pm line 293.
WARNING: The key derivation method "opensslv1" is deprecated. Using -pbkdf=>'pbkdf2' would be better.
Pass -nodeprecate=>1 to inhibit this message.
 at /tmp/loop_over_bdir-2096-t4V_ID/Data-Serializer-0.65-0/blib/lib/Data/Serializer.pm line 293.
WARNING: The key derivation method "opensslv1" is deprecated. Using -pbkdf=>'pbkdf2' would be better.
Pass -nodeprecate=>1 to inhibit this message.
 at /tmp/loop_over_bdir-2096-t4V_ID/Data-Serializer-0.65-0/blib/lib/Data/Serializer.pm line 293.
WARNING: The key derivation method "opensslv1" is deprecated. Using -pbkdf=>'pbkdf2' would be better.
Pass -nodeprecate=>1 to inhibit this message.
 at /tmp/loop_over_bdir-2096-t4V_ID/Data-Serializer-0.65-0/blib/lib/Data/Serializer.pm line 293.
WARNING: The key derivation method "opensslv1" is deprecated. Using -pbkdf=>'pbkdf2' would be better.
Pass -nodeprecate=>1 to inhibit this message.
 at /tmp/loop_over_bdir-2096-t4V_ID/Data-Serializer-0.65-0/blib/lib/Data/Serializer.pm line 293.
WARNING: The key derivation method "opensslv1" is deprecated. Using -pbkdf=>'pbkdf2' would be better.
Pass -nodeprecate=>1 to inhibit this message.
 at /tmp/loop_over_bdir-2096-t4V_ID/Data-Serializer-0.65-0/blib/lib/Data/Serializer.pm line 293.
WARNING: The key derivation method "opensslv1" is deprecated. Using -pbkdf=>'pbkdf2' would be better.
Pass -nodeprecate=>1 to inhibit this message.
 at /tmp/loop_over_bdir-2096-t4V_ID/Data-Serializer-0.65-0/blib/lib/Data/Serializer.pm line 293.
WARNING: The key derivation method "opensslv1" is deprecated. Using -pbkdf=>'pbkdf2' would be better.
Pass -nodeprecate=>1 to inhibit this message.
 at /tmp/loop_over_bdir-2096-t4V_ID/Data-Serializer-0.65-0/blib/lib/Data/Serializer.pm line 293.
WARNING: The key derivation method "opensslv1" is deprecated. Using -pbkdf=>'pbkdf2' would be better.
Pass -nodeprecate=>1 to inhibit this message.
 at /tmp/loop_over_bdir-2096-t4V_ID/Data-Serializer-0.65-0/blib/lib/Data/Serializer.pm line 293.
WARNING: The key derivation method "opensslv1" is deprecated. Using -pbkdf=>'pbkdf2' would be better.
Pass -nodeprecate=>1 to inhibit this message.
 at /tmp/loop_over_bdir-2096-t4V_ID/Data-Serializer-0.65-0/blib/lib/Data/Serializer.pm line 293.
WARNING: The key derivation method "opensslv1" is deprecated. Using -pbkdf=>'pbkdf2' would be better.
Pass -nodeprecate=>1 to inhibit this message.
 at /tmp/loop_over_bdir-2096-t4V_ID/Data-Serializer-0.65-0/blib/lib/Data/Serializer.pm line 293.
WARNING: The key derivation method "opensslv1" is deprecated. Using -pbkdf=>'pbkdf2' would be better.
Pass -nodeprecate=>1 to inhibit this message.
 at /tmp/loop_over_bdir-2096-t4V_ID/Data-Serializer-0.65-0/blib/lib/Data/Serializer.pm line 293.
WARNING: The key derivation method "opensslv1" is deprecated. Using -pbkdf=>'pbkdf2' would be better.
Pass -nodeprecate=>1 to inhibit this message.
 at /tmp/loop_over_bdir-2096-t4V_ID/Data-Serializer-0.65-0/blib/lib/Data/Serializer.pm line 293.
WARNING: The key derivation method "opensslv1" is deprecated. Using -pbkdf=>'pbkdf2' would be better.
Pass -nodeprecate=>1 to inhibit this message.
 at /tmp/loop_over_bdir-2096-t4V_ID/Data-Serializer-0.65-0/blib/lib/Data/Serializer.pm line 293.
WARNING: The key derivation method "opensslv1" is deprecated. Using -pbkdf=>'pbkdf2' would be better.
Pass -nodeprecate=>1 to inhibit this message.
 at /tmp/loop_over_bdir-2096-t4V_ID/Data-Serializer-0.65-0/blib/lib/Data/Serializer.pm line 293.
WARNING: The key derivation method "opensslv1" is deprecated. Using -pbkdf=>'pbkdf2' would be better.
Pass -nodeprecate=>1 to inhibit this message.
 at /tmp/loop_over_bdir-2096-t4V_ID/Data-Serializer-0.65-0/blib/lib/Data/Serializer.pm line 293.
t/09-Feature-Combos.t ......... ok
t/10-01-Pod.t ................. ok
t/10-02-Pod-Coverage.t ........ skipped: Test::Pod::Coverage 1.00 required for testing POD coverage
All tests successful.
Files=32, Tests=1717,  5 wallclock secs ( 0.11 usr  0.12 sys +  1.49 cusr  0.50 csys =  2.22 CPU)
Result: PASS

------------------------------
PREREQUISITES
------------------------------

Prerequisite modules loaded:

requires:

    Module              Need Have    
    ------------------- ---- --------
    AutoLoader          0    5.74    
    Data::Dumper        2.08 2.183   
    Digest::SHA         0    6.02    
    Exporter            0    5.72    
    IO::File            0    1.16    

build_requires:

    Module              Need Have    
    ------------------- ---- --------
    File::Spec          0    3.75    
    IO::File            0    1.16    
    Test::More          0    1.302190

configure_requires:

    Module              Need Have    
    ------------------- ---- --------
    Module::Build       0.35 0.4231  

opt_requires:

    Module              Need Have    
    ------------------- ---- --------
  ! Bencode             0    n/a     
  ! Compress::PPMd      0    n/a     
    Compress::Zlib      0    2.102   
  ! Config::General     0    n/a     
  ! Convert::Bencode    0    n/a     
  ! Convert::Bencode_XS 0    n/a     
    Crypt::Blowfish     0    2.14    
    Crypt::CBC          0    3.04    
  ! Data::Denter        0    n/a     
  ! Data::Taxi          0    n/a     
  ! FreezeThaw          0    n/a     
    JSON                0    4.05    
    JSON::Syck          0    1.34    
    JSON::XS            0    4.03    
    MIME::Base64        0    3.15    
  ! PHP::Serialization  0    n/a     
    Storable            0    2.56_01 
  ! XML::Dumper         0    n/a     
  ! XML::Simple         0    n/a     
    YAML                0    1.30    
    YAML::Syck          0    1.34    


------------------------------
ENVIRONMENT AND OTHER CONTEXT
------------------------------

Environment variables:

    AUTOMATED_TESTING = 1
    LANG = en_US.UTF-8
    PATH = /home/sand/bin:/usr/local/bin:/usr/bin:/bin:/usr/games:/usr/local/perl/bin:/usr/X11/bin:/sbin:/usr/sbin
    PERL5LIB = 
    PERL5OPT = 
    PERL5_CPANPLUS_IS_RUNNING = 3085419
    PERL5_CPAN_IS_RUNNING = 3085419
    PERL_CANARY_STABILITY_NOPROMPT = 1
    PERL_MM_USE_DEFAULT = 1
    PERL_USE_UNSAFE_INC = 1
    SHELL = /usr/bin/zsh
    TERM = screen

Perl special variables (and OS-specific diagnostics, for MSWin32):

    $^X = /home/sand/src/perl/repoperls/installed-perls/host/k93msid/v5.24.1/da1c/bin/perl
    $UID/$EUID = 1005 / 1005
    $GID = 1005 1005
    $EGID = 1005 1005

Perl module toolchain versions installed:

    Module              Have      
    ------------------- ----------
    CPAN                2.33      
    CPAN::Meta          2.150010  
    Cwd                 3.75      
    ExtUtils::CBuilder  0.280236  
    ExtUtils::Command   7.64      
    ExtUtils::Install   2.06      
    ExtUtils::MakeMaker 7.64      
    ExtUtils::Manifest  1.70      
    ExtUtils::ParseXS   3.31      
    File::Spec          3.75      
    JSON                4.05      
    JSON::PP            2.27300_01
    Module::Build       0.4231    
    Module::Signature   0.88      
    Parse::CPAN::Meta   2.150010  
    Test::Harness       3.42      
    Test::More          1.302190  
    YAML                1.30      
    YAML::Syck          1.34      
    version             0.9929    


--

Summary of my perl5 (revision 5 version 24 subversion 1) configuration:
  Derived from: 443bd156a6baaf7a8fe6b6b05fcf6c4178140ed2
  Platform:
    osname=linux, osvers=5.16.0-5-amd64, archname=x86_64-linux
    uname='linux k93msid 5.16.0-5-amd64 #1 smp preempt debian 5.16.14-1 (2022-03-15) x86_64 gnulinux '
    config_args='-Dprefix=/home/sand/src/perl/repoperls/installed-perls/host/k93msid/v5.24.1/da1c -Dmyhostname=k93msid -Dinstallusrbinperl=n -Uversiononly -Dusedevel -des -Ui_db -Dlibswanted=cl pthread socket inet nsl gdbm dbm malloc dl ld sun m crypt sec util c cposix posix ucb BSD gdbm_compat -Uuseithreads -Uuselongdouble -DEBUGGING=-g'
    hint=recommended, useposix=true, d_sigaction=define
    useithreads=undef, usemultiplicity=undef
    use64bitint=define, use64bitall=define, uselongdouble=undef
    usemymalloc=n, bincompat5005=undef
  Compiler:
    cc='cc', ccflags ='-fwrapv -fno-strict-aliasing -pipe -fstack-protector-strong -I/usr/local/include -D_LARGEFILE_SOURCE -D_FILE_OFFSET_BITS=64 -D_FORTIFY_SOURCE=2',
    optimize='-O2 -g',
    cppflags='-fwrapv -fno-strict-aliasing -pipe -fstack-protector-strong -I/usr/local/include'
    ccversion='', gccversion='11.2.0', gccosandvers=''
    intsize=4, longsize=8, ptrsize=8, doublesize=8, byteorder=12345678, doublekind=3
    d_longlong=define, longlongsize=8, d_longdbl=define, longdblsize=16, longdblkind=3
    ivtype='long', ivsize=8, nvtype='double', nvsize=8, Off_t='off_t', lseeksize=8
    alignbytes=8, prototype=define
  Linker and Libraries:
    ld='cc', ldflags =' -fstack-protector-strong -L/usr/local/lib'
    libpth=/usr/local/lib /usr/include/x86_64-linux-gnu /usr/lib /lib/x86_64-linux-gnu /lib/../lib /usr/lib/x86_64-linux-gnu /usr/lib/../lib /lib
    libs=-lpthread -lnsl -ldl -lm -lcrypt -lutil -lc
    perllibs=-lpthread -lnsl -ldl -lm -lcrypt -lutil -lc
    libc=libc-2.33.so, so=so, useshrplib=false, libperl=libperl.a
    gnulibc_version='2.33'
  Dynamic Linking:
    dlsrc=dl_dlopen.xs, dlext=so, d_dlsymun=undef, ccdlflags='-Wl,-E'
    cccdlflags='-fPIC', lddlflags='-shared -O2 -g -L/usr/local/lib -fstack-protector-strong'


Characteristics of this binary (from libperl): 
  Compile-time options: HAS_TIMES PERLIO_LAYERS PERL_COPY_ON_WRITE
                        PERL_DONT_CREATE_GVSV
                        PERL_HASH_FUNC_ONE_AT_A_TIME_HARD PERL_MALLOC_WRAP
                        PERL_PRESERVE_IVUV PERL_USE_DEVEL USE_64_BIT_ALL
                        USE_64_BIT_INT USE_LARGE_FILES USE_LOCALE
                        USE_LOCALE_COLLATE USE_LOCALE_CTYPE
                        USE_LOCALE_NUMERIC USE_LOCALE_TIME USE_PERLIO
                        USE_PERL_ATOF
  Locally applied patches:
	uncommitted-changes
  Built under linux
  Compiled at Mar 20 2022 00:07:28
  %ENV:
    PERL5LIB=""
    PERL5OPT=""
    PERL5_CPANPLUS_IS_RUNNING="3085419"
    PERL5_CPAN_IS_RUNNING="3085419"
    PERL_CANARY_STABILITY_NOPROMPT="1"
    PERL_MM_USE_DEFAULT="1"
    PERL_USE_UNSAFE_INC="1"
  @INC:
    /home/sand/src/perl/repoperls/installed-perls/host/k93msid/v5.24.1/da1c/lib/site_perl/5.24.1/x86_64-linux
    /home/sand/src/perl/repoperls/installed-perls/host/k93msid/v5.24.1/da1c/lib/site_perl/5.24.1
    /home/sand/src/perl/repoperls/installed-perls/host/k93msid/v5.24.1/da1c/lib/5.24.1/x86_64-linux
    /home/sand/src/perl/repoperls/installed-perls/host/k93msid/v5.24.1/da1c/lib/5.24.1
    .