Net-Hadoop-Oozie v0.116 Perl 5 v5.22.3 amd64-freebsd

Status
Pass
From
Slaven Rezić (SREZIC)
Dist
Net-Hadoop-Oozie v0.116
Platform
Perl 5 v5.22.3 amd64-freebsd
Date
2020-01-14 20:09:20
ID
c04f44e8-3709-11ea-ab4f-714d1f24ea8f
This distribution has been tested as part of the CPAN Testers
project, supporting the Perl programming language.  See
http://wiki.cpantesters.org/ for more information or email
questions to cpan-testers-discuss@perl.org


--
Dear Burak Gursoy,

This is a computer-generated report for Net-Hadoop-Oozie-0.116
on perl 5.22.3, created by CPAN-Reporter-1.2018.

Thank you for uploading your work to CPAN.  Congratulations!
All tests were successful.

Sections of this report:

    * Tester comments
    * Program output
    * Prerequisites
    * Environment and other context

------------------------------
TESTER COMMENTS
------------------------------

Additional comments from tester:

none provided

------------------------------
PROGRAM OUTPUT
------------------------------

Output from '/usr/bin/make test':

PERL_DL_NONLAZY=1 "/usr/perl5.22.3p/bin/perl" "-MExtUtils::Command::MM" "-MTest::Harness" "-e" "undef *Test::Harness::Switches; test_harness(0, 'blib/lib', 'blib/arch')" t/*.t
t/00-compile.t .................... ok
# 
# Versions for all modules listed in MYMETA.json (including optional ones):
# 
# === Configure Requires ===
# 
#     Module              Want Have
#     ------------------- ---- ----
#     ExtUtils::MakeMaker  any 7.42
# 
# === Build Requires ===
# 
#     Module              Want Have
#     ------------------- ---- ----
#     ExtUtils::MakeMaker  any 7.42
# 
# === Test Requires ===
# 
#     Module              Want     Have
#     ------------------- ---- --------
#     ExtUtils::MakeMaker  any     7.42
#     File::Spec           any     3.75
#     IO::Handle           any     1.39
#     IPC::Open3           any     1.18
#     Test::CPAN::Meta     any     0.25
#     Test::More           any 1.302170
# 
# === Test Recommends ===
# 
#     Module         Want     Have
#     ---------- -------- --------
#     CPAN::Meta 2.120900 2.150010
# 
# === Runtime Requires ===
# 
#     Module                           Want       Have
#     -------------------------------- ---- ----------
#     CHI                               any       0.60
#     Carp                              any       1.50
#     Clone                             any       0.41
#     Constant::FromGlobal              any       0.09
#     Data::Dumper                      any      2.173
#     Date::Format                      any       2.24
#     Date::Parse                       any       2.30
#     Exporter                          any       5.72
#     Hash::Flatten                     any       1.19
#     JSON::XS                          any       4.02
#     LWP::Authen::Negotiate            any       0.08
#     LWP::UserAgent                    any       6.43
#     Moo                               any   2.003006
#     Moo::Role                         any   2.003006
#     Net::Hadoop::YARN                 any      0.203
#     Net::Hadoop::YARN::Roles::Common  any      0.203
#     Ref::Util                         any      0.204
#     Regexp::Common                    any 2017060201
#     Scalar::Util                      any       1.53
#     URI                               any       1.76
#     XML::Simple                       any       2.25
#     XML::Twig                         any       3.52
#     constant                          any       1.33
#     parent                            any      0.237
#     strict                            any       1.09
#     warnings                          any       1.34
# 
t/00-report-prereqs.t ............. ok
t/01-api.t ........................ ok
t/02-schedule-test-coordinator.t .. ok
t/03-job-information.t ............ ok
t/04-suspend.t .................... ok
t/05-standalone-wf.t .............. ok
t/06-rerun.t ...................... ok
t/07-kill.t ....................... ok
t/08-sla.t ........................ ok
t/09-judge.t ...................... ok
t/author-pod-syntax.t ............. skipped: these tests are for testing by the author
t/release-distmeta.t .............. skipped: these tests are for release candidate testing
All tests successful.
Files=13, Tests=26,  4 wallclock secs ( 0.00 usr  0.08 sys +  0.66 cusr  2.45 csys =  3.18 CPU)
Result: PASS

------------------------------
PREREQUISITES
------------------------------

Prerequisite modules loaded:

requires:

    Module                           Need  Have      
    -------------------------------- ----- ----------
    Carp                             0     1.50      
    CHI                              0     0.60      
    Clone                            0     0.41      
    constant                         0     1.33      
    Constant::FromGlobal             0     0.09      
    Data::Dumper                     0     2.173     
    Date::Format                     0     2.24      
    Date::Parse                      0     2.30      
    Exporter                         0     5.72      
    Hash::Flatten                    0     1.19      
    JSON::XS                         0     4.02      
    LWP::Authen::Negotiate           0     0.08      
    LWP::UserAgent                   0     6.43      
    Moo                              0     2.003006  
    Moo::Role                        0     2.003006  
    Net::Hadoop::YARN                0     0.203     
    Net::Hadoop::YARN::Roles::Common 0     0.203     
    parent                           0     0.237     
    perl                             5.010 5.022003  
    Ref::Util                        0     0.204     
    Regexp::Common                   0     2017060201
    Scalar::Util                     0     1.53      
    strict                           0     1.09      
    URI                              0     1.76      
    warnings                         0     1.34      
    XML::Simple                      0     2.25      
    XML::Twig                        0     3.52      

build_requires:

    Module                           Need  Have      
    -------------------------------- ----- ----------
    ExtUtils::MakeMaker              0     7.42      
    File::Spec                       0     3.75      
    IO::Handle                       0     1.39      
    IPC::Open3                       0     1.18      
    Test::CPAN::Meta                 0     0.25      
    Test::More                       0     1.302170  

configure_requires:

    Module                           Need  Have      
    -------------------------------- ----- ----------
    ExtUtils::MakeMaker              0     7.42      


------------------------------
ENVIRONMENT AND OTHER CONTEXT
------------------------------

Environment variables:

    LC_ALL = de_DE.ISO8859-1
    PATH = /usr/local/bin:/usr/bin:/bin:/usr/local/sbin:/usr/sbin:/sbin:/home/cpansand/bin/freebsd10.3:/home/cpansand/bin/sh:/home/cpansand/bin:/usr/games:/home/cpansand/devel:/home/eserte/src/srezic-misc/scripts
    PERL5LIB = /home/cpansand/.cpan/build/2020011420/Net-Hadoop-YARN-0.203-3/blib/arch:/home/cpansand/.cpan/build/2020011420/Net-Hadoop-YARN-0.203-3/blib/lib:/home/cpansand/.cpan/build/2020011420/Hash-Path-0.02-3/blib/arch:/home/cpansand/.cpan/build/2020011420/Hash-Path-0.02-3/blib/lib:/home/cpansand/.cpan/build/2020011420/LWP-Authen-Negotiate-0.08-3/blib/arch:/home/cpansand/.cpan/build/2020011420/LWP-Authen-Negotiate-0.08-3/blib/lib
    PERL5OPT = 
    PERL5_CPANPLUS_IS_RUNNING = 84051
    PERL5_CPAN_IS_RUNNING = 84051
    PERL5_CPAN_IS_RUNNING_IN_RECURSION = 59342,84051
    PERLDOC = -MPod::Perldoc::ToTextOverstrike
    PERL_BATCH = yes
    PERL_CANARY_STABILITY_NOPROMPT = 1
    PERL_CPAN_REPORTER_CONFIG = /var/tmp/cpansmoker-1023/2020011420/cpanreporter_000_config.ini
    PERL_EXTUTILS_AUTOINSTALL = --defaultdeps
    PERL_USE_UNSAFE_INC = 1
    SHELL = /usr/local/bin/zsh
    TERM = screen
    TMPDIR = /var/tmp/cpansmoker-1023/2020011420

Perl special variables (and OS-specific diagnostics, for MSWin32):

    $^X = /usr/perl5.22.3p/bin/perl
    $UID/$EUID = 1023 / 1023
    $GID = 1023 1023
    $EGID = 1023 1023

Perl module toolchain versions installed:

    Module              Have    
    ------------------- --------
    CPAN                2.27    
    CPAN::Meta          2.150010
    Cwd                 3.75    
    ExtUtils::CBuilder  0.280231
    ExtUtils::Command   7.42    
    ExtUtils::Install   2.14    
    ExtUtils::MakeMaker 7.42    
    ExtUtils::Manifest  1.70    
    ExtUtils::ParseXS   3.35    
    File::Spec          3.75    
    JSON                4.02    
    JSON::PP            4.03    
    Module::Build       0.4229  
    Module::Signature   0.83    
    Parse::CPAN::Meta   2.150010
    Test::Harness       3.42    
    Test::More          1.302170
    YAML                1.29    
    YAML::Syck          1.31    
    version             0.9924  


--

Summary of my perl5 (revision 5 version 22 subversion 3) configuration:
   
  Platform:
    osname=freebsd, osvers=10.1-release, archname=amd64-freebsd
    uname='freebsd cvrsnica-freebsd-101.herceg.de 10.1-release freebsd 10.1-release #0 r274401: tue nov 11 21:02:49 utc 2014 root@releng1.nyi.freebsd.org:usrobjusrsrcsysgeneric amd64 '
    config_args='-ds -e -Dprefix=/usr/perl5.22.3p -Dcf_email=srezic@cpan.org -Doptimize=-O2 -pipe'
    hint=recommended, useposix=true, d_sigaction=define
    useithreads=undef, usemultiplicity=undef
    use64bitint=define, use64bitall=define, uselongdouble=undef
    usemymalloc=n, bincompat5005=undef
  Compiler:
    cc='cc', ccflags ='-DHAS_FPSETMASK -DHAS_FLOATINGPOINT_H -fno-strict-aliasing -pipe -fstack-protector -I/usr/local/include -D_FORTIFY_SOURCE=2',
    optimize='-O2 -pipe',
    cppflags='-DHAS_FPSETMASK -DHAS_FLOATINGPOINT_H -fno-strict-aliasing -pipe -fstack-protector -I/usr/local/include'
    ccversion='', gccversion='4.2.1 Compatible FreeBSD Clang 3.4.1 (tags/RELEASE_34/dot1-final 208032)', gccosandvers=''
    intsize=4, longsize=8, ptrsize=8, doublesize=8, byteorder=12345678, doublekind=3
    d_longlong=define, longlongsize=8, d_longdbl=define, longdblsize=16, longdblkind=3
    ivtype='long', ivsize=8, nvtype='double', nvsize=8, Off_t='off_t', lseeksize=8
    alignbytes=8, prototype=define
  Linker and Libraries:
    ld='cc', ldflags ='-pthread -Wl,-E  -fstack-protector -L/usr/local/lib'
    libpth=/usr/lib /usr/local/lib /usr/include/clang/3.4.1 /usr/lib
    libs=-lpthread -lgdbm -lm -lcrypt -lutil -lc
    perllibs=-lpthread -lm -lcrypt -lutil -lc
    libc=, so=so, useshrplib=false, libperl=libperl.a
    gnulibc_version=''
  Dynamic Linking:
    dlsrc=dl_dlopen.xs, dlext=so, d_dlsymun=undef, ccdlflags=' '
    cccdlflags='-DPIC -fPIC', lddlflags='-shared  -L/usr/local/lib -fstack-protector'


Characteristics of this binary (from libperl): 
  Compile-time options: HAS_TIMES PERLIO_LAYERS PERL_DONT_CREATE_GVSV
                        PERL_HASH_FUNC_ONE_AT_A_TIME_HARD PERL_MALLOC_WRAP
                        PERL_NEW_COPY_ON_WRITE PERL_PRESERVE_IVUV
                        USE_64_BIT_ALL USE_64_BIT_INT USE_LARGE_FILES
                        USE_LOCALE USE_LOCALE_COLLATE USE_LOCALE_CTYPE
                        USE_LOCALE_NUMERIC USE_LOCALE_TIME USE_PERLIO
                        USE_PERL_ATOF
  Built under freebsd
  Compiled at Jan 15 2017 18:31:13
  %ENV:
    PERL5LIB="/home/cpansand/.cpan/build/2020011420/Net-Hadoop-YARN-0.203-3/blib/arch:/home/cpansand/.cpan/build/2020011420/Net-Hadoop-YARN-0.203-3/blib/lib:/home/cpansand/.cpan/build/2020011420/Hash-Path-0.02-3/blib/arch:/home/cpansand/.cpan/build/2020011420/Hash-Path-0.02-3/blib/lib:/home/cpansand/.cpan/build/2020011420/LWP-Authen-Negotiate-0.08-3/blib/arch:/home/cpansand/.cpan/build/2020011420/LWP-Authen-Negotiate-0.08-3/blib/lib"
    PERL5OPT=""
    PERL5_CPANPLUS_IS_RUNNING="84051"
    PERL5_CPAN_IS_RUNNING="84051"
    PERL5_CPAN_IS_RUNNING_IN_RECURSION="59342,84051"
    PERLDOC="-MPod::Perldoc::ToTextOverstrike"
    PERL_BATCH="yes"
    PERL_CANARY_STABILITY_NOPROMPT="1"
    PERL_CPAN_REPORTER_CONFIG="/var/tmp/cpansmoker-1023/2020011420/cpanreporter_000_config.ini"
    PERL_EXTUTILS_AUTOINSTALL="--defaultdeps"
    PERL_USE_UNSAFE_INC="1"
  @INC:
    /home/cpansand/.cpan/build/2020011420/Net-Hadoop-YARN-0.203-3/blib/arch
    /home/cpansand/.cpan/build/2020011420/Net-Hadoop-YARN-0.203-3/blib/lib
    /home/cpansand/.cpan/build/2020011420/Hash-Path-0.02-3/blib/arch
    /home/cpansand/.cpan/build/2020011420/Hash-Path-0.02-3/blib/lib
    /home/cpansand/.cpan/build/2020011420/LWP-Authen-Negotiate-0.08-3/blib/arch
    /home/cpansand/.cpan/build/2020011420/LWP-Authen-Negotiate-0.08-3/blib/lib
    /usr/perl5.22.3p/lib/site_perl/5.22.3/amd64-freebsd
    /usr/perl5.22.3p/lib/site_perl/5.22.3
    /usr/perl5.22.3p/lib/5.22.3/amd64-freebsd
    /usr/perl5.22.3p/lib/5.22.3
    .