Net-Curl-Parallel v2.0.0 Perl 5 v5.29.1 x86_64-linux-ld
- Status
- Pass
- From
- Andreas J. König (ANDK)
- Dist
-
Net-Curl-Parallel v2.0.0
- Platform
- Perl 5 v5.29.1 x86_64-linux-ld
- Date
- 2018-09-19 01:10:08
- ID
- c0466b26-bba8-11e8-a59a-46e2b71d0273
This distribution has been tested as part of the CPAN Testers
project, supporting the Perl programming language. See
http://wiki.cpantesters.org/ for more information or email
questions to cpan-testers-discuss@perl.org
--
Dear Rob Kinyon,
This is a computer-generated report for Net-Curl-Parallel-2.0.0
on perl 5.29.1, created by CPAN-Reporter-1.2018.
Thank you for uploading your work to CPAN. Congratulations!
All tests were successful.
Sections of this report:
* Tester comments
* Program output
* Prerequisites
* Environment and other context
------------------------------
TESTER COMMENTS
------------------------------
Additional comments from tester:
this report is from an automated smoke testing program
and was not reviewed by a human for accuracy
------------------------------
PROGRAM OUTPUT
------------------------------
Output from '/usr/bin/make test':
PERL_DL_NONLAZY=1 "/home/sand/src/perl/repoperls/installed-perls/host/k93msid/v5.29.1/af11/bin/perl" "-MExtUtils::Command::MM" "-MTest::Harness" "-e" "undef *Test::Harness::Switches; test_harness(0, 'blib/lib', 'blib/arch')" t/*.t t/Net/Curl/*.t t/Net/Curl/Parallel/*.t
#
# Versions for all modules listed in MYMETA.json (including optional ones):
#
# === Configure Requires ===
#
# Module Want Have
# ------------------- ---- ----
# ExtUtils::MakeMaker any 7.34
#
# === Build Requires ===
#
# Module Want Have
# ------------------- ---- ----
# ExtUtils::MakeMaker any 7.34
#
# === Test Requires ===
#
# Module Want Have
# -------------------------- ---- --------
# Carp any 1.50
# Exporter any 5.73
# ExtUtils::MakeMaker any 7.34
# File::Spec any 3.74
# Perl::Critic any 1.132
# Scalar::Util any 1.50_11
# Test2::API any 1.302140
# Test2::IPC any 1.302140
# Test2::Plugin::SpecDeclare any 0.000003
# Test2::Suite any 0.000115
# Test2::Todo any 0.000115
# Test2::Tools::Explain any 0.02
# Test2::Tools::Spec any 0.000115
# Test2::V0 any 0.000115
# Test::HTTP::MockServer any 0.0.1
# Test::MockModule any 0.170.0
# Test::MockTime any 0.17
# Test::More any 1.302140
# Test::Perl::Critic any 1.04
# Test::Pod any 1.52
# namespace::autoclean any 0.28
# parent any 0.237
# strictures any 2.000005
#
# === Test Recommends ===
#
# Module Want Have
# ---------- -------- --------
# CPAN::Meta 2.120900 2.150010
#
# === Runtime Requires ===
#
# Module Want Have
# ---------------- ---- --------
# Data::Printer any 0.40
# File::Find::Rule any 0.34
# Guard any 1.023
# HTTP::Parser::XS any 0.17
# HTTP::Response any 6.18
# Moo any 2.003004
# Net::Curl::Easy any 0.39
# Net::Curl::Multi any 0.39
# Path::Tiny any 0.108
# Type::Library any 1.004001
# Type::Utils any 1.004001
# Types::Standard any 1.004001
# URI::Fast any 0.41
#
t/00-report-prereqs.t ............. ok
t/Net/Curl/Parallel.t ............. ok
t/Net/Curl/Parallel/add_try.t ..... ok
t/Net/Curl/Parallel/collect.t ..... ok
t/Net/Curl/Parallel/fetch.t ....... ok
t/Net/Curl/Parallel/max_curls.t ... ok
t/Net/Curl/Parallel/perform.t ..... ok
t/Net/Curl/Parallel/Response.t .... ok
t/Net/Curl/Parallel/setup_curl.t .. ok
t/Net/Curl/Parallel/Types.t ....... ok
t/perlcritic.t .................... skipped: Author test. Set $ENV{TEST_AUTHOR} to a true value to run.
t/pod.t ........................... ok
All tests successful.
Files=12, Tests=48, 8 wallclock secs ( 0.06 usr 0.06 sys + 2.63 cusr 0.62 csys = 3.37 CPU)
Result: PASS
------------------------------
PREREQUISITES
------------------------------
Prerequisite modules loaded:
requires:
Module Need Have
-------------------------- -------- --------
Data::Printer 0 0.40
File::Find::Rule 0 0.34
Guard 0 1.023
HTTP::Parser::XS 0 0.17
HTTP::Response 0 6.18
Moo 0 2.003004
Net::Curl::Easy 0 0.39
Net::Curl::Multi 0 0.39
Path::Tiny 0 0.108
perl 5.014000 5.029001
Type::Library 0 1.004001
Type::Utils 0 1.004001
Types::Standard 0 1.004001
URI::Fast 0 0.41
build_requires:
Module Need Have
-------------------------- -------- --------
Carp 0 1.50
Exporter 0 5.73
ExtUtils::MakeMaker 0 7.34
File::Spec 0 3.74
namespace::autoclean 0 0.28
parent 0 0.237
Perl::Critic 0 1.132
Scalar::Util 0 1.50_11
strictures 0 2.000005
Test2::API 0 1.302140
Test2::IPC 0 1.302140
Test2::Plugin::SpecDeclare 0 0.000003
Test2::Suite 0 0.000115
Test2::Todo 0 0.000115
Test2::Tools::Explain 0 0.02
Test2::Tools::Spec 0 0.000115
Test2::V0 0 0.000115
Test::HTTP::MockServer 0 0.0.1
Test::MockModule 0 0.170.0
Test::MockTime 0 0.17
Test::More 0 1.302140
Test::Perl::Critic 0 1.04
Test::Pod 0 1.52
configure_requires:
Module Need Have
-------------------------- -------- --------
ExtUtils::MakeMaker 0 7.34
------------------------------
ENVIRONMENT AND OTHER CONTEXT
------------------------------
Environment variables:
AUTOMATED_TESTING = 1
LANG = en_US.UTF-8
PATH = /home/sand/bin:/usr/local/bin:/usr/bin:/bin:/usr/games:/usr/local/perl/bin:/usr/X11/bin:/sbin:/usr/sbin
PERL5LIB =
PERL5OPT =
PERL5_CPANPLUS_IS_RUNNING = 2541
PERL5_CPAN_IS_RUNNING = 2541
PERL_CANARY_STABILITY_NOPROMPT = 1
PERL_MM_USE_DEFAULT = 1
PERL_USE_UNSAFE_INC = 1
SHELL = /usr/bin/zsh
TERM = screen
Perl special variables (and OS-specific diagnostics, for MSWin32):
$^X = /home/sand/src/perl/repoperls/installed-perls/host/k93msid/v5.29.1/af11/bin/perl
$UID/$EUID = 1005 / 1005
$GID = 1005 1005
$EGID = 1005 1005
Perl module toolchain versions installed:
Module Have
------------------- --------
CPAN 2.20
CPAN::Meta 2.150010
Cwd 3.74
ExtUtils::CBuilder 0.280230
ExtUtils::Command 7.34
ExtUtils::Install 2.14
ExtUtils::MakeMaker 7.34
ExtUtils::Manifest 1.71
ExtUtils::ParseXS 3.39
File::Spec 3.74
JSON 2.97001
JSON::PP 2.97001
Module::Build 0.4224
Module::Signature 0.83
Parse::CPAN::Meta 2.150010
Test::Harness 3.42
Test::More 1.302140
YAML 1.26
YAML::Syck 1.30
version 0.9924
--
Summary of my perl5 (revision 5 version 29 subversion 1) configuration:
Commit id: 077685406080f6c6256731ba0cc7c07e8b91e160
Platform:
osname=linux
osvers=4.14.0-3-amd64
archname=x86_64-linux-ld
uname='linux k93msid 4.14.0-3-amd64 #1 smp debian 4.14.12-2 (2018-01-06) x86_64 gnulinux '
config_args='-Dprefix=/home/sand/src/perl/repoperls/installed-perls/host/k93msid/v5.29.1/af11 -Dmyhostname=k93msid -Dinstallusrbinperl=n -Uversiononly -Dusedevel -des -Ui_db -Dlibswanted=cl pthread socket inet nsl gdbm dbm malloc dl ld sun m crypt sec util c cposix posix ucb BSD gdbm_compat -Uuseithreads -Duselongdouble -DEBUGGING=-g'
hint=recommended
useposix=true
d_sigaction=define
useithreads=undef
usemultiplicity=undef
use64bitint=define
use64bitall=define
uselongdouble=define
usemymalloc=n
default_inc_excludes_dot=define
bincompat5005=undef
Compiler:
cc='cc'
ccflags ='-fwrapv -fno-strict-aliasing -pipe -fstack-protector-strong -I/usr/local/include -D_LARGEFILE_SOURCE -D_FILE_OFFSET_BITS=64 -D_FORTIFY_SOURCE=2'
optimize='-O2 -g'
cppflags='-fwrapv -fno-strict-aliasing -pipe -fstack-protector-strong -I/usr/local/include'
ccversion=''
gccversion='7.2.0'
gccosandvers=''
intsize=4
longsize=8
ptrsize=8
doublesize=8
byteorder=12345678
doublekind=3
d_longlong=define
longlongsize=8
d_longdbl=define
longdblsize=16
longdblkind=3
ivtype='long'
ivsize=8
nvtype='long double'
nvsize=16
Off_t='off_t'
lseeksize=8
alignbytes=16
prototype=define
Linker and Libraries:
ld='cc'
ldflags =' -fstack-protector-strong -L/usr/local/lib'
libpth=/usr/local/lib /usr/lib/gcc/x86_64-linux-gnu/7/include-fixed /usr/include/x86_64-linux-gnu /usr/lib /lib/x86_64-linux-gnu /lib/../lib /usr/lib/x86_64-linux-gnu /usr/lib/../lib /lib
libs=-lpthread -lnsl -ldl -lm -lcrypt -lutil -lc
perllibs=-lpthread -lnsl -ldl -lm -lcrypt -lutil -lc
libc=libc-2.26.so
so=so
useshrplib=false
libperl=libperl.a
gnulibc_version='2.26'
Dynamic Linking:
dlsrc=dl_dlopen.xs
dlext=so
d_dlsymun=undef
ccdlflags='-Wl,-E'
cccdlflags='-fPIC'
lddlflags='-shared -O2 -g -L/usr/local/lib -fstack-protector-strong'
Characteristics of this binary (from libperl):
Compile-time options:
HAS_TIMES
PERLIO_LAYERS
PERL_COPY_ON_WRITE
PERL_DONT_CREATE_GVSV
PERL_MALLOC_WRAP
PERL_OP_PARENT
PERL_PRESERVE_IVUV
PERL_USE_DEVEL
USE_64_BIT_ALL
USE_64_BIT_INT
USE_LARGE_FILES
USE_LOCALE
USE_LOCALE_COLLATE
USE_LOCALE_CTYPE
USE_LOCALE_NUMERIC
USE_LOCALE_TIME
USE_LONG_DOUBLE
USE_PERLIO
USE_PERL_ATOF
Built under linux
Compiled at Jul 20 2018 15:40:45
%ENV:
PERL5LIB=""
PERL5OPT=""
PERL5_CPANPLUS_IS_RUNNING="2541"
PERL5_CPAN_IS_RUNNING="2541"
PERL_CANARY_STABILITY_NOPROMPT="1"
PERL_MM_USE_DEFAULT="1"
PERL_USE_UNSAFE_INC="1"
@INC:
/home/sand/src/perl/repoperls/installed-perls/host/k93msid/v5.29.1/af11/lib/site_perl/5.29.1/x86_64-linux-ld
/home/sand/src/perl/repoperls/installed-perls/host/k93msid/v5.29.1/af11/lib/site_perl/5.29.1
/home/sand/src/perl/repoperls/installed-perls/host/k93msid/v5.29.1/af11/lib/5.29.1/x86_64-linux-ld
/home/sand/src/perl/repoperls/installed-perls/host/k93msid/v5.29.1/af11/lib/5.29.1
.