Report for WWW-Slides-0.0.9

Back
From: metabase:user:9820532a-708b-1014-9a05-b18a96298da1
Subject: PASS WWW-Slides-0.0.9 v5.15.8 GNU/Linux
Date: 2012-03-03T20:09:15Z

This distribution has been tested as part of the CPAN Testers
project, supporting the Perl programming language.  See
http://wiki.cpantesters.org/ for more information or email
questions to cpan-testers-discuss@perl.org


--
Dear Flavio Poletti,

This is a computer-generated report for WWW-Slides-0.0.9
on perl 5.15.8, created by CPAN-Reporter-1.2005.

Thank you for uploading your work to CPAN.  Congratulations!
All tests were successful.

Sections of this report:

    * Tester comments
    * Program output
    * Prerequisites
    * Environment and other context

------------------------------
TESTER COMMENTS
------------------------------

Additional comments from tester:

this report is from an automated smoke testing program
and was not reviewed by a human for accuracy

------------------------------
PROGRAM OUTPUT
------------------------------

Output from './Build test':

# Testing inclusions
# Loading WWW::Slides 0.0.8
# Loading WWW::Slides::Talk 0.0.5
# Loading WWW::Slides::Attendee 0.0.4
# Loading WWW::Slides::SlideShow 0.0.7
# Loading WWW::Slides::SlideTracker 0.0.3
# Loading WWW::Slides::BasicLogger 0.0.5
# Loading WWW::Slides::Controller::UDP 0.0.9
# Loading WWW::Slides::Controller::TCP 0.0.9
# Loading WWW::Slides::Controller::STDIO 0.0.9
# Loading WWW::Slides::Controller::Multiple 0.0.9
# Loading WWW::Slides::Controller::Single 0.0.9
# Loading WWW::Slides::Client::TCP 0.0.3
# Loading WWW::Slides::Client::Base 0.0.5
t/00.load.t ............................. ok
t/pod.t ................................. ok
# Testing WWW::Slides::Attendee 0.0.4
t/Attendee/00.load.t .................... ok
t/Attendee/01.create.t .................. ok
t/Attendee/02.transition.t .............. ok
t/Attendee/03.ping.t .................... ok
t/Attendee/04.handle_input.t ............ ok
# Testing WWW::Slides::BasicLogger 0.0.5
t/BasicLogger/00.load.t ................. ok
t/BasicLogger/01.create.t ............... ok
t/BasicLogger/02.default.t .............. ok
t/BasicLogger/03.stdout.t ............... ok
t/BasicLogger/04.fake.t ................. ok
# Testing WWW::Slides::Client::Base 0.0.5
t/Client/00.load.t ...................... ok
t/Client/01.create.t .................... ok
t/Client/02.traffic.t ................... ok
t/Client/03.get_commands.t .............. ok
# Testing WWW::Slides::Client::TCP 0.0.3
t/Client/50.load-TCP.t .................. ok
t/Client/51.create.t .................... ok
t/Client/52.traffic.t ................... ok
# Testing WWW::Slides::Controller 0.0.9
t/Controller/000.load.t ................. ok
t/Controller/001.create.t ............... ok
t/Controller/002.balks.t ................ ok
t/Controller/003.tolerates.t ............ ok
t/Controller/004.execute.t .............. ok
# Testing WWW::Slides::Controller::Single 0.0.9
t/Controller/050.Single.load.t .......... ok
t/Controller/051.Single.create.t ........ ok
t/Controller/052.Single.selector.t ...... ok
t/Controller/053.Single.is_alive.t ...... ok
t/Controller/054.Single.owns.t .......... ok
t/Controller/055.Single.output.t ........ ok
t/Controller/056.Single.shut_down.t ..... ok
t/Controller/057.Single.execute.t ....... ok
# Testing WWW::Slides::Controller::Multiple 0.0.9
t/Controller/100.Multiple.load.t ........ ok
t/Controller/101.Multiple.create.t ...... ok
t/Controller/102.Multiple.add-remove.t .. ok
t/Controller/103.Multiple.owns.t ........ ok
t/Controller/104.Multiple.execute.t ..... ok
# Testing WWW::Slides::Controller::STDIO 0.0.9
t/Controller/200.STDIO.load.t ........... ok
t/Controller/201.STDIO.create.t ......... ok
# Testing WWW::Slides::Controller::TCP 0.0.9
t/Controller/300.TCP.load.t ............. ok
t/Controller/301.TCP.create.t ........... ok
t/Controller/302.TCP.owns.t ............. ok
t/Controller/303.TCP.selector.t ......... ok
t/Controller/304.TCP.execute.t .......... ok
# Testing WWW::Slides::Controller::UDP 0.0.9
t/Controller/400.UDP.load.t ............. ok
t/Controller/401.UDP.create.t ........... ok
# Testing WWW::Slides::SlideShow 0.0.7
t/SlideShow/00.load.t ................... ok
t/SlideShow/01.can.t .................... ok
t/SlideShow/02.read.t ................... ok
t/SlideShow/03.getstuff.t ............... ok
t/SlideShow/04.movement.t ............... ok
# Testing WWW::Slides::SlideTracker 0.0.3
t/SlideTracker/00.load.t ................ ok
t/SlideTracker/01.create.t .............. ok
t/SlideTracker/02.transition.t .......... ok
All tests successful.
Files=54, Tests=582, 11 wallclock secs ( 0.22 usr  0.06 sys +  6.50 cusr  0.57 csys =  7.35 CPU)
Result: PASS

------------------------------
PREREQUISITES
------------------------------

Prerequisite modules loaded:

requires:

    Module            Need Have      
    ----------------- ---- ----------
    Carp              0    1.25      
    Digest::MD5       0    2.51      
    English           0    1.05      
    File::Basename    0    2.84      
    HTTP::Response    0    6.03      
    IO::Handle        0    1.28      
    IO::Select        0    1.17      
    IO::Socket        0    1.31      
    Object::InsideOut 0    3.91      
    Socket            0    1.99      
    Test::Exception   0    0.31      
    Test::MockObject  0    1.20120301
    Test::More        0    0.98      
    Test::Output      0    1.01      
    version           0    0.96      


------------------------------
ENVIRONMENT AND OTHER CONTEXT
------------------------------

Environment variables:

    AUTOMATED_TESTING = 1
    LANG = C
    LANGUAGE = en_GB:en
    LC_ALL = C
    MANPATH_WITHOUT_PERLBREW = 
    PATH = /home/bri/bin:/home/bri/perl5/perlbrew/bin:/home/bri/perl5/perlbrew/perls/perl-5.15.8/bin:~/bin:/usr/local/sbin:/usr/local/bin:/usr/sbin:/usr/bin:/sbin:/bin:/usr/games
    PATH_WITHOUT_PERLBREW = ~/bin:/usr/local/sbin:/usr/local/bin:/usr/sbin:/usr/bin:/sbin:/bin:/usr/games
    PERL5LIB = 
    PERL5OPT = 
    PERL5_CPANPLUS_IS_RUNNING = 4453
    PERL5_CPAN_IS_RUNNING = 4453
    PERL5_CPAN_IS_RUNNING_IN_RECURSION = 1901,4453
    PERLBREW_BASHRC_VERSION = 0.41
    PERLBREW_HOME = /home/bri/.perlbrew
    PERLBREW_MANPATH = /home/bri/perl5/perlbrew/perls/perl-5.15.8/man
    PERLBREW_PATH = /home/bri/perl5/perlbrew/bin:/home/bri/perl5/perlbrew/perls/perl-5.15.8/bin
    PERLBREW_PERL = perl-5.15.8
    PERLBREW_ROOT = /home/bri/perl5/perlbrew
    PERLBREW_VERSION = 0.41
    PERL_CPANM_OPT = --prompt --mirror http://172.16.1.3/cpan/
    PERL_CR_SMOKER_CURRENT = WWW-Slides-0.0.9
    PERL_EXTUTILS_AUTOINSTALL = --defaultdeps
    PERL_MM_USE_DEFAULT = 1
    SHELL = /bin/bash
    TERM = linux

Perl special variables (and OS-specific diagnostics, for MSWin32):

    $^X = /home/bri/perl5/perlbrew/perls/perl-5.15.8/bin/perl5.15.8
    $UID/$EUID = 1000 / 1000
    $GID = 1000 4 20 24 46 112 120 122 1000
    $EGID = 1000 4 20 24 46 112 120 122 1000

Perl module toolchain versions installed:

    Module              Have    
    ------------------- --------
    CPAN                1.9800  
    CPAN::Meta          2.120620
    Cwd                 3.33    
    ExtUtils::CBuilder  0.280205
    ExtUtils::Command   1.17    
    ExtUtils::Install   1.52    
    ExtUtils::MakeMaker 6.62    
    ExtUtils::Manifest  1.60    
    ExtUtils::ParseXS   3.15    
    File::Spec          3.33    
    JSON                2.53    
    JSON::PP            2.27200 
    Module::Build       0.40    
    Module::Signature   n/a     
    Parse::CPAN::Meta   1.4402  
    Test::Harness       3.23    
    Test::More          0.98    
    YAML                0.80    
    YAML::Syck          1.20    
    version             0.96    


--

Summary of my perl5 (revision 5 version 15 subversion 8) configuration:
   
  Platform:
    osname=linux, osvers=2.6.38-11-generic, archname=i686-linux
    uname='linux lappy 2.6.38-11-generic #48-ubuntu smp fri jul 29 19:05:14 utc 2011 i686 i686 i386 gnulinux '
    config_args='-de -Dprefix=/home/bri/perl5/perlbrew/perls/perl-5.15.8 -Dusedevel'
    hint=recommended, useposix=true, d_sigaction=define
    useithreads=undef, usemultiplicity=undef
    useperlio=define, d_sfio=undef, uselargefiles=define, usesocks=undef
    use64bitint=undef, use64bitall=undef, uselongdouble=undef
    usemymalloc=n, bincompat5005=undef
  Compiler:
    cc='cc', ccflags ='-fno-strict-aliasing -pipe -fstack-protector -I/usr/local/include -D_LARGEFILE_SOURCE -D_FILE_OFFSET_BITS=64',
    optimize='-O2',
    cppflags='-fno-strict-aliasing -pipe -fstack-protector -I/usr/local/include'
    ccversion='', gccversion='4.5.2', gccosandvers=''
    intsize=4, longsize=4, ptrsize=4, doublesize=8, byteorder=1234
    d_longlong=define, longlongsize=8, d_longdbl=define, longdblsize=12
    ivtype='long', ivsize=4, nvtype='double', nvsize=8, Off_t='off_t', lseeksize=8
    alignbytes=4, prototype=define
  Linker and Libraries:
    ld='cc', ldflags =' -fstack-protector -L/usr/local/lib'
    libpth=/usr/local/lib /lib /usr/lib /usr/lib/i386-linux-gnu /usr/lib64
    libs=-lnsl -ldl -lm -lcrypt -lutil -lc
    perllibs=-lnsl -ldl -lm -lcrypt -lutil -lc
    libc=, so=so, useshrplib=false, libperl=libperl.a
    gnulibc_version='2.13'
  Dynamic Linking:
    dlsrc=dl_dlopen.xs, dlext=so, d_dlsymun=undef, ccdlflags='-Wl,-E'
    cccdlflags='-fPIC', lddlflags='-shared -O2 -L/usr/local/lib -fstack-protector'


Characteristics of this binary (from libperl): 
  Compile-time options: HAS_TIMES PERLIO_LAYERS PERL_DONT_CREATE_GVSV
                        PERL_MALLOC_WRAP PERL_PRESERVE_IVUV PERL_USE_DEVEL
                        USE_LARGE_FILES USE_LOCALE USE_LOCALE_COLLATE
                        USE_LOCALE_CTYPE USE_LOCALE_NUMERIC USE_PERLIO
                        USE_PERL_ATOF
  Built under linux
  Compiled at Feb 20 2012 23:13:49
  %ENV:
    PERL5LIB=""
    PERL5OPT=""
    PERL5_CPANPLUS_IS_RUNNING="4453"
    PERL5_CPAN_IS_RUNNING="4453"
    PERL5_CPAN_IS_RUNNING_IN_RECURSION="1901,4453"
    PERLBREW_BASHRC_VERSION="0.41"
    PERLBREW_HOME="/home/bri/.perlbrew"
    PERLBREW_MANPATH="/home/bri/perl5/perlbrew/perls/perl-5.15.8/man"
    PERLBREW_PATH="/home/bri/perl5/perlbrew/bin:/home/bri/perl5/perlbrew/perls/perl-5.15.8/bin"
    PERLBREW_PERL="perl-5.15.8"
    PERLBREW_ROOT="/home/bri/perl5/perlbrew"
    PERLBREW_VERSION="0.41"
    PERL_CPANM_OPT="--prompt --mirror http://172.16.1.3/cpan/"
    PERL_CR_SMOKER_CURRENT="WWW-Slides-0.0.9"
    PERL_EXTUTILS_AUTOINSTALL="--defaultdeps"
    PERL_MM_USE_DEFAULT="1"
  @INC:
    /home/bri/perl5/perlbrew/perls/perl-5.15.8/lib/site_perl/5.15.8/i686-linux
    /home/bri/perl5/perlbrew/perls/perl-5.15.8/lib/site_perl/5.15.8
    /home/bri/perl5/perlbrew/perls/perl-5.15.8/lib/5.15.8/i686-linux
    /home/bri/perl5/perlbrew/perls/perl-5.15.8/lib/5.15.8
    .