WWW-LogicBoxes v1.10.0 Perl 5 v5.22.2 amd64-freebsd-thread-multi

Status
Pass
From
Slaven Rezić (SREZIC)
Dist
WWW-LogicBoxes v1.10.0
Platform
Perl 5 v5.22.2 amd64-freebsd-thread-multi
Date
2019-05-21 01:42:53
ID
c00d2bb4-7b69-11e9-85d7-8c831f24ea8f
This distribution has been tested as part of the CPAN Testers
project, supporting the Perl programming language.  See
http://wiki.cpantesters.org/ for more information or email
questions to cpan-testers-discuss@perl.org


--
Dear Robert Stone,

This is a computer-generated report for WWW-LogicBoxes-1.10.0
on perl 5.22.2, created by CPAN-Reporter-1.2017.

Thank you for uploading your work to CPAN.  Congratulations!
All tests were successful.

Sections of this report:

    * Tester comments
    * Program output
    * Prerequisites
    * Environment and other context

------------------------------
TESTER COMMENTS
------------------------------

Additional comments from tester:

none provided

------------------------------
PROGRAM OUTPUT
------------------------------

Output from './Build test':

t/00-compile.t ............................................................. ok
t/author-critic.t .......................................................... skipped: these tests are for testing by the author
t/author-eol.t ............................................................. skipped: these tests are for testing by the author
t/author-mojibake.t ........................................................ skipped: these tests are for testing by the author
t/author-no-tabs.t ......................................................... skipped: these tests are for testing by the author
t/author-pod-coverage.t .................................................... skipped: these tests are for testing by the author
t/author-pod-linkcheck.t ................................................... skipped: these tests are for testing by the author
t/author-pod-syntax.t ...................................................... skipped: these tests are for testing by the author
t/author-portability.t ..................................................... skipped: these tests are for testing by the author
t/author-test-version.t .................................................... skipped: these tests are for testing by the author
t/contact/00-object.t ...................................................... ok
t/contact/ca/00-object.t ................................................... ok
t/contact/ca/agreement/00-object.t ......................................... ok
t/contact/factory/construct_from_response/01-com.t ......................... ok
t/contact/factory/construct_from_response/02-us.t .......................... ok
t/contact/factory/construct_from_response/03-biz.t ......................... ok
t/contact/factory/construct_from_response/04-club.t ........................ ok
t/contact/factory/construct_from_response/05-co.t .......................... ok
t/contact/factory/construct_from_response/06-info.t ........................ ok
t/contact/us/00-object.t ................................................... ok
t/customer/00-object.t ..................................................... ok
t/domain/00-object.t ....................................................... ok
t/domainavailability/00-object.t ........................................... ok
t/domainavailability/01-domain_parts.t ..................................... ok
t/domainrequest/00-object.t ................................................ ok
t/domainrequest/registration/00-object.t ................................... ok
t/domainrequest/transfer/00-object.t ....................................... ok
t/domaintransfer/00-object.t ............................................... ok
t/irtpdetail/00-object.t ................................................... ok
t/legacy/01-domains.t ...................................................... skipped: PERL_WWW_LOGICBOXES_USERNAME and PERL_WWW_LOGICBOXES_API_KEY must be defined in order to run integration tests.
t/logicboxes/00-object.t ................................................... ok
t/phonenumber/00-object.t .................................................. ok
t/phonenumber/01-new.t ..................................................... ok
t/privatenameserver/00-object.t ............................................ ok
t/release-cpan-changes.t ................................................... skipped: these tests are for release candidate testing
t/release-dist-manifest.t .................................................. skipped: these tests are for release candidate testing
t/release-distmeta.t ....................................................... skipped: these tests are for release candidate testing
t/release-kwalitee.t ....................................................... skipped: these tests are for release candidate testing
t/release-meta-json.t ...................................................... skipped: these tests are for release candidate testing
t/release-minimum-version.t ................................................ skipped: these tests are for release candidate testing
t/release-unused-vars.t .................................................... skipped: these tests are for release candidate testing
t/role/command/00-object.t ................................................. ok
t/role/command/contact/00-object.t ......................................... ok
t/role/command/contact/01-get_contact_by_id.t .............................. skipped: PERL_WWW_LOGICBOXES_USERNAME and PERL_WWW_LOGICBOXES_API_KEY must be defined in order to run integration tests.
t/role/command/contact/02-delete_contact_by_id.t ........................... skipped: PERL_WWW_LOGICBOXES_USERNAME and PERL_WWW_LOGICBOXES_API_KEY must be defined in order to run integration tests.
t/role/command/contact/03-update.t ......................................... skipped: PERL_WWW_LOGICBOXES_USERNAME and PERL_WWW_LOGICBOXES_API_KEY must be defined in order to run integration tests.
t/role/command/contact/04-get_ca_registrant_agreement.t .................... ok
t/role/command/contact/create/01-contact.t ................................. skipped: PERL_WWW_LOGICBOXES_USERNAME and PERL_WWW_LOGICBOXES_API_KEY must be defined in order to run integration tests.
t/role/command/contact/create/02-contact-us.t .............................. ok
t/role/command/contact/create/03-contact-ca.t .............................. skipped: PERL_WWW_LOGICBOXES_USERNAME and PERL_WWW_LOGICBOXES_API_KEY must be defined in order to run integration tests.
t/role/command/customer/00-object.t ........................................ ok
t/role/command/customer/01-create_customer.t ............................... skipped: PERL_WWW_LOGICBOXES_USERNAME and PERL_WWW_LOGICBOXES_API_KEY must be defined in order to run integration tests.
t/role/command/customer/02-get_customer_by_id.t ............................ skipped: PERL_WWW_LOGICBOXES_USERNAME and PERL_WWW_LOGICBOXES_API_KEY must be defined in order to run integration tests.
t/role/command/customer/03-get_customer_by_username.t ...................... skipped: PERL_WWW_LOGICBOXES_USERNAME and PERL_WWW_LOGICBOXES_API_KEY must be defined in order to run integration tests.
t/role/command/domain/00-object.t .......................................... ok
t/role/command/domain/01-get_domain_by_id.t ................................ skipped: PERL_WWW_LOGICBOXES_USERNAME and PERL_WWW_LOGICBOXES_API_KEY must be defined in order to run integration tests.
t/role/command/domain/02-get_domain_by_name.t .............................. skipped: PERL_WWW_LOGICBOXES_USERNAME and PERL_WWW_LOGICBOXES_API_KEY must be defined in order to run integration tests.
t/role/command/domain/03-update_domain_contacts.t .......................... skipped: PERL_WWW_LOGICBOXES_USERNAME and PERL_WWW_LOGICBOXES_API_KEY must be defined in order to run integration tests.
t/role/command/domain/04-enable_domain_lock_by_id.t ........................ skipped: PERL_WWW_LOGICBOXES_USERNAME and PERL_WWW_LOGICBOXES_API_KEY must be defined in order to run integration tests.
t/role/command/domain/05-disable_domain_lock_by_id.t ....................... skipped: PERL_WWW_LOGICBOXES_USERNAME and PERL_WWW_LOGICBOXES_API_KEY must be defined in order to run integration tests.
t/role/command/domain/06-enable_domain_privacy.t ........................... skipped: PERL_WWW_LOGICBOXES_USERNAME and PERL_WWW_LOGICBOXES_API_KEY must be defined in order to run integration tests.
t/role/command/domain/07-disable_domain_privacy.t .......................... skipped: PERL_WWW_LOGICBOXES_USERNAME and PERL_WWW_LOGICBOXES_API_KEY must be defined in order to run integration tests.
t/role/command/domain/08-update_domain_nameservers.t ....................... skipped: PERL_WWW_LOGICBOXES_USERNAME and PERL_WWW_LOGICBOXES_API_KEY must be defined in order to run integration tests.
t/role/command/domain/09-renew.t ........................................... skipped: PERL_WWW_LOGICBOXES_USERNAME and PERL_WWW_LOGICBOXES_API_KEY must be defined in order to run integration tests.
t/role/command/domain/10-resend_verification_email.t ....................... skipped: PERL_WWW_LOGICBOXES_USERNAME and PERL_WWW_LOGICBOXES_API_KEY must be defined in order to run integration tests.
t/role/command/domain/availability/00-object.t ............................. ok
t/role/command/domain/availability/01-check_availability.t ................. skipped: PERL_WWW_LOGICBOXES_USERNAME and PERL_WWW_LOGICBOXES_API_KEY must be defined in order to run integration tests.
t/role/command/domain/availability/02-suggest_domain_names.t ............... skipped: PERL_WWW_LOGICBOXES_USERNAME and PERL_WWW_LOGICBOXES_API_KEY must be defined in order to run integration tests.
t/role/command/domain/privatenameserver/00-object.t ........................ ok
t/role/command/domain/privatenameserver/01-create_private_nameserver.t ..... skipped: PERL_WWW_LOGICBOXES_USERNAME and PERL_WWW_LOGICBOXES_API_KEY must be defined in order to run integration tests.
t/role/command/domain/privatenameserver/02-rename_private_nameserver.t ..... skipped: PERL_WWW_LOGICBOXES_USERNAME and PERL_WWW_LOGICBOXES_API_KEY must be defined in order to run integration tests.
t/role/command/domain/privatenameserver/03-modify_private_nameserver_ip.t .. skipped: PERL_WWW_LOGICBOXES_USERNAME and PERL_WWW_LOGICBOXES_API_KEY must be defined in order to run integration tests.
t/role/command/domain/privatenameserver/04-delete_private_nameserver_ip.t .. skipped: PERL_WWW_LOGICBOXES_USERNAME and PERL_WWW_LOGICBOXES_API_KEY must be defined in order to run integration tests.
t/role/command/domain/privatenameserver/05-delete_private_nameserver.t ..... skipped: PERL_WWW_LOGICBOXES_USERNAME and PERL_WWW_LOGICBOXES_API_KEY must be defined in order to run integration tests.
t/role/command/domain/registration/00-object.t ............................. ok
t/role/command/domain/registration/01-delete_domain_registration_by_id.t ... skipped: PERL_WWW_LOGICBOXES_USERNAME and PERL_WWW_LOGICBOXES_API_KEY must be defined in order to run integration tests.
t/role/command/domain/registration/register_domain/01-com.t ................ skipped: PERL_WWW_LOGICBOXES_USERNAME and PERL_WWW_LOGICBOXES_API_KEY must be defined in order to run integration tests.
t/role/command/domain/registration/register_domain/02-ca.t ................. skipped: PERL_WWW_LOGICBOXES_USERNAME and PERL_WWW_LOGICBOXES_API_KEY must be defined in order to run integration tests.
t/role/command/domain/transfer/00-object.t ................................. ok
t/role/command/domain/transfer/01-is_domain_transferable.t ................. skipped: PERL_WWW_LOGICBOXES_USERNAME and PERL_WWW_LOGICBOXES_API_KEY must be defined in order to run integration tests.
t/role/command/domain/transfer/02-transfer_domain.t ........................ skipped: PERL_WWW_LOGICBOXES_USERNAME and PERL_WWW_LOGICBOXES_API_KEY must be defined in order to run integration tests.
t/role/command/domain/transfer/03-cancel_transfer.t ........................ skipped: PERL_WWW_LOGICBOXES_USERNAME and PERL_WWW_LOGICBOXES_API_KEY must be defined in order to run integration tests.
t/role/command/domain/transfer/04-resend_transfer_approval_mail.t .......... skipped: PERL_WWW_LOGICBOXES_USERNAME and PERL_WWW_LOGICBOXES_API_KEY must be defined in order to run integration tests.
t/role/command/raw/00-object.t ............................................. ok
All tests successful.
Files=84, Tests=110, 55 wallclock secs ( 0.04 usr  0.50 sys + 15.01 cusr 33.06 csys = 48.61 CPU)
Result: PASS

------------------------------
PREREQUISITES
------------------------------

Prerequisite modules loaded:

requires:

    Module                       Need     Have    
    ---------------------------- -------- --------
    Carp                         0        1.36    
    Data::Util                   0        0.66    
    Data::Validate::Domain       0        0.14    
    Data::Validate::Email        0        0.06    
    Data::Validate::IP           0        0.27    
    Data::Validate::URI          0        0.07    
    DateTime                     0        1.28    
    HTTP::Tiny                   0        0.058   
    JSON                         0        2.90    
    Moose                        0        2.1804  
    Moose::Role                  0        2.1804  
    Moose::Util::TypeConstraints 0        2.1804  
    MooseX::Aliases              0        0.11    
    MooseX::Params::Validate     0        0.21    
    MooseX::StrictConstructor    0        0.21    
    MooseX::Types                0        0.50    
    MooseX::Types::Moose         0        0.50    
    Mozilla::PublicSuffix        0        v1.0.0  
    namespace::autoclean         0        0.28    
    Number::Phone                0        3.5000  
    overload                     0        1.26    
    perl                         5.013006 5.022002
    Readonly                     0        2.05    
    Try::Tiny                    0        0.28    
    URI::Escape                  0        3.31    
    XML::LibXML::Simple          0        0.97    

build_requires:

    Module                       Need     Have    
    ---------------------------- -------- --------
    Exporter                     0        5.72    
    File::Spec                   0        3.62    
    FindBin                      0        1.51    
    IO::Handle                   0        1.35    
    IPC::Open3                   0        1.18    
    lib                          0        0.63    
    List::Util                   0        1.50    
    Module::Build                0.28     0.4218  
    perl                         5.013006 5.022002
    Storable                     0        2.53_01 
    String::Random               0        0.29    
    Test::Deep                   0        1.120   
    Test::Exception              0        0.43    
    Test::MockModule             0        0.11    
    Test::Moose::More            0.029    0.043   
    Test::More                   0        1.302075
    Test::Warn                   0        0.30    

configure_requires:

    Module                       Need     Have    
    ---------------------------- -------- --------
    Module::Build                0.28     0.4218  
    perl                         5.010    5.022002


------------------------------
ENVIRONMENT AND OTHER CONTEXT
------------------------------

Environment variables:

    LC_ALL = de_DE.ISO8859-1
    PATH = /usr/local/bin:/usr/bin:/bin:/usr/local/sbin:/usr/sbin:/sbin:/home/cpansand/bin/freebsd10.3:/home/cpansand/bin/sh:/home/cpansand/bin:/usr/games:/home/cpansand/devel:/home/eserte/src/srezic-misc/scripts
    PERL5LIB = /home/cpansand/.cpan/build/2019052022/Number-Phone-3.5000-YLUZg4/blib/arch:/home/cpansand/.cpan/build/2019052022/Number-Phone-3.5000-YLUZg4/blib/lib:/home/cpansand/.cpan/build/2019052022/Scalar-List-Utils-1.50-qPfcUK/blib/arch:/home/cpansand/.cpan/build/2019052022/Scalar-List-Utils-1.50-qPfcUK/blib/lib:/home/cpansand/.cpan/build/2019052022/Test-utf8-1.01-X_evdD/blib/arch:/home/cpansand/.cpan/build/2019052022/Test-utf8-1.01-X_evdD/blib/lib:/home/cpansand/.cpan/build/2019052022/File-ShareDir-1.116-RLFapv/blib/arch:/home/cpansand/.cpan/build/2019052022/File-ShareDir-1.116-RLFapv/blib/lib:/home/cpansand/.cpan/build/2019052022/File-ShareDir-Install-0.13-wo2zyG/blib/arch:/home/cpansand/.cpan/build/2019052022/File-ShareDir-Install-0.13-wo2zyG/blib/lib:/home/cpansand/.cpan/build/2019052022/Mozilla-PublicSuffix-v1.0.0-pQIPNL/blib/arch:/home/cpansand/.cpan/build/2019052022/Mozilla-PublicSuffix-v1.0.0-pQIPNL/blib/lib:/home/cpansand/.cpan/build/2019052022/Data-Validate-URI-0.07-0x9gFm/blib/arch:/home/cpansand/.cpan/build/2019052022/Data-Validate-URI-0.07-0x9gFm/blib/lib:/home/cpansand/.cpan/build/2019052022/Data-Validate-IP-0.27-P3lSVO/blib/arch:/home/cpansand/.cpan/build/2019052022/Data-Validate-IP-0.27-P3lSVO/blib/lib:/home/cpansand/.cpan/build/2019052022/Data-Validate-Email-0.06-wXoJyo/blib/arch:/home/cpansand/.cpan/build/2019052022/Data-Validate-Email-0.06-wXoJyo/blib/lib:/home/cpansand/.cpan/build/2019052022/Data-Validate-Domain-0.14-4Vh81g/blib/arch:/home/cpansand/.cpan/build/2019052022/Data-Validate-Domain-0.14-4Vh81g/blib/lib:/home/cpansand/.cpan/build/2019052022/Net-Domain-TLD-1.75-34d5K0/blib/arch:/home/cpansand/.cpan/build/2019052022/Net-Domain-TLD-1.75-34d5K0/blib/lib:/home/cpansand/.cpan/build/2019052022/Data-Util-0.66-93Nl5R/blib/arch:/home/cpansand/.cpan/build/2019052022/Data-Util-0.66-93Nl5R/blib/lib
    PERL5OPT = 
    PERL5_CPANPLUS_IS_RUNNING = 90727
    PERL5_CPAN_IS_RUNNING = 90727
    PERL5_CPAN_IS_RUNNING_IN_RECURSION = 89554,90727
    PERLDOC = -MPod::Perldoc::ToTextOverstrike
    PERL_BATCH = yes
    PERL_CANARY_STABILITY_NOPROMPT = 1
    PERL_CPAN_REPORTER_CONFIG = /var/tmp/cpansmoker-1023/2019052022/cpanreporter_000_config.ini
    PERL_EXTUTILS_AUTOINSTALL = --defaultdeps
    SHELL = /usr/local/bin/zsh
    TERM = screen
    TMPDIR = /var/tmp/cpansmoker-1023/2019052022

Perl special variables (and OS-specific diagnostics, for MSWin32):

    $^X = /usr/perl5.22.2t/bin/perl
    $UID/$EUID = 1023 / 1023
    $GID = 1023 1023
    $EGID = 1023 1023

Perl module toolchain versions installed:

    Module              Have    
    ------------------- --------
    CPAN                2.11    
    CPAN::Meta          2.150001
    Cwd                 3.62    
    ExtUtils::CBuilder  0.280221
    ExtUtils::Command   7.24    
    ExtUtils::Install   2.04    
    ExtUtils::MakeMaker 7.24    
    ExtUtils::Manifest  1.70    
    ExtUtils::ParseXS   3.28    
    File::Spec          3.62    
    JSON                2.90    
    JSON::PP            2.27300 
    Module::Build       0.4218  
    Module::Signature   0.80    
    Parse::CPAN::Meta   1.4422  
    Test::Harness       3.35    
    Test::More          1.302075
    YAML                1.15    
    YAML::Syck          1.29    
    version             0.9917  


--

Summary of my perl5 (revision 5 version 22 subversion 2) configuration:
   
  Platform:
    osname=freebsd, osvers=10.1-release, archname=amd64-freebsd-thread-multi
    uname='freebsd cvrsnica-freebsd-101.herceg.de 10.1-release freebsd 10.1-release #0 r274401: tue nov 11 21:02:49 utc 2014 root@releng1.nyi.freebsd.org:usrobjusrsrcsysgeneric amd64 '
    config_args='-ds -e -Dprefix=/usr/perl5.22.2t -Dusethreads -Dcf_email=srezic@cpan.org -Doptimize=-O2 -pipe'
    hint=recommended, useposix=true, d_sigaction=define
    useithreads=define, usemultiplicity=define
    use64bitint=define, use64bitall=define, uselongdouble=undef
    usemymalloc=n, bincompat5005=undef
  Compiler:
    cc='cc', ccflags ='-DHAS_FPSETMASK -DHAS_FLOATINGPOINT_H -fno-strict-aliasing -pipe -fstack-protector -I/usr/local/include -D_FORTIFY_SOURCE=2',
    optimize='-O2 -pipe',
    cppflags='-DHAS_FPSETMASK -DHAS_FLOATINGPOINT_H -fno-strict-aliasing -pipe -fstack-protector -I/usr/local/include'
    ccversion='', gccversion='4.2.1 Compatible FreeBSD Clang 3.4.1 (tags/RELEASE_34/dot1-final 208032)', gccosandvers=''
    intsize=4, longsize=8, ptrsize=8, doublesize=8, byteorder=12345678, doublekind=3
    d_longlong=define, longlongsize=8, d_longdbl=define, longdblsize=16, longdblkind=3
    ivtype='long', ivsize=8, nvtype='double', nvsize=8, Off_t='off_t', lseeksize=8
    alignbytes=8, prototype=define
  Linker and Libraries:
    ld='cc', ldflags ='-pthread -Wl,-E  -fstack-protector -L/usr/local/lib'
    libpth=/usr/lib /usr/local/lib /usr/include/clang/3.4.1 /usr/lib
    libs=-lpthread -lgdbm -lm -lcrypt -lutil
    perllibs=-lpthread -lm -lcrypt -lutil
    libc=, so=so, useshrplib=false, libperl=libperl.a
    gnulibc_version=''
  Dynamic Linking:
    dlsrc=dl_dlopen.xs, dlext=so, d_dlsymun=undef, ccdlflags=' '
    cccdlflags='-DPIC -fPIC', lddlflags='-shared  -L/usr/local/lib -fstack-protector'


Characteristics of this binary (from libperl): 
  Compile-time options: HAS_TIMES MULTIPLICITY PERLIO_LAYERS
                        PERL_DONT_CREATE_GVSV
                        PERL_HASH_FUNC_ONE_AT_A_TIME_HARD
                        PERL_IMPLICIT_CONTEXT PERL_MALLOC_WRAP
                        PERL_NEW_COPY_ON_WRITE PERL_PRESERVE_IVUV
                        USE_64_BIT_ALL USE_64_BIT_INT USE_ITHREADS
                        USE_LARGE_FILES USE_LOCALE USE_LOCALE_COLLATE
                        USE_LOCALE_CTYPE USE_LOCALE_NUMERIC USE_LOCALE_TIME
                        USE_PERLIO USE_PERL_ATOF USE_REENTRANT_API
  Built under freebsd
  Compiled at Jun 18 2016 12:32:50
  %ENV:
    PERL5LIB="/home/cpansand/.cpan/build/2019052022/Number-Phone-3.5000-YLUZg4/blib/arch:/home/cpansand/.cpan/build/2019052022/Number-Phone-3.5000-YLUZg4/blib/lib:/home/cpansand/.cpan/build/2019052022/Scalar-List-Utils-1.50-qPfcUK/blib/arch:/home/cpansand/.cpan/build/2019052022/Scalar-List-Utils-1.50-qPfcUK/blib/lib:/home/cpansand/.cpan/build/2019052022/Test-utf8-1.01-X_evdD/blib/arch:/home/cpansand/.cpan/build/2019052022/Test-utf8-1.01-X_evdD/blib/lib:/home/cpansand/.cpan/build/2019052022/File-ShareDir-1.116-RLFapv/blib/arch:/home/cpansand/.cpan/build/2019052022/File-ShareDir-1.116-RLFapv/blib/lib:/home/cpansand/.cpan/build/2019052022/File-ShareDir-Install-0.13-wo2zyG/blib/arch:/home/cpansand/.cpan/build/2019052022/File-ShareDir-Install-0.13-wo2zyG/blib/lib:/home/cpansand/.cpan/build/2019052022/Mozilla-PublicSuffix-v1.0.0-pQIPNL/blib/arch:/home/cpansand/.cpan/build/2019052022/Mozilla-PublicSuffix-v1.0.0-pQIPNL/blib/lib:/home/cpansand/.cpan/build/2019052022/Data-Validate-URI-0.07-0x9gFm/blib/arch:/home/cpansand/.cpan/build/2019052022/Data-Validate-URI-0.07-0x9gFm/blib/lib:/home/cpansand/.cpan/build/2019052022/Data-Validate-IP-0.27-P3lSVO/blib/arch:/home/cpansand/.cpan/build/2019052022/Data-Validate-IP-0.27-P3lSVO/blib/lib:/home/cpansand/.cpan/build/2019052022/Data-Validate-Email-0.06-wXoJyo/blib/arch:/home/cpansand/.cpan/build/2019052022/Data-Validate-Email-0.06-wXoJyo/blib/lib:/home/cpansand/.cpan/build/2019052022/Data-Validate-Domain-0.14-4Vh81g/blib/arch:/home/cpansand/.cpan/build/2019052022/Data-Validate-Domain-0.14-4Vh81g/blib/lib:/home/cpansand/.cpan/build/2019052022/Net-Domain-TLD-1.75-34d5K0/blib/arch:/home/cpansand/.cpan/build/2019052022/Net-Domain-TLD-1.75-34d5K0/blib/lib:/home/cpansand/.cpan/build/2019052022/Data-Util-0.66-93Nl5R/blib/arch:/home/cpansand/.cpan/build/2019052022/Data-Util-0.66-93Nl5R/blib/lib"
    PERL5OPT=""
    PERL5_CPANPLUS_IS_RUNNING="90727"
    PERL5_CPAN_IS_RUNNING="90727"
    PERL5_CPAN_IS_RUNNING_IN_RECURSION="89554,90727"
    PERLDOC="-MPod::Perldoc::ToTextOverstrike"
    PERL_BATCH="yes"
    PERL_CANARY_STABILITY_NOPROMPT="1"
    PERL_CPAN_REPORTER_CONFIG="/var/tmp/cpansmoker-1023/2019052022/cpanreporter_000_config.ini"
    PERL_EXTUTILS_AUTOINSTALL="--defaultdeps"
  @INC:
    /home/cpansand/.cpan/build/2019052022/Number-Phone-3.5000-YLUZg4/blib/arch
    /home/cpansand/.cpan/build/2019052022/Number-Phone-3.5000-YLUZg4/blib/lib
    /home/cpansand/.cpan/build/2019052022/Scalar-List-Utils-1.50-qPfcUK/blib/arch
    /home/cpansand/.cpan/build/2019052022/Scalar-List-Utils-1.50-qPfcUK/blib/lib
    /home/cpansand/.cpan/build/2019052022/Test-utf8-1.01-X_evdD/blib/arch
    /home/cpansand/.cpan/build/2019052022/Test-utf8-1.01-X_evdD/blib/lib
    /home/cpansand/.cpan/build/2019052022/File-ShareDir-1.116-RLFapv/blib/arch
    /home/cpansand/.cpan/build/2019052022/File-ShareDir-1.116-RLFapv/blib/lib
    /home/cpansand/.cpan/build/2019052022/File-ShareDir-Install-0.13-wo2zyG/blib/arch
    /home/cpansand/.cpan/build/2019052022/File-ShareDir-Install-0.13-wo2zyG/blib/lib
    /home/cpansand/.cpan/build/2019052022/Mozilla-PublicSuffix-v1.0.0-pQIPNL/blib/arch
    /home/cpansand/.cpan/build/2019052022/Mozilla-PublicSuffix-v1.0.0-pQIPNL/blib/lib
    /home/cpansand/.cpan/build/2019052022/Data-Validate-URI-0.07-0x9gFm/blib/arch
    /home/cpansand/.cpan/build/2019052022/Data-Validate-URI-0.07-0x9gFm/blib/lib
    /home/cpansand/.cpan/build/2019052022/Data-Validate-IP-0.27-P3lSVO/blib/arch
    /home/cpansand/.cpan/build/2019052022/Data-Validate-IP-0.27-P3lSVO/blib/lib
    /home/cpansand/.cpan/build/2019052022/Data-Validate-Email-0.06-wXoJyo/blib/arch
    /home/cpansand/.cpan/build/2019052022/Data-Validate-Email-0.06-wXoJyo/blib/lib
    /home/cpansand/.cpan/build/2019052022/Data-Validate-Domain-0.14-4Vh81g/blib/arch
    /home/cpansand/.cpan/build/2019052022/Data-Validate-Domain-0.14-4Vh81g/blib/lib
    /home/cpansand/.cpan/build/2019052022/Net-Domain-TLD-1.75-34d5K0/blib/arch
    /home/cpansand/.cpan/build/2019052022/Net-Domain-TLD-1.75-34d5K0/blib/lib
    /home/cpansand/.cpan/build/2019052022/Data-Util-0.66-93Nl5R/blib/arch
    /home/cpansand/.cpan/build/2019052022/Data-Util-0.66-93Nl5R/blib/lib
    /usr/perl5.22.2t/lib/site_perl/5.22.2/amd64-freebsd-thread-multi
    /usr/perl5.22.2t/lib/site_perl/5.22.2
    /usr/perl5.22.2t/lib/5.22.2/amd64-freebsd-thread-multi
    /usr/perl5.22.2t/lib/5.22.2
    .