Data-Serializer v0.65 Perl 5 v5.26.3 x86_64-linux-multi
- Status
- Pass
- From
- Nigel Horne
- Dist
-
Data-Serializer v0.65
- Platform
- Perl 5 v5.26.3 x86_64-linux-multi
- Date
- 2022-01-31 21:21:27
- ID
- c0047c40-82db-11ec-a4f6-d93bacd65ec8
This distribution has been tested as part of the CPAN Testers
project, supporting the Perl programming language. See
http://wiki.cpantesters.org/ for more information or email
questions to cpan-testers-discuss@perl.org
--
Dear Neil A. Neely,
This is a computer-generated report for Data-Serializer-0.65
on perl 5.26.3, created by CPAN-Reporter-1.2018.
Thank you for uploading your work to CPAN. Congratulations!
All tests were successful.
Sections of this report:
* Tester comments
* Program output
* Prerequisites
* Environment and other context
------------------------------
TESTER COMMENTS
------------------------------
Additional comments from tester:
this report is from an automated smoke testing program
and was not reviewed by a human for accuracy
------------------------------
PROGRAM OUTPUT
------------------------------
Output from './Build test':
t/00-01-Signature.t ........... skipped: (no reason given)
t/01-01-Data-Dumper.t ......... ok
t/01-02-Data-Denter.t ......... skipped: Data::Denter not installed
t/01-03-Storable.t ............ ok
t/01-04-FreezeThaw.t .......... skipped: FreezeThaw not installed
t/01-05-Config-General.t ...... skipped: Config::General not installed
These tests should not be running unless AUTHOR_TESTING=1 and/or RELEASE_TESTING=1!
t/01-06-YAML.t ................ ok
t/01-07-XML-Dumper.t .......... skipped: XML::Dumper not installed
t/01-08-PHP-Serialization.t ... skipped: PHP::Serialization not installed
t/01-09-XML-Simple.t .......... skipped: XML::Simple not installed
t/01-10-Data-Taxi.t ........... skipped: Data::Taxi not installed
t/01-11-YAML-Syck.t ........... ok
t/00-02-Kwalitee.t ............ ok
t/01-12-JSON.t ................ ok
t/01-13-JSON-Syck.t ........... ok
t/01-14-Bencode.t ............. skipped: Bencode not installed
t/01-15-Convert-Bencode.t ..... skipped: Convert::Bencode not installed
t/01-16-Convert-Bencode_XS.t .. skipped: Convert::Bencode_XS not installed
t/02-02-Fast-Raw.t ............ ok
t/02-01-Orig-Raw.t ............ ok
t/03-Non-Portable.t ........... ok
t/04-02-Compress-PPMd.t ....... skipped: compressppmd not installed
t/04-01-Compress-Zlib.t ....... ok
t/05-Encryption.t ............. skipped: encryption not installed
t/06-B64-Encoding.t ........... ok
t/07-01-MD5-Digest.t .......... skipped: md5 not installed
t/07-02-SHA1-Digest.t ......... skipped: sha1 not installed
t/07-03-SHA-256-Digest.t ...... skipped: sha-256 not installed
t/09-Feature-Combos.t ......... ok
t/08-Store-Retrieve.t ......... ok
t/10-01-Pod.t ................. ok
t/10-02-Pod-Coverage.t ........ ok
All tests successful.
Files=32, Tests=1034, 5 wallclock secs ( 0.40 usr 0.11 sys + 7.81 cusr 1.20 csys = 9.52 CPU)
Result: PASS
------------------------------
PREREQUISITES
------------------------------
Prerequisite modules loaded:
requires:
Module Need Have
------------------- ---- --------
AutoLoader 0 5.74
Data::Dumper 2.08 2.173
Digest::SHA 0 5.96
Exporter 0 5.72
IO::File 0 1.16
build_requires:
Module Need Have
------------------- ---- --------
File::Spec 0 3.75
IO::File 0 1.16
Test::More 0 1.302175
configure_requires:
Module Need Have
------------------- ---- --------
Module::Build 0.35 0.4231
opt_requires:
Module Need Have
------------------- ---- --------
! Bencode 0 n/a
! Compress::PPMd 0 n/a
Compress::Zlib 0 2.074
! Config::General 0 n/a
! Convert::Bencode 0 n/a
! Convert::Bencode_XS 0 n/a
! Crypt::Blowfish 0 n/a
! Crypt::CBC 0 n/a
! Data::Denter 0 n/a
! Data::Taxi 0 n/a
! FreezeThaw 0 n/a
JSON 0 4.02
JSON::Syck 0 1.31
JSON::XS 0 4.02
MIME::Base64 0 3.15
! PHP::Serialization 0 n/a
Storable 0 2.62
! XML::Dumper 0 n/a
! XML::Simple 0 n/a
YAML 0 1.30
YAML::Syck 0 1.32
------------------------------
ENVIRONMENT AND OTHER CONTEXT
------------------------------
Environment variables:
AUTOMATED_TESTING = 1
HARNESS_OPTIONS = c:j2
PATH = /home/smoker/perl5/perlbrew/bin:/home/smoker/perl5/perlbrew/perls/perl-5.26.3-multi/bin:/usr/local/sbin:/usr/local/bin:/usr/sbin:/usr/bin:/sbin:/bin:
PERL5LIB =
PERL5OPT =
PERL5_CPANPLUS_IS_RUNNING = 31
PERL5_CPAN_IS_RUNNING = 31
PERL5_CPAN_IS_RUNNING_IN_RECURSION = 1,31
PERLBREW_HOME = /home/smoker/.perlbrew
PERLBREW_MANPATH = /home/smoker/perl5/perlbrew/perls/perl-5.26.3-multi/man
PERLBREW_PATH = /home/smoker/perl5/perlbrew/bin:/home/smoker/perl5/perlbrew/perls/perl-5.26.3-multi/bin
PERLBREW_PERL = perl-5.26.3-multi
PERLBREW_ROOT = /home/smoker/perl5/perlbrew
PERLBREW_SHELLRC_VERSION = 0.88
PERLBREW_VERSION = 0.88
PERL_USE_UNSAFE_INC = 1
SHELL = /bin/bash
TERM = xterm
TMPDIR = /tmp/testwrapper.18
Perl special variables (and OS-specific diagnostics, for MSWin32):
$^X = /home/smoker/perl5/perlbrew/perls/perl-5.26.3-multi/bin/perl5.26.3
$UID/$EUID = 1000 / 1000
$GID = 1000
$EGID = 1000
Perl module toolchain versions installed:
Module Have
------------------- ----------
CPAN 2.18
CPAN::Meta 2.150010
Cwd 3.75
ExtUtils::CBuilder 0.280225
ExtUtils::Command 7.44
ExtUtils::Install 2.06
ExtUtils::MakeMaker 7.44
ExtUtils::Manifest 1.70
ExtUtils::ParseXS 3.34
File::Spec 3.75
JSON 4.02
JSON::PP 2.27400_02
Module::Build 0.4231
Module::Signature n/a
Parse::CPAN::Meta 2.150010
Test::Harness 3.38
Test::More 1.302175
YAML 1.30
YAML::Syck 1.32
version 0.9917
--
Summary of my perl5 (revision 5 version 26 subversion 3) configuration:
Platform:
osname=linux
osvers=5.3.0-1018-oracle
archname=x86_64-linux-multi
uname='linux a5c78c39564b 5.3.0-1018-oracle #20~18.04.1-ubuntu smp mon may 11 12:47:44 utc 2020 x86_64 gnulinux '
config_args='-de -Dprefix=/home/smoker/perl5/perlbrew/perls/perl-5.26.3-multi -Dusedevel -Dusemultiplicity -Accflags=-O2 -pipe -Wall -Wextra -mtune=native -march=native -Aeval:scriptdir=/home/smoker/perl5/perlbrew/perls/perl-5.26.3-multi/bin'
hint=recommended
useposix=true
d_sigaction=define
useithreads=undef
usemultiplicity=define
use64bitint=define
use64bitall=define
uselongdouble=undef
usemymalloc=n
default_inc_excludes_dot=define
bincompat5005=undef
Compiler:
cc='cc'
ccflags ='-O2 -pipe -Wall -Wextra -mtune=native -march=native -fwrapv -fno-strict-aliasing -fstack-protector-strong -I/usr/local/include -D_LARGEFILE_SOURCE -D_FILE_OFFSET_BITS=64 -D_FORTIFY_SOURCE=2'
optimize='-O2'
cppflags='-O2 -pipe -Wall -Wextra -mtune=native -march=native -fwrapv -fno-strict-aliasing -fstack-protector-strong -I/usr/local/include'
ccversion=''
gccversion='8.3.0'
gccosandvers=''
intsize=4
longsize=8
ptrsize=8
doublesize=8
byteorder=12345678
doublekind=3
d_longlong=define
longlongsize=8
d_longdbl=define
longdblsize=16
longdblkind=3
ivtype='long'
ivsize=8
nvtype='double'
nvsize=8
Off_t='off_t'
lseeksize=8
alignbytes=8
prototype=define
Linker and Libraries:
ld='cc'
ldflags =' -fstack-protector-strong -L/usr/local/lib'
libpth=/usr/local/lib /usr/lib/gcc/x86_64-linux-gnu/8/include-fixed /usr/include/x86_64-linux-gnu /usr/lib /lib/x86_64-linux-gnu /lib/../lib /usr/lib/x86_64-linux-gnu /usr/lib/../lib /lib
libs=-lpthread -lnsl -ldl -lm -lcrypt -lutil -lc
perllibs=-lpthread -lnsl -ldl -lm -lcrypt -lutil -lc
libc=libc-2.28.so
so=so
useshrplib=false
libperl=libperl.a
gnulibc_version='2.28'
Dynamic Linking:
dlsrc=dl_dlopen.xs
dlext=so
d_dlsymun=undef
ccdlflags='-Wl,-E'
cccdlflags='-fPIC'
lddlflags='-shared -O2 -L/usr/local/lib -fstack-protector-strong'
Characteristics of this binary (from libperl):
Compile-time options:
HAS_TIMES
MULTIPLICITY
PERLIO_LAYERS
PERL_COPY_ON_WRITE
PERL_DONT_CREATE_GVSV
PERL_IMPLICIT_CONTEXT
PERL_MALLOC_WRAP
PERL_OP_PARENT
PERL_PRESERVE_IVUV
PERL_USE_DEVEL
USE_64_BIT_ALL
USE_64_BIT_INT
USE_LARGE_FILES
USE_LOCALE
USE_LOCALE_COLLATE
USE_LOCALE_CTYPE
USE_LOCALE_NUMERIC
USE_LOCALE_TIME
USE_PERLIO
USE_PERL_ATOF
Locally applied patches:
Devel::PatchPerl 2.00
Built under linux
Compiled at Jun 9 2020 22:28:58
%ENV:
PERL5LIB=""
PERL5OPT=""
PERL5_CPANPLUS_IS_RUNNING="31"
PERL5_CPAN_IS_RUNNING="31"
PERL5_CPAN_IS_RUNNING_IN_RECURSION="1,31"
PERLBREW_HOME="/home/smoker/.perlbrew"
PERLBREW_MANPATH="/home/smoker/perl5/perlbrew/perls/perl-5.26.3-multi/man"
PERLBREW_PATH="/home/smoker/perl5/perlbrew/bin:/home/smoker/perl5/perlbrew/perls/perl-5.26.3-multi/bin"
PERLBREW_PERL="perl-5.26.3-multi"
PERLBREW_ROOT="/home/smoker/perl5/perlbrew"
PERLBREW_SHELLRC_VERSION="0.88"
PERLBREW_VERSION="0.88"
PERL_USE_UNSAFE_INC="1"
@INC:
/home/smoker/perl5/perlbrew/perls/perl-5.26.3-multi/lib/site_perl/5.26.3/x86_64-linux-multi
/home/smoker/perl5/perlbrew/perls/perl-5.26.3-multi/lib/site_perl/5.26.3
/home/smoker/perl5/perlbrew/perls/perl-5.26.3-multi/lib/5.26.3/x86_64-linux-multi
/home/smoker/perl5/perlbrew/perls/perl-5.26.3-multi/lib/5.26.3
.