Log-Log4perl v1.57 Perl 5 v5.39.3 darwin-2level

Status
Pass
From
David Cantrell (DCANTRELL)
Dist
Log-Log4perl v1.57
Platform
Perl 5 v5.39.3 darwin-2level
Date
2023-09-09 01:39:43
ID
bff9f222-4eb1-11ee-a65a-7fe1dee8e94e
This distribution has been tested as part of the CPAN Testers
project, supporting the Perl programming language.  See
http://wiki.cpantesters.org/ for more information or email
questions to cpan-testers-discuss@perl.org


--
Dear Ed J,

This is a computer-generated report for Log-Log4perl-1.57
on perl 5.39.3, created by CPAN-Reporter-1.2019.

Thank you for uploading your work to CPAN.  Congratulations!
All tests were successful.

Sections of this report:

    * Tester comments
    * Program output
    * Prerequisites
    * Environment and other context

------------------------------
TESTER COMMENTS
------------------------------

Additional comments from tester:

this report is from an automated smoke testing program
and was not reviewed by a human for accuracy

------------------------------
PROGRAM OUTPUT
------------------------------

Output from '/usr/bin/make test':

PERL_DL_NONLAZY=1 "/Users/cpantesting/cpantesting/perl-blead/bin/perl5.39.3" "-MExtUtils::Command::MM" "-MTest::Harness" "-e" "undef *Test::Harness::Switches; test_harness(0, 'blib/lib', 'blib/arch')" t/*.t
t/001Level.t .............. ok
t/002Logger.t ............. ok
t/003Layout-Rr.t .......... ok
t/003Layout.t ............. ok
t/004Config.t ............. ok
t/005Config-Perl.t ........ ok
t/006Config-Java.t ........ skipped: only with Log::Dispatch
t/007LogPrio.t ............ ok
t/008ConfCat.t ............ ok
t/009Deuce.t .............. ok
t/010JConsole.t ........... skipped: only with Log::Dispatch
t/011JFile.t .............. skipped: only with Log::Dispatch
t/012Deeper.t ............. skipped: only with Log::Dispatch
t/013Bench.t .............. skipped: set $ENV{LOG4PERL_BENCH} to a true value to run benchmarks, skipping...
t/014ConfErrs.t ........... ok
t/015fltmsg.t ............. ok
t/016Export.t ............. ok
t/017Watch.t .............. ok
t/018Init.t ............... ok
t/019Warn.t ............... ok
t/020Easy.t ............... ok
t/020Easy2.t .............. ok
t/021AppThres.t ........... ok
t/022Wrap.t ............... ok
t/023Date.t ............... ok
t/024WarnDieCarp.t ........ ok
t/025CustLevels.t ......... ok
t/026FileApp.t ............ ok
t/027Watch2.t ............. ok
t/027Watch3.t ............. ok
t/027Watch4.t ............. ok
t/028Additivity.t ......... ok
t/029SysWide.t ............ ok
t/030LDLevel.t ............ ok
t/031NDC.t ................ ok
t/032JRollFile.t .......... skipped: only with Log::Dispatch::FileRotate 1.10
t/033UsrCspec.t ........... ok
t/034DBI.t ................ skipped: Skipping as not got: DBI 1.607, DBD::CSV 0.33, SQL::Statement 1.20
t/035JDBCAppender.t ....... skipped: Skipping as not got: DBI 1.607, DBD::CSV 0.33, Log::Dispatch 0
t/036JSyslog.t ............ ok
t/037JWin32Event.t ........ skipped: only with Log::Dispatch::Win32EventLog
t/038XML-DOM1.t ........... skipped: only with XML::DOM > 1.29
t/039XML-DOM2.t ........... skipped: only with XML::DOM > 1.29
t/040Filter.t ............. ok
t/041SafeEval.t ........... ok
t/042SyncApp.t ............ skipped: - only with L4P_ALL_TESTS
t/043VarSubst.t ........... ok
t/044XML-Filter.t ......... skipped: only with XML::DOM > 1.29
t/045Composite.t .......... ok
t/046RRDs.t ............... skipped: (RRDs not installed)
t/048lwp.t ................ skipped: Only with 2.0 < LWP::UserAgent < 5.822
t/049Unhide.t ............. ok
t/050Buffer.t ............. ok
t/051Extra.t .............. ok
t/052Utf8.t ............... ok
t/053Resurrect.t .......... ok
t/054Subclass.t ........... ok
t/055AppDestroy.t ......... ok
t/056SyncApp2.t ........... skipped: - only with L4P_ALL_TESTS
t/057MsgChomp.t ........... ok
t/058Warnings.t ........... ok
t/059Wrapper.t ............ ok
t/060Initialized.t ........ ok
t/061Multiline.t .......... ok
t/062InitHash.t ........... ok
t/063LoggerRemove.t ....... ok
t/064RealClass.t .......... ok
t/065Undef.t .............. ok
t/066SQLite.t ............. skipped: Skipping as not got: DBI 1.607, DBD::SQLite 0
t/067Exception.t .......... ok
t/068MultilineIndented.t .. ok
t/069MoreMultiline.t ...... ok
t/070UTCDate.t ............ ok
All tests successful.
Files=73, Tests=721, 34 wallclock secs ( 0.26 usr  0.19 sys +  8.53 cusr  1.40 csys = 10.38 CPU)
Result: PASS

------------------------------
PREREQUISITES
------------------------------

Prerequisite modules loaded:

requires:

    Module                    Need  Have    
    ------------------------- ----- --------
    File::Path                2.07  2.18    
    File::Spec                0.82  3.90    
    perl                      5.006 5.039003

build_requires:

    Module                    Need  Have    
    ------------------------- ----- --------
    ExtUtils::MakeMaker       0     7.70    
    Test::More                0.88  1.302195

configure_requires:

    Module                    Need  Have    
    ------------------------- ----- --------
    ExtUtils::MakeMaker       0     7.70    

opt_requires:

    Module                    Need  Have    
    ------------------------- ----- --------
  ! DBD::CSV                  0.33  n/a     
  ! DBD::SQLite               0     n/a     
  ! DBI                       1.607 n/a     
  ! Log::Dispatch             0     n/a     
  ! Log::Dispatch::FileRotate 1.10  n/a     
  ! SQL::Statement            1.20  n/a     
  ! XML::DOM                  1.29  n/a     


------------------------------
ENVIRONMENT AND OTHER CONTEXT
------------------------------

Environment variables:

    AUTOMATED_TESTING = 1
    NONINTERACTIVE_TESTING = 1
    PATH = /Users/cpantesting/perl5/perlbrew/bin:/Users/cpantesting/perl5/perlbrew/perls/perl-5.32.0/bin:/usr/local/bin:/usr/bin:/bin:/usr/sbin:/sbin:/Library/Apple/usr/bin:/Users/cpantesting/.cargo/bin
    PERL = blead
    PERL5LIB = 
    PERL5OPT = 
    PERL5_CPANPLUS_IS_RUNNING = 13609
    PERL5_CPAN_IS_RUNNING = 13609
    PERLBREW_HOME = /Users/cpantesting/.perlbrew
    PERLBREW_MANPATH = /Users/cpantesting/perl5/perlbrew/perls/perl-5.32.0/man
    PERLBREW_PATH = /Users/cpantesting/perl5/perlbrew/bin:/Users/cpantesting/perl5/perlbrew/perls/perl-5.32.0/bin
    PERLBREW_PERL = perl-5.32.0
    PERLBREW_ROOT = /Users/cpantesting/perl5/perlbrew
    PERLBREW_SHELLRC_VERSION = 0.94
    PERLBREW_VERSION = 0.94
    PERLVER = blead
    PERL_INLINE_DIRECTORY = /Users/cpantesting/.Inline-blead
    PERL_MM_USE_DEFAULT = 1
    PERL_USE_UNSAFE_INC = 0
    SHELL = /bin/bash
    TERM = screen

Perl special variables (and OS-specific diagnostics, for MSWin32):

    $^X = /Users/cpantesting/cpantesting/perl-blead/bin/perl5.39.3
    $UID/$EUID = 503 / 503
    $GID = 20 20 12 61 703 702 701 100
    $EGID = 20 20 12 61 703 702 701 100

Perl module toolchain versions installed:

    Module              Have    
    ------------------- --------
    CPAN                2.36    
    CPAN::Meta          2.150010
    Cwd                 3.90    
    ExtUtils::CBuilder  0.280240
    ExtUtils::Command   7.70    
    ExtUtils::Install   2.22    
    ExtUtils::MakeMaker 7.70    
    ExtUtils::Manifest  1.75    
    ExtUtils::ParseXS   3.51    
    File::Spec          3.90    
    JSON                n/a     
    JSON::PP            4.16    
    Module::Build       0.4234  
    Module::Signature   n/a     
    Parse::CPAN::Meta   2.150010
    Test2               1.302195
    Test::Harness       3.47    
    Test::More          1.302195
    YAML                n/a     
    YAML::Syck          n/a     
    version             0.9929  


--

Summary of my perl5 (revision 5 version 39 subversion 3) configuration:
  Commit id: c904517849a782954f8d958163a18f6cc192a485
  Platform:
    osname=darwin
    osvers=21.6.0
    archname=darwin-2level
    uname='darwin harrow.local 21.6.0 darwin kernel version 21.6.0: mon aug 22 20:17:10 pdt 2022; root:xnu-8020.140.49~2release_x86_64 x86_64 '
    config_args='-de -Dprefix=/Users/cpantesting/cpantesting/perl-blead -Dusedevel'
    hint=recommended
    useposix=true
    d_sigaction=define
    useithreads=undef
    usemultiplicity=undef
    use64bitint=define
    use64bitall=define
    uselongdouble=undef
    usemymalloc=n
    default_inc_excludes_dot=define
  Compiler:
    cc='cc'
    ccflags ='-fno-common -DPERL_DARWIN -mmacosx-version-min=12.6 -DNO_THREAD_SAFE_QUERYLOCALE -fno-strict-aliasing -pipe -fstack-protector-strong -I/usr/local/include'
    optimize='-O3'
    cppflags='-fno-common -DPERL_DARWIN -mmacosx-version-min=12.6 -DNO_THREAD_SAFE_QUERYLOCALE -fno-strict-aliasing -pipe -fstack-protector-strong -I/usr/local/include'
    ccversion=''
    gccversion='Apple LLVM 14.0.0 (clang-1400.0.29.202)'
    gccosandvers=''
    intsize=4
    longsize=8
    ptrsize=8
    doublesize=8
    byteorder=12345678
    doublekind=3
    d_longlong=define
    longlongsize=8
    d_longdbl=define
    longdblsize=16
    longdblkind=3
    ivtype='long'
    ivsize=8
    nvtype='double'
    nvsize=8
    Off_t='off_t'
    lseeksize=8
    alignbytes=8
    prototype=define
  Linker and Libraries:
    ld='cc'
    ldflags =' -mmacosx-version-min=12.6 -fstack-protector-strong -L/usr/local/lib'
    libpth=/usr/local/lib /Applications/Xcode.app/Contents/Developer/Toolchains/XcodeDefault.xctoolchain/usr/lib/clang/14.0.0/lib /Applications/Xcode.app/Contents/Developer/Platforms/MacOSX.platform/Developer/SDKs/MacOSX.sdk/usr/lib /Applications/Xcode.app/Contents/Developer/Toolchains/XcodeDefault.xctoolchain/usr/lib /usr/lib
    libs=-lgdbm
    perllibs=
    libc=
    so=dylib
    useshrplib=false
    libperl=libperl.a
    gnulibc_version=''
  Dynamic Linking:
    dlsrc=dl_dlopen.xs
    dlext=bundle
    d_dlsymun=undef
    ccdlflags=' '
    cccdlflags=' '
    lddlflags=' -mmacosx-version-min=12.6 -bundle -undefined dynamic_lookup -L/usr/local/lib -fstack-protector-strong'


Characteristics of this binary (from libperl): 
  Compile-time options:
    HAS_LONG_DOUBLE
    HAS_STRTOLD
    HAS_TIMES
    PERLIO_LAYERS
    PERL_COPY_ON_WRITE
    PERL_DONT_CREATE_GVSV
    PERL_HASH_FUNC_SIPHASH13
    PERL_HASH_USE_SBOX32
    PERL_MALLOC_WRAP
    PERL_OP_PARENT
    PERL_PRESERVE_IVUV
    PERL_USE_DEVEL
    PERL_USE_SAFE_PUTENV
    USE_64_BIT_ALL
    USE_64_BIT_INT
    USE_LARGE_FILES
    USE_LOCALE
    USE_LOCALE_COLLATE
    USE_LOCALE_CTYPE
    USE_LOCALE_NUMERIC
    USE_LOCALE_TIME
    USE_PERLIO
    USE_PERL_ATOF
  Built under darwin
  Compiled at Sep  8 2023 10:29:55
  %ENV:
    PERL="blead"
    PERL5LIB=""
    PERL5OPT=""
    PERL5_CPANPLUS_IS_RUNNING="13609"
    PERL5_CPAN_IS_RUNNING="13609"
    PERLBREW_HOME="/Users/cpantesting/.perlbrew"
    PERLBREW_MANPATH="/Users/cpantesting/perl5/perlbrew/perls/perl-5.32.0/man"
    PERLBREW_PATH="/Users/cpantesting/perl5/perlbrew/bin:/Users/cpantesting/perl5/perlbrew/perls/perl-5.32.0/bin"
    PERLBREW_PERL="perl-5.32.0"
    PERLBREW_ROOT="/Users/cpantesting/perl5/perlbrew"
    PERLBREW_SHELLRC_VERSION="0.94"
    PERLBREW_VERSION="0.94"
    PERLVER="blead"
    PERL_INLINE_DIRECTORY="/Users/cpantesting/.Inline-blead"
    PERL_MM_USE_DEFAULT="1"
    PERL_USE_UNSAFE_INC="0"
  @INC:
    /Users/cpantesting/cpantesting/perl-blead/lib/site_perl/5.39.3/darwin-2level
    /Users/cpantesting/cpantesting/perl-blead/lib/site_perl/5.39.3
    /Users/cpantesting/cpantesting/perl-blead/lib/5.39.3/darwin-2level
    /Users/cpantesting/cpantesting/perl-blead/lib/5.39.3