Back
From: metabase:user:314402c4-2aae-11df-837a-5e0a49663a4f
Subject: PASS Catalyst-Controller-SimpleCAS-0.9981 v5.10.1 FreeBSD
Date: 2015-08-31T15:34:20Z
This distribution has been tested as part of the CPAN Testers
project, supporting the Perl programming language. See
http://wiki.cpantesters.org/ for more information or email
questions to cpan-testers-discuss@perl.org
--
Dear Henry Van Styn,
This is a computer-generated report for Catalyst-Controller-SimpleCAS-0.9981
on perl 5.10.1, created by CPAN-Reporter-1.2015.
Thank you for uploading your work to CPAN. Congratulations!
All tests were successful.
Sections of this report:
* Tester comments
* Program output
* Prerequisites
* Environment and other context
------------------------------
TESTER COMMENTS
------------------------------
Additional comments from tester:
none provided
------------------------------
PROGRAM OUTPUT
------------------------------
Output from '/usr/bin/make test':
PERL_DL_NONLAZY=1 "/usr/perl5.10.1/bin/perl" "-MExtUtils::Command::MM" "-MTest::Harness" "-e" "undef *Test::Harness::Switches; test_harness(0, 'blib/lib', 'blib/arch')" t/*.t
t/01_basic.t ........ ok
t/99_pod.t .......... skipped: set AUTHOR_TESTING to enable this test
t/99_podcoverage.t .. skipped: set AUTHOR_TESTING to enable this test
t/99_podspelling.t .. skipped: set AUTHOR_TESTING to enable this test
All tests successful.
Files=4, Tests=7, 5 wallclock secs ( 0.10 usr 0.04 sys + 4.12 cusr 0.40 csys = 4.66 CPU)
Result: PASS
------------------------------
PREREQUISITES
------------------------------
Prerequisite modules loaded:
requires:
Module Need Have
-------------------------------------- ----- --------
bytes 0 1.03
Carp 0 1.36
Catalyst::Controller 0 0
Catalyst::Utils 0 0
Data::Dumper 0 2.154
Digest::SHA1 0 2.13
Email::MIME 1.929 1.934
Email::MIME::CreateHTML 1.041 1.041
Email::MIME::CreateHTML::Resolver::LWP 0 1.041
Email::Simple 2.206 2.208
Encode 0 2.76
File::MimeInfo::Magic 0 0.27
HTML::Encoding 0 0.61
HTML::TokeParser::Simple 0 3.16
Image::Size 0 3.300
IO::All 0 0.86
IO::File 0 1.14
JSON 0 2.90
MIME::Base64 0 3.15
Module::Runtime 0 0.014
Moose 0 2.1603
Moose::Role 0 2.1603
MooseX::MethodAttributes::Role 0.29 0.29
namespace::autoclean 0 0.26
Path::Class 0 0.35
Storable 0 2.51
strict 0 1.04
String::Random 0 0.28
Tie::IxHash 0 1.23
Try::Tiny 0 0.22
Types::Standard 0 1.000005
warnings 0 1.06
build_requires:
Module Need Have
-------------------------------------- ----- --------
ExtUtils::MakeMaker 0 7.04
FindBin 0 1.50
lib 0 0.62
Test::Exception 0 0.40
Test::More 0 1.001014
configure_requires:
Module Need Have
-------------------------------------- ----- --------
ExtUtils::MakeMaker 0 7.04
------------------------------
ENVIRONMENT AND OTHER CONTEXT
------------------------------
Environment variables:
DBIC_NO_WARN_BAD_PERL = 1
LC_ALL = de_DE.ISO8859-1
PATH = /usr/local/bin:/usr/bin:/bin:/usr/local/sbin:/usr/sbin:/sbin:/home/cpansand/bin/freebsd9.3:/home/cpansand/bin/sh:/home/cpansand/bin:/usr/games:/home/cpansand/devel:/usr/home/eserte/src/srezic-misc/scripts
PERL5LIB =
PERL5OPT =
PERL5_CPANPLUS_IS_RUNNING = 9303
PERL5_CPAN_IS_RUNNING = 9303
PERL5_CPAN_IS_RUNNING_IN_RECURSION = 21412,9303
PERLDOC = -MPod::Perldoc::ToTextOverstrike
PERL_BATCH = yes
PERL_CANARY_STABILITY_NOPROMPT = 1
PERL_CPAN_REPORTER_CONFIG = /var/tmp/cpansmoker-1023/2015083109/cpanreporter_000_config.ini
PERL_EXTUTILS_AUTOINSTALL = --defaultdeps
PERL_HTML_DISPLAY_CLASS = HTML::Display::Mozilla
SHELL = /usr/local/bin/zsh
TERM = screen
TMPDIR = /var/tmp/cpansmoker-1023/2015083109
Perl special variables (and OS-specific diagnostics, for MSWin32):
$^X = /usr/perl5.10.1/bin/perl
$UID/$EUID = 1023 / 1023
$GID = 1023 1023
$EGID = 1023 1023
Perl module toolchain versions installed:
Module Have
------------------- --------
CPAN 2.10
CPAN::Meta 2.150005
Cwd 3.47
ExtUtils::CBuilder 0.280223
ExtUtils::Command 1.20
ExtUtils::Install 2.04
ExtUtils::MakeMaker 7.04
ExtUtils::Manifest 1.69
ExtUtils::ParseXS 3.24
File::Spec 3.47
JSON 2.90
JSON::PP 2.27203
Module::Build 0.4214
Module::Signature 0.79
Parse::CPAN::Meta 1.4417
Test::Harness 3.34
Test::More 1.001014
YAML 1.15
YAML::Syck 1.29
version 0.9912
--
Summary of my perl5 (revision 5 version 10 subversion 1) configuration:
Platform:
osname=freebsd, osvers=9.2-release-p4, archname=amd64-freebsd
uname='freebsd cvrsnica-freebsd-92 9.2-release-p4 freebsd 9.2-release-p4 #0: tue apr 8 18:08:22 utc 2014 root@amd64-builder.daemonology.net:usrobjusrsrcsysgeneric amd64 '
config_args='-ds -e -Dprefix=/usr/perl5.10.1'
hint=recommended, useposix=true, d_sigaction=define
useithreads=undef, usemultiplicity=undef
useperlio=define, d_sfio=undef, uselargefiles=define, usesocks=undef
use64bitint=define, use64bitall=define, uselongdouble=undef
usemymalloc=n, bincompat5005=undef
Compiler:
cc='cc', ccflags ='-DHAS_FPSETMASK -DHAS_FLOATINGPOINT_H -fno-strict-aliasing -pipe -fstack-protector -I/usr/local/include',
optimize='-O',
cppflags='-DHAS_FPSETMASK -DHAS_FLOATINGPOINT_H -fno-strict-aliasing -pipe -fstack-protector -I/usr/local/include'
ccversion='', gccversion='4.2.1 20070831 patched [FreeBSD]', gccosandvers=''
intsize=4, longsize=8, ptrsize=8, doublesize=8, byteorder=12345678
d_longlong=define, longlongsize=8, d_longdbl=define, longdblsize=16
ivtype='long', ivsize=8, nvtype='double', nvsize=8, Off_t='off_t', lseeksize=8
alignbytes=8, prototype=define
Linker and Libraries:
ld='cc', ldflags ='-Wl,-E -fstack-protector -L/usr/local/lib'
libpth=/usr/lib /usr/local/lib
libs=-lgdbm -lm -lcrypt -lutil -lc
perllibs=-lm -lcrypt -lutil -lc
libc=, so=so, useshrplib=false, libperl=libperl.a
gnulibc_version=''
Dynamic Linking:
dlsrc=dl_dlopen.xs, dlext=so, d_dlsymun=undef, ccdlflags=' '
cccdlflags='-DPIC -fPIC', lddlflags='-shared -L/usr/local/lib -fstack-protector'
Characteristics of this binary (from libperl):
Compile-time options: PERL_DONT_CREATE_GVSV PERL_MALLOC_WRAP USE_64_BIT_ALL
USE_64_BIT_INT USE_LARGE_FILES USE_PERLIO
Built under freebsd
Compiled at May 15 2014 23:30:26
%ENV:
PERL5LIB=""
PERL5OPT=""
PERL5_CPANPLUS_IS_RUNNING="9303"
PERL5_CPAN_IS_RUNNING="9303"
PERL5_CPAN_IS_RUNNING_IN_RECURSION="21412,9303"
PERLDOC="-MPod::Perldoc::ToTextOverstrike"
PERL_BATCH="yes"
PERL_CANARY_STABILITY_NOPROMPT="1"
PERL_CPAN_REPORTER_CONFIG="/var/tmp/cpansmoker-1023/2015083109/cpanreporter_000_config.ini"
PERL_EXTUTILS_AUTOINSTALL="--defaultdeps"
PERL_HTML_DISPLAY_CLASS="HTML::Display::Mozilla"
@INC:
/usr/perl5.10.1/lib/5.10.1/amd64-freebsd
/usr/perl5.10.1/lib/5.10.1
/usr/perl5.10.1/lib/site_perl/5.10.1/amd64-freebsd
/usr/perl5.10.1/lib/site_perl/5.10.1
.