Back
From: metabase:user:30f4dfbe-2aae-11df-837a-5e0a49663a4f
Subject: PASS File-PathInfo-1.27 v5.8.2 FreeBSD
Date: 2016-02-12T10:38:26Z
This distribution has been tested as part of the CPAN Testers
project, supporting the Perl programming language. See
http://wiki.cpantesters.org/ for more information or email
questions to cpan-testers-discuss@perl.org
--
Dear Leo Charre,
This is a computer-generated report for File-PathInfo-1.27
on perl 5.8.2, created by CPAN-Reporter-1.2014.
Thank you for uploading your work to CPAN. Congratulations!
All tests were successful.
Sections of this report:
* Tester comments
* Program output
* Prerequisites
* Environment and other context
------------------------------
TESTER COMMENTS
------------------------------
Additional comments from tester:
this report is from an automated smoke testing program
and was not reviewed by a human for accuracy
------------------------------
PROGRAM OUTPUT
------------------------------
Output from '/usr/bin/make test':
PERL_DL_NONLAZY=1 "/usr/home/njh/perl5/perlbrew/perls/perl-5.8.2/bin/perl5.8.2" "-MExtUtils::Command::MM" "-MTest::Harness" "-e" "undef *Test::Harness::Switches; test_harness(0, 'blib/lib', 'blib/arch')" t/*.t
'/i do not exist/at all/1455273485' is not on disk
set() '/i do not exist/at all/1455273485' is not on disk. at lib/File/PathInfo.pm line 55.
File::PathInfo::set(File::PathInfo=HASH(0x28456424), "/i do not exist/at all/1455273485") called at t/0_fpi.t line 23
--------------------------------------------------------------------------------
arg is not a ref, treating as arg
--------------------------------------------------------------------------------
arg is not a ref, treating as arg
--------------------------------------------------------------------------------
arg is not a ref, treating as arg
--------------------------------------------------------------------------------
arg is not a ref, treating as arg
--------------------------------------------------------------------------------
arg is not a ref, treating as arg
--------------------------------------------------------------------------------
arg is not a ref, treating as arg
2) things we know are not in doc root
--------------------------------------------------------------------------------
--------------------------------------------------------------------------------
'/usr/home/njh/.cpan/build/File-PathInfo-1.27-O8LKi4/t/public_html/demo/cvil.txt' is not on disk
set() './t/public_html/demo/../demo/cvil.txt' is not on disk. at lib/File/PathInfo.pm line 55, <DATA> line 1.
File::PathInfo::set(File::PathInfo=HASH(0x2870e52c), "./t/public_html/demo/../demo/cvil.txt") called at t/0_fpi.t line 128
'/usr/home/njh/.cpan/build/File-PathInfo-1.27-O8LKi4/t/public_html/de41zmo' is not on disk
set() './t/public_html/de41zmo' is not on disk. at lib/File/PathInfo.pm line 55, <DATA> line 1.
File::PathInfo::set(File::PathInfo=HASH(0x28544e58), "./t/public_html/de41zmo") called at t/0_fpi.t line 145
'/usr/home/njh/.cpan/build/File-PathInfo-1.27-O8LKi4/t/public_html/demvo2' is not on disk
set() 'demvo2' is not on disk. at lib/File/PathInfo.pm line 55, <DATA> line 1.
File::PathInfo::set(File::PathInfo=HASH(0x28544e58), "demvo2") called at t/0_fpi.t line 145
argument: './t/public_html/demo/../demo/civil.rtxt/', cant resolve as path rel to current working dir with Cwd abs_path
set() './t/public_html/demo/../demo/civil.rtxt/' is not on disk. at lib/File/PathInfo.pm line 55, <DATA> line 1.
File::PathInfo::set(File::PathInfo=HASH(0x28544e58), "./t/public_html/demo/../demo/civil.rtxt/") called at t/0_fpi.t line 145
t/0_fpi.t ....... ok
2) things that do not exist.
set() './t/public_html/hhahahahahahahouse.txt' is not on disk. at lib/File/PathInfo.pm line 55, <DATA> line 1.
File::PathInfo::set(File::PathInfo=HASH(0x2879b92c), "./t/public_html/hhahahahahahahouse.txt") called at lib/File/PathInfo.pm line 42
File::PathInfo::new("File::PathInfo", "./t/public_html/hhahahahahahahouse.txt") called at t/1_fpi_hash.t line 35
failed set() ./t/public_html/hhahahahahahahouse.txt at lib/File/PathInfo.pm line 42, <DATA> line 1.
File::PathInfo::new("File::PathInfo", "./t/public_html/hhahahahahahahouse.txt") called at t/1_fpi_hash.t line 35
File::PathInfo : no file is set(). Use set(). at lib/File/PathInfo.pm line 303, <DATA> line 1.
File::PathInfo::_stat(File::PathInfo=HASH(0x2879b92c)) called at lib/File/PathInfo.pm line 372
File::PathInfo::get_datahash(File::PathInfo=HASH(0x2879b92c)) called at t/1_fpi_hash.t line 49
set() '/nons/ense' is not on disk. at lib/File/PathInfo.pm line 55, <DATA> line 1.
File::PathInfo::set(File::PathInfo=HASH(0x2879b92c), "/nons/ense") called at lib/File/PathInfo.pm line 42
File::PathInfo::new("File::PathInfo", "/nons/ense") called at t/1_fpi_hash.t line 35
failed set() /nons/ense at lib/File/PathInfo.pm line 42, <DATA> line 1.
File::PathInfo::new("File::PathInfo", "/nons/ense") called at t/1_fpi_hash.t line 35
File::PathInfo : no file is set(). Use set(). at lib/File/PathInfo.pm line 303, <DATA> line 1.
File::PathInfo::_stat(File::PathInfo=HASH(0x2879b92c)) called at lib/File/PathInfo.pm line 372
File::PathInfo::get_datahash(File::PathInfo=HASH(0x2879b92c)) called at t/1_fpi_hash.t line 49
set() '/moreneo/nensense' is not on disk. at lib/File/PathInfo.pm line 55, <DATA> line 1.
File::PathInfo::set(File::PathInfo=HASH(0x2879b92c), "/moreneo/nensense") called at lib/File/PathInfo.pm line 42
File::PathInfo::new("File::PathInfo", "/moreneo/nensense") called at t/1_fpi_hash.t line 35
failed set() /moreneo/nensense at lib/File/PathInfo.pm line 42, <DATA> line 1.
File::PathInfo::new("File::PathInfo", "/moreneo/nensense") called at t/1_fpi_hash.t line 35
File::PathInfo : no file is set(). Use set(). at lib/File/PathInfo.pm line 303, <DATA> line 1.
File::PathInfo::_stat(File::PathInfo=HASH(0x2879b92c)) called at lib/File/PathInfo.pm line 372
File::PathInfo::get_datahash(File::PathInfo=HASH(0x2879b92c)) called at t/1_fpi_hash.t line 49
t/1_fpi_hash.t .. ok
t/2_errstr.t .... ok
All tests successful.
Files=3, Tests=78, 3 wallclock secs ( 0.27 usr 0.09 sys + 1.01 cusr 0.34 csys = 1.70 CPU)
Result: PASS
------------------------------
PREREQUISITES
------------------------------
Prerequisite modules loaded:
requires:
Module Need Have
------------------- ---- ----
Cwd 0.1 3.59
Smart::Comments 0 1.06
Time::Format 0.01 1.12
build_requires:
Module Need Have
------------------- ---- ----
ExtUtils::MakeMaker 0 7.04
configure_requires:
Module Need Have
------------------- ---- ----
ExtUtils::MakeMaker 0 7.04
------------------------------
ENVIRONMENT AND OTHER CONTEXT
------------------------------
Environment variables:
AUTOMATED_TESTING = 1
PATH = /home/njh/perl5/perlbrew/bin:/home/njh/perl5/perlbrew/perls/perl-5.8.2/bin:/home/njh/perl5/perlbrew/bin:/usr/bin:/bin
PERL5LIB = /home/njh/.cpan/build/Smart-Comments-1.06-TxXMNn/blib/arch:/home/njh/.cpan/build/Smart-Comments-1.06-TxXMNn/blib/lib:/home/njh/.cpan/build/Time-Format-1.12-1p5w0S/blib/arch:/home/njh/.cpan/build/Time-Format-1.12-1p5w0S/blib/lib:/home/njh/.cpan/build/Config-Simple-4.58-Ih7435/blib/arch:/home/njh/.cpan/build/Config-Simple-4.58-Ih7435/blib/lib
PERL5OPT =
PERL5_CPANPLUS_IS_RUNNING = 40710
PERL5_CPAN_IS_RUNNING = 40710
PERL5_MINISMOKEBOX = 0.58
PERLBREW_BASHRC_VERSION = 0.74
PERLBREW_LIB =
PERLBREW_MANPATH = /home/njh/perl5/perlbrew/perls/perl-5.8.2/man
PERLBREW_PATH = /home/njh/perl5/perlbrew/bin:/home/njh/perl5/perlbrew/perls/perl-5.8.2/bin
PERLBREW_PERL = perl-5.8.2
PERLBREW_ROOT = /home/njh/perl5/perlbrew
PERLBREW_VERSION = 0.74
PERL_EXTUTILS_AUTOINSTALL = --defaultdeps
PERL_LOCAL_LIB_ROOT =
PERL_MM_USE_DEFAULT = 1
SHELL = /bin/sh
Perl special variables (and OS-specific diagnostics, for MSWin32):
$^X = /usr/home/njh/perl5/perlbrew/perls/perl-5.8.2/bin/perl5.8.2
$UID/$EUID = 1000 / 1000
$GID = 1000 0 1000
$EGID = 1000 0 1000
Perl module toolchain versions installed:
Module Have
------------------- --------
CPAN 2.10
CPAN::Meta 2.150001
Cwd 3.59
ExtUtils::CBuilder 0.280223
ExtUtils::Command 1.20
ExtUtils::Install 2.04
ExtUtils::MakeMaker 7.04
ExtUtils::Manifest 1.70
ExtUtils::ParseXS 3.24
File::Spec 3.59
JSON 2.90
JSON::PP 2.27300
Module::Build 0.4214
Module::Signature n/a
Parse::CPAN::Meta 1.4414
Test::Harness 3.35
Test::More 1.001014
YAML 1.15
YAML::Syck 1.29
version 0.9912
--
Summary of my perl5 (revision 5.0 version 8 subversion 2) configuration:
Platform:
osname=freebsd, osvers=9.1-release, archname=i386-freebsd-thread-multi
uname='freebsd amber 9.1-release freebsd 9.1-release #0 r243826: tue dec 4 06:55:39 utc 2012 root@obrian.cse.buffalo.edu:usrobjusrsrcsysgeneric i386 '
config_args='-de -Dprefix=/home/njh/perl5/perlbrew/perls/perl-5.8.2 -Duseithreads -Dusemultiplicity -Accflags=-O2 -W -Wformat=2 -Wswitch -Wshadow -Wwrite-strings -Wuninitialized -Wall -pipe -mtune=native -march=native -fomit-frame-pointer -msse2 -msse -mmmx -mfpmath=sse -pedantic -D_FORTIFY_SOURCE=2 -Wpointer-arith -Wstrict-prototypes -fstack-protector -Wstack-protector -Wextra -Wbad-function-cast -Wcast-align -Wcast-qual -Wdisabled-optimization -Wendif-labels -Wfloat-equal -Wformat-nonliteral -Winline -Wmissing-declarations -Wmissing-prototypes -Wnested-externs -Wpointer-arith -Wundef -Wformat-security -ftree-vectorize -ftree-vectorizer-verbose=2 -Aeval:scriptdir=/home/njh/perl5/perlbrew/perls/perl-5.8.2/bin'
hint=recommended, useposix=true, d_sigaction=define
usethreads=define use5005threads=undef useithreads=define usemultiplicity=define
useperlio=define d_sfio=undef uselargefiles=define usesocks=undef
use64bitint=undef use64bitall=undef uselongdouble=undef
usemymalloc=n, bincompat5005=undef
Compiler:
cc='cc', ccflags ='-DHAS_FPSETMASK -DHAS_FLOATINGPOINT_H -O2 -W -Wformat=2 -Wswitch -Wshadow -Wwrite-strings -Wuninitialized -Wall -pipe -mtune=native -march=native -fomit-frame-pointer -msse2 -msse -mmmx -mfpmath=sse -pedantic -D_FORTIFY_SOURCE=2 -Wpointer-arith -Wstrict-prototypes -fstack-protector -Wstack-protector -Wextra -Wbad-function-cast -Wcast-align -Wcast-qual -Wdisabled-optimization -Wendif-labels -Wfloat-equal -Wformat-nonliteral -Winline -Wmissing-declarations -Wmissing-prototypes -Wnested-externs -Wpointer-arith -Wundef -Wformat-security -ftree-vectorize -ftree-vectorizer-verbose=2 -fno-strict-aliasing -I/usr/local/include',
optimize='-O',
cppflags='-DHAS_FPSETMASK -DHAS_FLOATINGPOINT_H -O2 -W -Wformat=2 -Wswitch -Wshadow -Wwrite-strings -Wuninitialized -Wall -pipe -mtune=native -march=native -fomit-frame-pointer -msse2 -msse -mmmx -mfpmath=sse -pedantic -D_FORTIFY_SOURCE=2 -Wpointer-arith -Wstrict-prototypes -fstack-protector -Wstack-protector -Wextra -Wbad-function-cast -Wcast-align -Wcast-qual -Wdisabled-optimization -Wendif-labels -Wfloat-equal -Wformat-nonliteral -Winline -Wmissing-declarations -Wmissing-prototypes -Wnested-externs -Wpointer-arith -Wundef -Wformat-security -ftree-vectorize -ftree-vectorizer-verbose=2 -fno-strict-aliasing -I/usr/local/include'
ccversion='', gccversion='4.2.1 20070831 patched [FreeBSD]', gccosandvers=''
intsize=4, longsize=4, ptrsize=4, doublesize=8, byteorder=1234
d_longlong=define, longlongsize=8, d_longdbl=define, longdblsize=12
ivtype='long', ivsize=4, nvtype='double', nvsize=8, Off_t='off_t', lseeksize=8
alignbytes=4, prototype=define
Linker and Libraries:
ld='cc', ldflags ='-pthread -Wl,-E -L/usr/local/lib'
libpth=/usr/lib /usr/local/lib
libs=-lm -lcrypt
perllibs=-lm -lcrypt
libc=, so=so, useshrplib=false, libperl=libperl.a
gnulibc_version=''
Dynamic Linking:
dlsrc=dl_dlopen.xs, dlext=so, d_dlsymun=undef, ccdlflags=' '
cccdlflags='-DPIC -fPIC', lddlflags='-shared -L/usr/local/lib'
Characteristics of this binary (from libperl):
Compile-time options: MULTIPLICITY USE_ITHREADS USE_LARGE_FILES PERL_IMPLICIT_CONTEXT
Built under freebsd
Compiled at Aug 3 2013 20:15:53
%ENV:
PERL5LIB="/home/njh/.cpan/build/Smart-Comments-1.06-TxXMNn/blib/arch:/home/njh/.cpan/build/Smart-Comments-1.06-TxXMNn/blib/lib:/home/njh/.cpan/build/Time-Format-1.12-1p5w0S/blib/arch:/home/njh/.cpan/build/Time-Format-1.12-1p5w0S/blib/lib:/home/njh/.cpan/build/Config-Simple-4.58-Ih7435/blib/arch:/home/njh/.cpan/build/Config-Simple-4.58-Ih7435/blib/lib"
PERL5OPT=""
PERL5_CPANPLUS_IS_RUNNING="40710"
PERL5_CPAN_IS_RUNNING="40710"
PERL5_MINISMOKEBOX="0.58"
PERLBREW_BASHRC_VERSION="0.74"
PERLBREW_LIB=""
PERLBREW_MANPATH="/home/njh/perl5/perlbrew/perls/perl-5.8.2/man"
PERLBREW_PATH="/home/njh/perl5/perlbrew/bin:/home/njh/perl5/perlbrew/perls/perl-5.8.2/bin"
PERLBREW_PERL="perl-5.8.2"
PERLBREW_ROOT="/home/njh/perl5/perlbrew"
PERLBREW_VERSION="0.74"
PERL_EXTUTILS_AUTOINSTALL="--defaultdeps"
PERL_LOCAL_LIB_ROOT=""
PERL_MM_USE_DEFAULT="1"
@INC:
/home/njh/.cpan/build/Smart-Comments-1.06-TxXMNn/blib/arch
/home/njh/.cpan/build/Smart-Comments-1.06-TxXMNn/blib/lib
/home/njh/.cpan/build/Time-Format-1.12-1p5w0S/blib/arch
/home/njh/.cpan/build/Time-Format-1.12-1p5w0S/blib/lib
/home/njh/.cpan/build/Config-Simple-4.58-Ih7435/blib/arch
/home/njh/.cpan/build/Config-Simple-4.58-Ih7435/blib/lib
/home/njh/perl5/perlbrew/perls/perl-5.8.2/lib/5.8.2/i386-freebsd-thread-multi
/home/njh/perl5/perlbrew/perls/perl-5.8.2/lib/5.8.2
/home/njh/perl5/perlbrew/perls/perl-5.8.2/lib/site_perl/5.8.2/i386-freebsd-thread-multi
/home/njh/perl5/perlbrew/perls/perl-5.8.2/lib/site_perl/5.8.2
/home/njh/perl5/perlbrew/perls/perl-5.8.2/lib/site_perl
.