SQL-Translator v1.66 Perl 5 v5.43.2 x86_64-linux
- Status
- Pass
- From
- James E Keenan
- Dist
-
SQL-Translator v1.66
- Platform
- Perl 5 v5.43.2 x86_64-linux
- Date
- 2025-08-20 23:16:49
- ID
- bf9b9074-7e1b-11f0-916f-8aefdc5b5dd3
This distribution has been tested as part of the CPAN Testers
project, supporting the Perl programming language. See
http://wiki.cpantesters.org/ for more information or email
questions to cpan-testers-discuss@perl.org
--
Dear Avishai Goldman,
This is a computer-generated report for SQL-Translator-1.66
on perl 5.43.2, created by CPAN-Reporter-1.2020.
Thank you for uploading your work to CPAN. Congratulations!
All tests were successful.
Sections of this report:
* Tester comments
* Program output
* Prerequisites
* Environment and other context
------------------------------
TESTER COMMENTS
------------------------------
Additional comments from tester:
none provided
------------------------------
PROGRAM OUTPUT
------------------------------
Output from '/usr/bin/make test':
Skip blib/lib/auto/share/dist/SQL-Translator/DiaUml/uml-attribute.tt2 (unchanged)
Skip blib/lib/auto/share/dist/SQL-Translator/DiaUml/diagram.tt2 (unchanged)
Skip blib/lib/auto/share/dist/SQL-Translator/DiaUml/schema.tt2 (unchanged)
Skip blib/lib/auto/share/dist/SQL-Translator/PrecompiledParsers/Parse/RecDescent/DDL/SQLT/README (unchanged)
Skip blib/lib/auto/share/dist/SQL-Translator/DiaUml/uml-class-start.tt2 (unchanged)
Skip blib/lib/auto/share/dist/SQL-Translator/DiaUml/uml-class-all.tt2 (unchanged)
Skip blib/lib/auto/share/dist/SQL-Translator/DiaUml/uml-class.tt2 (unchanged)
Skip blib/lib/auto/share/dist/SQL-Translator/DiaUml/layer.tt2 (unchanged)
Skip blib/lib/auto/share/dist/SQL-Translator/DiaUml/uml-class-end.tt2 (unchanged)
PERL_DL_NONLAZY=1 "/home/jkeenan/testing/perl-5.43.2/bin/perl" "-MExtUtils::Command::MM" "-MTest::Harness" "-e" "undef *Test::Harness::Switches; test_harness(0, 'blib/lib', 'blib/arch')" t/*.t
Possible attempt to escape whitespace in qw() list at /home/jkeenan/testing/perl-5.43.2/lib/site_perl/5.43.2/Sub/Quote.pm line 64.
t/02mysql-parser.t ...................... ok
Possible attempt to escape whitespace in qw() list at /home/jkeenan/testing/perl-5.43.2/lib/site_perl/5.43.2/Sub/Quote.pm line 64.
t/03mysql-to-oracle.t ................... ok
Possible attempt to escape whitespace in qw() list at /home/jkeenan/testing/perl-5.43.2/lib/site_perl/5.43.2/Sub/Quote.pm line 64.
t/04file,fh,string.t .................... ok
Possible attempt to escape whitespace in qw() list at /home/jkeenan/testing/perl-5.43.2/lib/site_perl/5.43.2/Sub/Quote.pm line 64.
t/05bgep-re.t ........................... ok
Possible attempt to escape whitespace in qw() list at /home/jkeenan/testing/perl-5.43.2/lib/site_perl/5.43.2/Sub/Quote.pm line 64.
t/06xsv.t ............................... skipped: Missing dependency: Text::RecordParser
Possible attempt to escape whitespace in qw() list at /home/jkeenan/testing/perl-5.43.2/lib/site_perl/5.43.2/Sub/Quote.pm line 64.
t/07p_args.t ............................ ok
Possible attempt to escape whitespace in qw() list at /home/jkeenan/testing/perl-5.43.2/lib/site_perl/5.43.2/Sub/Quote.pm line 64.
t/08postgres-to-mysql.t ................. ok
t/09sqlt-diagram.t ...................... skipped: Missing dependencies: GD, Graph::Directed, GD
Possible attempt to escape whitespace in qw() list at /home/jkeenan/testing/perl-5.43.2/lib/site_perl/5.43.2/Sub/Quote.pm line 64.
t/10excel.t ............................. skipped: Missing dependency: Spreadsheet::ParseExcel
t/11normalize.t ......................... ok
t/12header_comment.t .................... ok
Possible attempt to escape whitespace in qw() list at /home/jkeenan/testing/perl-5.43.2/lib/site_perl/5.43.2/Sub/Quote.pm line 64.
t/13schema.t ............................ ok
Possible attempt to escape whitespace in qw() list at /home/jkeenan/testing/perl-5.43.2/lib/site_perl/5.43.2/Sub/Quote.pm line 64.
t/14postgres-parser.t ................... ok
Possible attempt to escape whitespace in qw() list at /home/jkeenan/testing/perl-5.43.2/lib/site_perl/5.43.2/Sub/Quote.pm line 64.
t/15oracle-parser.t ..................... ok
Possible attempt to escape whitespace in qw() list at /home/jkeenan/testing/perl-5.43.2/lib/site_perl/5.43.2/Sub/Quote.pm line 64.
t/16xml-parser.t ........................ ok
Possible attempt to escape whitespace in qw() list at /home/jkeenan/testing/perl-5.43.2/lib/site_perl/5.43.2/Sub/Quote.pm line 64.
t/17sqlfxml-producer.t .................. ok
Possible attempt to escape whitespace in qw() list at /home/jkeenan/testing/perl-5.43.2/lib/site_perl/5.43.2/Sub/Quote.pm line 64.
t/18ttschema-producer.t ................. ok
Possible attempt to escape whitespace in qw() list at /home/jkeenan/testing/perl-5.43.2/lib/site_perl/5.43.2/Sub/Quote.pm line 64.
t/19sybase-parser.t ..................... ok
Possible attempt to escape whitespace in qw() list at /home/jkeenan/testing/perl-5.43.2/lib/site_perl/5.43.2/Sub/Quote.pm line 64.
t/20format_X_name.t ..................... ok
Possible attempt to escape whitespace in qw() list at /home/jkeenan/testing/perl-5.43.2/lib/site_perl/5.43.2/Sub/Quote.pm line 64.
t/23json.t .............................. ok
Possible attempt to escape whitespace in qw() list at /home/jkeenan/testing/perl-5.43.2/lib/site_perl/5.43.2/Sub/Quote.pm line 64.
t/24yaml.t .............................. ok
t/25storable.t .......................... ok
Possible attempt to escape whitespace in qw() list at /home/jkeenan/testing/perl-5.43.2/lib/site_perl/5.43.2/Sub/Quote.pm line 64.
t/26sybase.t ............................ ok
Possible attempt to escape whitespace in qw() list at /home/jkeenan/testing/perl-5.43.2/lib/site_perl/5.43.2/Sub/Quote.pm line 64.
t/27sqlite-parser.t ..................... ok
Possible attempt to escape whitespace in qw() list at /home/jkeenan/testing/perl-5.43.2/lib/site_perl/5.43.2/Sub/Quote.pm line 64.
t/29html.t .............................. ok
Possible attempt to escape whitespace in qw() list at /home/jkeenan/testing/perl-5.43.2/lib/site_perl/5.43.2/Sub/Quote.pm line 64.
t/30sqlt-new-diff-mysql.t ............... ok
Possible attempt to escape whitespace in qw() list at /home/jkeenan/testing/perl-5.43.2/lib/site_perl/5.43.2/Sub/Quote.pm line 64.
t/30sqlt-new-diff-pgsql.t ............... ok
Possible attempt to escape whitespace in qw() list at /home/jkeenan/testing/perl-5.43.2/lib/site_perl/5.43.2/Sub/Quote.pm line 64.
t/30sqlt-new-diff-sqlite.t .............. ok
Possible attempt to escape whitespace in qw() list at /home/jkeenan/testing/perl-5.43.2/lib/site_perl/5.43.2/Sub/Quote.pm line 64.
t/30sqlt-new-diff.t ..................... ok
Possible attempt to escape whitespace in qw() list at /home/jkeenan/testing/perl-5.43.2/lib/site_perl/5.43.2/Sub/Quote.pm line 64.
t/31dumper.t ............................ ok
Possible attempt to escape whitespace in qw() list at /home/jkeenan/testing/perl-5.43.2/lib/site_perl/5.43.2/Sub/Quote.pm line 64.
t/32schema-lookups.t .................... ok
Possible attempt to escape whitespace in qw() list at /home/jkeenan/testing/perl-5.43.2/lib/site_perl/5.43.2/Sub/Quote.pm line 64.
t/33tt-table-producer.t ................. ok
Possible attempt to escape whitespace in qw() list at /home/jkeenan/testing/perl-5.43.2/lib/site_perl/5.43.2/Sub/Quote.pm line 64.
t/34tt-base.t ........................... ok
Possible attempt to escape whitespace in qw() list at /home/jkeenan/testing/perl-5.43.2/lib/site_perl/5.43.2/Sub/Quote.pm line 64.
t/35-access-parser.t .................... ok
Possible attempt to escape whitespace in qw() list at /home/jkeenan/testing/perl-5.43.2/lib/site_perl/5.43.2/Sub/Quote.pm line 64.
t/36-filters.t .......................... ok
Possible attempt to escape whitespace in qw() list at /home/jkeenan/testing/perl-5.43.2/lib/site_perl/5.43.2/Sub/Quote.pm line 64.
t/38-filter-names.t ..................... ok
Possible attempt to escape whitespace in qw() list at /home/jkeenan/testing/perl-5.43.2/lib/site_perl/5.43.2/Sub/Quote.pm line 64.
t/38-mysql-producer.t ................... ok
Possible attempt to escape whitespace in qw() list at /home/jkeenan/testing/perl-5.43.2/lib/site_perl/5.43.2/Sub/Quote.pm line 64.
t/39-filter-globals.t ................... ok
Possible attempt to escape whitespace in qw() list at /home/jkeenan/testing/perl-5.43.2/lib/site_perl/5.43.2/Sub/Quote.pm line 64.
t/40oracle-parser-dbi.t ................. ok
Possible attempt to escape whitespace in qw() list at /home/jkeenan/testing/perl-5.43.2/lib/site_perl/5.43.2/Sub/Quote.pm line 64.
t/43xml-to-db2.t ........................ ok
Possible attempt to escape whitespace in qw() list at /home/jkeenan/testing/perl-5.43.2/lib/site_perl/5.43.2/Sub/Quote.pm line 64.
t/44-xml-to-db2-array.t ................. ok
Possible attempt to escape whitespace in qw() list at /home/jkeenan/testing/perl-5.43.2/lib/site_perl/5.43.2/Sub/Quote.pm line 64.
t/45db2-producer.t ...................... ok
Possible attempt to escape whitespace in qw() list at /home/jkeenan/testing/perl-5.43.2/lib/site_perl/5.43.2/Sub/Quote.pm line 64.
t/46xml-to-pg.t ......................... ok
Possible attempt to escape whitespace in qw() list at /home/jkeenan/testing/perl-5.43.2/lib/site_perl/5.43.2/Sub/Quote.pm line 64.
t/47postgres-producer.t ................. ok
Possible attempt to escape whitespace in qw() list at /home/jkeenan/testing/perl-5.43.2/lib/site_perl/5.43.2/Sub/Quote.pm line 64.
t/48xml-to-sqlite.t ..................... ok
Possible attempt to escape whitespace in qw() list at /home/jkeenan/testing/perl-5.43.2/lib/site_perl/5.43.2/Sub/Quote.pm line 64.
t/49xml-to-pg-samefield.t ............... ok
Possible attempt to escape whitespace in qw() list at /home/jkeenan/testing/perl-5.43.2/lib/site_perl/5.43.2/Sub/Quote.pm line 64.
t/50-sqlserver-parser.t ................. ok
Possible attempt to escape whitespace in qw() list at /home/jkeenan/testing/perl-5.43.2/lib/site_perl/5.43.2/Sub/Quote.pm line 64.
t/51-xml-to-oracle.t .................... ok
Possible attempt to escape whitespace in qw() list at /home/jkeenan/testing/perl-5.43.2/lib/site_perl/5.43.2/Sub/Quote.pm line 64.
t/51-xml-to-oracle_quoted.t ............. ok
Possible attempt to escape whitespace in qw() list at /home/jkeenan/testing/perl-5.43.2/lib/site_perl/5.43.2/Sub/Quote.pm line 64.
t/52-oracle-options.t ................... ok
Possible attempt to escape whitespace in qw() list at /home/jkeenan/testing/perl-5.43.2/lib/site_perl/5.43.2/Sub/Quote.pm line 64.
t/53-oracle-delay-constraints.t ......... ok
Possible attempt to escape whitespace in qw() list at /home/jkeenan/testing/perl-5.43.2/lib/site_perl/5.43.2/Sub/Quote.pm line 64.
t/53-oracle-delay-constraints_quoted.t .. ok
Possible attempt to escape whitespace in qw() list at /home/jkeenan/testing/perl-5.43.2/lib/site_perl/5.43.2/Sub/Quote.pm line 64.
t/54-oracle-alter-constraint.t .......... ok
Possible attempt to escape whitespace in qw() list at /home/jkeenan/testing/perl-5.43.2/lib/site_perl/5.43.2/Sub/Quote.pm line 64.
t/54-oracle-alter-field.t ............... ok
Possible attempt to escape whitespace in qw() list at /home/jkeenan/testing/perl-5.43.2/lib/site_perl/5.43.2/Sub/Quote.pm line 64.
t/54-oracle-sql-diff.t .................. ok
Possible attempt to escape whitespace in qw() list at /home/jkeenan/testing/perl-5.43.2/lib/site_perl/5.43.2/Sub/Quote.pm line 64.
t/55-oracle-add-drop-field.t ............ ok
Possible attempt to escape whitespace in qw() list at /home/jkeenan/testing/perl-5.43.2/lib/site_perl/5.43.2/Sub/Quote.pm line 64.
t/55-oracle-producer.t .................. ok
Possible attempt to escape whitespace in qw() list at /home/jkeenan/testing/perl-5.43.2/lib/site_perl/5.43.2/Sub/Quote.pm line 64.
t/56-sqlite-producer.t .................. ok
Possible attempt to escape whitespace in qw() list at /home/jkeenan/testing/perl-5.43.2/lib/site_perl/5.43.2/Sub/Quote.pm line 64.
t/57-class-dbi.t ........................ ok
Possible attempt to escape whitespace in qw() list at /home/jkeenan/testing/perl-5.43.2/lib/site_perl/5.43.2/Sub/Quote.pm line 64.
t/60roundtrip.t ......................... ok
Possible attempt to escape whitespace in qw() list at /home/jkeenan/testing/perl-5.43.2/lib/site_perl/5.43.2/Sub/Quote.pm line 64.
t/61translator_agnostic.t ............... ok
Possible attempt to escape whitespace in qw() list at /home/jkeenan/testing/perl-5.43.2/lib/site_perl/5.43.2/Sub/Quote.pm line 64.
t/62roundtrip_datacheck.t ............... ok
Possible attempt to escape whitespace in qw() list at /home/jkeenan/testing/perl-5.43.2/lib/site_perl/5.43.2/Sub/Quote.pm line 64.
t/63-spacial-pgsql.t .................... ok
Possible attempt to escape whitespace in qw() list at /home/jkeenan/testing/perl-5.43.2/lib/site_perl/5.43.2/Sub/Quote.pm line 64.
t/64xml-to-mysql.t ...................... ok
Possible attempt to escape whitespace in qw() list at /home/jkeenan/testing/perl-5.43.2/lib/site_perl/5.43.2/Sub/Quote.pm line 64.
t/66-postgres-dbi-parser.t .............. skipped: Set $ENV{DBICTEST_PG_DSN}, _USER and _PASS to run this test, or install Test::PostgreSQL
t/70sqlt-diff_script.t .................. ok
t/70sqlt-diff_script_old.t .............. ok
Possible attempt to escape whitespace in qw() list at /home/jkeenan/testing/perl-5.43.2/lib/site_perl/5.43.2/Sub/Quote.pm line 64.
t/71-generator-sql_server.t ............. ok
Possible attempt to escape whitespace in qw() list at /home/jkeenan/testing/perl-5.43.2/lib/site_perl/5.43.2/Sub/Quote.pm line 64.
t/72-sqlite-add-drop-fields.t ........... ok
Possible attempt to escape whitespace in qw() list at /home/jkeenan/testing/perl-5.43.2/lib/site_perl/5.43.2/Sub/Quote.pm line 64.
t/73-sqlite-respects-quote.t ............ ok
Possible attempt to escape whitespace in qw() list at /home/jkeenan/testing/perl-5.43.2/lib/site_perl/5.43.2/Sub/Quote.pm line 64.
t/74-filename-arrayref.t ................ ok
Possible attempt to escape whitespace in qw() list at /home/jkeenan/testing/perl-5.43.2/lib/site_perl/5.43.2/Sub/Quote.pm line 64.
t/75-sqlserver-producer.t ............... ok
Possible attempt to escape whitespace in qw() list at /home/jkeenan/testing/perl-5.43.2/lib/site_perl/5.43.2/Sub/Quote.pm line 64.
t/mysql-sqlite-translate.t .............. ok
Possible attempt to escape whitespace in qw() list at /home/jkeenan/testing/perl-5.43.2/lib/site_perl/5.43.2/Sub/Quote.pm line 64.
t/postgresql-rename-table-and-field.t ... skipped: Missing dependency: DBD::Pg
Possible attempt to escape whitespace in qw() list at /home/jkeenan/testing/perl-5.43.2/lib/site_perl/5.43.2/Sub/Quote.pm line 64.
t/sqlite-rename-field.t ................. ok
All tests successful.
Test Summary Report
-------------------
t/60roundtrip.t (Wstat: 0 Tests: 100 Failed: 0)
TODO passed: 92, 94, 98, 100
Files=75, Tests=1991, 29 wallclock secs ( 0.31 usr 0.09 sys + 24.54 cusr 3.53 csys = 28.47 CPU)
Result: PASS
------------------------------
PREREQUISITES
------------------------------
Prerequisite modules loaded:
requires:
Module Need Have
----------------------- -------- --------
Carp::Clan 0 6.08
DBI 1.54 1.647
Digest::SHA 0 6.04
File::ShareDir 1.0 1.118
List::Util 1.33 1.70
Moo 1.000003 2.005005
Package::Variant 1.001001 1.003002
Parse::RecDescent 1.967009 1.967015
perl 5.008001 5.043002
Scalar::Util 0 1.70
Sub::Quote 0 2.006009
Try::Tiny 0.04 0.32
build_requires:
Module Need Have
----------------------- -------- --------
ExtUtils::MakeMaker 0 7.76
JSON::MaybeXS 1.003003 1.004008
Test::Differences 0 0.72
Test::Exception 0.42 0.43
Test::More 0.88 1.302214
Text::ParseWords 0 3.31
XML::Writer 0.500 0.900
YAML 0.66 1.31
configure_requires:
Module Need Have
----------------------- -------- --------
ExtUtils::MakeMaker 6.54 7.76
File::ShareDir::Install 0 0.14
opt_requires:
Module Need Have
----------------------- -------- --------
! GD 0 n/a
! Graph::Directed 0 n/a
! GraphViz 0 n/a
! Spreadsheet::ParseExcel 0.41 n/a
Template 2.20 3.102
! Text::RecordParser 0.02 n/a
XML::LibXML 1.69 2.0210
------------------------------
ENVIRONMENT AND OTHER CONTEXT
------------------------------
Environment variables:
LANG = en_US.UTF-8
LC_ADDRESS = en_US.UTF-8
LC_IDENTIFICATION = en_US.UTF-8
LC_MEASUREMENT = en_US.UTF-8
LC_MONETARY = en_US.UTF-8
LC_NAME = en_US.UTF-8
LC_NUMERIC = en_US.UTF-8
LC_PAPER = en_US.UTF-8
LC_TELEPHONE = en_US.UTF-8
LC_TIME = en_US.UTF-8
NONINTERACTIVE_TESTING = 1
PATH = /home/jkeenan/perl5/perlbrew/bin:/home/jkeenan/perl5/perlbrew/perls/perl-5.40.0/bin:/usr/lib/ccache:/usr/local/bin:/usr/bin:/bin:/usr/local/games:/usr/games:/home/jkeenan/bin:/home/jkeenan/bin/perl:/home/jkeenan/bin/shell
PERL5LIB =
PERL5OPT =
PERL5_CPANPLUS_IS_RUNNING = 1908153
PERL5_CPAN_IS_RUNNING = 1908153
PERLBREW_HOME = /home/jkeenan/.perlbrew
PERLBREW_MANPATH = /home/jkeenan/perl5/perlbrew/perls/perl-5.40.0/man
PERLBREW_PATH = /home/jkeenan/perl5/perlbrew/bin:/home/jkeenan/perl5/perlbrew/perls/perl-5.40.0/bin
PERLBREW_PERL = perl-5.40.0
PERLBREW_ROOT = /home/jkeenan/perl5/perlbrew
PERLBREW_SHELLRC_VERSION = 0.91
PERLBREW_VERSION = 0.96
PERL_MM_USE_DEFAULT = 1
PERL_USE_UNSAFE_INC = 1
PERL_WORKDIR = /home/jkeenan/gitwork/perl
SHELL = /bin/bash
TERM = screen.xterm-256color
Perl special variables (and OS-specific diagnostics, for MSWin32):
$^X = /home/jkeenan/testing/perl-5.43.2/bin/perl
$UID/$EUID = 1000 / 1000
$GID = 1000 27 1000
$EGID = 1000 27 1000
Perl module toolchain versions installed:
Module Have
------------------- --------
CPAN 2.38
CPAN::Meta 2.150010
Cwd 3.94
ExtUtils::CBuilder 0.280242
ExtUtils::Command 7.76
ExtUtils::Install 2.22
ExtUtils::MakeMaker 7.76
ExtUtils::Manifest 1.75
ExtUtils::ParseXS 3.59
File::Spec 3.94
JSON 4.10
JSON::PP 4.16
Module::Build 0.4234
Module::Signature n/a
Parse::CPAN::Meta 2.150010
Test2 1.302214
Test::Harness 3.52
Test::More 1.302214
YAML 1.31
YAML::Syck 1.34
version 0.9933
--
Summary of my perl5 (revision 5 version 43 subversion 2) configuration:
Platform:
osname=linux
osvers=6.1.0-33-amd64
archname=x86_64-linux
uname='linux jk-bookworm 6.1.0-33-amd64 #1 smp preempt_dynamic debian 6.1.133-1 (2025-04-10) x86_64 gnulinux '
config_args='-des -Dusedevel -Dprefix=/home/jkeenan/testing/perl-5.43.2 -Uversiononly -Dman1dir=none -Dman3dir=none'
hint=recommended
useposix=true
d_sigaction=define
useithreads=undef
usemultiplicity=undef
use64bitint=define
use64bitall=define
uselongdouble=undef
usemymalloc=n
default_inc_excludes_dot=define
Compiler:
cc='cc'
ccflags ='-fwrapv -fno-strict-aliasing -pipe -fstack-protector-strong -I/usr/local/include -D_LARGEFILE_SOURCE -D_FILE_OFFSET_BITS=64 -D_FORTIFY_SOURCE=2'
optimize='-O2'
cppflags='-fwrapv -fno-strict-aliasing -pipe -fstack-protector-strong -I/usr/local/include'
ccversion=''
gccversion='12.2.0'
gccosandvers=''
intsize=4
longsize=8
ptrsize=8
doublesize=8
byteorder=12345678
doublekind=3
d_longlong=define
longlongsize=8
d_longdbl=define
longdblsize=16
longdblkind=3
ivtype='long'
ivsize=8
nvtype='double'
nvsize=8
Off_t='off_t'
lseeksize=8
alignbytes=8
prototype=define
Linker and Libraries:
ld='cc'
ldflags =' -fstack-protector-strong -L/usr/local/lib'
libpth=/usr/local/lib /usr/lib/x86_64-linux-gnu /usr/lib /usr/lib64
libs=-lpthread -ldl -lm -lcrypt -lutil -lc
perllibs=-lpthread -ldl -lm -lcrypt -lutil -lc
libc=/lib/x86_64-linux-gnu/libc.so.6
so=so
useshrplib=false
libperl=libperl.a
gnulibc_version='2.36'
Dynamic Linking:
dlsrc=dl_dlopen.xs
dlext=so
d_dlsymun=undef
ccdlflags='-Wl,-E'
cccdlflags='-fPIC'
lddlflags='-shared -O2 -L/usr/local/lib -fstack-protector-strong'
Characteristics of this binary (from libperl):
Compile-time options:
HAS_LONG_DOUBLE
HAS_STRTOLD
HAS_TIMES
PERLIO_LAYERS
PERL_COPY_ON_WRITE
PERL_DONT_CREATE_GVSV
PERL_HASH_FUNC_SIPHASH13
PERL_HASH_USE_SBOX32
PERL_MALLOC_WRAP
PERL_OP_PARENT
PERL_PRESERVE_IVUV
PERL_USE_DEVEL
PERL_USE_SAFE_PUTENV
USE_64_BIT_ALL
USE_64_BIT_INT
USE_LARGE_FILES
USE_LOCALE
USE_LOCALE_COLLATE
USE_LOCALE_CTYPE
USE_LOCALE_NUMERIC
USE_LOCALE_TIME
USE_PERLIO
USE_PERL_ATOF
Built under linux
Compiled at Aug 20 2025 21:01:30
%ENV:
PERL5LIB=""
PERL5OPT=""
PERL5_CPANPLUS_IS_RUNNING="1908153"
PERL5_CPAN_IS_RUNNING="1908153"
PERLBREW_HOME="/home/jkeenan/.perlbrew"
PERLBREW_MANPATH="/home/jkeenan/perl5/perlbrew/perls/perl-5.40.0/man"
PERLBREW_PATH="/home/jkeenan/perl5/perlbrew/bin:/home/jkeenan/perl5/perlbrew/perls/perl-5.40.0/bin"
PERLBREW_PERL="perl-5.40.0"
PERLBREW_ROOT="/home/jkeenan/perl5/perlbrew"
PERLBREW_SHELLRC_VERSION="0.91"
PERLBREW_VERSION="0.96"
PERL_MM_USE_DEFAULT="1"
PERL_USE_UNSAFE_INC="1"
PERL_WORKDIR="/home/jkeenan/gitwork/perl"
@INC:
/home/jkeenan/testing/perl-5.43.2/lib/site_perl/5.43.2/x86_64-linux
/home/jkeenan/testing/perl-5.43.2/lib/site_perl/5.43.2
/home/jkeenan/testing/perl-5.43.2/lib/5.43.2/x86_64-linux
/home/jkeenan/testing/perl-5.43.2/lib/5.43.2
.