Report for Rose-HTML-Objects-0.621

Back
From: metabase:user:314402c4-2aae-11df-837a-5e0a49663a4f
Subject: PASS Rose-HTML-Objects-0.621 v5.16.3 GNU/Linux
Date: 2014-06-01T19:48:48Z

This distribution has been tested as part of the CPAN Testers
project, supporting the Perl programming language.  See
http://wiki.cpantesters.org/ for more information or email
questions to cpan-testers-discuss@perl.org


--
Dear John Siracusa,

This is a computer-generated report for Rose-HTML-Objects-0.621
on perl 5.16.3, created by CPAN-Reporter-1.2011.

Thank you for uploading your work to CPAN.  Congratulations!
All tests were successful.

Sections of this report:

    * Tester comments
    * Program output
    * Prerequisites
    * Environment and other context

------------------------------
TESTER COMMENTS
------------------------------

Additional comments from tester:

none provided

------------------------------
PROGRAM OUTPUT
------------------------------

Output from '/usr/bin/make test':

PERL_DL_NONLAZY=1 /bbbike/perl-5.16.3/bin/perl "-MExtUtils::Command::MM" "-MTest::Harness" "-e" "undef *Test::Harness::Switches; test_harness(0, 'blib/lib', 'blib/arch')" t/*.t
t/anchor.t ........................ ok
t/attachments.t ................... skipped: disabled
t/form-field-checkbox-group.t ..... ok
t/form-field-checkbox.t ........... ok
t/form-field-compound.t ........... ok
t/form-field-datetime-split.t ..... ok
t/form-field-datetime.t ........... ok
Too late to run INIT block at /opt/perl-5.16.3/lib/site_perl/5.16.3/x86_64-linux/Net/DNS.pm line 213.
t/form-field-email.t .............. ok
t/form-field-file.t ............... ok
t/form-field-hidden.t ............. ok
t/form-field-integer.t ............ ok
t/form-field-l10n.t ............... ok
t/form-field-numeric.t ............ ok
t/form-field-option.t ............. ok
t/form-field-optiongroup.t ........ ok
t/form-field-password.t ........... ok
t/form-field-phone.t .............. ok
t/form-field-popup-menu.t ......... ok
t/form-field-radio-group.t ........ ok
t/form-field-radiobutton.t ........ ok
t/form-field-reset.t .............. ok
t/form-field-selectbox.t .......... ok
t/form-field-set.t ................ ok
t/form-field-submit.t ............. ok
t/form-field-text.t ............... ok
t/form-field-textarea.t ........... ok
t/form-field-time-split.t ......... ok
t/form-field-time.t ............... ok
t/form-field.t .................... ok
t/form-l10n.t ..................... ok
t/form-nested.t ................... ok
Too late to run INIT block at /opt/perl-5.16.3/lib/site_perl/5.16.3/x86_64-linux/Net/DNS.pm line 213.
t/form-repeatable.t ............... ok
t/form.t .......................... ok
t/image.t ......................... ok
t/l10n-errors-01.t ................ ok
t/l10n-message.t .................. ok
t/l10n-messages-01.t .............. ok
t/label.t ......................... ok
t/leaks.t ......................... ok
t/link.t .......................... ok
t/localizer-auto-load-messages.t .. ok
t/mro-c3.t ........................ ok
t/object-l10n.t ................... ok
t/object-localizer.t .............. ok
t/object-message.t ................ ok
t/object.t ........................ ok
t/pod.t ........................... ok
Too late to run INIT block at /opt/perl-5.16.3/lib/site_perl/5.16.3/x86_64-linux/Net/DNS.pm line 213, <DATA> line 20459.
t/private-library.t ............... ok
t/script.t ........................ ok
t/text.t .......................... ok
All tests successful.
Files=50, Tests=2429,  8 wallclock secs ( 0.30 usr  0.19 sys +  5.13 cusr  1.01 csys =  6.63 CPU)
Result: PASS

------------------------------
PREREQUISITES
------------------------------

Prerequisite modules loaded:

requires:

    Module              Need     Have    
    ------------------- -------- --------
    base                2.18     2.18    
    Carp                0        1.3301  
    Clone::PP           0        1.05    
    DateTime            0.20     1.10    
    Email::Valid        0        1.193   
    Encode              0        2.60    
    File::Basename      0        2.84    
    File::Path          0        2.09    
    File::Spec          0        3.47    
    HTML::Entities      0        3.69    
    Image::Size         0        3.232   
    IO::String          1.08     1.08    
    List::MoreUtils     0        0.33    
    perl                5.006000 5.016003
    Rose::DateTime      0.532    0.540   
    Rose::Object        0.854    0.860   
    Rose::URI           0.021    1.00    
    Scalar::Util        0        1.38    
    URI::Escape         0        3.31    

build_requires:

    Module              Need     Have    
    ------------------- -------- --------
    ExtUtils::MakeMaker 0        6.98    

configure_requires:

    Module              Need     Have    
    ------------------- -------- --------
    ExtUtils::MakeMaker 0        6.98    


------------------------------
ENVIRONMENT AND OTHER CONTEXT
------------------------------

Environment variables:

    DBIC_NO_WARN_BAD_PERL = 1
    LANG = C
    PATH = /usr/local/bin:/usr/bin:/bin:/usr/local/sbin:/usr/sbin:/sbin:/home/eserte/bin/linux-gnu:/home/eserte/bin/sh:/home/eserte/bin:/usr/games:/home/eserte/devel:/home/eserte/src/srezic-misc/scripts
    PERL5LIB = 
    PERL5OPT = 
    PERL5_CPANPLUS_IS_RUNNING = 9987
    PERL5_CPAN_IS_RUNNING = 9987
    PERL5_CPAN_IS_RUNNING_IN_RECURSION = 8656,9987
    PERLDOC = -MPod::Perldoc::ToTextOverstrike
    PERL_BATCH = yes
    PERL_CPAN_REPORTER_CONFIG = /var/tmp/cpansmoker-1001/MkgIYe4zyx_config.ini
    PERL_EXTUTILS_AUTOINSTALL = --defaultdeps
    PERL_HTML_DISPLAY_CLASS = HTML::Display::Mozilla
    SHELL = /bin/zsh
    TERM = screen
    TMPDIR = /var/tmp/cpansmoker-1001

Perl special variables (and OS-specific diagnostics, for MSWin32):

    $^X = /bbbike/perl-5.16.3/bin/perl
    $UID/$EUID = 1001 / 1001
    $GID = 1001 109 1001
    $EGID = 1001 109 1001

Perl module toolchain versions installed:

    Module              Have    
    ------------------- --------
    CPAN                1.9800  
    CPAN::Meta          2.141170
    Cwd                 3.47    
    ExtUtils::CBuilder  0.280206
    ExtUtils::Command   1.17    
    ExtUtils::Install   1.58    
    ExtUtils::MakeMaker 6.98    
    ExtUtils::Manifest  1.61    
    ExtUtils::ParseXS   3.24    
    File::Spec          3.47    
    JSON                2.90    
    JSON::PP            2.27203 
    Module::Build       0.4205  
    Module::Signature   0.73    
    Parse::CPAN::Meta   1.4414  
    Test::Harness       3.30    
    Test::More          1.001003
    YAML                0.91    
    YAML::Syck          1.27    
    version             0.9908  


--

Summary of my perl5 (revision 5 version 16 subversion 3) configuration:
   
  Platform:
    osname=linux, osvers=3.2.0-4-amd64, archname=x86_64-linux
    uname='linux eserte 3.2.0-4-amd64 #1 smp debian 3.2.57-3 x86_64 gnulinux '
    config_args='-ds -e -Dprefix=/opt/perl-5.16.3'
    hint=recommended, useposix=true, d_sigaction=define
    useithreads=undef, usemultiplicity=undef
    useperlio=define, d_sfio=undef, uselargefiles=define, usesocks=undef
    use64bitint=define, use64bitall=define, uselongdouble=undef
    usemymalloc=n, bincompat5005=undef
  Compiler:
    cc='cc', ccflags ='-fno-strict-aliasing -pipe -fstack-protector -I/usr/local/include -D_LARGEFILE_SOURCE -D_FILE_OFFSET_BITS=64',
    optimize='-O2',
    cppflags='-fno-strict-aliasing -pipe -fstack-protector -I/usr/local/include'
    ccversion='', gccversion='4.7.2', gccosandvers=''
    intsize=4, longsize=8, ptrsize=8, doublesize=8, byteorder=12345678
    d_longlong=define, longlongsize=8, d_longdbl=define, longdblsize=16
    ivtype='long', ivsize=8, nvtype='double', nvsize=8, Off_t='off_t', lseeksize=8
    alignbytes=8, prototype=define
  Linker and Libraries:
    ld='cc', ldflags =' -fstack-protector -L/usr/local/lib'
    libpth=/usr/local/lib /lib/x86_64-linux-gnu /lib/../lib /usr/lib/x86_64-linux-gnu /usr/lib/../lib /lib /usr/lib
    libs=-lnsl -ldb -ldl -lm -lcrypt -lutil -lc
    perllibs=-lnsl -ldl -lm -lcrypt -lutil -lc
    libc=, so=so, useshrplib=false, libperl=libperl.a
    gnulibc_version='2.13'
  Dynamic Linking:
    dlsrc=dl_dlopen.xs, dlext=so, d_dlsymun=undef, ccdlflags='-Wl,-E'
    cccdlflags='-fPIC', lddlflags='-shared -O2 -L/usr/local/lib -fstack-protector'


Characteristics of this binary (from libperl): 
  Compile-time options: HAS_TIMES PERLIO_LAYERS PERL_DONT_CREATE_GVSV
                        PERL_MALLOC_WRAP PERL_PRESERVE_IVUV USE_64_BIT_ALL
                        USE_64_BIT_INT USE_LARGE_FILES USE_LOCALE
                        USE_LOCALE_COLLATE USE_LOCALE_CTYPE
                        USE_LOCALE_NUMERIC USE_PERLIO USE_PERL_ATOF
  Built under linux
  Compiled at May 15 2014 11:12:25
  %ENV:
    PERL5LIB=""
    PERL5OPT=""
    PERL5_CPANPLUS_IS_RUNNING="9987"
    PERL5_CPAN_IS_RUNNING="9987"
    PERL5_CPAN_IS_RUNNING_IN_RECURSION="8656,9987"
    PERLDOC="-MPod::Perldoc::ToTextOverstrike"
    PERL_BATCH="yes"
    PERL_CPAN_REPORTER_CONFIG="/var/tmp/cpansmoker-1001/MkgIYe4zyx_config.ini"
    PERL_EXTUTILS_AUTOINSTALL="--defaultdeps"
    PERL_HTML_DISPLAY_CLASS="HTML::Display::Mozilla"
  @INC:
    /opt/perl-5.16.3/lib/site_perl/5.16.3/x86_64-linux
    /opt/perl-5.16.3/lib/site_perl/5.16.3
    /opt/perl-5.16.3/lib/5.16.3/x86_64-linux
    /opt/perl-5.16.3/lib/5.16.3
    .