Syntax-Construct v1.040 Perl 5 v5.20.2 amd64-freebsd-thread-multi
- Status
- Pass
- From
- Chris Williams (BINGOS)
- Dist
-
Syntax-Construct v1.040
- Platform
- Perl 5 v5.20.2 amd64-freebsd-thread-multi
- Date
- 2025-04-22 14:11:56
- ID
- bf8ba2fa-1f83-11f0-98b0-b3c3213a625c
This distribution has been tested as part of the CPAN Testers
project, supporting the Perl programming language. See
http://wiki.cpantesters.org/ for more information or email
questions to cpan-testers-discuss@perl.org
--
Dear E. Choroba,
This is a computer-generated error report created automatically by
CPANPLUS, version 0.9914. Testers personal comments may appear
at the end of this report.
Thank you for uploading your work to CPAN. Congratulations!
All tests were successful.
TEST RESULTS:
Below is the error stack from stage 'make test':
PERL_DL_NONLAZY=1 "/home/cpan/pit/thr/perl-5.20.2/bin/perl" "-MExtUtils::Command::MM" "-MTest::Harness" "-e" "undef *Test::Harness::Switches; test_harness(0, 'blib/lib', 'blib/arch')" t/*.t
# Testing Syntax::Construct 1.040, Perl 5.020002, /home/cpan/pit/thr/perl-5.20.2/bin/perl
t/00-load.t ........ ok
t/01-invalid.t ..... ok
Use of my $_ is experimental at (eval 40) line 1.
push on reference is experimental at (eval 52) line 1.
keys on reference is experimental at (eval 52) line 1.
keys on reference is experimental at (eval 52) line 1.
Use of bare << to mean <<"" is deprecated at (eval 70) line 1.
Possible unintended interpolation of @APTURE in string at (eval 75) line 1.
Invalid conversion in sprintf: "%.*2$" at (eval 90) line 1.
Use of bare << to mean <<"" is deprecated at (eval 113) line 1.
Bareword found where operator expected at (eval 127) line 1, near "0xFFp"
(Missing operator before p?)
Wide character in regexp compilation at (eval 134) line 1.
Escape literal pattern white space under /x in regex; marked by <-- HERE in m/a ÃÂ
<-- HERE âÂÂâÂÂâ¨â©b/ at (eval 134) line 1.
Wide character in regexp compilation at (eval 134) line 1.
Escape literal pattern white space under /x in regex; marked by <-- HERE in m/a ÃÂ
â <-- HERE âÂÂâ¨â©b/ at (eval 134) line 1.
Wide character in regexp compilation at (eval 134) line 1.
Escape literal pattern white space under /x in regex; marked by <-- HERE in m/a ÃÂ
âÂÂâ <-- HERE â¨â©b/ at (eval 134) line 1.
Wide character in regexp compilation at (eval 134) line 1.
Escape literal pattern white space under /x in regex; marked by <-- HERE in m/a ÃÂ
âÂÂâÂÂ⨠<-- HERE â©b/ at (eval 134) line 1.
Wide character in regexp compilation at (eval 134) line 1.
Escape literal pattern white space under /x in regex; marked by <-- HERE in m/a ÃÂ
âÂÂâÂÂâ¨â© <-- HERE b/ at (eval 134) line 1.
Bareword found where operator expected at (eval 175) line 1, near "0o12"
(Missing operator before o12?)
Illegal hexadecimal digit ' ' ignored at (eval 177) line 1.
The signatures feature is experimental at (eval 186) line 1.
Variable "$x" is not imported at (eval 186) line 1.
Use of uninitialized value $x in regexp compilation at (eval 190) line 1.
Use of uninitialized value $^LAST_SUCCESSFUL_PATTERN in regexp compilation at (eval 194) line 1.
t/02-constructs.t .. ok
t/03-hooks.t ....... ok
Use of ?PATTERN? without explicit operator is deprecated at (eval 7) line 1.
Useless use of split in void context at (eval 11) line 1.
Array @arr missing the @ in argument 1 of push() at (eval 12) line 1.
t/04-extra.t ....... ok
t/05-functions.t ... ok
t/06-alias.t ....... ok
All tests successful.
Files=7, Tests=159, 1 wallclock secs ( 0.09 usr 0.02 sys + 0.90 cusr 0.26 csys = 1.27 CPU)
Result: PASS
PREREQUISITES:
Here is a list of prerequisites you specified and versions we
managed to load:
Module Name Have Want
ExtUtils::MakeMaker 7.70 0
File::Spec 3.75 0
FindBin 1.51 0
POSIX 1.38_03 0
Test::More 1.302199 0
locale 1.03 0
Perl module toolchain versions installed:
Module Name Have
CPANPLUS 0.9914
CPANPLUS::Dist::Build 0.90
Cwd 3.75
ExtUtils::CBuilder 0.280236
ExtUtils::Command 7.70
ExtUtils::Install 2.22
ExtUtils::MakeMaker 7.70
ExtUtils::Manifest 1.75
ExtUtils::ParseXS 3.51
File::Spec 3.75
Module::Build 0.4234
Pod::Parser 1.62
Pod::Simple 3.28
Test2 1.302199
Test::Harness 3.48
Test::More 1.302199
version 0.9932
******************************** NOTE ********************************
The comments above are created mechanically, possibly without manual
checking by the sender. As there are many people performing automatic
tests on each upload to CPAN, it is likely that you will receive
identical messages about the same problem.
If you believe that the message is mistaken, please reply to the first
one with correction and/or additional informations, and do not take
it personally. We appreciate your patience. :)
**********************************************************************
Additional comments:
This report was machine-generated by CPANPLUS::Dist::YACSmoke 1.08.
Powered by minismokebox version 0.68
CPANPLUS is prefering Build.PL
------------------------------
ENVIRONMENT AND OTHER CONTEXT
------------------------------
Environment variables:
AUTOMATED_TESTING = 1
LANG = C.UTF-8
NONINTERACTIVE_TESTING = 1
PATH = /sbin:/bin:/usr/sbin:/usr/bin:/usr/local/sbin:/usr/local/bin:/home/cpan/bin
PERL5LIB = /home/cpan/pit/jail/LGf0xw674z/lib/perl5:/home/cpan/pit/thr/conf/perl-5.20.2/.cpanplus/5.20.2/build/bItGjsAEBD/Syntax-Construct-1.040/blib/lib:/home/cpan/pit/thr/conf/perl-5.20.2/.cpanplus/5.20.2/build/bItGjsAEBD/Syntax-Construct-1.040/blib/arch
PERL5_CPANPLUS_IS_RUNNING = 79220
PERL5_CPANPLUS_IS_VERSION = 0.9914
PERL5_MINISMOKEBOX = 0.68
PERL5_YACSMOKE_BASE = /home/cpan/pit/thr/conf/perl-5.20.2
PERL_EXTUTILS_AUTOINSTALL = --defaultdeps
PERL_LOCAL_LIB_ROOT = /home/cpan/pit/jail/LGf0xw674z
PERL_MB_OPT = --install_base "/home/cpan/pit/jail/LGf0xw674z"
PERL_MM_OPT = INSTALL_BASE=/home/cpan/pit/jail/LGf0xw674z
PERL_MM_USE_DEFAULT = 1
PERL_USE_UNSAFE_INC = 1
SHELL = /usr/local/bin/bash
TERM = screen
Perl special variables (and OS-specific diagnostics, for MSWin32):
Perl: $^X = /home/cpan/pit/thr/perl-5.20.2/bin/perl
UID: $< = 1002
EUID: $> = 1002
GID: $( = 1002 1002
EGID: $) = 1002 1002
-------------------------------
--
Summary of my perl5 (revision 5 version 20 subversion 2) configuration:
Platform:
osname=freebsd, osvers=14.1-release, archname=amd64-freebsd-thread-multi
uname='freebsd flitter 14.1-release freebsd 14.1-release releng14.1-n267679-10e31f0946d8 generic amd64 '
config_args='-des -Dprefix=/home/cpan/pit/thr/perl-5.20.2 -Dusethreads'
hint=recommended, useposix=true, d_sigaction=define
useithreads=define, usemultiplicity=define
use64bitint=define, use64bitall=define, uselongdouble=undef
usemymalloc=n, bincompat5005=undef
Compiler:
cc='cc', ccflags ='-DHAS_FPSETMASK -DHAS_FLOATINGPOINT_H -DNO_POSIX_2008_LOCALE -fno-strict-aliasing -pipe -fstack-protector -I/usr/local/include',
optimize='-O2',
cppflags='-DHAS_FPSETMASK -DHAS_FLOATINGPOINT_H -DNO_POSIX_2008_LOCALE -fno-strict-aliasing -pipe -fstack-protector -I/usr/local/include'
ccversion='', gccversion='FreeBSD Clang 18.1.5 (https://github.com/llvm/llvm-project.git llvmorg-18.1.5-0-g617a15a9eac9)', gccosandvers=''
intsize=4, longsize=8, ptrsize=8, doublesize=8, byteorder=12345678
d_longlong=define, longlongsize=8, d_longdbl=define, longdblsize=16
ivtype='long', ivsize=8, nvtype='double', nvsize=8, Off_t='off_t', lseeksize=8
alignbytes=8, prototype=define
Linker and Libraries:
ld='cc', ldflags ='-pthread -Wl,-E -fstack-protector -L/usr/local/lib'
libpth=/usr/lib /usr/local/lib /usr/lib/clang/18/lib /usr/lib
libs=-lgdbm -ldl -lm -lcrypt -lutil
perllibs=-ldl -lm -lcrypt -lutil
libc=, so=so, useshrplib=false, libperl=libperl.a
gnulibc_version=''
Dynamic Linking:
dlsrc=dl_dlopen.xs, dlext=so, d_dlsymun=undef, ccdlflags=' '
cccdlflags='-DPIC -fPIC', lddlflags='-shared -L/usr/local/lib -fstack-protector'
Characteristics of this binary (from libperl):
Compile-time options: HAS_TIMES MULTIPLICITY PERLIO_LAYERS
PERL_DONT_CREATE_GVSV
PERL_HASH_FUNC_ONE_AT_A_TIME_HARD
PERL_IMPLICIT_CONTEXT PERL_MALLOC_WRAP
PERL_NEW_COPY_ON_WRITE PERL_PRESERVE_IVUV
USE_64_BIT_ALL USE_64_BIT_INT USE_ITHREADS
USE_LARGE_FILES USE_LOCALE USE_LOCALE_COLLATE
USE_LOCALE_CTYPE USE_LOCALE_NUMERIC USE_PERLIO
USE_PERL_ATOF USE_REENTRANT_API
Locally applied patches:
Devel::PatchPerl 2.09
Built under freebsd
Compiled at Jun 16 2024 22:17:31
%ENV:
PERL5LIB="/home/cpan/pit/jail/LGf0xw674z/lib/perl5:/home/cpan/pit/thr/conf/perl-5.20.2/.cpanplus/5.20.2/build/bItGjsAEBD/Syntax-Construct-1.040/blib/lib:/home/cpan/pit/thr/conf/perl-5.20.2/.cpanplus/5.20.2/build/bItGjsAEBD/Syntax-Construct-1.040/blib/arch"
PERL5_CPANPLUS_IS_RUNNING="79220"
PERL5_CPANPLUS_IS_VERSION="0.9914"
PERL5_MINISMOKEBOX="0.68"
PERL5_YACSMOKE_BASE="/home/cpan/pit/thr/conf/perl-5.20.2"
PERL_EXTUTILS_AUTOINSTALL="--defaultdeps"
PERL_LOCAL_LIB_ROOT="/home/cpan/pit/jail/LGf0xw674z"
PERL_MB_OPT="--install_base "/home/cpan/pit/jail/LGf0xw674z""
PERL_MM_OPT="INSTALL_BASE=/home/cpan/pit/jail/LGf0xw674z"
PERL_MM_USE_DEFAULT="1"
PERL_USE_UNSAFE_INC="1"
@INC:
/home/cpan/pit/jail/LGf0xw674z/lib/perl5/5.20.2/amd64-freebsd-thread-multi
/home/cpan/pit/jail/LGf0xw674z/lib/perl5/5.20.2
/home/cpan/pit/jail/LGf0xw674z/lib/perl5/amd64-freebsd-thread-multi
/home/cpan/pit/jail/LGf0xw674z/lib/perl5
/home/cpan/pit/thr/conf/perl-5.20.2/.cpanplus/5.20.2/build/bItGjsAEBD/Syntax-Construct-1.040/blib/lib
/home/cpan/pit/thr/conf/perl-5.20.2/.cpanplus/5.20.2/build/bItGjsAEBD/Syntax-Construct-1.040/blib/arch
/home/cpan/pit/thr/perl-5.20.2/lib/site_perl/5.20.2/amd64-freebsd-thread-multi
/home/cpan/pit/thr/perl-5.20.2/lib/site_perl/5.20.2
/home/cpan/pit/thr/perl-5.20.2/lib/5.20.2/amd64-freebsd-thread-multi
/home/cpan/pit/thr/perl-5.20.2/lib/5.20.2
.