Back
From: metabase:user:30f0bd62-2aae-11df-837a-5e0a49663a4f
Subject: PASS Errno-AnyString-1.03 v5.15.5 OpenBSD
Date: 2011-12-03T18:36:43Z
This distribution has been tested as part of the CPAN Testers
project, supporting the Perl programming language. See
http://wiki.cpantesters.org/ for more information or email
questions to cpan-testers-discuss@perl.org
--
Dear David Taylor,
This is a computer-generated report for Errno-AnyString-1.03
on perl 5.15.5, created by CPAN-Reporter-1.2002.
Thank you for uploading your work to CPAN. Congratulations!
All tests were successful.
Sections of this report:
* Tester comments
* Program output
* Prerequisites
* Environment and other context
------------------------------
TESTER COMMENTS
------------------------------
Additional comments from tester:
this report is from an automated smoke testing program
and was not reviewed by a human for accuracy
------------------------------
PROGRAM OUTPUT
------------------------------
Output from './Build test':
t/af-Fatal-after-local.t .............. ok
t/af-Fatal-after-taint-local.t ........ ok
t/af-Fatal-after-taint.t .............. ok
t/af-Fatal-after.t .................... ok
t/af-Fatal-before-local.t ............. ok
t/af-Fatal-before-taint-local.t ....... ok
t/af-Fatal-before-taint.t ............. ok
t/af-Fatal-before.t ................... ok
t/af-autodie-after-local.t ............ ok
t/af-autodie-after-taint-local.t ...... ok
t/af-autodie-after-taint.t ............ ok
t/af-autodie-after.t .................. ok
t/af-autodie-before-local.t ........... ok
t/af-autodie-before-taint-local.t ..... ok
t/af-autodie-before-taint.t ........... ok
t/af-autodie-before.t ................. ok
t/basic-local.t ....................... ok
t/basic-taint-local.t ................. ok
t/basic-taint.t ....................... ok
t/basic.t ............................. ok
t/in-pm-files-evaluse-local.t ......... ok
t/in-pm-files-evaluse-taint-local.t ... ok
t/in-pm-files-evaluse-taint.t ......... ok
t/in-pm-files-evaluse.t ............... ok
t/in-pm-files-implicit-local.t ........ ok
t/in-pm-files-implicit-taint-local.t .. ok
t/in-pm-files-implicit-taint.t ........ ok
t/in-pm-files-implicit.t .............. ok
t/in-pm-files-none-local.t ............ ok
t/in-pm-files-none-taint-local.t ...... ok
t/in-pm-files-none-taint.t ............ ok
t/in-pm-files-none.t .................. ok
t/in-pm-files-use-local.t ............. ok
t/in-pm-files-use-taint-local.t ....... ok
t/in-pm-files-use-taint.t ............. ok
t/in-pm-files-use.t ................... ok
t/interop-geterrno-taint.t ............ ok
t/interop-geterrno.t .................. ok
t/register-local.t .................... ok
t/register-taint-local.t .............. ok
t/register-taint.t .................... ok
t/register.t .......................... ok
t/taint-local.t ....................... ok
t/taint.t ............................. ok
t/threads-taint.t ..................... ok
t/threads.t ........................... ok
t/with-mockbdb-after-local.t .......... skipped: Inline::C missing or failed
t/with-mockbdb-after.t ................ skipped: Inline::C missing or failed
t/with-mockbdb-before-local.t ......... skipped: Inline::C missing or failed
t/with-mockbdb-before.t ............... skipped: Inline::C missing or failed
t/with-vm-after-taint.t ............... skipped: Variable::Magic required
t/with-vm-after.t ..................... skipped: Variable::Magic required
t/with-vm-before-taint.t .............. skipped: Variable::Magic required
t/with-vm-before.t .................... skipped: Variable::Magic required
t/zcompat-local.t ..................... ok
t/zcompat-taint-local.t ............... ok
t/zcompat-taint.t ..................... ok
t/zcompat.t ........................... ok
All tests successful.
Files=58, Tests=31988, 22 wallclock secs ( 5.18 usr 0.46 sys + 13.35 cusr 4.78 csys = 23.77 CPU)
Result: PASS
------------------------------
PREREQUISITES
------------------------------
Prerequisite modules loaded:
requires:
Module Need Have
------------------ ----- --------
Carp 0 1.23
Exporter 0 5.65
perl 5.006 5.015005
Scalar::Util 0 1.23
build_requires:
Module Need Have
------------------ ----- --------
Config 0 0
English 0 1.04
Errno 0 1.15
ExtUtils::CBuilder 0 0.280204
File::Slurp 0 9999.19
Module::Build 0 0.39_01
Scalar::Util 0 1.23
Test::Exception 0 0.31
Test::More 0 0.98
Test::NoWarnings 0 1.03
Test::Taint 0 1.04
------------------------------
ENVIRONMENT AND OTHER CONTEXT
------------------------------
Environment variables:
AUTOMATED_TESTING = 1
PATH = /home/sts/bin:/bin:/sbin:/usr/bin:/usr/sbin:/usr/X11R6/bin:/usr/local/bin:/usr/local/sbin:/usr/games:.
PERL5LIB = /home/sts/cpansmoke/perl-5.15.5/cpan/build/File-Slurp-9999.19-OFxSZ7/blib/arch:/home/sts/cpansmoke/perl-5.15.5/cpan/build/File-Slurp-9999.19-OFxSZ7/blib/lib:/home/sts/cpansmoke/perl-5.15.5/cpan/build/Test-NoWarnings-1.03-KVaDLD/blib/arch:/home/sts/cpansmoke/perl-5.15.5/cpan/build/Test-NoWarnings-1.03-KVaDLD/blib/lib:/home/sts/cpansmoke/perl-5.15.5/cpan/build/Test-Tester-0.107-txveK9/blib/arch:/home/sts/cpansmoke/perl-5.15.5/cpan/build/Test-Tester-0.107-txveK9/blib/lib:/home/sts/cpansmoke/perl-5.15.5/cpan/build/Test-Taint-1.04-gaCgjB/blib/arch:/home/sts/cpansmoke/perl-5.15.5/cpan/build/Test-Taint-1.04-gaCgjB/blib/lib:/home/sts/cpansmoke/perl-5.15.5/cpan/build/Test-Exception-0.31-c7Pk2V/blib/arch:/home/sts/cpansmoke/perl-5.15.5/cpan/build/Test-Exception-0.31-c7Pk2V/blib/lib:/home/sts/cpansmoke/perl-5.15.5/cpan/build/Sub-Uplevel-0.22-_isdgq/blib/arch:/home/sts/cpansmoke/perl-5.15.5/cpan/build/Sub-Uplevel-0.22-_isdgq/blib/lib
PERL5OPT =
PERL5_CPANPLUS_IS_RUNNING = 11938
PERL5_CPAN_IS_RUNNING = 11938
PERL5_CPAN_IS_RUNNING_IN_RECURSION = 20773,11938
PERL_CR_SMOKER_CURRENT = Errno-AnyString-1.03
PERL_EXTUTILS_AUTOINSTALL = --defaultdeps
PERL_MM_USE_DEFAULT = 1
SHELL = /usr/local/bin/bash
TERM = screen
TMPDIR = /home/sts/cpansmoke/tmp
Perl special variables (and OS-specific diagnostics, for MSWin32):
$^X = /home/sts/cpansmoke/perl-5.15.5/bin/perl5.15.5
$UID/$EUID = 1000 / 1000
$GID = 10 10 0
$EGID = 10 10 0
Perl module toolchain versions installed:
Module Have
------------------- --------
CPAN 1.9800
CPAN::Meta 2.112621
Cwd 3.37
ExtUtils::CBuilder 0.280204
ExtUtils::Command 1.17
ExtUtils::Install 1.57
ExtUtils::MakeMaker 6.63_02
ExtUtils::Manifest 1.60
ExtUtils::ParseXS 3.05
File::Spec 3.34
JSON n/a
JSON::PP 2.27200
Module::Build 0.39_01
Module::Signature n/a
Parse::CPAN::Meta 1.4401
Test::Harness 3.23
Test::More 0.98
YAML n/a
YAML::Syck n/a
version 0.93
--
Summary of my perl5 (revision 5 version 15 subversion 5) configuration:
Platform:
osname=openbsd, osvers=5.0, archname=OpenBSD.i386-openbsd-thread-multi
uname='openbsd cpansmoke3 5.0 generic.mp#59 i386 '
config_args='-des -Dusedevel -Dusethreads -Dprefix=/home/sts/cpansmoke/perl-5.15.5'
hint=recommended, useposix=true, d_sigaction=define
useithreads=define, usemultiplicity=define
useperlio=define, d_sfio=undef, uselargefiles=define, usesocks=undef
use64bitint=undef, use64bitall=undef, uselongdouble=undef
usemymalloc=y, bincompat5005=undef
Compiler:
cc='cc', ccflags ='-pthread -fno-strict-aliasing -pipe -fstack-protector -I/usr/local/include',
optimize='-O2',
cppflags='-pthread -fno-strict-aliasing -pipe -fstack-protector -I/usr/local/include'
ccversion='', gccversion='4.2.1 20070719 ', gccosandvers='openbsd5.0'
intsize=4, longsize=4, ptrsize=4, doublesize=8, byteorder=1234
d_longlong=define, longlongsize=8, d_longdbl=define, longdblsize=12
ivtype='long', ivsize=4, nvtype='double', nvsize=8, Off_t='off_t', lseeksize=8
alignbytes=4, prototype=define
Linker and Libraries:
ld='cc', ldflags ='-pthread -Wl,-E -fstack-protector -L/usr/local/lib'
libpth=/usr/local/lib /usr/lib
libs=-lgdbm -lm -lutil -lc
perllibs=-lm -lutil -lc
libc=/usr/lib/libc.so.60.1, so=so, useshrplib=false, libperl=libperl.a
gnulibc_version=''
Dynamic Linking:
dlsrc=dl_dlopen.xs, dlext=so, d_dlsymun=undef, ccdlflags=' '
cccdlflags='-DPIC -fPIC ', lddlflags='-shared -fPIC -L/usr/local/lib -fstack-protector'
Characteristics of this binary (from libperl):
Compile-time options: HAS_TIMES MULTIPLICITY MYMALLOC PERLIO_LAYERS
PERL_DONT_CREATE_GVSV PERL_IMPLICIT_CONTEXT
PERL_MALLOC_WRAP PERL_PRESERVE_IVUV PERL_USE_DEVEL
USE_ITHREADS USE_LARGE_FILES USE_LOCALE
USE_LOCALE_COLLATE USE_LOCALE_CTYPE
USE_LOCALE_NUMERIC USE_PERLIO USE_PERL_ATOF
USE_REENTRANT_API
Built under openbsd
Compiled at Nov 20 2011 22:32:20
%ENV:
PERL5LIB="/home/sts/cpansmoke/perl-5.15.5/cpan/build/File-Slurp-9999.19-OFxSZ7/blib/arch:/home/sts/cpansmoke/perl-5.15.5/cpan/build/File-Slurp-9999.19-OFxSZ7/blib/lib:/home/sts/cpansmoke/perl-5.15.5/cpan/build/Test-NoWarnings-1.03-KVaDLD/blib/arch:/home/sts/cpansmoke/perl-5.15.5/cpan/build/Test-NoWarnings-1.03-KVaDLD/blib/lib:/home/sts/cpansmoke/perl-5.15.5/cpan/build/Test-Tester-0.107-txveK9/blib/arch:/home/sts/cpansmoke/perl-5.15.5/cpan/build/Test-Tester-0.107-txveK9/blib/lib:/home/sts/cpansmoke/perl-5.15.5/cpan/build/Test-Taint-1.04-gaCgjB/blib/arch:/home/sts/cpansmoke/perl-5.15.5/cpan/build/Test-Taint-1.04-gaCgjB/blib/lib:/home/sts/cpansmoke/perl-5.15.5/cpan/build/Test-Exception-0.31-c7Pk2V/blib/arch:/home/sts/cpansmoke/perl-5.15.5/cpan/build/Test-Exception-0.31-c7Pk2V/blib/lib:/home/sts/cpansmoke/perl-5.15.5/cpan/build/Sub-Uplevel-0.22-_isdgq/blib/arch:/home/sts/cpansmoke/perl-5.15.5/cpan/build/Sub-Uplevel-0.22-_isdgq/blib/lib"
PERL5OPT=""
PERL5_CPANPLUS_IS_RUNNING="11938"
PERL5_CPAN_IS_RUNNING="11938"
PERL5_CPAN_IS_RUNNING_IN_RECURSION="20773,11938"
PERL_CR_SMOKER_CURRENT="Errno-AnyString-1.03"
PERL_EXTUTILS_AUTOINSTALL="--defaultdeps"
PERL_MM_USE_DEFAULT="1"
@INC:
/home/sts/cpansmoke/perl-5.15.5/cpan/build/File-Slurp-9999.19-OFxSZ7/blib/arch
/home/sts/cpansmoke/perl-5.15.5/cpan/build/File-Slurp-9999.19-OFxSZ7/blib/lib
/home/sts/cpansmoke/perl-5.15.5/cpan/build/Test-NoWarnings-1.03-KVaDLD/blib/arch
/home/sts/cpansmoke/perl-5.15.5/cpan/build/Test-NoWarnings-1.03-KVaDLD/blib/lib
/home/sts/cpansmoke/perl-5.15.5/cpan/build/Test-Tester-0.107-txveK9/blib/arch
/home/sts/cpansmoke/perl-5.15.5/cpan/build/Test-Tester-0.107-txveK9/blib/lib
/home/sts/cpansmoke/perl-5.15.5/cpan/build/Test-Taint-1.04-gaCgjB/blib/arch
/home/sts/cpansmoke/perl-5.15.5/cpan/build/Test-Taint-1.04-gaCgjB/blib/lib
/home/sts/cpansmoke/perl-5.15.5/cpan/build/Test-Exception-0.31-c7Pk2V/blib/arch
/home/sts/cpansmoke/perl-5.15.5/cpan/build/Test-Exception-0.31-c7Pk2V/blib/lib
/home/sts/cpansmoke/perl-5.15.5/cpan/build/Sub-Uplevel-0.22-_isdgq/blib/arch
/home/sts/cpansmoke/perl-5.15.5/cpan/build/Sub-Uplevel-0.22-_isdgq/blib/lib
/home/sts/cpansmoke/perl-5.15.5/lib/site_perl/5.15.5/OpenBSD.i386-openbsd-thread-multi
/home/sts/cpansmoke/perl-5.15.5/lib/site_perl/5.15.5
/home/sts/cpansmoke/perl-5.15.5/lib/5.15.5/OpenBSD.i386-openbsd-thread-multi
/home/sts/cpansmoke/perl-5.15.5/lib/5.15.5
.