MooseX-Extended v0.35 Perl 5 v5.37.6 x86_64-linux-thread-multi-quadmath
        
            - Status
 
            - Pass
 
            - From
 
            - Andreas J. König (ANDK)
 
            - Dist
 
            - 
                MooseX-Extended v0.35
            
 
            - Platform
 
            - Perl 5 v5.37.6 x86_64-linux-thread-multi-quadmath
 
            - Date
 
            - 2023-07-12 03:32:37
 
            - ID
 
            - bf3163d2-2064-11ee-8045-cf6359617ac5
 
        
        This distribution has been tested as part of the CPAN Testers
project, supporting the Perl programming language.  See
http://wiki.cpantesters.org/ for more information or email
questions to cpan-testers-discuss@perl.org
--
Dear Curtis Poe,
This is a computer-generated report for MooseX-Extended-0.35
on perl 5.37.6, created by CPAN-Reporter-1.2019.
Thank you for uploading your work to CPAN.  Congratulations!
All tests were successful.
Sections of this report:
    * Tester comments
    * Program output
    * Prerequisites
    * Environment and other context
------------------------------
TESTER COMMENTS
------------------------------
Additional comments from tester:
this report is from an automated smoke testing program
and was not reviewed by a human for accuracy
------------------------------
PROGRAM OUTPUT
------------------------------
Output from '/usr/bin/make test':
PERL_DL_NONLAZY=1 "/home/sand/src/perl/repoperls/installed-perls/host/k93msid/v5.37.6/db45/bin/perl" "-MExtUtils::Command::MM" "-MTest::Harness" "-e" "undef *Test::Harness::Switches; test_harness(0, 'blib/lib', 'blib/arch')" t/*.t
# Testing MooseX::Extended 0.35, Perl 5.037006, /home/sand/src/perl/repoperls/installed-perls/host/k93msid/v5.37.6/db45/bin/perl
t/00-load.t ............... ok
# 
# Versions for all modules listed in MYMETA.json (including optional ones):
# 
# === Configure Requires ===
# 
#     Module              Want Have
#     ------------------- ---- ----
#     ExtUtils::MakeMaker  any 7.64
# 
# === Build Requires ===
# 
#     Module              Want Have
#     ------------------- ---- ----
#     ExtUtils::MakeMaker  any 7.64
# 
# === Test Requires ===
# 
#     Module              Want     Have
#     ------------------- ---- --------
#     Capture::Tiny        any     0.48
#     DateTime             any     1.59
#     ExtUtils::MakeMaker  any     7.64
#     File::Spec           any     3.87
#     List::Util           any     1.63
#     Scalar::Util         any     1.63
#     Test::Builder        any 1.302191
#     Test::More           any 1.302191
#     Test::Most           any     0.38
#     base                 any     2.27
#     lib                  any     0.65
#     version              any   0.9929
# 
# === Test Recommends ===
# 
#     Module              Want     Have
#     --------------- -------- --------
#     CPAN::Meta      2.120900 2.150010
#     Data::Printer        any 1.000004
#     IO::Async::Loop      any    0.802
# 
# === Runtime Requires ===
# 
#     Module                            Want     Have
#     ----------------------------- -------- --------
#     B::Hooks::AtRuntime                  8        8
#     Carp                               any     1.54
#     Data::Printer                      any 1.000004
#     Exporter                           any     5.77
#     Import::Into                       any 1.002005
#     Module::Load                       any     0.36
#     Moose                              any   2.2201
#     Moose::Exception                   any   2.2201
#     Moose::Exception::Role::Class      any   2.2201
#     Moose::Exporter                    any   2.2201
#     Moose::Meta::Role                  any   2.2201
#     Moose::Role                        any   2.2201
#     Moose::Util                        any   2.2201
#     MooseX::Role::WarnOnConflict       any     0.01
#     MooseX::StrictConstructor          any     0.21
#     Ref::Util                          any    0.204
#     Storable                           any     3.28
#     Type::Library                      any 2.000001
#     Type::Params                       any 2.000001
#     Type::Tiny                    1.012004 2.000001
#     Type::Utils                        any 2.000001
#     Types::Common::Numeric             any 2.000001
#     Types::Common::String              any 2.000001
#     Types::Standard                    any 2.000001
#     constant                           any     1.33
#     feature                            any     1.77
#     mro                                any     1.26
#     namespace::autoclean               any     0.29
#     parent                             any    0.238
#     perl                          5.020000 5.037006
#     strict                             any     1.12
#     true                            v1.0.2   v1.0.2
#     warnings                           any     1.61
# 
# === Runtime Suggests ===
# 
#     Module                        Want     Have
#     ------------------------- -------- --------
#     Function::Parameters      2.001003 2.001005
#     Future                        0.48     0.50
#     Future::AsyncAwait            0.58  missing
#     Syntax::Keyword::MultiSub     0.03  missing
#     Syntax::Keyword::Try         0.027  missing
# 
t/00-report-prereqs.t ..... ok
t/async.t ................. skipped: Could not load Future::AsyncAwait: Can't locate Future/AsyncAwait.pm in @INC (you may need to install the Future::AsyncAwait module) (@INC contains: t/lib /tmp/loop_over_bdir-2442748-VgwAu7/MooseX-Extended-0.35-0/blib/lib /tmp/loop_over_bdir-2442748-VgwAu7/MooseX-Extended-0.35-0/blib/arch /home/sand/src/perl/repoperls/installed-perls/host/k93msid/v5.37.6/db45/lib/site_perl/5.37.6/x86_64-linux-thread-multi-quadmath /home/sand/src/perl/repoperls/installed-perls/host/k93msid/v5.37.6/db45/lib/site_perl/5.37.6 /home/sand/src/perl/repoperls/installed-perls/host/k93msid/v5.37.6/db45/lib/5.37.6/x86_64-linux-thread-multi-quadmath /home/sand/src/perl/repoperls/installed-perls/host/k93msid/v5.37.6/db45/lib/5.37.6 .) at /home/sand/src/perl/repoperls/installed-perls/host/k93msid/v5.37.6/db45/lib/5.37.6/Module/Load.pm line 78.
t/basic.t ................. ok
t/clone.t ................. ok
t/configuration.t ......... ok
t/custom.t ................ ok
t/exceptions.t ............ ok
t/excludes_field_param.t .. ok
t/field_init_arg.t ........ ok
t/import-lists.t .......... skipped: Could not load Syntax::Keyword::Try: Can't locate Syntax/Keyword/Try.pm in @INC (you may need to install the Syntax::Keyword::Try module) (@INC contains: t/lib /tmp/loop_over_bdir-2442748-VgwAu7/MooseX-Extended-0.35-0/blib/lib /tmp/loop_over_bdir-2442748-VgwAu7/MooseX-Extended-0.35-0/blib/arch /home/sand/src/perl/repoperls/installed-perls/host/k93msid/v5.37.6/db45/lib/site_perl/5.37.6/x86_64-linux-thread-multi-quadmath /home/sand/src/perl/repoperls/installed-perls/host/k93msid/v5.37.6/db45/lib/site_perl/5.37.6 /home/sand/src/perl/repoperls/installed-perls/host/k93msid/v5.37.6/db45/lib/5.37.6/x86_64-linux-thread-multi-quadmath /home/sand/src/perl/repoperls/installed-perls/host/k93msid/v5.37.6/db45/lib/5.37.6 .) at /home/sand/src/perl/repoperls/installed-perls/host/k93msid/v5.37.6/db45/lib/5.37.6/Module/Load.pm line 78.
t/inheritance.t ........... ok
t/inline.t ................ ok
t/method-keyword.t ........ ok
t/moose_compatibility.t ... ok
t/multimethods.t .......... skipped: Could not load Syntax::Keyword::MultiSub: Can't locate Syntax/Keyword/MultiSub.pm in @INC (you may need to install the Syntax::Keyword::MultiSub module) (@INC contains: t/lib /tmp/loop_over_bdir-2442748-VgwAu7/MooseX-Extended-0.35-0/blib/lib /tmp/loop_over_bdir-2442748-VgwAu7/MooseX-Extended-0.35-0/blib/arch /home/sand/src/perl/repoperls/installed-perls/host/k93msid/v5.37.6/db45/lib/site_perl/5.37.6/x86_64-linux-thread-multi-quadmath /home/sand/src/perl/repoperls/installed-perls/host/k93msid/v5.37.6/db45/lib/site_perl/5.37.6 /home/sand/src/perl/repoperls/installed-perls/host/k93msid/v5.37.6/db45/lib/5.37.6/x86_64-linux-thread-multi-quadmath /home/sand/src/perl/repoperls/installed-perls/host/k93msid/v5.37.6/db45/lib/5.37.6 .) at /home/sand/src/perl/repoperls/installed-perls/host/k93msid/v5.37.6/db45/lib/5.37.6/Module/Load.pm line 78.
t/roles.t ................. ok
t/rwp.t ................... ok
t/stringy-eval.t .......... ok
t/try.t ................... skipped: Could not load Syntax::Keyword::Try: Can't locate Syntax/Keyword/Try.pm in @INC (you may need to install the Syntax::Keyword::Try module) (@INC contains: t/lib /tmp/loop_over_bdir-2442748-VgwAu7/MooseX-Extended-0.35-0/blib/lib /tmp/loop_over_bdir-2442748-VgwAu7/MooseX-Extended-0.35-0/blib/arch /home/sand/src/perl/repoperls/installed-perls/host/k93msid/v5.37.6/db45/lib/site_perl/5.37.6/x86_64-linux-thread-multi-quadmath /home/sand/src/perl/repoperls/installed-perls/host/k93msid/v5.37.6/db45/lib/site_perl/5.37.6 /home/sand/src/perl/repoperls/installed-perls/host/k93msid/v5.37.6/db45/lib/5.37.6/x86_64-linux-thread-multi-quadmath /home/sand/src/perl/repoperls/installed-perls/host/k93msid/v5.37.6/db45/lib/5.37.6 .) at /home/sand/src/perl/repoperls/installed-perls/host/k93msid/v5.37.6/db45/lib/5.37.6/Module/Load.pm line 78.
t/types.t ................. ok
t/warnings.t .............. ok
All tests successful.
Files=22, Tests=115, 16 wallclock secs ( 0.09 usr  0.04 sys +  9.59 cusr  1.45 csys = 11.17 CPU)
Result: PASS
------------------------------
PREREQUISITES
------------------------------
Prerequisite modules loaded:
requires:
    Module                        Need     Have    
    ----------------------------- -------- --------
    B::Hooks::AtRuntime           8        8       
    Carp                          0        1.54    
    constant                      0        1.33    
    Data::Printer                 0        1.000004
    Exporter                      0        5.77    
    feature                       0        1.77    
    Import::Into                  0        1.002005
    Module::Load                  0        0.36    
    Moose                         0        2.2201  
    Moose::Exception              0        2.2201  
    Moose::Exception::Role::Class 0        2.2201  
    Moose::Exporter               0        2.2201  
    Moose::Meta::Role             0        2.2201  
    Moose::Role                   0        2.2201  
    Moose::Util                   0        2.2201  
    MooseX::Role::WarnOnConflict  0        0.01    
    MooseX::StrictConstructor     0        0.21    
    mro                           0        1.26    
    namespace::autoclean          0        0.29    
    parent                        0        0.238   
    perl                          5.020000 5.037006
    Ref::Util                     0        0.204   
    Storable                      0        3.28    
    strict                        0        1.12    
    true                          v1.0.2   v1.0.2  
    Type::Library                 0        2.000001
    Type::Params                  0        2.000001
    Type::Tiny                    1.012004 2.000001
    Type::Utils                   0        2.000001
    Types::Common::Numeric        0        2.000001
    Types::Common::String         0        2.000001
    Types::Standard               0        2.000001
    warnings                      0        1.61    
build_requires:
    Module                        Need     Have    
    ----------------------------- -------- --------
    base                          0        2.27    
    Capture::Tiny                 0        0.48    
    DateTime                      0        1.59    
    ExtUtils::MakeMaker           0        7.64    
    File::Spec                    0        3.87    
    lib                           0        0.65    
    List::Util                    0        1.63    
    Scalar::Util                  0        1.63    
    Test::Builder                 0        1.302191
    Test::More                    0        1.302191
    Test::Most                    0        0.38    
    version                       0        0.9929  
configure_requires:
    Module                        Need     Have    
    ----------------------------- -------- --------
    ExtUtils::MakeMaker           0        7.64    
------------------------------
ENVIRONMENT AND OTHER CONTEXT
------------------------------
Environment variables:
    AUTOMATED_TESTING = 1
    LANG = en_US.UTF-8
    LANGUAGE = en_US:en
    PATH = /home/sand/bin:/usr/local/bin:/usr/bin:/bin:/usr/games:/usr/local/perl/bin:/usr/X11/bin:/sbin:/usr/sbin
    PERL5LIB = 
    PERL5OPT = 
    PERL5_CPANPLUS_IS_RUNNING = 2686601
    PERL5_CPAN_IS_RUNNING = 2686601
    PERL_CANARY_STABILITY_NOPROMPT = 1
    PERL_MM_USE_DEFAULT = 1
    PERL_USE_UNSAFE_INC = 1
    SHELL = /usr/bin/zsh
    TERM = screen
Perl special variables (and OS-specific diagnostics, for MSWin32):
    $^X = /home/sand/src/perl/repoperls/installed-perls/host/k93msid/v5.37.6/db45/bin/perl
    $UID/$EUID = 1005 / 1005
    $GID = 1005 1005
    $EGID = 1005 1005
Perl module toolchain versions installed:
    Module              Have    
    ------------------- --------
    CPAN                2.34    
    CPAN::Meta          2.150010
    Cwd                 3.86    
    ExtUtils::CBuilder  0.280238
    ExtUtils::Command   7.64    
    ExtUtils::Install   2.20    
    ExtUtils::MakeMaker 7.64    
    ExtUtils::Manifest  1.73    
    ExtUtils::ParseXS   3.48    
    File::Spec          3.87    
    JSON                4.10    
    JSON::PP            4.12    
    Module::Build       0.4231  
    Module::Signature   0.88    
    Parse::CPAN::Meta   2.150010
    Test2               1.302191
    Test::Harness       3.44    
    Test::More          1.302191
    YAML                1.30    
    YAML::Syck          1.34    
    version             0.9929  
--
Summary of my perl5 (revision 5 version 37 subversion 6) configuration:
  Commit id: d569e7cc1171d70b4ea183bc7c257dcf50f0ab12
  Platform:
    osname=linux
    osvers=5.19.0-2-amd64
    archname=x86_64-linux-thread-multi-quadmath
    uname='linux k93msid 5.19.0-2-amd64 #1 smp preempt_dynamic debian 5.19.11-1 (2022-09-24) x86_64 gnulinux '
    config_args='-Dprefix=/home/sand/src/perl/repoperls/installed-perls/host/k93msid/v5.37.6/db45 -Dmyhostname=k93msid -Dinstallusrbinperl=n -Uversiononly -Dusedevel -des -Ui_db -Dlibswanted=cl pthread socket inet nsl gdbm dbm malloc dl ld sun m crypt sec util c cposix posix ucb BSD gdbm_compat -Duseithreads -Uuselongdouble -DEBUGGING=both -Dusequadmath'
    hint=recommended
    useposix=true
    d_sigaction=define
    useithreads=define
    usemultiplicity=define
    use64bitint=define
    use64bitall=define
    uselongdouble=undef
    usemymalloc=n
    default_inc_excludes_dot=define
  Compiler:
    cc='cc'
    ccflags ='-D_REENTRANT -D_GNU_SOURCE -fwrapv -DDEBUGGING -fno-strict-aliasing -pipe -fstack-protector-strong -I/usr/local/include -D_LARGEFILE_SOURCE -D_FILE_OFFSET_BITS=64 -D_FORTIFY_SOURCE=2'
    optimize='-O2 -g'
    cppflags='-D_REENTRANT -D_GNU_SOURCE -fwrapv -DDEBUGGING -fno-strict-aliasing -pipe -fstack-protector-strong -I/usr/local/include'
    ccversion=''
    gccversion='12.2.0'
    gccosandvers=''
    intsize=4
    longsize=8
    ptrsize=8
    doublesize=8
    byteorder=12345678
    doublekind=3
    d_longlong=define
    longlongsize=8
    d_longdbl=define
    longdblsize=16
    longdblkind=3
    ivtype='long'
    ivsize=8
    nvtype='__float128'
    nvsize=16
    Off_t='off_t'
    lseeksize=8
    alignbytes=16
    prototype=define
  Linker and Libraries:
    ld='cc'
    ldflags =' -fstack-protector-strong -L/usr/local/lib'
    libpth=/usr/local/lib /usr/lib/x86_64-linux-gnu /usr/lib /usr/lib64
    libs=-lpthread -lnsl -ldl -lm -lcrypt -lutil -lc -lquadmath
    perllibs=-lpthread -lnsl -ldl -lm -lcrypt -lutil -lc -lquadmath
    libc=/lib/x86_64-linux-gnu/libc.so.6
    so=so
    useshrplib=false
    libperl=libperl.a
    gnulibc_version='2.35'
  Dynamic Linking:
    dlsrc=dl_dlopen.xs
    dlext=so
    d_dlsymun=undef
    ccdlflags='-Wl,-E'
    cccdlflags='-fPIC'
    lddlflags='-shared -O2 -g -L/usr/local/lib -fstack-protector-strong'
Characteristics of this binary (from libperl): 
  Compile-time options:
    DEBUGGING
    HAS_TIMES
    MULTIPLICITY
    PERLIO_LAYERS
    PERL_COPY_ON_WRITE
    PERL_DONT_CREATE_GVSV
    PERL_HASH_FUNC_SIPHASH13
    PERL_HASH_USE_SBOX32
    PERL_MALLOC_WRAP
    PERL_OP_PARENT
    PERL_PRESERVE_IVUV
    PERL_TRACK_MEMPOOL
    PERL_USE_DEVEL
    PERL_USE_SAFE_PUTENV
    USE_64_BIT_ALL
    USE_64_BIT_INT
    USE_ITHREADS
    USE_LARGE_FILES
    USE_LOCALE
    USE_LOCALE_COLLATE
    USE_LOCALE_CTYPE
    USE_LOCALE_NUMERIC
    USE_LOCALE_TIME
    USE_PERLIO
    USE_PERL_ATOF
    USE_QUADMATH
    USE_REENTRANT_API
    USE_THREAD_SAFE_LOCALE
  Built under linux
  Compiled at Nov 20 2022 17:14:14
  %ENV:
    PERL5LIB=""
    PERL5OPT=""
    PERL5_CPANPLUS_IS_RUNNING="2686601"
    PERL5_CPAN_IS_RUNNING="2686601"
    PERL_CANARY_STABILITY_NOPROMPT="1"
    PERL_MM_USE_DEFAULT="1"
    PERL_USE_UNSAFE_INC="1"
  @INC:
    /home/sand/src/perl/repoperls/installed-perls/host/k93msid/v5.37.6/db45/lib/site_perl/5.37.6/x86_64-linux-thread-multi-quadmath
    /home/sand/src/perl/repoperls/installed-perls/host/k93msid/v5.37.6/db45/lib/site_perl/5.37.6
    /home/sand/src/perl/repoperls/installed-perls/host/k93msid/v5.37.6/db45/lib/5.37.6/x86_64-linux-thread-multi-quadmath
    /home/sand/src/perl/repoperls/installed-perls/host/k93msid/v5.37.6/db45/lib/5.37.6
    .