FormValidator-Simple v0.29 Perl 5 v5.31.4 x86_64-linux-thread-multi-ld

Status
Pass
From
Andreas J. König (ANDK)
Dist
FormValidator-Simple v0.29
Platform
Perl 5 v5.31.4 x86_64-linux-thread-multi-ld
Date
2019-08-25 08:53:02
ID
bf22ff9c-c715-11e9-9a87-da61f8bb5c7c
This distribution has been tested as part of the CPAN Testers
project, supporting the Perl programming language.  See
http://wiki.cpantesters.org/ for more information or email
questions to cpan-testers-discuss@perl.org


--
Dear Lyo Kato,

This is a computer-generated report for FormValidator-Simple-0.29
on perl 5.31.4, created by CPAN-Reporter-1.2018.

Thank you for uploading your work to CPAN.  Congratulations!
All tests were successful.

Sections of this report:

    * Tester comments
    * Program output
    * Prerequisites
    * Environment and other context

------------------------------
TESTER COMMENTS
------------------------------

Additional comments from tester:

this report is from an automated smoke testing program
and was not reviewed by a human for accuracy

------------------------------
PROGRAM OUTPUT
------------------------------

Output from '/usr/bin/make test':

PERL_DL_NONLAZY=1 "/tmp/basesmoker-reloperl-gXnJ/bin/perl" "-MExtUtils::Command::MM" "-MTest::Harness" "-e" "undef *Test::Harness::Switches; test_harness(0, 'inc', 'blib/lib', 'blib/arch')" t/00_compile.t t/01_constraint.t t/02_constraints.t t/03_profile.t t/04_result.t t/05_results.t t/06_data.t t/07_simple.t t/08_length.t t/09_ascii.t t/10_int.t t/11_space.t t/12_duplication.t t/13_datetime.t t/14_regex.t t/15_any.t t/16_plugin.t t/17_pod.t t/18_invalids.t t/19_url.t t/20_numeric_cmp.t t/21_decimal.t t/22_messages.t t/23_messages_yaml.t t/24_options.t t/25_all.t t/26_inarray.t t/27_set_invalid.t t/28_decode.t
t/00_compile.t ........ ok
t/01_constraint.t ..... ok
t/02_constraints.t .... ok
t/03_profile.t ........ ok
t/04_result.t ......... ok
t/05_results.t ........ ok
CGI::param called in list context from /home/sand/.cpan/privbuild/k93msid/FormValidator-Simple-0.29-1/blib/lib/FormValidator/Simple/Data.pm line 23, this can lead to vulnerabilities. See the warning in "Fetching the value or values of a single named parameter" at /home/sand/src/perl/repoperls/installed-perls/host/k93msid/v5.31.3-9-gc6f37d61ad/496c/lib/site_perl/5.31.4/CGI.pm line 412.
t/06_data.t ........... ok
CGI::param called in list context from /home/sand/.cpan/privbuild/k93msid/FormValidator-Simple-0.29-1/blib/lib/FormValidator/Simple/Data.pm line 23, this can lead to vulnerabilities. See the warning in "Fetching the value or values of a single named parameter" at /home/sand/src/perl/repoperls/installed-perls/host/k93msid/v5.31.3-9-gc6f37d61ad/496c/lib/site_perl/5.31.4/CGI.pm line 412.
t/07_simple.t ......... ok
CGI::param called in list context from /home/sand/.cpan/privbuild/k93msid/FormValidator-Simple-0.29-1/blib/lib/FormValidator/Simple/Data.pm line 23, this can lead to vulnerabilities. See the warning in "Fetching the value or values of a single named parameter" at /home/sand/src/perl/repoperls/installed-perls/host/k93msid/v5.31.3-9-gc6f37d61ad/496c/lib/site_perl/5.31.4/CGI.pm line 412.
t/08_length.t ......... ok
CGI::param called in list context from /home/sand/.cpan/privbuild/k93msid/FormValidator-Simple-0.29-1/blib/lib/FormValidator/Simple/Data.pm line 23, this can lead to vulnerabilities. See the warning in "Fetching the value or values of a single named parameter" at /home/sand/src/perl/repoperls/installed-perls/host/k93msid/v5.31.3-9-gc6f37d61ad/496c/lib/site_perl/5.31.4/CGI.pm line 412.
t/09_ascii.t .......... ok
CGI::param called in list context from /home/sand/.cpan/privbuild/k93msid/FormValidator-Simple-0.29-1/blib/lib/FormValidator/Simple/Data.pm line 23, this can lead to vulnerabilities. See the warning in "Fetching the value or values of a single named parameter" at /home/sand/src/perl/repoperls/installed-perls/host/k93msid/v5.31.3-9-gc6f37d61ad/496c/lib/site_perl/5.31.4/CGI.pm line 412.
t/10_int.t ............ ok
CGI::param called in list context from /home/sand/.cpan/privbuild/k93msid/FormValidator-Simple-0.29-1/blib/lib/FormValidator/Simple/Data.pm line 23, this can lead to vulnerabilities. See the warning in "Fetching the value or values of a single named parameter" at /home/sand/src/perl/repoperls/installed-perls/host/k93msid/v5.31.3-9-gc6f37d61ad/496c/lib/site_perl/5.31.4/CGI.pm line 412.
t/11_space.t .......... ok
CGI::param called in list context from /home/sand/.cpan/privbuild/k93msid/FormValidator-Simple-0.29-1/blib/lib/FormValidator/Simple/Data.pm line 23, this can lead to vulnerabilities. See the warning in "Fetching the value or values of a single named parameter" at /home/sand/src/perl/repoperls/installed-perls/host/k93msid/v5.31.3-9-gc6f37d61ad/496c/lib/site_perl/5.31.4/CGI.pm line 412.
t/12_duplication.t .... ok
CGI::param called in list context from /home/sand/.cpan/privbuild/k93msid/FormValidator-Simple-0.29-1/blib/lib/FormValidator/Simple/Data.pm line 23, this can lead to vulnerabilities. See the warning in "Fetching the value or values of a single named parameter" at /home/sand/src/perl/repoperls/installed-perls/host/k93msid/v5.31.3-9-gc6f37d61ad/496c/lib/site_perl/5.31.4/CGI.pm line 412.
t/13_datetime.t ....... ok
CGI::param called in list context from /home/sand/.cpan/privbuild/k93msid/FormValidator-Simple-0.29-1/blib/lib/FormValidator/Simple/Data.pm line 23, this can lead to vulnerabilities. See the warning in "Fetching the value or values of a single named parameter" at /home/sand/src/perl/repoperls/installed-perls/host/k93msid/v5.31.3-9-gc6f37d61ad/496c/lib/site_perl/5.31.4/CGI.pm line 412.
t/14_regex.t .......... ok
CGI::param called in list context from /home/sand/.cpan/privbuild/k93msid/FormValidator-Simple-0.29-1/blib/lib/FormValidator/Simple/Data.pm line 23, this can lead to vulnerabilities. See the warning in "Fetching the value or values of a single named parameter" at /home/sand/src/perl/repoperls/installed-perls/host/k93msid/v5.31.3-9-gc6f37d61ad/496c/lib/site_perl/5.31.4/CGI.pm line 412.
t/15_any.t ............ ok
CGI::param called in list context from /home/sand/.cpan/privbuild/k93msid/FormValidator-Simple-0.29-1/blib/lib/FormValidator/Simple/Data.pm line 23, this can lead to vulnerabilities. See the warning in "Fetching the value or values of a single named parameter" at /home/sand/src/perl/repoperls/installed-perls/host/k93msid/v5.31.3-9-gc6f37d61ad/496c/lib/site_perl/5.31.4/CGI.pm line 412.
t/16_plugin.t ......... ok
t/17_pod.t ............ skipped: set TEST_POD to enable this test
CGI::param called in list context from /home/sand/.cpan/privbuild/k93msid/FormValidator-Simple-0.29-1/blib/lib/FormValidator/Simple/Data.pm line 23, this can lead to vulnerabilities. See the warning in "Fetching the value or values of a single named parameter" at /home/sand/src/perl/repoperls/installed-perls/host/k93msid/v5.31.3-9-gc6f37d61ad/496c/lib/site_perl/5.31.4/CGI.pm line 412.
t/18_invalids.t ....... ok
CGI::param called in list context from /home/sand/.cpan/privbuild/k93msid/FormValidator-Simple-0.29-1/blib/lib/FormValidator/Simple/Data.pm line 23, this can lead to vulnerabilities. See the warning in "Fetching the value or values of a single named parameter" at /home/sand/src/perl/repoperls/installed-perls/host/k93msid/v5.31.3-9-gc6f37d61ad/496c/lib/site_perl/5.31.4/CGI.pm line 412.
t/19_url.t ............ ok
CGI::param called in list context from /home/sand/.cpan/privbuild/k93msid/FormValidator-Simple-0.29-1/blib/lib/FormValidator/Simple/Data.pm line 23, this can lead to vulnerabilities. See the warning in "Fetching the value or values of a single named parameter" at /home/sand/src/perl/repoperls/installed-perls/host/k93msid/v5.31.3-9-gc6f37d61ad/496c/lib/site_perl/5.31.4/CGI.pm line 412.
t/20_numeric_cmp.t .... ok
CGI::param called in list context from /home/sand/.cpan/privbuild/k93msid/FormValidator-Simple-0.29-1/blib/lib/FormValidator/Simple/Data.pm line 23, this can lead to vulnerabilities. See the warning in "Fetching the value or values of a single named parameter" at /home/sand/src/perl/repoperls/installed-perls/host/k93msid/v5.31.3-9-gc6f37d61ad/496c/lib/site_perl/5.31.4/CGI.pm line 412.
t/21_decimal.t ........ ok
CGI::param called in list context from /home/sand/.cpan/privbuild/k93msid/FormValidator-Simple-0.29-1/blib/lib/FormValidator/Simple/Data.pm line 23, this can lead to vulnerabilities. See the warning in "Fetching the value or values of a single named parameter" at /home/sand/src/perl/repoperls/installed-perls/host/k93msid/v5.31.3-9-gc6f37d61ad/496c/lib/site_perl/5.31.4/CGI.pm line 412.
t/22_messages.t ....... ok
CGI::param called in list context from /home/sand/.cpan/privbuild/k93msid/FormValidator-Simple-0.29-1/blib/lib/FormValidator/Simple/Data.pm line 23, this can lead to vulnerabilities. See the warning in "Fetching the value or values of a single named parameter" at /home/sand/src/perl/repoperls/installed-perls/host/k93msid/v5.31.3-9-gc6f37d61ad/496c/lib/site_perl/5.31.4/CGI.pm line 412.
t/23_messages_yaml.t .. ok
t/24_options.t ........ ok
CGI::param called in list context from /home/sand/.cpan/privbuild/k93msid/FormValidator-Simple-0.29-1/blib/lib/FormValidator/Simple/Data.pm line 23, this can lead to vulnerabilities. See the warning in "Fetching the value or values of a single named parameter" at /home/sand/src/perl/repoperls/installed-perls/host/k93msid/v5.31.3-9-gc6f37d61ad/496c/lib/site_perl/5.31.4/CGI.pm line 412.
t/25_all.t ............ ok
CGI::param called in list context from /home/sand/.cpan/privbuild/k93msid/FormValidator-Simple-0.29-1/blib/lib/FormValidator/Simple/Data.pm line 23, this can lead to vulnerabilities. See the warning in "Fetching the value or values of a single named parameter" at /home/sand/src/perl/repoperls/installed-perls/host/k93msid/v5.31.3-9-gc6f37d61ad/496c/lib/site_perl/5.31.4/CGI.pm line 412.
t/26_inarray.t ........ ok
CGI::param called in list context from /home/sand/.cpan/privbuild/k93msid/FormValidator-Simple-0.29-1/blib/lib/FormValidator/Simple/Data.pm line 23, this can lead to vulnerabilities. See the warning in "Fetching the value or values of a single named parameter" at /home/sand/src/perl/repoperls/installed-perls/host/k93msid/v5.31.3-9-gc6f37d61ad/496c/lib/site_perl/5.31.4/CGI.pm line 412.
t/27_set_invalid.t .... ok
CGI::param called in list context from /home/sand/.cpan/privbuild/k93msid/FormValidator-Simple-0.29-1/blib/lib/FormValidator/Simple/Data.pm line 23, this can lead to vulnerabilities. See the warning in "Fetching the value or values of a single named parameter" at /home/sand/src/perl/repoperls/installed-perls/host/k93msid/v5.31.3-9-gc6f37d61ad/496c/lib/site_perl/5.31.4/CGI.pm line 412.
t/28_decode.t ......... ok
All tests successful.
Files=29, Tests=319, 11 wallclock secs ( 0.09 usr  0.17 sys +  7.25 cusr  1.99 csys =  9.50 CPU)
Result: PASS

------------------------------
PREREQUISITES
------------------------------

Prerequisite modules loaded:

requires:

    Module                     Need Have   
    -------------------------- ---- -------
    Class::Accessor            0.22 0.51   
    Class::Data::Accessor      0.03 0.04004
    Class::Data::Inheritable   0.04 0.08   
    Class::Inspector           1.13 1.36   
    Date::Calc                 5.4  6.4    
    DateTime::Format::Strptime 1.07 1.76   
    Email::Valid               0.15 1.202  
    Email::Valid::Loose        0.04 0.05   
    List::MoreUtils            0.16 0.428  
    Mail::Address              0    2.21   
    Scalar::Util               0    1.52   
    Tie::IxHash                1.21 1.23   
    UNIVERSAL::require         0.1  0.18   
    YAML                       0.39 1.29   

build_requires:

    Module                     Need Have   
    -------------------------- ---- -------
    ExtUtils::MakeMaker        6.42 7.36   

configure_requires:

    Module                     Need Have   
    -------------------------- ---- -------
    ExtUtils::MakeMaker        6.42 7.36   


------------------------------
ENVIRONMENT AND OTHER CONTEXT
------------------------------

Environment variables:

    AUTOMATED_TESTING = 1
    LANG = en_US.UTF-8
    PATH = /home/sand/bin:/usr/local/bin:/usr/bin:/bin:/usr/games:/usr/local/perl/bin:/usr/X11/bin:/sbin:/usr/sbin
    PERL5LIB = 
    PERL5OPT = 
    PERL5_CPANPLUS_IS_RUNNING = 32382
    PERL5_CPAN_IS_RUNNING = 32382
    PERL_CANARY_STABILITY_NOPROMPT = 1
    PERL_MM_USE_DEFAULT = 1
    PERL_USE_UNSAFE_INC = 1
    SHELL = /usr/bin/zsh
    TERM = screen

Perl special variables (and OS-specific diagnostics, for MSWin32):

    $^X = /tmp/basesmoker-reloperl-gXnJ/bin/perl
    $UID/$EUID = 1005 / 1005
    $GID = 1005 1005
    $EGID = 1005 1005

Perl module toolchain versions installed:

    Module              Have    
    ------------------- --------
    CPAN                2.27    
    CPAN::Meta          2.150010
    Cwd                 3.78    
    ExtUtils::CBuilder  0.280232
    ExtUtils::Command   7.36    
    ExtUtils::Install   2.14    
    ExtUtils::MakeMaker 7.36    
    ExtUtils::Manifest  1.72    
    ExtUtils::ParseXS   3.40    
    File::Spec          3.78    
    JSON                4.02    
    JSON::PP            4.04    
    Module::Build       0.4229  
    Module::Signature   0.83    
    Parse::CPAN::Meta   2.150010
    Test::Harness       3.42    
    Test::More          1.302167
    YAML                1.29    
    YAML::Syck          1.31    
    version             0.9924  


--

Summary of my perl5 (revision 5 version 31 subversion 4) configuration:
  Commit id: c6f37d61adb39a6d7764b1bcb6bb67accb22a0a0
  Platform:
    osname=linux
    osvers=4.18.0-2-amd64
    archname=x86_64-linux-thread-multi-ld
    uname='linux k93msid 4.18.0-2-amd64 #1 smp debian 4.18.10-2 (2018-10-07) x86_64 gnulinux '
    config_args='-Dprefix=/home/sand/src/perl/repoperls/installed-perls/host/k93msid/v5.31.3-9-gc6f37d61ad/496c -Dmyhostname=k93msid -Dinstallusrbinperl=n -Uversiononly -Dusedevel -des -Ui_db -Dlibswanted=cl pthread socket inet nsl gdbm dbm malloc dl ld sun m crypt sec util c cposix posix ucb BSD gdbm_compat -Duseithreads -Duselongdouble -DEBUGGING=none'
    hint=recommended
    useposix=true
    d_sigaction=define
    useithreads=define
    usemultiplicity=define
    use64bitint=define
    use64bitall=define
    uselongdouble=define
    usemymalloc=n
    default_inc_excludes_dot=define
    bincompat5005=undef
  Compiler:
    cc='cc'
    ccflags ='-D_REENTRANT -D_GNU_SOURCE -fwrapv -fno-strict-aliasing -pipe -fstack-protector-strong -I/usr/local/include -D_LARGEFILE_SOURCE -D_FILE_OFFSET_BITS=64 -D_FORTIFY_SOURCE=2'
    optimize='-O2'
    cppflags='-D_REENTRANT -D_GNU_SOURCE -fwrapv -fno-strict-aliasing -pipe -fstack-protector-strong -I/usr/local/include'
    ccversion=''
    gccversion='8.2.0'
    gccosandvers=''
    intsize=4
    longsize=8
    ptrsize=8
    doublesize=8
    byteorder=12345678
    doublekind=3
    d_longlong=define
    longlongsize=8
    d_longdbl=define
    longdblsize=16
    longdblkind=3
    ivtype='long'
    ivsize=8
    nvtype='long double'
    nvsize=16
    Off_t='off_t'
    lseeksize=8
    alignbytes=16
    prototype=define
  Linker and Libraries:
    ld='cc'
    ldflags =' -fstack-protector-strong -L/usr/local/lib'
    libpth=/usr/local/lib /usr/lib/gcc/x86_64-linux-gnu/8/include-fixed /usr/include/x86_64-linux-gnu /usr/lib /lib/x86_64-linux-gnu /lib/../lib /usr/lib/x86_64-linux-gnu /usr/lib/../lib /lib
    libs=-lpthread -lnsl -ldl -lm -lcrypt -lutil -lc
    perllibs=-lpthread -lnsl -ldl -lm -lcrypt -lutil -lc
    libc=libc-2.27.so
    so=so
    useshrplib=false
    libperl=libperl.a
    gnulibc_version='2.27'
  Dynamic Linking:
    dlsrc=dl_dlopen.xs
    dlext=so
    d_dlsymun=undef
    ccdlflags='-Wl,-E'
    cccdlflags='-fPIC'
    lddlflags='-shared -O2 -L/usr/local/lib -fstack-protector-strong'


Characteristics of this binary (from libperl): 
  Compile-time options:
    HAS_TIMES
    MULTIPLICITY
    PERLIO_LAYERS
    PERL_COPY_ON_WRITE
    PERL_DONT_CREATE_GVSV
    PERL_IMPLICIT_CONTEXT
    PERL_MALLOC_WRAP
    PERL_OP_PARENT
    PERL_PRESERVE_IVUV
    PERL_USE_DEVEL
    USE_64_BIT_ALL
    USE_64_BIT_INT
    USE_ITHREADS
    USE_LARGE_FILES
    USE_LOCALE
    USE_LOCALE_COLLATE
    USE_LOCALE_CTYPE
    USE_LOCALE_NUMERIC
    USE_LOCALE_TIME
    USE_LONG_DOUBLE
    USE_PERLIO
    USE_PERL_ATOF
    USE_REENTRANT_API
    USE_THREAD_SAFE_LOCALE
  Built under linux
  Compiled at Aug 23 2019 01:55:27
  %ENV:
    PERL5LIB=""
    PERL5OPT=""
    PERL5_CPANPLUS_IS_RUNNING="32382"
    PERL5_CPAN_IS_RUNNING="32382"
    PERL_CANARY_STABILITY_NOPROMPT="1"
    PERL_MM_USE_DEFAULT="1"
    PERL_USE_UNSAFE_INC="1"
  @INC:
    /home/sand/src/perl/repoperls/installed-perls/host/k93msid/v5.31.3-9-gc6f37d61ad/496c/lib/site_perl/5.31.4/x86_64-linux-thread-multi-ld
    /home/sand/src/perl/repoperls/installed-perls/host/k93msid/v5.31.3-9-gc6f37d61ad/496c/lib/site_perl/5.31.4
    /home/sand/src/perl/repoperls/installed-perls/host/k93msid/v5.31.3-9-gc6f37d61ad/496c/lib/5.31.4/x86_64-linux-thread-multi-ld
    /home/sand/src/perl/repoperls/installed-perls/host/k93msid/v5.31.3-9-gc6f37d61ad/496c/lib/5.31.4
    .