Params-ValidationCompiler v0.27 Perl 5 v5.26.0 cygwin-thread-multi

Status
Pass
From
Nigel Horne
Dist
Params-ValidationCompiler v0.27
Platform
Perl 5 v5.26.0 cygwin-thread-multi
Date
2018-04-11 00:39:08
ID
bef58a2e-3d20-11e8-91ce-d3e3deac0b3f
This distribution has been tested as part of the CPAN Testers
project, supporting the Perl programming language.  See
http://wiki.cpantesters.org/ for more information or email
questions to cpan-testers-discuss@perl.org


--
Dear Dave Rolsky,

This is a computer-generated report for Params-ValidationCompiler-0.27
on perl 5.26.0, created by CPAN-Reporter-1.2018.

Thank you for uploading your work to CPAN.  Congratulations!
All tests were successful.

Sections of this report:

    * Tester comments
    * Program output
    * Prerequisites
    * Environment and other context

------------------------------
TESTER COMMENTS
------------------------------

Additional comments from tester:

none provided

------------------------------
PROGRAM OUTPUT
------------------------------

Output from '/usr/bin/make test':

PERL_DL_NONLAZY=1 "/home/Nigel/perl5/perlbrew/perls/perl-5.26.0/bin/perl.exe" "-MExtUtils::Command::MM" "-MTest::Harness" "-e" "undef *Test::Harness::Switches; test_harness(0, 'blib/lib', 'blib/arch')" t/*.t t/named/*.t t/positional/*.t
# 
# Versions for all modules listed in MYMETA.json (including optional ones):
# 
# === Configure Requires ===
# 
#     Module              Want Have
#     ------------------- ---- ----
#     ExtUtils::MakeMaker  any 7.24
# 
# === Build Requires ===
# 
#     Module              Want Have
#     ------------------- ---- ----
#     ExtUtils::MakeMaker  any 7.24
# 
# === Test Requires ===
# 
#     Module                        Want     Have
#     ------------------------- -------- --------
#     ExtUtils::MakeMaker            any     7.24
#     File::Spec                     any     3.67
#     Hash::Util                     any     0.22
#     Specio                        0.14     0.42
#     Test2::Plugin::NoWarnings      any     0.06
#     Test2::Require::Module         any 0.000111
#     Test2::V0                      any 0.000111
#     Test::More                1.302015 1.302133
#     Test::Without::Module          any     0.20
# 
# === Test Recommends ===
# 
#     Module         Want     Have
#     ---------- -------- --------
#     CPAN::Meta 2.120900 2.150010
# 
# === Runtime Requires ===
# 
#     Module           Want Have
#     ---------------- ---- ----
#     B                 any 1.68
#     Carp              any 1.42
#     Eval::Closure     any 0.14
#     Exception::Class  any 1.43
#     Exporter          any 5.72
#     List::Util       1.29 1.49
#     Scalar::Util      any 1.49
#     overload          any 1.28
#     strict            any 1.11
#     warnings          any 1.37
# 
# === Runtime Recommends ===
# 
#     Module    Want Have
#     --------- ---- ----
#     Sub::Util 1.40 1.49
# 
t/00-report-prereqs.t .... ok
t/default.t .............. ok
t/moose.t ................ skipped: Module 'Moose::Util::TypeConstraints' is not installed
t/exceptions.t ........... ok
t/name-fails.t ........... ok
t/named/args-check.t ..... ok
t/named/const-hash.t ..... skipped: Module 'Const::Fast' is not installed
t/name.t ................. ok
t/pairs-to-value-list.t .. ok
t/named/required.t ....... ok
t/positional/default.t ... ok
t/named/locked-hash.t .... ok
t/named/slurpy.t ......... ok
t/positional/slurpy.t .... ok
t/positional/required.t .. ok
t/source_for.t ........... ok
t/self-check.t ........... ok
t/specio.t ............... ok
t/type-tiny.t ............ skipped: Module 'Type::Tiny' is not installed
All tests successful.
Files=19, Tests=70,  3 wallclock secs ( 0.03 usr  0.14 sys +  4.52 cusr 10.20 csys = 14.89 CPU)
Result: PASS

------------------------------
PREREQUISITES
------------------------------

Prerequisite modules loaded:

requires:

    Module                    Need     Have    
    ------------------------- -------- --------
    B                         0        1.68    
    Carp                      0        1.42    
    Eval::Closure             0        0.14    
    Exception::Class          0        1.43    
    Exporter                  0        5.72    
    List::Util                1.29     1.49    
    overload                  0        1.28    
    Scalar::Util              0        1.49    
    strict                    0        1.11    
    warnings                  0        1.37    

build_requires:

    Module                    Need     Have    
    ------------------------- -------- --------
    ExtUtils::MakeMaker       0        7.24    
    File::Spec                0        3.67    
    Hash::Util                0        0.22    
    Specio                    0.14     0.42    
    Test2::Plugin::NoWarnings 0        0.06    
    Test2::Require::Module    0        0.000111
    Test2::V0                 0        0.000111
    Test::More                1.302015 1.302133
    Test::Without::Module     0        0.20    

configure_requires:

    Module                    Need     Have    
    ------------------------- -------- --------
    ExtUtils::MakeMaker       0        7.24    


------------------------------
ENVIRONMENT AND OTHER CONTEXT
------------------------------

Environment variables:

    COMSPEC = C:\WINDOWS\system32\cmd.exe
    HARNESS_OPTIONS = c:j6
    LANG = en_GB.UTF-8
    NUMBER_OF_PROCESSORS = 12
    PATH = /home/Nigel/perl5/perlbrew/bin:/home/Nigel/perl5/perlbrew/perls/perl-5.26.0/bin:/home/Nigel/bin::/home/Nigel/bin:/usr/local/bin:/usr/bin:/bin
    PERL5LIB = 
    PERL5OPT = 
    PERL5_CPANPLUS_IS_RUNNING = 11324
    PERL5_CPAN_IS_RUNNING = 11324
    PERLBREW_BASHRC_VERSION = 0.75
    PERLBREW_HOME = /home/Nigel/.perlbrew
    PERLBREW_MANPATH = /home/Nigel/perl5/perlbrew/perls/perl-5.26.0/man
    PERLBREW_PATH = /home/Nigel/perl5/perlbrew/bin:/home/Nigel/perl5/perlbrew/perls/perl-5.26.0/bin
    PERLBREW_PERL = perl-5.26.0
    PERLBREW_ROOT = /home/Nigel/perl5/perlbrew
    PERLBREW_VERSION = 0.75
    PERL_USE_UNSAFE_INC = 1
    PROCESSOR_IDENTIFIER = Intel64 Family 6 Model 62 Stepping 4, GenuineIntel
    SHELL = /bin/bash
    TEMP = /cygdrive/j/temp
    TERM = xterm
    TMPDIR = /cygdrive/j/temp

Perl special variables (and OS-specific diagnostics, for MSWin32):

    $^X = /home/Nigel/perl5/perlbrew/perls/perl-5.26.0/bin/perl
    $UID/$EUID = 1001 / 1001
    $GID = 11001 401408 1002 559 545 4 66049 11 15 68354 113 66048 262180
    $EGID = 11001 401408 1002 559 545 4 66049 11 15 68354 113 66048 262180

Perl module toolchain versions installed:

    Module              Have      
    ------------------- ----------
    CPAN                2.18      
    CPAN::Meta          2.150010  
    Cwd                 3.67      
    ExtUtils::CBuilder  0.280225  
    ExtUtils::Command   7.24      
    ExtUtils::Install   2.04      
    ExtUtils::MakeMaker 7.24      
    ExtUtils::Manifest  1.70      
    ExtUtils::ParseXS   3.34      
    File::Spec          3.67      
    JSON                2.94      
    JSON::PP            2.27400_02
    Module::Build       0.4224    
    Module::Signature   n/a       
    Parse::CPAN::Meta   2.150010  
    Test::Harness       3.38      
    Test::More          1.302133  
    YAML                n/a       
    YAML::Syck          n/a       
    version             0.9917    


--

Summary of my perl5 (revision 5 version 26 subversion 0) configuration:
   
  Platform:
    osname=cygwin
    osvers=2.8.2(0.31353)
    archname=cygwin-thread-multi
    uname='cygwin_nt-10.0 cyberpower 2.8.2(0.31353) 2017-07-12 10:58 x86_64 cygwin '
    config_args='-de -Dprefix=/home/Nigel/perl5/perlbrew/perls/perl-5.26.0 -Duseithreads -Dusemultiplicity -Dusedevel -Accflags=-O2 -W -Wformat=2 -Wswitch -Wshadow -Wwrite-strings -Wuninitialized -Wall -pipe -mtune=native -march=native -fomit-frame-pointer -msse2 -msse -mmmx -mfpmath=sse -D_FORTIFY_SOURCE=2 -Wpointer-arith -Wstrict-prototypes -fstack-protector -Wstack-protector -Wextra -Wbad-function-cast -Wcast-align -Wcast-qual -Wdisabled-optimization -Wendif-labels -Wfloat-equal -Wformat-nonliteral -Winline -Wmissing-declarations -Wmissing-prototypes -Wnested-externs -Wpointer-arith -Wundef -Wformat-security -ftree-vectorize -Aeval:scriptdir=/home/Nigel/perl5/perlbrew/perls/perl-5.26.0/bin'
    hint=recommended
    useposix=true
    d_sigaction=define
    useithreads=define
    usemultiplicity=define
    use64bitint=define
    use64bitall=define
    uselongdouble=undef
    usemymalloc=n
    default_inc_excludes_dot=define
    bincompat5005=undef
  Compiler:
    cc='gcc'
    ccflags ='-DPERL_USE_SAFE_PUTENV -U__STRICT_ANSI__ -O2 -W -Wformat=2 -Wswitch -Wshadow -Wwrite-strings -Wuninitialized -Wall -pipe -mtune=native -march=native -fomit-frame-pointer -msse2 -msse -mmmx -mfpmath=sse -D_FORTIFY_SOURCE=2 -Wpointer-arith -Wstrict-prototypes -fstack-protector -Wstack-protector -Wextra -Wbad-function-cast -Wcast-align -Wcast-qual -Wdisabled-optimization -Wendif-labels -Wfloat-equal -Wformat-nonliteral -Winline -Wmissing-declarations -Wmissing-prototypes -Wnested-externs -Wpointer-arith -Wundef -Wformat-security -ftree-vectorize -fwrapv -fno-strict-aliasing -fstack-protector-strong'
    optimize='-O3'
    cppflags='-DPERL_USE_SAFE_PUTENV -U__STRICT_ANSI__ -O2 -W -Wformat=2 -Wswitch -Wshadow -Wwrite-strings -Wuninitialized -Wall -pipe -mtune=native -march=native -fomit-frame-pointer -msse2 -msse -mmmx -mfpmath=sse -D_FORTIFY_SOURCE=2 -Wpointer-arith -Wstrict-prototypes -fstack-protector -Wstack-protector -Wextra -Wbad-function-cast -Wcast-align -Wcast-qual -Wdisabled-optimization -Wendif-labels -Wfloat-equal -Wformat-nonliteral -Winline -Wmissing-declarations -Wmissing-prototypes -Wnested-externs -Wpointer-arith -Wundef -Wformat-security -ftree-vectorize -fwrapv -fno-strict-aliasing -fstack-protector-strong'
    ccversion=''
    gccversion='5.4.0'
    gccosandvers=''
    intsize=4
    longsize=8
    ptrsize=8
    doublesize=8
    byteorder=12345678
    doublekind=3
    d_longlong=define
    longlongsize=8
    d_longdbl=define
    longdblsize=16
    longdblkind=3
    ivtype='long'
    ivsize=8
    nvtype='double'
    nvsize=8
    Off_t='off_t'
    lseeksize=8
    alignbytes=8
    prototype=define
  Linker and Libraries:
    ld='g++'
    ldflags =' -Wl,--enable-auto-import -Wl,--export-all-symbols -Wl,--enable-auto-image-base -fstack-protector-strong -L/usr/local/lib'
    libpth=/usr/lib /usr/lib/gcc/x86_64-pc-cygwin/5.4.0/../../../../lib/../include/w32api /usr/local/lib /lib
    libs=-lpthread -ldl -lcrypt
    perllibs=-lpthread -ldl -lcrypt
    libc=/usr/lib/libc.a
    so=dll
    useshrplib=true
    libperl=cygperl5_26_0.dll
    gnulibc_version=''
  Dynamic Linking:
    dlsrc=dl_dlopen.xs
    dlext=dll
    d_dlsymun=undef
    ccdlflags=' '
    cccdlflags=' '
    lddlflags=' --shared  -Wl,--enable-auto-import -Wl,--export-all-symbols -Wl,--enable-auto-image-base -L/usr/local/lib -fstack-protector-strong'


Characteristics of this binary (from libperl): 
  Compile-time options:
    HAS_TIMES
    MULTIPLICITY
    PERLIO_LAYERS
    PERL_COPY_ON_WRITE
    PERL_DONT_CREATE_GVSV
    PERL_IMPLICIT_CONTEXT
    PERL_MALLOC_WRAP
    PERL_OP_PARENT
    PERL_PRESERVE_IVUV
    PERL_USE_DEVEL
    PERL_USE_SAFE_PUTENV
    USE_64_BIT_ALL
    USE_64_BIT_INT
    USE_ITHREADS
    USE_LARGE_FILES
    USE_LOCALE
    USE_LOCALE_COLLATE
    USE_LOCALE_CTYPE
    USE_LOCALE_NUMERIC
    USE_LOCALE_TIME
    USE_PERLIO
    USE_PERL_ATOF
    USE_REENTRANT_API
  Built under cygwin
  Compiled at Jul 23 2017 13:13:38
  %ENV:
    PERL5LIB=""
    PERL5OPT=""
    PERL5_CPANPLUS_IS_RUNNING="11324"
    PERL5_CPAN_IS_RUNNING="11324"
    PERLBREW_BASHRC_VERSION="0.75"
    PERLBREW_HOME="/home/Nigel/.perlbrew"
    PERLBREW_MANPATH="/home/Nigel/perl5/perlbrew/perls/perl-5.26.0/man"
    PERLBREW_PATH="/home/Nigel/perl5/perlbrew/bin:/home/Nigel/perl5/perlbrew/perls/perl-5.26.0/bin"
    PERLBREW_PERL="perl-5.26.0"
    PERLBREW_ROOT="/home/Nigel/perl5/perlbrew"
    PERLBREW_VERSION="0.75"
    PERL_USE_UNSAFE_INC="1"
  @INC:
    /home/Nigel/perl5/perlbrew/perls/perl-5.26.0/lib/site_perl/5.26.0/cygwin-thread-multi
    /home/Nigel/perl5/perlbrew/perls/perl-5.26.0/lib/site_perl/5.26.0
    /home/Nigel/perl5/perlbrew/perls/perl-5.26.0/lib/5.26.0/cygwin-thread-multi
    /home/Nigel/perl5/perlbrew/perls/perl-5.26.0/lib/5.26.0
    .