Back
From: metabase:user:d1ac2ff8-7f34-11e0-ad7d-d635d302c8a1
Subject: PASS LEOCHARRE-HTML-Text-1.05 v5.14.0 GNU/Linux
Date: 2011-06-02T23:55:08Z
This distribution has been tested as part of the CPAN Testers
project, supporting the Perl programming language. See
http://wiki.cpantesters.org/ for more information or email
questions to cpan-testers-discuss@perl.org
--
Dear Leo Charre,
This is a computer-generated report for LEOCHARRE-HTML-Text-1.05
on perl 5.14.0, created by CPAN-Reporter-1.1902.
Thank you for uploading your work to CPAN. Congratulations!
All tests were successful.
Sections of this report:
* Tester comments
* Program output
* Prerequisites
* Environment and other context
------------------------------
TESTER COMMENTS
------------------------------
Additional comments from tester:
this report is from an automated smoke testing program
and was not reviewed by a human for accuracy
------------------------------
PROGRAM OUTPUT
------------------------------
Output from '/usr/bin/make test':
PERL_DL_NONLAZY=1 /home/lonesome/perl-5.14.0/bin/perl "-MExtUtils::Command::MM" "-e" "test_harness(0, 'blib/lib', 'blib/arch')" t/*.t
======================================
TITLE====================
### @got: [
### '<title>BBC NEWS | News Front Page</title>'
### ]
======================================
SCRIPT====================
### @got: [
### '<script type="text/javascript">
<!--
var _SERVERLOC="THDO";
var _userLocation = \'INTERNATIONAL\';
-->
</script>',
### '<script src="/js/newsi/latest/newsi.js?9" type="text/javascript"></script>',
### '<script type="text/javascript" src="http://www.bbc.co.uk/glow/gloader.js"></script>',
### '<script type="text/javascript" src="http://newsimg.bbc.co.uk/js/app/shared/bbc_fmtj.js"></script>',
### '<script src="http://newsimg.bbc.co.uk/nol/ukfs_news/js/av.js?v2" language="JavaScript" type="text/javascript"></script>',
### '<script src="http://newsimg.bbc.co.uk/js/app/tools/hide_and_show/hide_and_show.js" type="text/javascript"></script>',
### '<script src="http://newsimg.bbc.co.uk/js/app/bookmark/bookmark.js" language="JavaScript" type="text/javascript"></script>',
### '<script src="http://newsimg.bbc.co.uk/nol/shared/js/csf_2.js" language="JavaScript" type="text/javascript"></script>',
### '<script src="http://newsimg.bbc.co.uk/js/app/rss/getrss.js" type="text/javascript"></script>',
### '<script src="http://newsimg.bbc.co.uk/js/app/radio/aod/radioplayer.js" type="text/javascript"></script>',
### '<script src="http://newsimg.bbc.co.uk/js/app/blq/blq_core.js" type="text/javascript"></script>',
### '<script type="text/javascript" src="http://newsimg.bbc.co.uk/js/app/site_wide_alert/site_wide_alert.js"></script>',
### '<script src="/nol/shared/js/livestats_v1_1.js?nocache=1" language="JavaScript" type="text/javascript"></script>',
### '<script src="http://newsimg.bbc.co.uk/nol/shared/js/nol4.js?v2" language="JavaScript" type="text/javascript"></script>',
### '<script src="http://newsimg.bbc.co.uk/js/app/av/emp/properties/default.js?v1" language="JavaScript" type="text/javascript"></script>',
### '<script src="http://newsimg.bbc.co.uk/js/app/av/emp/properties/en.js?v1" language="JavaScript" type="text/javascript"></script>',
### '<script src="http://newsimg.bbc.co.uk/js/app/av/emp/emp_fmtj.js?v20" language="JavaScript" type="text/javascript"></script>',
### '<script language="JavaScript" type="text/javascript">var emp_load = new bbc.emp_fmtj({});</script>',
### '<script src="/js/app/survey/bbc_worldwide_2008.js"></script>',
### '<script type="text/javascript">
var gBBCNewsSurveyInit=new newsi.surveyInit( "yes" );
</script>',
### '<script type="text/javascript">
function syncRoadBlock(src,companionId) {
var compidarg;
if (arguments.length == 2 && typeof companionId == \'string\') {
compidarg = companionId;
}
BBC.adverts.empCompanionResponse(src, compidarg);
};
</script>',
### '<script type="text/javascript">
if(typeof BBC === \'undefined\') var BBC = {};
BBC.adverts = {setZone: function(){}, configure: function(){}, write: function(){}, show: function(){}};
</script>',
### '<script type="text/javascript" src="/js/app/bbccom/bbccom.js?v=1.7.6"></script>',
### '<script type="text/javascript"><!--
(function(){
var fiddleredition = \'international\';
var url = \'/\';
var isHomePage = false;
switch(\'/\') {
case "/":
url = (fiddleredition === "domestic") ? "/1/hi/default.stm" : "/2/hi/default.stm";
isHomePage = true;
break;
case "/sport":
url = (fiddleredition === "domestic") ? "/sport1/hi/default.stm" : "/sport2/hi/default.stm";
isHomePage = true;
break;
case "/sport/":
url = (fiddleredition === "domestic") ? "/sport1/hi/default.stm" : "/sport2/hi/default.stm";
isHomePage = true;
break;
};
var zone = "3pt_zone_file", zoneOverride = false;
if(/[?|&]zone=(\\w*\\/*\\w+)(&|$)/.test(window.location.search)) {
zone = RegExp.$1;
zoneOverride = false;
};
if(/[?|&]zone=(http:\\/\\/.+(\\.bbc\\.co\\.uk\\/){1}.*(bbccom){1}.*\\.js)(&|$)/.test(window.location.search)) {
if (RegExp.$1.indexOf("/../") === -1) {
zone = RegExp.$1;
zoneOverride = true;
};
};
BBC.adverts.init({
domain: "news.bbc.co.uk",
location: url,
zoneVersion: zone,
zoneOverride: zoneOverride,
isEditionHomePage:isHomePage,
zoneReferrer: document.referrer
});
})();
--></script>',
### '<script type="text/javascript">
if(BBC.adverts){
BBC.adverts.setPageVersion(\'4\');
}
</script>',
### '<script type="text/javascript">if(!BBC.adverts.getIsHomePage()) {BBC.adverts.write("leaderboard");}</script>',
### '<script type="text/javascript">if(!BBC.adverts.getIsHomePage() ) {BBC.adverts.show("leaderboard"); }</script>',
### '<script type="text/javascript">BBC.adverts.write("button");</script>',
### '<script type="text/javascript">BBC.adverts.show("button");</script>',
### '<script>new getrss({site:"news"});</script>',
### '<script type="text/javascript">BBC.adverts.write("mpu");</script>',
### '<script type="text/javascript">BBC.adverts.show("mpu");</script>',
### '<script>
function liveStatsTabs(newTab,oldTab) {
if (document.getElementById)
{
document.getElementById(newTab).style.display = "inline";
document.getElementById(oldTab).style.display = "none";
return false;
}
else if (document.all)
{
document.all[oldTab].style.display = "none";
document.all[newTab].style.display = "inline";
return false;
}
else {
return true;
}
}
</script>',
### '<script>
liveStatsTabs(\'livestats1451\',\'livestats1450\');
liveStatsTabs(\'livestats1451\',\'livestats1454\');
</script>',
### '<script type="text/javascript">BBC.adverts.write("bottom");</script>',
### '<script type="text/javascript">BBC.adverts.show("bottom");</script>',
### '<script type="text/javascript" src="/js/app/bbccom/vs.js"></script>'
### ]
======================================
META====================
### @got: [
### '<meta name="contentFlavor" content="INDEX" />',
### '<meta name="description" content="Visit BBC News for up-to-the-minute news, breaking news, video, audio and feature stories. BBC News provides trusted World and UK news as well as local and regional perspectives. Also entertainment, business, science, technology and health news." />',
### '<meta name="keywords" content="BBC, News, BBC News, news online, world, uk, international, foreign, british, online, service" />',
### '<meta name="OriginalPublicationDate" content="2008/11/14 20:04:00" />',
### '<meta name="UKFS_URL" content="/2/hi/default.stm" />',
### '<meta name="IFS_URL" content="/2/hi/default.stm" />',
### '<meta http-equiv="content-type" content="text/html;charset=iso-8859-1" />',
### '<meta name="viewport" content="width=974"/>'
### ]
======================================
LINK====================
### @got: [
### '<link href="http://newsrss.bbc.co.uk/rss/newsonline_world_edition/front_page/rss.xml" rel="alternate" type="application/rss+xml" title="BBC NEWS | News Front Page" />',
### '<link href="/2/low/default.stm" rel="alternate" type="text/html" title="Low Graphics" />',
### '<link rel="apple-touch-icon" href="/nol/shared/img/iphone-news.png"/>',
### '<link type="text/css" rel="stylesheet" href="/css/screen/nol/v4/index.css?v75" />',
### '<link href="/css/screen/shared/3pt_ads.css" rel="stylesheet" type="text/css" />'
### ]
======================================
STYLE====================
### @got: [
### '<style type="text/css" media="all">
@import "/css/screen/shared/v4/mastheadfooter.css?v75";
@import "/css/screen/shared/v4/styles.css?v75";
@import "/css/screen/shared/emp.css?v75";
@import "/css/screen/shared/v4/sitewidealert.css?v3";
@import "/css/screen/nol/v4/uselection08.css?v6";
</style>',
### '<style type="text/css" media="screen">
#blq-mast span{position:absolute;top:-5000px;left:-5000px;}#blq-footerlinks{margin-right:7px;}
.blq-js #blq-nav-links-inner{background:none;height:100%;filter:progid:DXImageTransform.Microsoft.AlphaImageLoader(src=\'/shared/img/v4/panel.png\', sizingMethod=\'crop\');}
.blq-js #blq-nav-foot {background: none; overflow:hidden;}
.blq-js #blq-nav-foot div {height:10px; filter:progid:DXImageTransform.Microsoft.AlphaImageLoader(src=\'/shared/img/v4/panel.png\', sizingMethod=\'image\'); margin-top:-159px;}
</style>',
### '<style type="text/css" media="all">
@import "/css/screen/nol/v4/styles.css?v75";
@import "/css/screen/nol/v4/business.css?v75";
@import "/css/screen/nol/v4/furniture.css?v75";
</style>',
### '<style>
.test {}
</style>',
### '<style> .test2 {} </style>'
### ]
t/03_rip.t .................... ok
arg ./t/bbc.htmlarg ./t/bbc.html, type:file
length 77970779707273971641t/04_html2txt.t ............... ok
t/05-wget-w32safe-slurpmod.t .. ok
All tests successful.
Files=3, Tests=11, 4 wallclock secs ( 0.02 usr 0.01 sys + 0.15 cusr 0.09 csys = 0.27 CPU)
Result: PASS
------------------------------
PREREQUISITES
------------------------------
Prerequisite modules loaded:
requires:
Module Need Have
------------------- ---- -------
Carp 1 1.20
Config::Auto 0.20 0.34
Exporter 5 5.64_03
File::Which 0.05 1.09
FindBin 1.47 1.50
HTML::Entities 1.35 3.68
LEOCHARRE::CLI 1.19 1.19
LEOCHARRE::DEBUG 1.13 1.14
Smart::Comments 1 1.0.4
Test::More 0.8 0.98
Test::Simple 0 0.98
build_requires:
Module Need Have
------------------- ---- -------
ExtUtils::MakeMaker 0 6.57_11
configure_requires:
Module Need Have
------------------- ---- -------
ExtUtils::MakeMaker 0 6.57_11
------------------------------
ENVIRONMENT AND OTHER CONTEXT
------------------------------
Environment variables:
AUTOMATED_TESTING = 1
LANG = en_GB.UTF-8
PATH = /usr/lib/ccache:/usr/local/bin:/bin:/usr/bin:/usr/local/sbin:/usr/sbin:/sbin:/home/lonesome/bin
PERL5LIB =
PERL5OPT =
PERL5_CPANPLUS_IS_RUNNING = 23713
PERL5_CPAN_IS_RUNNING = 23713
PERL5_CPAN_IS_RUNNING_IN_RECURSION = 9665,23713
PERL_CR_SMOKER_CURRENT = LEOCHARRE-HTML-Text-1.05
PERL_EXTUTILS_AUTOINSTALL = --defaultdeps
PERL_MM_USE_DEFAULT = 1
SHELL = /bin/bash
TERM = screen
Perl special variables (and OS-specific diagnostics, for MSWin32):
$^X = /home/lonesome/perl-5.14.0/bin/perl
$UID/$EUID = 500 / 500
$GID = 500 10 500
$EGID = 500 10 500
Perl module toolchain versions installed:
Module Have
------------------- --------
CPAN 1.9600
Cwd 3.33
ExtUtils::CBuilder 0.280202
ExtUtils::Command 1.17
ExtUtils::Install 1.56
ExtUtils::MakeMaker 6.57_11
ExtUtils::Manifest 1.58
ExtUtils::ParseXS 2.2206
File::Spec 3.33
Module::Build 0.3800
Module::Signature 0.68
Test::Harness 3.23
Test::More 0.98
YAML 0.73
YAML::Syck 1.17
version 0.90
--
Summary of my perl5 (revision 5 version 14 subversion 0) configuration:
Platform:
osname=linux, osvers=2.6.38.6-27.fc15.i686, archname=i686-linux
uname='linux fedora15 2.6.38.6-27.fc15.i686 #1 smp sun may 15 17:57:13 utc 2011 i686 i686 i386 gnulinux '
config_args='-des -Dcc=ccache gcc -Dld=gcc -Dprefix=/home/lonesome/perl-5.14.0'
hint=recommended, useposix=true, d_sigaction=define
useithreads=undef, usemultiplicity=undef
useperlio=define, d_sfio=undef, uselargefiles=define, usesocks=undef
use64bitint=undef, use64bitall=undef, uselongdouble=undef
usemymalloc=n, bincompat5005=undef
Compiler:
cc='ccache gcc', ccflags ='-fno-strict-aliasing -pipe -fstack-protector -I/usr/local/include -D_LARGEFILE_SOURCE -D_FILE_OFFSET_BITS=64',
optimize='-O2',
cppflags='-fno-strict-aliasing -pipe -fstack-protector -I/usr/local/include'
ccversion='', gccversion='4.6.0 20110509 (Red Hat 4.6.0-7)', gccosandvers=''
intsize=4, longsize=4, ptrsize=4, doublesize=8, byteorder=1234
d_longlong=define, longlongsize=8, d_longdbl=define, longdblsize=12
ivtype='long', ivsize=4, nvtype='double', nvsize=8, Off_t='off_t', lseeksize=8
alignbytes=4, prototype=define
Linker and Libraries:
ld='gcc', ldflags =' -fstack-protector -L/usr/local/lib'
libpth=/usr/local/lib /lib /usr/lib
libs=-lnsl -ldl -lm -lcrypt -lutil -lc
perllibs=-lnsl -ldl -lm -lcrypt -lutil -lc
libc=/lib/libc-2.13.90.so, so=so, useshrplib=false, libperl=libperl.a
gnulibc_version='2.13.90'
Dynamic Linking:
dlsrc=dl_dlopen.xs, dlext=so, d_dlsymun=undef, ccdlflags='-Wl,-E'
cccdlflags='-fPIC', lddlflags='-shared -O2 -L/usr/local/lib -fstack-protector'
Characteristics of this binary (from libperl):
Compile-time options: PERL_DONT_CREATE_GVSV PERL_MALLOC_WRAP
PERL_PRESERVE_IVUV USE_LARGE_FILES USE_PERLIO
USE_PERL_ATOF
Built under linux
Compiled at Jun 1 2011 10:32:53
%ENV:
PERL5LIB=""
PERL5OPT=""
PERL5_CPANPLUS_IS_RUNNING="23713"
PERL5_CPAN_IS_RUNNING="23713"
PERL5_CPAN_IS_RUNNING_IN_RECURSION="9665,23713"
PERL_CR_SMOKER_CURRENT="LEOCHARRE-HTML-Text-1.05"
PERL_EXTUTILS_AUTOINSTALL="--defaultdeps"
PERL_MM_USE_DEFAULT="1"
@INC:
/home/lonesome/perl-5.14.0/lib/site_perl/5.14.0/i686-linux
/home/lonesome/perl-5.14.0/lib/site_perl/5.14.0
/home/lonesome/perl-5.14.0/lib/5.14.0/i686-linux
/home/lonesome/perl-5.14.0/lib/5.14.0
.