App-perlmv v0.609 Perl 5 v5.20.0 x86_64-linux

Status
Pass
From
Slaven Rezić
Dist
App-perlmv v0.609
Platform
Perl 5 v5.20.0 x86_64-linux
Date
2024-02-28T07:41:12
ID
beb65bb6-d60c-11ee-b682-7f006e8775ea
This distribution has been tested as part of the CPAN Testers
project, supporting the Perl programming language.  See
http://wiki.cpantesters.org/ for more information or email
questions to cpan-testers-discuss@perl.org


--
Dear perlancar,

This is a computer-generated report for App-perlmv-0.609
on perl 5.20.0, created by CPAN-Reporter-1.2018.

Thank you for uploading your work to CPAN.  Congratulations!
All tests were successful.

Sections of this report:

    * Tester comments
    * Program output
    * Prerequisites
    * Environment and other context

------------------------------
TESTER COMMENTS
------------------------------

Additional comments from tester:

none provided

------------------------------
PROGRAM OUTPUT
------------------------------

Output from '/usr/bin/make test':

PERL_DL_NONLAZY=1 "/opt/perl-5.20.0/bin/perl" "-MExtUtils::Command::MM" "-MTest::Harness" "-e" "undef *Test::Harness::Switches; test_harness(0, 'blib/lib', 'blib/arch')" t/*.t
t/00-compile.t ........................... ok
t/author-critic.t ........................ skipped: these tests are for testing by the author
t/author-pod-coverage.t .................. skipped: these tests are for testing by the author
t/author-pod-syntax.t .................... skipped: these tests are for testing by the author
t/cp.t ................................... ok
t/ln.t ................................... ok
t/ln_s.t ................................. ok
t/mv.t ................................... ok
t/recursive.t ............................ skipped: TODO
t/release-rinci.t ........................ skipped: these tests are for release candidate testing
ERROR: rename failed `a` -> `b/c/d`: No such file or directory
ERROR: rename failed `a` -> `b/c/d`: No such file or directory
t/rename.t ............................... ok
t/scriptlets.t ........................... ok
t/std_scriptlets-dedup-space.t ........... ok
t/std_scriptlets-keep-one-ext.t .......... ok
t/std_scriptlets-pinyin.t ................ ok
t/std_scriptlets-remove-all-ext.t ........ ok
t/std_scriptlets-remove-common-prefix.t .. ok
t/std_scriptlets-remove-common-suffix.t .. ok
t/std_scriptlets-remove-ext.t ............ ok
t/std_scriptlets-to-number-ext.t ......... ok
t/std_scriptlets-to-number.t ............. ok
t/std_scriptlets-to-timestamp-ext.t ...... ok
t/std_scriptlets-to-timestamp.t .......... ok
t/std_scriptlets-trim.t .................. ok
t/std_scriptlets-unaccent.t .............. ok
All tests successful.
Files=25, Tests=86,  3 wallclock secs ( 0.06 usr  0.02 sys +  1.45 cusr  0.62 csys =  2.15 CPU)
Result: PASS

------------------------------
PREREQUISITES
------------------------------

Prerequisite modules loaded:

requires:

    Module                 Need     Have    
    ---------------------- -------- --------
    Complete::File         0.440    0.443   
    Complete::Util         0.616    0.620   
    Cwd                    0        3.62    
    Exporter               5.57     5.70    
    File::Copy             0        2.29    
    File::Find             0        1.27    
    File::Path             2.07     2.12    
    File::Slurper          0        0.009   
    File::Spec             0        3.62    
    File::Util::Test       0.628    0.631   
    Getopt::Long::Complete 0        0.27    
    Module::List::Tiny     0        0.004003
    perl                   5.010001 5.020000
    strict                 0        1.08    
    vars                   0        1.03    
    warnings               0        1.23    

build_requires:

    Module                 Need     Have    
    ---------------------- -------- --------
    ExtUtils::MakeMaker    0        7.24    
    File::Spec             0        3.62    
    File::Temp             0.2307   0.2311  
    FindBin                0        1.51    
    IO::Handle             0        1.35    
    IPC::Open3             0        1.16    
    Test::Exception        0        0.43    
    Test::More             0.98     1.302056
    Test::Needs            0        0.002004

configure_requires:

    Module                 Need     Have    
    ---------------------- -------- --------
    ExtUtils::MakeMaker    0        7.24    


------------------------------
ENVIRONMENT AND OTHER CONTEXT
------------------------------

Environment variables:

    LANG = en_US.UTF-8
    LANGUAGE = en_US:en
    LC_ALL = en_US.UTF-8
    PATH = /usr/local/bin:/usr/bin:/bin:/usr/local/sbin:/usr/sbin:/sbin:/home/cpansand/bin/linux-gnu:/home/cpansand/bin/sh:/home/cpansand/bin:/usr/games:/home/cpansand/devel:/home/eserte/src/srezic-misc/scripts
    PERL5LIB = /home/cpansand/.cpan/build/2024022808/Module-List-Tiny-0.004003-0/blib/arch:/home/cpansand/.cpan/build/2024022808/Module-List-Tiny-0.004003-0/blib/lib:/home/cpansand/.cpan/build/2024022808/File-Util-Test-0.631-0/blib/arch:/home/cpansand/.cpan/build/2024022808/File-Util-Test-0.631-0/blib/lib:/home/cpansand/.cpan/build/2024022808/Complete-File-0.443-1/blib/arch:/home/cpansand/.cpan/build/2024022808/Complete-File-0.443-1/blib/lib:/home/cpansand/.cpan/build/2024022808/File-Temp-0.2311-2/blib/arch:/home/cpansand/.cpan/build/2024022808/File-Temp-0.2311-2/blib/lib:/home/cpansand/.cpan/build/2024022808/Complete-Path-0.251-2/blib/arch:/home/cpansand/.cpan/build/2024022808/Complete-Path-0.251-2/blib/lib:/home/cpansand/.cpan/build/2024022808/Complete-Acme-MetaSyntactic-0.002-0/blib/arch:/home/cpansand/.cpan/build/2024022808/Complete-Acme-MetaSyntactic-0.002-0/blib/lib:/home/cpansand/.cpan/build/2024022808/Complete-Util-0.620-2/blib/arch:/home/cpansand/.cpan/build/2024022808/Complete-Util-0.620-2/blib/lib:/home/cpansand/.cpan/build/2024022808/Log-ger-0.042-2/blib/arch:/home/cpansand/.cpan/build/2024022808/Log-ger-0.042-2/blib/lib:/home/cpansand/.cpan/build/2024022808/Scalar-List-Utils-1.63-2/blib/arch:/home/cpansand/.cpan/build/2024022808/Scalar-List-Utils-1.63-2/blib/lib
    PERL5OPT = 
    PERL5_CPANPLUS_IS_RUNNING = 32640
    PERL5_CPAN_IS_RUNNING = 32640
    PERL5_CPAN_IS_RUNNING_IN_RECURSION = 3823,32640
    PERLDOC = -MPod::Perldoc::ToTextOverstrike
    PERL_BATCH = yes
    PERL_CANARY_STABILITY_NOPROMPT = 1
    PERL_CPAN_REPORTER_CONFIG = /var/tmp/cpansmoker-1023/2024022807/cpanreporter_000_config.ini
    PERL_EXTUTILS_AUTOINSTALL = --defaultdeps
    PERL_USE_UNSAFE_INC = 1
    SHELL = /bin/zsh
    TERM = screen
    TMPDIR = /var/tmp/cpansmoker-1023/2024022807

Perl special variables (and OS-specific diagnostics, for MSWin32):

    $^X = /opt/perl-5.20.0/bin/perl
    $UID/$EUID = 1023 / 1023
    $GID = 1023 1023
    $EGID = 1023 1023

Perl module toolchain versions installed:

    Module              Have    
    ------------------- --------
    CPAN                2.16    
    CPAN::Meta          2.150010
    Cwd                 3.62    
    ExtUtils::CBuilder  0.280216
    ExtUtils::Command   7.24    
    ExtUtils::Install   1.67    
    ExtUtils::MakeMaker 7.24    
    ExtUtils::Manifest  1.70    
    ExtUtils::ParseXS   3.24    
    File::Spec          3.62    
    JSON                2.90    
    JSON::PP            2.27400 
    Module::Build       0.4220  
    Module::Signature   0.81    
    Parse::CPAN::Meta   2.150010
    Test::Harness       3.30    
    Test::More          1.302056
    YAML                1.17    
    YAML::Syck          1.29    
    version             0.9917  


--

Summary of my perl5 (revision 5 version 20 subversion 0) configuration:
   
  Platform:
    osname=linux, osvers=3.2.0-4-amd64, archname=x86_64-linux
    uname='linux cvrsnica-wheezy 3.2.0-4-amd64 #1 smp debian 3.2.54-2 x86_64 gnulinux '
    config_args='-ds -e -Dprefix=/opt/perl-5.20.0'
    hint=recommended, useposix=true, d_sigaction=define
    useithreads=undef, usemultiplicity=undef
    use64bitint=define, use64bitall=define, uselongdouble=undef
    usemymalloc=n, bincompat5005=undef
  Compiler:
    cc='cc', ccflags ='-fwrapv -fno-strict-aliasing -pipe -fstack-protector -I/usr/local/include -D_LARGEFILE_SOURCE -D_FILE_OFFSET_BITS=64',
    optimize='-O2',
    cppflags='-fwrapv -fno-strict-aliasing -pipe -fstack-protector -I/usr/local/include'
    ccversion='', gccversion='4.7.2', gccosandvers=''
    intsize=4, longsize=8, ptrsize=8, doublesize=8, byteorder=12345678
    d_longlong=define, longlongsize=8, d_longdbl=define, longdblsize=16
    ivtype='long', ivsize=8, nvtype='double', nvsize=8, Off_t='off_t', lseeksize=8
    alignbytes=8, prototype=define
  Linker and Libraries:
    ld='cc', ldflags =' -fstack-protector -L/usr/local/lib'
    libpth=/usr/local/lib /usr/lib/gcc/x86_64-linux-gnu/4.7/include-fixed /usr/include/x86_64-linux-gnu /usr/lib /lib/x86_64-linux-gnu /lib/../lib /usr/lib/x86_64-linux-gnu /usr/lib/../lib /lib
    libs=-lnsl -ldb -ldl -lm -lcrypt -lutil -lc
    perllibs=-lnsl -ldl -lm -lcrypt -lutil -lc
    libc=libc-2.13.so, so=so, useshrplib=false, libperl=libperl.a
    gnulibc_version='2.13'
  Dynamic Linking:
    dlsrc=dl_dlopen.xs, dlext=so, d_dlsymun=undef, ccdlflags='-Wl,-E'
    cccdlflags='-fPIC', lddlflags='-shared -O2 -L/usr/local/lib -fstack-protector'


Characteristics of this binary (from libperl): 
  Compile-time options: HAS_TIMES PERLIO_LAYERS PERL_DONT_CREATE_GVSV
                        PERL_HASH_FUNC_ONE_AT_A_TIME_HARD PERL_MALLOC_WRAP
                        PERL_NEW_COPY_ON_WRITE PERL_PRESERVE_IVUV
                        USE_64_BIT_ALL USE_64_BIT_INT USE_LARGE_FILES
                        USE_LOCALE USE_LOCALE_COLLATE USE_LOCALE_CTYPE
                        USE_LOCALE_NUMERIC USE_PERLIO USE_PERL_ATOF
  Built under linux
  Compiled at Jul 19 2014 07:43:18
  %ENV:
    PERL5LIB="/home/cpansand/.cpan/build/2024022808/Module-List-Tiny-0.004003-0/blib/arch:/home/cpansand/.cpan/build/2024022808/Module-List-Tiny-0.004003-0/blib/lib:/home/cpansand/.cpan/build/2024022808/File-Util-Test-0.631-0/blib/arch:/home/cpansand/.cpan/build/2024022808/File-Util-Test-0.631-0/blib/lib:/home/cpansand/.cpan/build/2024022808/Complete-File-0.443-1/blib/arch:/home/cpansand/.cpan/build/2024022808/Complete-File-0.443-1/blib/lib:/home/cpansand/.cpan/build/2024022808/File-Temp-0.2311-2/blib/arch:/home/cpansand/.cpan/build/2024022808/File-Temp-0.2311-2/blib/lib:/home/cpansand/.cpan/build/2024022808/Complete-Path-0.251-2/blib/arch:/home/cpansand/.cpan/build/2024022808/Complete-Path-0.251-2/blib/lib:/home/cpansand/.cpan/build/2024022808/Complete-Acme-MetaSyntactic-0.002-0/blib/arch:/home/cpansand/.cpan/build/2024022808/Complete-Acme-MetaSyntactic-0.002-0/blib/lib:/home/cpansand/.cpan/build/2024022808/Complete-Util-0.620-2/blib/arch:/home/cpansand/.cpan/build/2024022808/Complete-Util-0.620-2/blib/lib:/home/cpansand/.cpan/build/2024022808/Log-ger-0.042-2/blib/arch:/home/cpansand/.cpan/build/2024022808/Log-ger-0.042-2/blib/lib:/home/cpansand/.cpan/build/2024022808/Scalar-List-Utils-1.63-2/blib/arch:/home/cpansand/.cpan/build/2024022808/Scalar-List-Utils-1.63-2/blib/lib"
    PERL5OPT=""
    PERL5_CPANPLUS_IS_RUNNING="32640"
    PERL5_CPAN_IS_RUNNING="32640"
    PERL5_CPAN_IS_RUNNING_IN_RECURSION="3823,32640"
    PERLDOC="-MPod::Perldoc::ToTextOverstrike"
    PERL_BATCH="yes"
    PERL_CANARY_STABILITY_NOPROMPT="1"
    PERL_CPAN_REPORTER_CONFIG="/var/tmp/cpansmoker-1023/2024022807/cpanreporter_000_config.ini"
    PERL_EXTUTILS_AUTOINSTALL="--defaultdeps"
    PERL_USE_UNSAFE_INC="1"
  @INC:
    /home/cpansand/.cpan/build/2024022808/Module-List-Tiny-0.004003-0/blib/arch
    /home/cpansand/.cpan/build/2024022808/Module-List-Tiny-0.004003-0/blib/lib
    /home/cpansand/.cpan/build/2024022808/File-Util-Test-0.631-0/blib/arch
    /home/cpansand/.cpan/build/2024022808/File-Util-Test-0.631-0/blib/lib
    /home/cpansand/.cpan/build/2024022808/Complete-File-0.443-1/blib/arch
    /home/cpansand/.cpan/build/2024022808/Complete-File-0.443-1/blib/lib
    /home/cpansand/.cpan/build/2024022808/File-Temp-0.2311-2/blib/arch
    /home/cpansand/.cpan/build/2024022808/File-Temp-0.2311-2/blib/lib
    /home/cpansand/.cpan/build/2024022808/Complete-Path-0.251-2/blib/arch
    /home/cpansand/.cpan/build/2024022808/Complete-Path-0.251-2/blib/lib
    /home/cpansand/.cpan/build/2024022808/Complete-Acme-MetaSyntactic-0.002-0/blib/arch
    /home/cpansand/.cpan/build/2024022808/Complete-Acme-MetaSyntactic-0.002-0/blib/lib
    /home/cpansand/.cpan/build/2024022808/Complete-Util-0.620-2/blib/arch
    /home/cpansand/.cpan/build/2024022808/Complete-Util-0.620-2/blib/lib
    /home/cpansand/.cpan/build/2024022808/Log-ger-0.042-2/blib/arch
    /home/cpansand/.cpan/build/2024022808/Log-ger-0.042-2/blib/lib
    /home/cpansand/.cpan/build/2024022808/Scalar-List-Utils-1.63-2/blib/arch
    /home/cpansand/.cpan/build/2024022808/Scalar-List-Utils-1.63-2/blib/lib
    /opt/perl-5.20.0/lib/site_perl/5.20.0/x86_64-linux
    /opt/perl-5.20.0/lib/site_perl/5.20.0
    /opt/perl-5.20.0/lib/5.20.0/x86_64-linux
    /opt/perl-5.20.0/lib/5.20.0
    .