Report for HTTP-Engine-0.03005

Back
From: metabase:user:320bfe00-2aae-11df-837a-5e0a49663a4f
Subject: PASS HTTP-Engine-0.03005 v5.15.7 GNU/Linux
Date: 2012-01-23T11:31:08Z

This distribution has been tested as part of the CPAN Testers
project, supporting the Perl programming language.  See
http://wiki.cpantesters.org/ for more information or email
questions to cpan-testers-discuss@perl.org


--
Dear Kazuhiro Osawa,

This is a computer-generated report for HTTP-Engine-0.03005
on perl 5.15.7, created by CPAN-Reporter-1.2003.

Thank you for uploading your work to CPAN.  Congratulations!
All tests were successful.

Sections of this report:

    * Tester comments
    * Program output
    * Prerequisites
    * Environment and other context

------------------------------
TESTER COMMENTS
------------------------------

Additional comments from tester:

this report is from an automated smoke testing program
and was not reviewed by a human for accuracy

------------------------------
PROGRAM OUTPUT
------------------------------

Output from '/usr/bin/make test':

PERL_DL_NONLAZY=1 /home/sand/src/perl/repoperls/installed-perls/perl/v5.15.7/9980/bin/perl "-MExtUtils::Command::MM" "-e" "test_harness(0, 'inc', 'blib/lib', 'blib/arch')" t/*.t t/*/*.t t/moose/*/*.t
# Soft dependency versions:
#  Any::Moose 0.18
#  Mouse 0.97
#  MooseX::Types 0.31
t/00_compile.t .............................................. ok
t/010_core/builder_options-upload_tmp.t ..................... ok
t/010_core/interface-require.t .............................. ok
t/010_core/interface.t ...................................... ok
t/010_core/load_requestbuilder_cgi.t ........................ ok
t/010_core/request-absolute_uri.t ........................... ok
t/010_core/request-as_http_request.t ........................ ok
t/010_core/request-as_string.t .............................. ok
t/010_core/request-body.t ................................... ok
t/010_core/request-content.t ................................ ok
t/010_core/request-cookie.t ................................. ok
t/010_core/request-hostname.t ............................... ok
t/010_core/request-many_upload.t ............................ ok
t/010_core/request-parameters.t ............................. ok
t/010_core/request-params.t ................................. ok
t/010_core/request-parse.t .................................. ok
t/010_core/request-proxy_request.t .......................... ok
t/010_core/request-raw_body.t ............................... ok
t/010_core/request-readbody.t ............................... ok
t/010_core/request-secure.t ................................. ok
t/010_core/request-upload.t ................................. ok
t/010_core/request-uri.t .................................... ok
t/010_core/request.t ........................................ ok
t/010_core/request_builder-noenv.t .......................... ok
t/010_core/request_processor-catch_error.t .................. ok
t/010_core/request_processor-make_request.t ................. ok
t/010_core/request_processor-response_error.t ............... ok
t/010_core/request_upload-basename.t ........................ ok
t/010_core/response-code.t .................................. ok
t/010_core/response-coerce_headers.t ........................ ok
t/010_core/response-content_length.t ........................ ok
t/010_core/response-cookie.t ................................ ok
t/010_core/response-new.t ................................... ok
t/010_core/response-set_http_response.t ..................... ok
t/010_core/response-status.t ................................ ok
t/010_core/response.t ....................................... ok
t/010_core/response_finalizer.t ............................. ok
t/010_core/response_writer.t ................................ ok
t/010_core/responsewriter-broken_io.t ....................... ok
t/010_core/responsewriter-with_io.t ......................... ok
t/020_interface/cgi.t ....................................... ok
t/020_interface/lighty-fcgi.t ............................... skipped: set TEST_LIGHTTPD to enable this test
t/020_interface/modperl_wildcard_hostname.t ................. skipped: this test requires mod_perl 2
t/020_interface/poe-proxy.t ................................. skipped: this test requires POE::Component::Client::HTTP
t/020_interface/poe-uri.t ................................... skipped: this test requires POE::Component::Client::HTTP
t/020_interface/poe.t ....................................... skipped: this test requires POE::Component::Client::HTTP
t/020_interface/psgi-with_plack.t ........................... ok
t/020_interface/psgi.t ...................................... ok
defined(@array) is deprecated at /home/src/perl/repoperls/installed-perls/perl/v5.15.7/9980/lib/site_perl/5.15.7/Net/Server.pm line 211, <DATA> line 11.
	(Maybe you should just omit the defined()?)
t/020_interface/server_simple-net_server_configure.t ........ ok
t/020_interface/server_simple-not-send-header-bug.t ......... ok
t/020_interface/server_simple-print_banner.t ................ ok
t/020_interface/server_simple.t ............................. ok
t/020_interface/standalone-keep_alive.t ..................... skipped: Interface::Standalone will be removed
t/020_interface/standalone-restart.t ........................ skipped: Interface::Standalone will be removed
t/020_interface/streaming_response.t ........................ ok
t/020_interface/test-validation.t ........................... ok
t/020_interface/test-warn_at_utf8.t ......................... ok
t/020_interface/test.t ...................................... ok
t/020_interface/test_response-with_io.t ..................... ok
t/020_interface/test_upload.t ............................... ok
t/030_daemonize/connection_info.t ........................... ok
t/030_daemonize/headers.t ................................... ok
t/030_daemonize/proxy_path.t ................................ ok
t/030_daemonize/raw_body.t .................................. ok
t/030_daemonize/request_independence.t ...................... ok
t/030_daemonize/responsewriter_io.t ......................... ok
t/030_daemonize/upload-methods.t ............................ ok
t/030_daemonize/upload.t .................................... ok
t/030_daemonize/uri.t ....................................... ok
t/030_daemonize/utf8flagged-uri.t ........................... ok
t/040_minimal/001_simple.t .................................. ok
t/050_tests/request.t ....................................... ok
# Soft dependency versions:
#  Any::Moose 0.18
#  Mouse 0.97
#  MooseX::Types 0.31
t/moose/00_compile.t ........................................ ok
t/moose/010_core/builder_options-upload_tmp.t ............... ok
t/moose/010_core/interface-require.t ........................ ok
t/moose/010_core/interface.t ................................ ok
t/moose/010_core/load_requestbuilder_cgi.t .................. ok
t/moose/010_core/request-absolute_uri.t ..................... ok
t/moose/010_core/request-as_http_request.t .................. ok
t/moose/010_core/request-as_string.t ........................ ok
t/moose/010_core/request-body.t ............................. ok
t/moose/010_core/request-content.t .......................... ok
t/moose/010_core/request-cookie.t ........................... ok
t/moose/010_core/request-hostname.t ......................... ok
t/moose/010_core/request-many_upload.t ...................... ok
t/moose/010_core/request-parameters.t ....................... ok
t/moose/010_core/request-params.t ........................... ok
t/moose/010_core/request-parse.t ............................ ok
t/moose/010_core/request-proxy_request.t .................... ok
t/moose/010_core/request-raw_body.t ......................... ok
t/moose/010_core/request-readbody.t ......................... ok
t/moose/010_core/request-secure.t ........................... ok
t/moose/010_core/request-upload.t ........................... ok
t/moose/010_core/request-uri.t .............................. ok
t/moose/010_core/request.t .................................. ok
t/moose/010_core/request_builder-noenv.t .................... ok
t/moose/010_core/request_processor-catch_error.t ............ ok
t/moose/010_core/request_processor-make_request.t ........... ok
t/moose/010_core/request_processor-response_error.t ......... ok
t/moose/010_core/request_upload-basename.t .................. ok
t/moose/010_core/response-code.t ............................ ok
t/moose/010_core/response-coerce_headers.t .................. ok
t/moose/010_core/response-content_length.t .................. ok
t/moose/010_core/response-cookie.t .......................... ok
t/moose/010_core/response-new.t ............................. ok
t/moose/010_core/response-set_http_response.t ............... ok
t/moose/010_core/response-status.t .......................... ok
t/moose/010_core/response.t ................................. ok
t/moose/010_core/response_finalizer.t ....................... ok
t/moose/010_core/response_writer.t .......................... ok
t/moose/010_core/responsewriter-broken_io.t ................. ok
t/moose/010_core/responsewriter-with_io.t ................... ok
t/moose/020_interface/cgi.t ................................. ok
t/moose/020_interface/lighty-fcgi.t ......................... skipped: set TEST_LIGHTTPD to enable this test
t/moose/020_interface/modperl_wildcard_hostname.t ........... skipped: this test requires mod_perl 2
t/moose/020_interface/poe-proxy.t ........................... skipped: this test requires POE::Component::Client::HTTP
t/moose/020_interface/poe-uri.t ............................. skipped: this test requires POE::Component::Client::HTTP
t/moose/020_interface/poe.t ................................. skipped: this test requires POE::Component::Client::HTTP
t/moose/020_interface/psgi-with_plack.t ..................... ok
t/moose/020_interface/psgi.t ................................ ok
defined(@array) is deprecated at /home/src/perl/repoperls/installed-perls/perl/v5.15.7/9980/lib/site_perl/5.15.7/Net/Server.pm line 211, <DATA> line 11.
	(Maybe you should just omit the defined()?)
t/moose/020_interface/server_simple-net_server_configure.t .. ok
t/moose/020_interface/server_simple-not-send-header-bug.t ... ok
t/moose/020_interface/server_simple-print_banner.t .......... ok
t/moose/020_interface/server_simple.t ....................... ok
t/moose/020_interface/standalone-keep_alive.t ............... skipped: Interface::Standalone will be removed
t/moose/020_interface/standalone-restart.t .................. skipped: Interface::Standalone will be removed
t/moose/020_interface/streaming_response.t .................. ok
t/moose/020_interface/test-validation.t ..................... ok
t/moose/020_interface/test-warn_at_utf8.t ................... ok
t/moose/020_interface/test.t ................................ ok
t/moose/020_interface/test_response-with_io.t ............... ok
t/moose/020_interface/test_upload.t ......................... ok
t/moose/030_daemonize/connection_info.t ..................... ok
t/moose/030_daemonize/headers.t ............................. ok
t/moose/030_daemonize/proxy_path.t .......................... ok
t/moose/030_daemonize/raw_body.t ............................ ok
t/moose/030_daemonize/request_independence.t ................ ok
t/moose/030_daemonize/responsewriter_io.t ................... ok
t/moose/030_daemonize/upload-methods.t ...................... ok
t/moose/030_daemonize/upload.t .............................. ok
t/moose/030_daemonize/uri.t ................................. ok
t/moose/030_daemonize/utf8flagged-uri.t ..................... ok
t/moose/040_minimal/001_simple.t ............................ ok
t/moose/050_tests/request.t ................................. ok
All tests successful.
Files=144, Tests=1362, 62 wallclock secs ( 0.55 usr  0.14 sys + 43.87 cusr  4.40 csys = 48.96 CPU)
Result: PASS

------------------------------
PREREQUISITES
------------------------------

Prerequisite modules loaded:

requires:

    Module               Need   Have    
    -------------------- ------ --------
    Any::Moose           0.13   0.18    
    CGI::Simple::Cookie  1.103  1.113   
    File::Copy           0      2.21    
    File::Spec::Unix     3.2701 3.39_01 
    Filter::Util::Call   0      1.39    
    HTTP::Body           1.05   1.15    
    HTTP::Headers::Fast  0.11   0.13    
    HTTP::Server::Simple 0.35   0.44    
    Mouse                0.62   0.97    
    MouseX::Types        0.05   0.06    
    perl                 5.008  5.015007
    Scalar::Util         1.19   1.23    
    URI                  1.36   1.59    

build_requires:

    Module               Need   Have    
    -------------------- ------ --------
    ExtUtils::MakeMaker  6.42   6.63_02 
    File::Temp           0.20   0.22    
    HTTP::Request::AsCGI 0      1.2     
    IO::File             1.14   1.16    
    IO::Scalar           0      2.110   
    IO::Socket           1.3    1.34    
    IO::Socket::INET     0      1.33    
    Test::More           0      0.98    
  ! Test::SharedFork     0.11   broken  
    Test::TCP            0.16   1.14    
    YAML                 0      0.78    

configure_requires:

    Module               Need   Have    
    -------------------- ------ --------
    ExtUtils::MakeMaker  6.42   6.63_02 


------------------------------
ENVIRONMENT AND OTHER CONTEXT
------------------------------

Environment variables:

    AUTOMATED_TESTING = 1
    LANG = en_US.UTF-8
    LANGUAGE = en_US:en
    PATH = /home/sand/bin:/usr/local/bin:/usr/bin:/bin:/usr/bin/X11:/usr/games:/usr/local/perl/bin:/usr/X11/bin:/sbin:/usr/sbin
    PERL5LIB = 
    PERL5OPT = 
    PERL5_CPANPLUS_IS_RUNNING = 25340
    PERL5_CPAN_IS_RUNNING = 25340
    PERL_MM_USE_DEFAULT = 1
    SHELL = /usr/bin/zsh
    TERM = screen

Perl special variables (and OS-specific diagnostics, for MSWin32):

    $^X = /home/sand/src/perl/repoperls/installed-perls/perl/v5.15.7/9980/bin/perl
    $UID/$EUID = 1005 / 1005
    $GID = 1005 1005
    $EGID = 1005 1005

Perl module toolchain versions installed:

    Module              Have    
    ------------------- --------
    CPAN                1.9800  
    CPAN::Meta          2.113640
    Cwd                 3.39_01 
    ExtUtils::CBuilder  0.280202
    ExtUtils::Command   1.17    
    ExtUtils::Install   1.57    
    ExtUtils::MakeMaker 6.63_02 
    ExtUtils::Manifest  1.61    
    ExtUtils::ParseXS   3.12    
    File::Spec          3.39_01 
    JSON                2.53    
    JSON::PP            2.27200 
    Module::Build       0.39_01 
    Module::Signature   0.68    
    Parse::CPAN::Meta   1.4401  
    Test::Harness       3.23    
    Test::More          0.98    
    YAML                0.78    
    YAML::Syck          1.19    
    version             0.96    


--

Summary of my perl5 (revision 5 version 15 subversion 7) configuration:
  Commit id: 75ae21a085ad289d479c9d541163599ff4c70f3b
  Platform:
    osname=linux, osvers=2.6.32-5-amd64, archname=x86_64-linux-thread-multi
    uname='linux k83 2.6.32-5-amd64 #1 smp thu nov 3 03:41:26 utc 2011 x86_64 gnulinux '
    config_args='-Dprefix=/home/src/perl/repoperls/installed-perls/perl/v5.15.7/9980 -Dmyhostname=k83 -Dinstallusrbinperl=n -Uversiononly -Dusedevel -des -Ui_db -Duseithreads -Uuselongdouble -DDEBUGGING=-g'
    hint=recommended, useposix=true, d_sigaction=define
    useithreads=define, usemultiplicity=define
    useperlio=define, d_sfio=undef, uselargefiles=define, usesocks=undef
    use64bitint=define, use64bitall=define, uselongdouble=undef
    usemymalloc=n, bincompat5005=undef
  Compiler:
    cc='cc', ccflags ='-D_REENTRANT -D_GNU_SOURCE -fno-strict-aliasing -pipe -fstack-protector -I/usr/local/include -D_LARGEFILE_SOURCE -D_FILE_OFFSET_BITS=64',
    optimize='-O2 -g',
    cppflags='-D_REENTRANT -D_GNU_SOURCE -fno-strict-aliasing -pipe -fstack-protector -I/usr/local/include'
    ccversion='', gccversion='4.4.5', gccosandvers=''
    intsize=4, longsize=8, ptrsize=8, doublesize=8, byteorder=12345678
    d_longlong=define, longlongsize=8, d_longdbl=define, longdblsize=16
    ivtype='long', ivsize=8, nvtype='double', nvsize=8, Off_t='off_t', lseeksize=8
    alignbytes=8, prototype=define
  Linker and Libraries:
    ld='cc', ldflags =' -fstack-protector -L/usr/local/lib'
    libpth=/usr/local/lib /lib/../lib /usr/lib/../lib /lib /usr/lib /lib64 /usr/lib64
    libs=-lnsl -ldb -ldl -lm -lcrypt -lutil -lpthread -lc
    perllibs=-lnsl -ldl -lm -lcrypt -lutil -lpthread -lc
    libc=/lib/libc-2.11.2.so, so=so, useshrplib=false, libperl=libperl.a
    gnulibc_version='2.11.2'
  Dynamic Linking:
    dlsrc=dl_dlopen.xs, dlext=so, d_dlsymun=undef, ccdlflags='-Wl,-E'
    cccdlflags='-fPIC', lddlflags='-shared -O2 -g -L/usr/local/lib -fstack-protector'


Characteristics of this binary (from libperl): 
  Compile-time options: HAS_TIMES MULTIPLICITY PERLIO_LAYERS
                        PERL_DONT_CREATE_GVSV PERL_IMPLICIT_CONTEXT
                        PERL_MALLOC_WRAP PERL_PRESERVE_IVUV PERL_USE_DEVEL
                        USE_64_BIT_ALL USE_64_BIT_INT USE_ITHREADS
                        USE_LARGE_FILES USE_LOCALE USE_LOCALE_COLLATE
                        USE_LOCALE_CTYPE USE_LOCALE_NUMERIC USE_PERLIO
                        USE_PERL_ATOF USE_REENTRANT_API
  Built under linux
  Compiled at Jan 21 2012 13:04:20
  %ENV:
    PERL5LIB=""
    PERL5OPT=""
    PERL5_CPANPLUS_IS_RUNNING="25340"
    PERL5_CPAN_IS_RUNNING="25340"
    PERL_MM_USE_DEFAULT="1"
  @INC:
    /home/src/perl/repoperls/installed-perls/perl/v5.15.7/9980/lib/site_perl/5.15.7/x86_64-linux-thread-multi
    /home/src/perl/repoperls/installed-perls/perl/v5.15.7/9980/lib/site_perl/5.15.7
    /home/src/perl/repoperls/installed-perls/perl/v5.15.7/9980/lib/5.15.7/x86_64-linux-thread-multi
    /home/src/perl/repoperls/installed-perls/perl/v5.15.7/9980/lib/5.15.7
    .