Parallel-ForkManager v1.19 Perl 5 v5.27.4 x86_64-linux

Status
Pass
From
Nigel Horne
Dist
Parallel-ForkManager v1.19
Platform
Perl 5 v5.27.4 x86_64-linux
Date
2017-12-02 23:01:34
ID
be5ef4aa-d7b4-11e7-b8bd-809199b835e7
This distribution has been tested as part of the CPAN Testers
project, supporting the Perl programming language.  See
http://wiki.cpantesters.org/ for more information or email
questions to cpan-testers-discuss@perl.org


--
Dear Yanick Champoux,

This is a computer-generated report for Parallel-ForkManager-1.19
on perl 5.27.4, created by CPAN-Reporter-1.2018.

Thank you for uploading your work to CPAN.  Congratulations!
All tests were successful.

Sections of this report:

    * Tester comments
    * Program output
    * Prerequisites
    * Environment and other context

------------------------------
TESTER COMMENTS
------------------------------

Additional comments from tester:

this report is from an automated smoke testing program
and was not reviewed by a human for accuracy

------------------------------
PROGRAM OUTPUT
------------------------------

Output from '/usr/bin/make test':

PERL_DL_NONLAZY=1 "/home/njh/perl5/perlbrew/perls/perl-5.27.4-clang/bin/perl5.27.4" "-MExtUtils::Command::MM" "-MTest::Harness" "-e" "undef *Test::Harness::Switches; test_harness(0, 'blib/lib', 'blib/arch')" t/*.t
# This test can take 10-20 seconds, please wait. Started at Sat Dec  2 18:01:06 2017
t/00-compile.t ............ ok
# time: 0 seconds
# 
# Versions for all modules listed in MYMETA.json (including optional ones):
# 
# === Configure Requires ===
# 
#     Module              Want Have
#     ------------------- ---- ----
#     ExtUtils::MakeMaker  any 7.30
# 
# === Build Requires ===
# 
#     Module              Want Have
#     ------------------- ---- ----
#     ExtUtils::MakeMaker  any 7.30
# 
# === Test Requires ===
# 
#     Module              Want     Have
#     ------------------- ---- --------
#     ExtUtils::MakeMaker  any     7.30
#     File::Spec           any     3.68
#     IO::Handle           any     1.36
#     IPC::Open3           any     1.20
#     Test::More          0.94 1.302106
#     Test::Warn           any     0.32
#     warnings             any     1.37
# 
# === Test Recommends ===
# 
#     Module         Want     Have
#     ---------- -------- --------
#     CPAN::Meta 2.120900 2.150010
# 
# === Runtime Requires ===
# 
#     Module     Want   Have
#     ---------- ---- ------
#     Carp        any   1.43
#     File::Path  any   2.15
#     File::Spec  any   3.68
#     File::Temp  any 0.2304
#     POSIX       any   1.77
#     Storable    any   2.64
#     strict      any   1.11
# 
t/00-report-prereqs.t ..... ok
# time: 20 seconds
t/01-utf8-all.t ........... skipped: Need utf8::all for this test crashing on Windows
# time: 1 seconds
t/02-callback.t ........... ok
# time: 7 seconds
t/00-load.t ............... ok
t/waitpid_blocking.t ...... ok
# code outside of P::FM stole 18605
t/waitpid-waitonechild.t .. ok
t/changing-pids.t ......... ok
# code outside of P::FM stole 18562
child process '18562' disappeared. A call to `waitpid` outside of Parallel::ForkManager might have reaped it.
t/waitpid-conflict.t ...... ok
# This test can take 2-6 seconds, please wait. Started at Sat Dec  2 18:01:06 2017
t/03-callback-data.t ...... ok
t/basic-methods.t ......... ok
t/start_child.t ........... ok
All tests successful.

Test Summary Report
-------------------
t/waitpid-waitonechild.t (Wstat: 0 Tests: 3 Failed: 0)
  TODO passed:   1-3
t/waitpid-conflict.t    (Wstat: 0 Tests: 2 Failed: 0)
  TODO passed:   1-2
Files=12, Tests=27, 28 wallclock secs ( 0.03 usr  0.01 sys +  1.07 cusr  0.38 csys =  1.49 CPU)
Result: PASS

------------------------------
PREREQUISITES
------------------------------

Prerequisite modules loaded:

requires:

    Module              Need  Have    
    ------------------- ----- --------
    Carp                0     1.43    
    File::Path          0     2.15    
    File::Spec          0     3.68    
    File::Temp          0     0.2304  
    perl                5.006 5.027004
    POSIX               0     1.77    
    Storable            0     2.64    
    strict              0     1.11    

build_requires:

    Module              Need  Have    
    ------------------- ----- --------
    ExtUtils::MakeMaker 0     7.30    
    File::Spec          0     3.68    
    IO::Handle          0     1.36    
    IPC::Open3          0     1.20    
    Test::More          0.94  1.302106
    Test::Warn          0     0.32    
    warnings            0     1.37    

configure_requires:

    Module              Need  Have    
    ------------------- ----- --------
    ExtUtils::MakeMaker 0     7.30    


------------------------------
ENVIRONMENT AND OTHER CONTEXT
------------------------------

Environment variables:

    AUTOMATED_TESTING = 1
    HARNESS_OPTIONS = j10
    LANG = en_GB.UTF-8
    PATH = /home/njh/perl5/perlbrew/bin:/home/njh/perl5/perlbrew/perls/perl-5.27.4-clang/bin:/usr/bin:/bin:src/njh/smoker/bin
    PERL5LIB = /tmp/build/HTML-Tree-5.07-20/blib/arch:/tmp/build/HTML-Tree-5.07-20/blib/lib:/tmp/build/File-Slurp-9999.19-16/blib/arch:/tmp/build/File-Slurp-9999.19-16/blib/lib:/tmp/build/Encode-Detect-CJK-2.0.2-45/blib/arch:/tmp/build/Encode-Detect-CJK-2.0.2-45/blib/lib:/tmp/build/Data-MessagePack-1.00-45/blib/arch:/tmp/build/Data-MessagePack-1.00-45/blib/lib:/tmp/build/Test-Requires-0.10-3/blib/arch:/tmp/build/Test-Requires-0.10-3/blib/lib
    PERL5OPT = 
    PERL5_CPANPLUS_IS_RUNNING = 17825
    PERL5_CPAN_IS_RUNNING = 17825
    PERLBREW_BASHRC_VERSION = 0.80
    PERLBREW_HOME = /home/njh/.perlbrew
    PERLBREW_MANPATH = /home/njh/perl5/perlbrew/perls/perl-5.27.4-clang/man
    PERLBREW_PATH = /home/njh/perl5/perlbrew/bin:/home/njh/perl5/perlbrew/perls/perl-5.27.4-clang/bin
    PERLBREW_PERL = perl-5.27.4-clang
    PERLBREW_ROOT = /home/njh/perl5/perlbrew
    PERLBREW_VERSION = 0.80
    PERL_CPAN_REPORTER_DIR = /home/njh/.cpanreporter/perl-5.27.4-clang
    PERL_USE_UNSAFE_INC = 1
    SHELL = /bin/sh

Perl special variables (and OS-specific diagnostics, for MSWin32):

    $^X = /home/njh/perl5/perlbrew/perls/perl-5.27.4-clang/bin/perl5.27.4
    $UID/$EUID = 1000 / 1000
    $GID = 1000 4 24 25 29 30 44 46 107 112 118 1000
    $EGID = 1000 4 24 25 29 30 44 46 107 112 118 1000

Perl module toolchain versions installed:

    Module              Have    
    ------------------- --------
    CPAN                2.18    
    CPAN::Meta          2.150010
    Cwd                 3.68    
    ExtUtils::CBuilder  0.280228
    ExtUtils::Command   7.30    
    ExtUtils::Install   2.14    
    ExtUtils::MakeMaker 7.30    
    ExtUtils::Manifest  1.70    
    ExtUtils::ParseXS   3.35    
    File::Spec          3.68    
    JSON                n/a     
    JSON::PP            2.94    
    Module::Build       0.4224  
    Module::Signature   n/a     
    Parse::CPAN::Meta   2.150010
    Test::Harness       3.39    
    Test::More          1.302106
    YAML                1.24    
    YAML::Syck          1.30    
    version             0.9918  


--

Summary of my perl5 (revision 5 version 27 subversion 4) configuration:
   
  Platform:
    osname=linux
    osvers=4.13.0-1-amd64
    archname=x86_64-linux
    uname='linux microcenter 4.13.0-1-amd64 #1 smp debian 4.13.4-2 (2017-10-15) x86_64 gnulinux '
    config_args='-de -Dprefix=/home/njh/perl5/perlbrew/perls/perl-5.27.4-clang -Dusedevel -Dcc=clang -Dusedevel -Accflags=-O2 -W -Wformat=2 -Wswitch -Wshadow -Wwrite-strings -Wuninitialized -Wall -pipe -fomit-frame-pointer -pedantic -D_FORTIFY_SOURCE=2 -Wpointer-arith -Wstrict-prototypes -fstack-protector -Wstack-protector -Wextra -Wbad-function-cast -Wcast-align -Wcast-qual -Wdisabled-optimization -Wendif-labels -Wfloat-equal -Wformat-nonliteral -Winline -Wmissing-declarations -Wmissing-prototypes -Wnested-externs -Wpointer-arith -Wundef -Wformat-security -ftree-vectorize -msse -mfpmath=sse -msse2 -mssse3 -msse4.1 -msse4.2 -fdiagnostics-color=auto -mtune=native -march=native -Aeval:scriptdir=/home/njh/perl5/perlbrew/perls/perl-5.27.4-clang/bin'
    hint=recommended
    useposix=true
    d_sigaction=define
    useithreads=undef
    usemultiplicity=undef
    use64bitint=define
    use64bitall=define
    uselongdouble=undef
    usemymalloc=n
    default_inc_excludes_dot=define
    bincompat5005=undef
  Compiler:
    cc='clang'
    ccflags ='-O2 -W -Wformat=2 -Wswitch -Wshadow -Wwrite-strings -Wuninitialized -Wall -pipe -fomit-frame-pointer -pedantic -D_FORTIFY_SOURCE=2 -Wpointer-arith -Wstrict-prototypes -fstack-protector -Wstack-protector -Wextra -Wbad-function-cast -Wcast-align -Wcast-qual -Wdisabled-optimization -Wendif-labels -Wfloat-equal -Wformat-nonliteral -Winline -Wmissing-declarations -Wmissing-prototypes -Wnested-externs -Wpointer-arith -Wundef -Wformat-security -ftree-vectorize -msse -mfpmath=sse -msse2 -mssse3 -msse4.1 -msse4.2 -fdiagnostics-color=auto -mtune=native -march=native -fno-strict-aliasing -fstack-protector-strong -I/usr/local/include -D_LARGEFILE_SOURCE -D_FILE_OFFSET_BITS=64'
    optimize='-O2'
    cppflags='-O2 -W -Wformat=2 -Wswitch -Wshadow -Wwrite-strings -Wuninitialized -Wall -pipe -fomit-frame-pointer -pedantic -D_FORTIFY_SOURCE=2 -Wpointer-arith -Wstrict-prototypes -fstack-protector -Wstack-protector -Wextra -Wbad-function-cast -Wcast-align -Wcast-qual -Wdisabled-optimization -Wendif-labels -Wfloat-equal -Wformat-nonliteral -Winline -Wmissing-declarations -Wmissing-prototypes -Wnested-externs -Wpointer-arith -Wundef -Wformat-security -ftree-vectorize -msse -mfpmath=sse -msse2 -mssse3 -msse4.1 -msse4.2 -fdiagnostics-color=auto -mtune=native -march=native -fno-strict-aliasing -fstack-protector-strong -I/usr/local/include'
    ccversion=''
    gccversion='4.2.1 Compatible Clang 3.8.1 (tags/RELEASE_381/final)'
    gccosandvers=''
    intsize=4
    longsize=8
    ptrsize=8
    doublesize=8
    byteorder=12345678
    doublekind=3
    d_longlong=define
    longlongsize=8
    d_longdbl=define
    longdblsize=16
    longdblkind=3
    ivtype='long'
    ivsize=8
    nvtype='double'
    nvsize=8
    Off_t='off_t'
    lseeksize=8
    alignbytes=8
    prototype=define
  Linker and Libraries:
    ld='clang'
    ldflags =' -fstack-protector-strong -L/usr/local/lib'
    libpth=/usr/local/lib /usr/lib/llvm-3.8/bin/../lib/clang/3.8.1/lib /usr/include/x86_64-linux-gnu /usr/lib /lib/x86_64-linux-gnu /lib/../lib /usr/lib/x86_64-linux-gnu /usr/lib/../lib /lib
    libs=-lpthread -lnsl -lgdbm -ldb -ldl -lm -lcrypt -lutil -lc -lgdbm_compat
    perllibs=-lpthread -lnsl -ldl -lm -lcrypt -lutil -lc
    libc=libc-2.24.so
    so=so
    useshrplib=false
    libperl=libperl.a
    gnulibc_version='2.24'
  Dynamic Linking:
    dlsrc=dl_dlopen.xs
    dlext=so
    d_dlsymun=undef
    ccdlflags='-Wl,-E'
    cccdlflags='-fPIC'
    lddlflags='-shared -O2 -L/usr/local/lib -fstack-protector-strong'


Characteristics of this binary (from libperl): 
  Compile-time options:
    HAS_TIMES
    PERLIO_LAYERS
    PERL_COPY_ON_WRITE
    PERL_DONT_CREATE_GVSV
    PERL_MALLOC_WRAP
    PERL_OP_PARENT
    PERL_PRESERVE_IVUV
    PERL_USE_DEVEL
    USE_64_BIT_ALL
    USE_64_BIT_INT
    USE_LARGE_FILES
    USE_LOCALE
    USE_LOCALE_COLLATE
    USE_LOCALE_CTYPE
    USE_LOCALE_NUMERIC
    USE_LOCALE_TIME
    USE_PERLIO
    USE_PERL_ATOF
  Built under linux
  Compiled at Oct 25 2017 16:59:13
  %ENV:
    PERL5LIB="/tmp/build/HTML-Tree-5.07-20/blib/arch:/tmp/build/HTML-Tree-5.07-20/blib/lib:/tmp/build/File-Slurp-9999.19-16/blib/arch:/tmp/build/File-Slurp-9999.19-16/blib/lib:/tmp/build/Encode-Detect-CJK-2.0.2-45/blib/arch:/tmp/build/Encode-Detect-CJK-2.0.2-45/blib/lib:/tmp/build/Data-MessagePack-1.00-45/blib/arch:/tmp/build/Data-MessagePack-1.00-45/blib/lib:/tmp/build/Test-Requires-0.10-3/blib/arch:/tmp/build/Test-Requires-0.10-3/blib/lib"
    PERL5OPT=""
    PERL5_CPANPLUS_IS_RUNNING="17825"
    PERL5_CPAN_IS_RUNNING="17825"
    PERLBREW_BASHRC_VERSION="0.80"
    PERLBREW_HOME="/home/njh/.perlbrew"
    PERLBREW_MANPATH="/home/njh/perl5/perlbrew/perls/perl-5.27.4-clang/man"
    PERLBREW_PATH="/home/njh/perl5/perlbrew/bin:/home/njh/perl5/perlbrew/perls/perl-5.27.4-clang/bin"
    PERLBREW_PERL="perl-5.27.4-clang"
    PERLBREW_ROOT="/home/njh/perl5/perlbrew"
    PERLBREW_VERSION="0.80"
    PERL_CPAN_REPORTER_DIR="/home/njh/.cpanreporter/perl-5.27.4-clang"
    PERL_USE_UNSAFE_INC="1"
  @INC:
    /tmp/build/HTML-Tree-5.07-20/blib/arch
    /tmp/build/HTML-Tree-5.07-20/blib/lib
    /tmp/build/File-Slurp-9999.19-16/blib/arch
    /tmp/build/File-Slurp-9999.19-16/blib/lib
    /tmp/build/Encode-Detect-CJK-2.0.2-45/blib/arch
    /tmp/build/Encode-Detect-CJK-2.0.2-45/blib/lib
    /tmp/build/Data-MessagePack-1.00-45/blib/arch
    /tmp/build/Data-MessagePack-1.00-45/blib/lib
    /tmp/build/Test-Requires-0.10-3/blib/arch
    /tmp/build/Test-Requires-0.10-3/blib/lib
    /home/njh/perl5/perlbrew/perls/perl-5.27.4-clang/lib/site_perl/5.27.4/x86_64-linux
    /home/njh/perl5/perlbrew/perls/perl-5.27.4-clang/lib/site_perl/5.27.4
    /home/njh/perl5/perlbrew/perls/perl-5.27.4-clang/lib/5.27.4/x86_64-linux
    /home/njh/perl5/perlbrew/perls/perl-5.27.4-clang/lib/5.27.4
    .