HTML-Escape v1.10 Perl 5 v5.24.4 amd64-netbsd

Status
Pass
From
Nigel Horne
Dist
HTML-Escape v1.10
Platform
Perl 5 v5.24.4 amd64-netbsd
Date
2018-07-26 01:53:50
ID
be394856-9076-11e8-93c8-a7b962b887d7
This distribution has been tested as part of the CPAN Testers
project, supporting the Perl programming language.  See
http://wiki.cpantesters.org/ for more information or email
questions to cpan-testers-discuss@perl.org


--
Dear Tokuhiro Matsuno'',

This is a computer-generated report for HTML-Escape-1.10
on perl 5.24.4, created by CPAN-Reporter-1.2018.

Thank you for uploading your work to CPAN.  Congratulations!
All tests were successful.

Sections of this report:

    * Tester comments
    * Program output
    * Prerequisites
    * Environment and other context

------------------------------
TESTER COMMENTS
------------------------------

Additional comments from tester:

this report is from an automated smoke testing program
and was not reviewed by a human for accuracy

------------------------------
PROGRAM OUTPUT
------------------------------

Output from './Build test':

t/00_compile.t .. ok
t/01_simple.t ... ok
t/02_pp.t ....... ok
All tests successful.
Files=3, Tests=13,  1 wallclock secs ( 0.04 usr  0.01 sys +  0.22 cusr  0.14 csys =  0.41 CPU)
Result: PASS

------------------------------
PREREQUISITES
------------------------------

Prerequisite modules loaded:

requires:

    Module                           Need     Have    
    -------------------------------- -------- --------
    Exporter                         0        5.72    
    parent                           0        0.237   
    perl                             5.008008 5.024004
    XSLoader                         0        0.24    

build_requires:

    Module                           Need     Have    
    -------------------------------- -------- --------
    Devel::PPPort                    3.20     3.42    
    ExtUtils::CBuilder               0        0.280230
    Module::Build::Pluggable::PPPort 0.04     0.04    
    Test::More                       0.98     1.302136
    Test::Requires                   0        0.10    

configure_requires:

    Module                           Need     Have    
    -------------------------------- -------- --------
    Devel::PPPort                    3.20     3.42    
    Module::Build                    0.4005   0.4224  
    Module::Build::Pluggable::PPPort 0.01     0.04    


------------------------------
ENVIRONMENT AND OTHER CONTEXT
------------------------------

Environment variables:

    AUTOMATED_TESTING = 1
    PATH = /home/njh/perl5/perlbrew/bin:/home/njh/perl5/perlbrew/perls/perl-5.24.4/bin:/home/njh/src/njh/smoker/bin:/usr/bin:/bin:/usr/pkg/bin:/usr/local/bin
    PERL5LIB = /home/njh/.cpan/build/Module-Build-Pluggable-PPPort-0.04-0/blib/arch:/home/njh/.cpan/build/Module-Build-Pluggable-PPPort-0.04-0/blib/lib:/home/njh/.cpan/build/Module-Build-Pluggable-0.10-0/blib/arch:/home/njh/.cpan/build/Module-Build-Pluggable-0.10-0/blib/lib:/home/njh/.cpan/build/Test-SharedFork-0.35-0/blib/arch:/home/njh/.cpan/build/Test-SharedFork-0.35-0/blib/lib:/home/njh/.cpan/build/Class-Method-Modifiers-2.12-0/blib/arch:/home/njh/.cpan/build/Class-Method-Modifiers-2.12-0/blib/lib:/home/njh/.cpan/build/Class-Accessor-Lite-0.08-0/blib/arch:/home/njh/.cpan/build/Class-Accessor-Lite-0.08-0/blib/lib:/home/njh/.cpan/build/FindBin-libs-2.019002-0/blib/arch:/home/njh/.cpan/build/FindBin-libs-2.019002-0/blib/lib:/home/njh/.cpan/build/File-Copy-Recursive-Reduced-0.006-0/blib/arch:/home/njh/.cpan/build/File-Copy-Recursive-Reduced-0.006-0/blib/lib:/home/njh/.cpan/build/Digest-HMAC-1.03-0/blib/arch:/home/njh/.cpan/build/Digest-HMAC-1.03-0/blib/lib
    PERL5OPT = 
    PERL5_CPANPLUS_IS_RUNNING = 24031
    PERL5_CPAN_IS_RUNNING = 24031
    PERLBREW_HOME = /home/njh/.perlbrew
    PERLBREW_MANPATH = /home/njh/perl5/perlbrew/perls/perl-5.24.4/man
    PERLBREW_PATH = /home/njh/perl5/perlbrew/bin:/home/njh/perl5/perlbrew/perls/perl-5.24.4/bin
    PERLBREW_PERL = perl-5.24.4
    PERLBREW_ROOT = /home/njh/perl5/perlbrew
    PERLBREW_SHELLRC_VERSION = 0.82
    PERLBREW_VERSION = 0.82
    SHELL = /bin/sh
    TMPDIR = /tmp/testwrapper.27194

Perl special variables (and OS-specific diagnostics, for MSWin32):

    $^X = /home/njh/perl5/perlbrew/perls/perl-5.24.4/bin/perl
    $UID/$EUID = 1000 / 1000
    $GID = 100 100 0
    $EGID = 100 100 0

Perl module toolchain versions installed:

    Module              Have    
    ------------------- --------
    CPAN                2.16    
    CPAN::Meta          2.150010
    Cwd                 3.63_01 
    ExtUtils::CBuilder  0.280230
    ExtUtils::Command   7.34    
    ExtUtils::Install   2.14    
    ExtUtils::MakeMaker 7.34    
    ExtUtils::Manifest  1.71    
    ExtUtils::ParseXS   3.35    
    File::Spec          3.63_01 
    JSON                2.97001 
    JSON::PP            2.97001 
    Module::Build       0.4224  
    Module::Signature   n/a     
    Parse::CPAN::Meta   2.150010
    Test::Harness       3.42    
    Test::More          1.302136
    YAML                1.26    
    YAML::Syck          1.30    
    version             0.9924  


--

Summary of my perl5 (revision 5 version 24 subversion 4) configuration:
   
  Platform:
    osname=netbsd, osvers=7.1.2, archname=amd64-netbsd
    uname='netbsd njh2.vultr.com 7.1.2 netbsd 7.1.2 (generic.201803151611z) amd64 '
    config_args='-de -Dprefix=/home/njh/perl5/perlbrew/perls/perl-5.24.4 -Aeval:scriptdir=/home/njh/perl5/perlbrew/perls/perl-5.24.4/bin'
    hint=recommended, useposix=true, d_sigaction=define
    useithreads=undef, usemultiplicity=undef
    use64bitint=define, use64bitall=define, uselongdouble=undef
    usemymalloc=n, bincompat5005=undef
  Compiler:
    cc='cc', ccflags ='-fwrapv -fno-strict-aliasing -pipe -fstack-protector -I/usr/pkg/include -D_FORTIFY_SOURCE=2',
    optimize='-O',
    cppflags='-fwrapv -fno-strict-aliasing -pipe -fstack-protector -I/usr/pkg/include'
    ccversion='', gccversion='4.8.5', gccosandvers=''
    intsize=4, longsize=8, ptrsize=8, doublesize=8, byteorder=12345678, doublekind=3
    d_longlong=define, longlongsize=8, d_longdbl=define, longdblsize=16, longdblkind=3
    ivtype='long', ivsize=8, nvtype='double', nvsize=8, Off_t='off_t', lseeksize=8
    alignbytes=8, prototype=define
  Linker and Libraries:
    ld='cc', ldflags =' -Wl,-rpath,/usr/pkg/lib -Wl,-rpath,/usr/local/lib -fstack-protector -L/usr/pkg/lib'
    libpth=/usr/include/gcc-4.8 /usr/lib /usr/pkg/lib /lib
    libs=-lpthread -lm -lcrypt -lutil -lc -lposix
    perllibs=-lpthread -lm -lcrypt -lutil -lc -lposix
    libc=/lib/libc.so, so=so, useshrplib=false, libperl=libperl.a
    gnulibc_version=''
  Dynamic Linking:
    dlsrc=dl_dlopen.xs, dlext=so, d_dlsymun=undef, ccdlflags='-Wl,-E '
    cccdlflags='-DPIC -fPIC ', lddlflags='-shared  -L/usr/pkg/lib -fstack-protector'


Characteristics of this binary (from libperl): 
  Compile-time options: HAS_TIMES PERLIO_LAYERS PERL_COPY_ON_WRITE
                        PERL_DONT_CREATE_GVSV
                        PERL_HASH_FUNC_ONE_AT_A_TIME_HARD PERL_MALLOC_WRAP
                        PERL_PRESERVE_IVUV USE_64_BIT_ALL USE_64_BIT_INT
                        USE_LARGE_FILES USE_LOCALE USE_LOCALE_COLLATE
                        USE_LOCALE_CTYPE USE_LOCALE_NUMERIC USE_LOCALE_TIME
                        USE_PERLIO USE_PERL_ATOF
  Locally applied patches:
	Devel::PatchPerl 1.48
  Built under netbsd
  Compiled at Jun  3 2018 10:22:40
  %ENV:
    PERL5LIB="/home/njh/.cpan/build/Module-Build-Pluggable-PPPort-0.04-0/blib/arch:/home/njh/.cpan/build/Module-Build-Pluggable-PPPort-0.04-0/blib/lib:/home/njh/.cpan/build/Module-Build-Pluggable-0.10-0/blib/arch:/home/njh/.cpan/build/Module-Build-Pluggable-0.10-0/blib/lib:/home/njh/.cpan/build/Test-SharedFork-0.35-0/blib/arch:/home/njh/.cpan/build/Test-SharedFork-0.35-0/blib/lib:/home/njh/.cpan/build/Class-Method-Modifiers-2.12-0/blib/arch:/home/njh/.cpan/build/Class-Method-Modifiers-2.12-0/blib/lib:/home/njh/.cpan/build/Class-Accessor-Lite-0.08-0/blib/arch:/home/njh/.cpan/build/Class-Accessor-Lite-0.08-0/blib/lib:/home/njh/.cpan/build/FindBin-libs-2.019002-0/blib/arch:/home/njh/.cpan/build/FindBin-libs-2.019002-0/blib/lib:/home/njh/.cpan/build/File-Copy-Recursive-Reduced-0.006-0/blib/arch:/home/njh/.cpan/build/File-Copy-Recursive-Reduced-0.006-0/blib/lib:/home/njh/.cpan/build/Digest-HMAC-1.03-0/blib/arch:/home/njh/.cpan/build/Digest-HMAC-1.03-0/blib/lib"
    PERL5OPT=""
    PERL5_CPANPLUS_IS_RUNNING="24031"
    PERL5_CPAN_IS_RUNNING="24031"
    PERLBREW_HOME="/home/njh/.perlbrew"
    PERLBREW_MANPATH="/home/njh/perl5/perlbrew/perls/perl-5.24.4/man"
    PERLBREW_PATH="/home/njh/perl5/perlbrew/bin:/home/njh/perl5/perlbrew/perls/perl-5.24.4/bin"
    PERLBREW_PERL="perl-5.24.4"
    PERLBREW_ROOT="/home/njh/perl5/perlbrew"
    PERLBREW_SHELLRC_VERSION="0.82"
    PERLBREW_VERSION="0.82"
  @INC:
    /home/njh/.cpan/build/Module-Build-Pluggable-PPPort-0.04-0/blib/arch
    /home/njh/.cpan/build/Module-Build-Pluggable-PPPort-0.04-0/blib/lib
    /home/njh/.cpan/build/Module-Build-Pluggable-0.10-0/blib/arch
    /home/njh/.cpan/build/Module-Build-Pluggable-0.10-0/blib/lib
    /home/njh/.cpan/build/Test-SharedFork-0.35-0/blib/arch
    /home/njh/.cpan/build/Test-SharedFork-0.35-0/blib/lib
    /home/njh/.cpan/build/Class-Method-Modifiers-2.12-0/blib/arch
    /home/njh/.cpan/build/Class-Method-Modifiers-2.12-0/blib/lib
    /home/njh/.cpan/build/Class-Accessor-Lite-0.08-0/blib/arch
    /home/njh/.cpan/build/Class-Accessor-Lite-0.08-0/blib/lib
    /home/njh/.cpan/build/FindBin-libs-2.019002-0/blib/arch
    /home/njh/.cpan/build/FindBin-libs-2.019002-0/blib/lib
    /home/njh/.cpan/build/File-Copy-Recursive-Reduced-0.006-0/blib/arch
    /home/njh/.cpan/build/File-Copy-Recursive-Reduced-0.006-0/blib/lib
    /home/njh/.cpan/build/Digest-HMAC-1.03-0/blib/arch
    /home/njh/.cpan/build/Digest-HMAC-1.03-0/blib/lib
    /home/njh/perl5/perlbrew/perls/perl-5.24.4/lib/site_perl/5.24.4/amd64-netbsd
    /home/njh/perl5/perlbrew/perls/perl-5.24.4/lib/site_perl/5.24.4
    /home/njh/perl5/perlbrew/perls/perl-5.24.4/lib/5.24.4/amd64-netbsd
    /home/njh/perl5/perlbrew/perls/perl-5.24.4/lib/5.24.4
    .