Report for App-AltSQL-0.05

Back
From: metabase:user:320bfe00-2aae-11df-837a-5e0a49663a4f
Subject: PASS App-AltSQL-0.05 v5.18.2 GNU/Linux
Date: 2015-04-10T04:47:50Z

This distribution has been tested as part of the CPAN Testers
project, supporting the Perl programming language.  See
http://wiki.cpantesters.org/ for more information or email
questions to cpan-testers-discuss@perl.org


--
Dear Eric Waters,

This is a computer-generated report for App-AltSQL-0.05
on perl 5.18.2, created by CPAN-Reporter-1.2014.

Thank you for uploading your work to CPAN.  Congratulations!
All tests were successful.

Sections of this report:

    * Tester comments
    * Program output
    * Prerequisites
    * Environment and other context

------------------------------
TESTER COMMENTS
------------------------------

Additional comments from tester:

this report is from an automated smoke testing program
and was not reviewed by a human for accuracy

------------------------------
PROGRAM OUTPUT
------------------------------

Output from './Build test':

t/001_arguments.t ...... ok
t/002_my_cnf.t ......... ok
t/003_custom_prompt.t .. ok
All tests successful.
Files=3, Tests=28,  4 wallclock secs ( 0.04 usr  0.04 sys +  1.52 cusr  0.24 csys =  1.84 CPU)
Result: PASS

------------------------------
PREREQUISITES
------------------------------

Prerequisite modules loaded:

requires:

    Module                    Need Have    
    ------------------------- ---- --------
    Config::Any               0    0.24    
    Data::Dumper              0    2.154   
    DBD::mysql                0    4.031   
    DBI                       0    1.633   
    Getopt::Long              2.38 2.45    
    Hash::Union               0    0.03    
    JSON                      0    2.90    
    Moose                     0    2.1403  
    MooseX::Object::Pluggable 0    0.0014  
    Params::Validate          0    1.18    
    Sys::SigAction            0    0.21    
    Term::ANSIColor           0.04 4.03    
    Term::ReadLine::Zoid      0    0.07    
    Text::CharWidth           0    0.04    
    Text::UnicodeBox          0.03 0.03    
    YAML                      0    1.14    

build_requires:

    Module                    Need Have    
    ------------------------- ---- --------
    Data::Structure::Util     0    0.16    
    File::Temp                0    0.2304  
    Test::Deep                0    0.115   
    Test::More                0    1.001014

configure_requires:

    Module                    Need Have    
    ------------------------- ---- --------
    Module::Build             0.4  0.4211  


------------------------------
ENVIRONMENT AND OTHER CONTEXT
------------------------------

Environment variables:

    AUTOMATED_TESTING = 1
    LANG = en_US.UTF-8
    LANGUAGE = en_US:en
    PATH = /home/sand/bin:/usr/local/bin:/usr/bin:/bin:/usr/games:/usr/local/perl/bin:/usr/X11/bin:/sbin:/usr/sbin
    PERL5LIB = 
    PERL5OPT = 
    PERL5_CPANPLUS_IS_RUNNING = 7434
    PERL5_CPAN_IS_RUNNING = 7434
    PERL_MM_USE_DEFAULT = 1
    SHELL = /usr/bin/zsh
    TERM = screen

Perl special variables (and OS-specific diagnostics, for MSWin32):

    $^X = /home/sand/src/perl/repoperls/installed-perls/perl/v5.18.2/a2da/bin/perl
    $UID/$EUID = 1005 / 1005
    $GID = 1005 1005
    $EGID = 1005 1005

Perl module toolchain versions installed:

    Module              Have    
    ------------------- --------
    CPAN                2.10    
    CPAN::Meta          2.150001
    Cwd                 3.47    
    ExtUtils::CBuilder  0.280220
    ExtUtils::Command   7.05_20 
    ExtUtils::Install   1.59    
    ExtUtils::MakeMaker 7.05_20 
    ExtUtils::Manifest  1.70    
    ExtUtils::ParseXS   3.24    
    File::Spec          3.47    
    JSON                2.90    
    JSON::PP            2.27203 
    Module::Build       0.4211  
    Module::Signature   n/a     
    Parse::CPAN::Meta   1.4414  
    Test::Harness       3.35    
    Test::More          1.001014
    YAML                1.14    
    YAML::Syck          1.29    
    version             0.9912  


--

Summary of my perl5 (revision 5 version 18 subversion 2) configuration:
  Commit id: e2a4306ace4a19cb3a434e4eb9fedad6ff1248b4
  Platform:
    osname=linux, osvers=3.16.0-4-amd64, archname=x86_64-linux-thread-multi-ld
    uname='linux k83 3.16.0-4-amd64 #1 smp debian 3.16.7-ckt7-1 (2015-03-01) x86_64 gnulinux '
    config_args='-Dprefix=/home/sand/src/perl/repoperls/installed-perls/perl/v5.18.2/a2da -Dmyhostname=k83 -Dinstallusrbinperl=n -Uversiononly -Dusedevel -des -Ui_db -Duseithreads -Duselongdouble -DDEBUGGING=-g'
    hint=recommended, useposix=true, d_sigaction=define
    useithreads=define, usemultiplicity=define
    useperlio=define, d_sfio=undef, uselargefiles=define, usesocks=undef
    use64bitint=define, use64bitall=define, uselongdouble=define
    usemymalloc=n, bincompat5005=undef
  Compiler:
    cc='cc', ccflags ='-D_REENTRANT -D_GNU_SOURCE -fno-strict-aliasing -pipe -fstack-protector -I/usr/local/include -D_LARGEFILE_SOURCE -D_FILE_OFFSET_BITS=64',
    optimize='-O2 -g',
    cppflags='-D_REENTRANT -D_GNU_SOURCE -fno-strict-aliasing -pipe -fstack-protector -I/usr/local/include'
    ccversion='', gccversion='4.9.2', gccosandvers=''
    intsize=4, longsize=8, ptrsize=8, doublesize=8, byteorder=12345678
    d_longlong=define, longlongsize=8, d_longdbl=define, longdblsize=16
    ivtype='long', ivsize=8, nvtype='long double', nvsize=16, Off_t='off_t', lseeksize=8
    alignbytes=16, prototype=define
  Linker and Libraries:
    ld='cc', ldflags =' -fstack-protector -L/usr/local/lib'
    libpth=/usr/local/lib /lib/x86_64-linux-gnu /lib/../lib /usr/lib/x86_64-linux-gnu /usr/lib/../lib /lib /usr/lib
    libs=-lnsl -lgdbm -ldb -ldl -lm -lcrypt -lutil -lpthread -lc -lgdbm_compat
    perllibs=-lnsl -ldl -lm -lcrypt -lutil -lpthread -lc
    libc=, so=so, useshrplib=false, libperl=libperl.a
    gnulibc_version='2.19'
  Dynamic Linking:
    dlsrc=dl_dlopen.xs, dlext=so, d_dlsymun=undef, ccdlflags='-Wl,-E'
    cccdlflags='-fPIC', lddlflags='-shared -O2 -g -L/usr/local/lib -fstack-protector'


Characteristics of this binary (from libperl): 
  Compile-time options: HAS_TIMES MULTIPLICITY PERLIO_LAYERS
                        PERL_DONT_CREATE_GVSV
                        PERL_HASH_FUNC_ONE_AT_A_TIME_HARD
                        PERL_IMPLICIT_CONTEXT PERL_MALLOC_WRAP
                        PERL_PRESERVE_IVUV PERL_SAWAMPERSAND PERL_USE_DEVEL
                        USE_64_BIT_ALL USE_64_BIT_INT USE_ITHREADS
                        USE_LARGE_FILES USE_LOCALE USE_LOCALE_COLLATE
                        USE_LOCALE_CTYPE USE_LOCALE_NUMERIC USE_LONG_DOUBLE
                        USE_PERLIO USE_PERL_ATOF USE_REENTRANT_API
  Built under linux
  Compiled at Mar 15 2015 07:38:13
  %ENV:
    PERL5LIB=""
    PERL5OPT=""
    PERL5_CPANPLUS_IS_RUNNING="7434"
    PERL5_CPAN_IS_RUNNING="7434"
    PERL_MM_USE_DEFAULT="1"
  @INC:
    /home/sand/src/perl/repoperls/installed-perls/perl/v5.18.2/a2da/lib/site_perl/5.18.2/x86_64-linux-thread-multi-ld
    /home/sand/src/perl/repoperls/installed-perls/perl/v5.18.2/a2da/lib/site_perl/5.18.2
    /home/sand/src/perl/repoperls/installed-perls/perl/v5.18.2/a2da/lib/5.18.2/x86_64-linux-thread-multi-ld
    /home/sand/src/perl/repoperls/installed-perls/perl/v5.18.2/a2da/lib/5.18.2
    .